{"text_format":"1","workbook":"xlsx","n_sheets":30,"sheets":["Cover","Primary Input","AODN DATA","Lists","Underwriting","Sheet2","Eligibility","Types of Housing","Development Team","Financial Considerations","Rental Income","Utility Allowance","Leverage","Loan Information","Amortization","Rehab or New Construction","Sources and Uses","Pro Forma Calculation","Pro Forma","Properties","Project Schedule","Competitive Scorig","Completed Projects","Certification","Funing and Units Instructions","Funding and Units Worksheet","Checklist & Application Order","Submit","SLR","2020 Rents"],"not_rendered":{"charts":0,"images":1,"macros":1,"external_links":7,"defined_names":165,"comments":5,"pivot_tables":0},"unopened":[],"bounds":{"document_bytes":16777216,"sheet_cells":100000,"rows_first":2000,"rows_last":500,"rows_between":2000,"halvings":0,"cell_chars":16384,"cell_head_chars":4096},"cells_cut":0,"cells_raw":0,"read":"whole","date_system":"1900"}

{"sheet":"Cover","index":0,"n_rows":42,"n_cols":5,"rows_kept":42,"cut":false,"hidden":false,"merged":[[1,1,1,8],[9,4,9,7],[10,4,10,7],[4,1,4,8],[2,1,2,8]]}
["Cover"]
[null,{"$f":"+'Primary Input'!G5","v":0}]
[null,{"$f":"+'Primary Input'!E6","v":0}]
[]
[null,"RENTAL DEVELOPMENT APPLICATION"]
[]
[null,null,"Version: ","10262021.2021FAHN"]
[]
[]
[null,null,null,"Project Name: ",{"$f":"+'Primary Input'!E7","v":0}]
[null,null,null,"Parish: ",{"$f":"+'Primary Input'!E12","v":0}]
[]
[]
[]
[]
[]
[]
[]
[]
[]
[]
[]
[]
[]
[]
[]
[]
[]
[]
[]
[]
[]
[]
[]
[]
[]
[]
[]
[]
[]
[]
[null,null,{"$f":"PROPER(CELL(\"filename\"))","v":"Z:\\Home\\Website Postings\\2021\\Template Version 10262021\\[Noah Chaap Small Project Continuation And Nofa Rental Development Application -- Version 10262021.2021Fahn.Xlsm]Cover"}]

{"sheet":"Primary Input","index":1,"n_rows":186,"n_cols":38,"rows_kept":186,"cut":false,"hidden":false,"merged":[[36,1,36,3],[39,4,39,6],[36,4,36,6],[1,57,1,66],[35,4,35,6],[4,1,4,3],[31,4,31,6],[34,4,34,6],[34,1,34,3],[33,1,33,3],[30,4,30,6],[32,1,32,3],[32,4,32,6],[21,1,21,3],[26,1,26,3],[27,1,27,3],[28,1,28,3],[5,1,5,3],[6,1,6,3],[6,4,6,6],[20,4,20,6],[15,1,15,3],[23,1,23,3],[24,1,24,3],[11,1,11,3],[11,4,11,6],[29,1,29,3],[27,4,27,6],[28,4,28,6],[29,4,29,6],[25,4,25,6],[26,4,26,6],[31,1,31,3],[23,4,23,6],[24,4,24,6],[12,1,12,3],[12,4,12,6],[1,44,1,49],[5,4,5,6],[57,4,57,6],[58,4,58,6],[48,4,48,6],[49,4,49,6],[50,4,50,6],[51,4,51,6],[55,4,55,6],[56,4,56,6],[2,34,2,35],[40,4,40,6],[41,4,41,6],[46,4,46,6],[45,4,45,6],[44,4,44,6],[47,4,47,6],[43,4,43,6],[17,4,17,6],[33,4,33,6],[90,4,90,6],[78,4,78,6],[74,4,74,6],[73,4,73,6],[80,4,80,6],[89,4,89,6],[85,4,85,6],[70,4,70,6],[86,4,86,6],[87,4,87,6],[88,4,88,6],[77,4,77,6],[75,4,75,6],[76,4,76,6],[81,4,81,6],[82,4,82,6],[83,4,83,6],[84,4,84,6],[118,45,118,49],[93,4,93,6],[94,4,94,6],[95,4,95,6],[96,4,96,6],[97,4,97,6],[98,4,98,6],[101,1,101,6],[99,1,99,6],[100,1,100,6],[102,4,102,6],[103,4,103,6],[104,4,104,6],[105,4,105,6],[114,45,114,49],[1,0,1,2],[50,1,50,3],[51,1,51,3],[13,1,13,3],[13,4,13,6],[25,1,25,3],[9,1,9,3],[9,4,9,6],[39,1,39,3],[14,1,14,3],[14,4,14,6],[20,1,20,3],[21,4,21,6],[22,1,22,3],[18,4,18,6],[19,1,19,3],[19,4,19,6],[22,4,22,6],[7,1,7,3],[7,4,7,6],[15,4,15,6],[16,4,16,6],[10,1,10,3],[40,1,40,3],[8,1,8,3],[8,4,8,6],[63,1,63,3],[72,1,72,3],[80,2,80,3],[89,2,89,3],[81,1,81,3],[54,1,54,3],[48,1,48,3],[49,1,49,3],[59,4,59,6],[60,4,60,6],[61,4,61,6],[62,4,62,6],[71,4,71,6],[79,4,79,6],[64,4,64,6],[65,4,65,6],[66,4,66,6],[67,4,67,6],[68,4,68,6],[69,4,69,6],[41,1,41,3],[35,1,35,3]]}
["Primary Input",null,null,null,null,null,null,{"$f":"+Cover!E10","v":0}]
[{"$f":"+Cover!D7","v":"10262021.2021FAHN"}]
[null,null,null,null,null,null,null,null,null,null,null,null,null,null,null,null,null,null,null,null,null,null,null,null,null,null,null,null,null,null,null,null,null,null,"2017 Median Income"]
[null,"General Information:",null,null,"Month","Day","Year",null,null,null,null,null,null,null,null,null,"Mixed Income with 60-80% at market",null,null,"Multifamily",null,null,"Family",null,null,"20% residents at 50% or less",null,null,null,null,null,"No"]
[null,"    Application Date"]
[null,"   Type of Application"]
[null,"   Project Name:",null,null,null,null,null,null,null,null,null,null,null,null,null,null,"Mixed Income with 30-60% at market",null,null,"Single Room Occupancy",null,null,"Special Needs",null,null,"40% residents at 60% or less",null,null,null,null,null,"Yes",null,null,"Acadia Parish",{"$f":"24400*2","v":48800}]
[null,"  Project City",null,null,null,null,null,null,null,null,null,null,null,null,null,null,"Priority Elderly Rehab Project",null,null,"Scattered Site",null,null,"Both",null,null,"15% residents at 40% or less",null,null,null,null,null,null,null,null,"Allen Parish",{"$f":"25150*2","v":50300}]
[null,"  Project Zip Code"]
[null,"   Census Tract:",null,null,null,null,null,null,null,null,null,null,null,null,null,null,"Priority HUD Rehab Project",null,null,"Townhouse",null,null,"Other",null,null,null,null,null,"Walk Up",null,null,"Project Based Rental Assistance",null,null,"Ascension Parish",{"$f":"32750*2","v":65500}]
[null,"   Census Tract Unique Identifier"]
[null,"   Project Parish:",null,null,null,null,null,null,null,null,null,null,null,null,null,null,"Priority Neighborhood Supported",null,null,"Garden Apartment",null,null,null,null,null,null,null,null,"Elevator",null,null,"Mixed Income Gap Financing",null,null,"Assumption Parish",{"$f":"28500*2","v":57000}]
[null,"Area of Demonstrated Need",null,null,{"$f":"+Lists!H124","v":{"$error":"#N/A"}}]
[null,"   Applicant Name (Must Be Name before Single-Asset Entity Creation.                                                                  If CHDO must be the name of the CHDO): ",null,null,null,null,null,null,null,null,null,null,null,null,null,null,"PSH (with 15% PSH Units)",null,null,null,null,null,null,null,null,null,null,null,"Row",null,null,null,null,null,"Avoyelles Parish",{"$f":"24400*2","v":48800}]
[null,"   Applicant Address:",null,null,null,null,null,null,null,null,null,null,null,null,null,null,"PHA Redevelopment",null,null,null,null,null,null,null,null,null,null,null,"Semi-Detached",null,null,null,null,null,"Beauregard Parish",{"$f":"29150*2","v":58300}]
[null,"   Applicant City, State & Zip:",null,null,null,null,null,null,null,null,null,null,null,null,null,null,"Other - Describe Below",null,null,null,null,null,null,null,null,null,null,null,"Detached",null,null,null,null,null,"Bienville Parish",{"$f":"24400*2","v":48800}]
[null,"   Applicant Email Address",null,null,null,null,null,null,null,null,null,null,null,null,null,null,null,null,null,null,null,null,null,null,null,null,null,null,"Other",null,null,null,null,null,"Bossier Parish",{"$f":"28800*2","v":57600}]
[null,"   Project Type",null,null,null,null,null,null,null,null,null,null,null,null,null,null,null,null,null,null,null,null,null,null,null,null,null,null,null,null,null,null,null,null,"Caddo Parish",{"$f":"28300*2","v":56600}]
[null,"   Applicant DUNS Number",null,null,null,null,null,null,null,null,null,null,null,null,null,null,null,null,null,"State Certified CHDO"]
[null,"   Legal Structure of Applicant: ",null,null,null,null,null,null,null,null,null,null,null,null,null,null,null,null,null,"Private For-Profit Developer",null,null,null,null,null,"New Construction"]
[null,"   Qualified Non-Profit Name if Applicable",null,null,null,null,null,null,null,null,null,null,null,null,null,null,null,null,null,"Not-For-Profit 501(c)(3) and 501(c)(4) Organizations",null,null,null,null,null,"Rehab",null,null,null,null,null,null,null,null,"Calcasieu Parish",{"$f":"29600*2","v":59200}]
[null,"   Applicant Authorized Representative Name",null,null,null,null,null,null,null,null,null,null,null,null,null,null,null,null,null,"Public Housing Authorities",null,null,null,null,null,null,null,null,null,null,null,null,null,null,"Caldwell Parish",{"$f":"25100*2","v":50200}]
[null,"   Contact Phone Number:",null,null,null,null,null,null,null,null,null,null,null,null,null,null,null,null,null,"Local Governments",null,null,null,null,null,null,null,null,null,null,null,null,null,null,"Cameron Parish",{"$f":"29600*2","v":59200}]
[null,"   Contact Fax Number:",null,null,null,null,null,null,null,null,null,null,null,null,null,null,null,null,null,"Native American Tribes",null,null,null,null,null,"Single Family -- Rental",null,null,null,null,null,null,null,null,"Catahoula Parish",{"$f":"24400*2","v":48800}]
[null,"   E-Mail Address:",null,null,null,null,null,null,null,null,null,null,null,null,null,null,null,null,null,null,null,null,null,null,null,"Multi-Family -- Rental",null,null,null,null,null,null,null,null,"Claiborne Parish",{"$f":"24400*2","v":48800}]
[null,"   Federal ID / SSN:",null,null,null,null,null,null,null,null,null,null,null,null,null,null,null,null,null,null,null,null,null,null,null,null,null,null,null,null,null,null,null,null,"Concordia Parish",{"$f":"24400*2","v":48800}]
[null,"   Single-Asset Entity Name"]
[null,"   Single-Asset EntityAddress"]
[null,"   Single-Asset Entity State of Incorporation"]
[null,"   Single-Asset Entity Contact"]
[null,"   To be Formed Date",null,null,null,null,null,null,null,null,null,null,null,null,null,null,null,null,null,null,null,null,null,null,null,null,null,null,null,null,null,null,null,null,"De Soto Parish",{"$f":"24400*2","v":48800}]
[null,"   Does Applicant have identity of interest with Contractor?:",null,null,null,null,null,null,null,{"$f":"E91","v":0},null,null,null,null,null,null,null,null,null,null,null,null,null,null,null,null,null,null,null,null,null,null,null,null,"East Baton Rouge Parish",{"$f":"32750*2","v":65500}]
[null,"   Applicant Eligibility",null,null,null,null,null,null,null,null,null,null,null,null,null,null,null,null,null,null,null,null,null,null,null,null,null,null,null,null,null,null,null,null,"East Carroll Parish",{"$f":"24400*2","v":48800}]
[null,"   New Construction or Rehab?",null,null,null,null,null,null,null,null,null,null,null,null,null,null,null,null,null,null,null,null,null,null,null,null,null,null,null,null,null,null,null,null,"East Feliciana Parish",{"$f":"32750*2","v":65500}]
[null,"   Total Units",null,null,null,null,null,{"$f":"IF(E35>Lists!F46, \"Ineligible as submitted. Must be 4 or fewer units for NOAH\", \"Ok\")","v":"Ok"},null,null,null,null,null,null,null,null,null,null,null,null,null,null,null,null,null,null,null,null,null,null,null,null,null,null,"Evangeline Parish",{"$f":"24400*2","v":48800}]
[null,"   HOME Assisted Units Proposed By Developer",null,null,null,null,null,{"$f":"IF(E36<'Funding and Units Worksheet'!N20, \"Error. Need More HOME Units\",\"\")","v":{"$error":"#N/A"}},null,null,null,null,null,null,null,null,null,null,null,null,null,null,null,null,null,null,null,null,null,null,null,null,null,null,"Franklin Parish",{"$f":"24400*2","v":48800}]
[null,"   HTF Assisted Units Proposed By Developer",null,null,null,null,null,{"$f":"IF(E37<'Funding and Units Worksheet'!N30, \"Error. Need MORE HTF Units\", \" \")","v":{"$error":"#N/A"}}]
[]
[null,"HOME Request:"]
[null,"   Maximum HOME FUNDS Requested:",null,null,null,null,null,{"$f":"IF(E40>Lists!F45, \"Invalid Input. Value exceeds per project limit of $2,000,000.\", \"\")","v":""},null,null,null,null,null,null,null,null,null,null,null,null,null,null,null,null,null,null,null,null,null,null,null,null,null,null,"Grant Parish",{"$f":"25400*2","v":50800}]
[null,"   Maximum HTF FUNDS Requested",null,null,null,null,null,{"$f":"IF(E41>1000000, \"Invalid input. Value exceeds perproject limits of $1,000,000\", \"\")","v":""}]
[null,"   TOTAL LHC Funds Requested",null,null,{"$f":"+E40+E41","v":0},null,null,{"$f":"IF(AND(E41>0,E41>=E40),\"Invalid Input. HOME Must be the primary source of sofht funding.\",\"\")","v":""},null,null,null,null,null,null,null,null,null,null,null,null,null,null,null,null,null,null,null,null,null,null,null,null,null,null,"Iberia Parish",{"$f":"25950*2","v":51900}]
[null,"Property Breakdown:",null,null,null,null,null,null,null,null,null,null,null,null,null,null,null,null,null,null,null,null,null,null,null,null,null,null,null,null,null,null,null,null,"Iberville Parish",{"$f":"32750*2","v":65500}]
[null,"   Number of Residential Buildings",null,null,null,null,null,null,null,null,null,null,null,null,null,null,null,null,null,null,null,null,null,null,null,null,null,null,null,null,null,null,null,null,"Jackson Parish",{"$f":"24750*2","v":49500}]
[null,"   Accessory Buildings",null,null,null,null,null,null,null,null,null,null,null,null,null,null,null,null,null,null,null,null,null,null,null,null,null,null,null,null,null,null,null,null,"Jefferson Parish",{"$f":"30000*2","v":60000}]
[null,"   Housing Description",null,null,null,null,null,null,null,null,null,null,null,null,null,null,null,null,null,null,null,null,null,null,null,null,null,null,null,null,null,null,null,null,"Jefferson Davis Parish",{"$f":"28100*2","v":56200}]
[null,"   Building Style",null,null,null,null,null,null,null,null,null,null,null,null,null,null,null,null,null,null,null,null,null,null,null,null,null,null,null,null,null,null,null,null,"Lafayette Parish",{"$f":"31650*2","v":63300}]
[null,"   Occupancy Type",null,null,null,null,null,null,null,null,null,null,null,null,null,null,null,null,null,null,null,null,null,null,null,null,null,null,null,null,null,null,null,null,"Lafourche Parish",{"$f":"29350*2","v":58700}]
[null,"   Electricity Utility Provider"]
[null,"   Natural Gas Utility Provider"]
[null,"   Water and Sewer Provider"]
[null,"   Garbage Pick-Up Provider"]
[null,null,null,null,null,null,null,null,null,null,null,null,null,null,null,null,null,null,null,null,null,null,null,null,null,null,null,null,null,null,null,null,null,null,"La Salle Parish",{"$f":"27650*2","v":55300}]
[null,"Residential Unit Mix:",null,null,null,null,null,null,null,null,null,null,null,null,null,null,null,null,null,null,null,null,null,null,null,null,null,null,null,null,null,null,null,null,"Lincoln Parish",{"$f":"26700*2","v":53400}]
[null,"Total"]
[null,"   0 Bedroom (Efficiency)"]
[null,"   1 Bedroom"]
[null,"   2 Bedrooms"]
[null,"   3 Bedrooms"]
[null,"   4 Bedrooms"]
[null,"   5 Bedrooms"]
[null,"   Other"]
[null,null,"Total",null,{"$f":"SUM(E56:G62)","v":0}]
[null,"HOME Assisted Units"]
[null,"   0 Bedroom (Efficiency)",null,null,null,null,null,{"$f":"IF(E65<MAX(Underwriting!H95,Underwriting!H136,Underwriting!H171),\"Error. NEED MORE HOME UNITS\",\"OK\")","v":{"$error":"#DIV/0!"}}]
[null,"   1 Bedroom",null,null,null,null,null,{"$f":"IF(E66<MAX(Underwriting!H96,Underwriting!H137,Underwriting!H172),\"Error. NEED MORE HOME UNITS\",\"OK\")","v":{"$error":"#DIV/0!"}}]
[null,"   2 Bedrooms",null,null,null,null,null,{"$f":"IF(E67<MAX(Underwriting!H97,Underwriting!H138,Underwriting!H173),\"Error. NEED MORE HOME UNITS\",\"OK\")","v":{"$error":"#DIV/0!"}}]
[null,"   3 Bedrooms",null,null,null,null,null,{"$f":"IF(E68<MAX(Underwriting!H98,Underwriting!H139,Underwriting!H174),\"Error. NEED MORE HOME UNITS\",\"OK\")","v":{"$error":"#DIV/0!"}}]
[null,"   4 Bedrooms",null,null,null,null,null,{"$f":"IF(E69<MAX(Underwriting!H99,Underwriting!H140,Underwriting!H175),\"Error. NEED MORE HOME UNITS\",\"OK\")","v":{"$error":"#DIV/0!"}}]
[null,"   5 Bedrooms",null,null,null,null,null,{"$f":"IF(E70<MAX(Underwriting!H100,Underwriting!H141,Underwriting!H176),\"Error. NEED MORE HOME UNITS\",\"OK\")","v":{"$error":"#DIV/0!"}}]
[null,"   Other"]
[null,null,"Total",null,{"$f":"SUM(E65:G71)","v":0}]
[null,"HTF Assisted Units"]
[null,"   0 Bedroom (Efficiency)",null,null,null,null,null,{"$f":"IF(E74<MAX(Underwriting!H210,Underwriting!H227,Underwriting!H235),\"Error. Need More HTF Units\", \"OK\")","v":{"$error":"#DIV/0!"}},null,null,null,null,null,null,null,null,null,null,null,null,null,null,null,null,null,null,null,null,null,null,null,null,null,null,"Livingston Parish",{"$f":"32750*2","v":65500}]
[null,"   1 Bedroom",null,null,null,null,null,{"$f":"IF(E75<MAX(Underwriting!H211,Underwriting!H228,Underwriting!H236),\"Error. Need More HTF Units\", \"OK\")","v":{"$error":"#DIV/0!"}},null,null,null,null,null,null,null,null,null,null,null,null,null,null,null,null,null,null,null,null,null,null,null,null,null,null,"Madison Parish",{"$f":"24400*2","v":48800}]
[null,"   2 Bedrooms",null,null,null,null,null,{"$f":"IF(E76<MAX(Underwriting!H212,Underwriting!H229,Underwriting!H237),\"Error. Need More HTF Units\", \"OK\")","v":{"$error":"#DIV/0!"}},null,null,null,null,null,null,null,null,null,null,null,null,null,null,null,null,null,null,null,null,null,null,null,null,null,null,"Morehouse Parish",{"$f":"24400*2","v":48800}]
[null,"   3 Bedrooms",null,null,null,null,null,{"$f":"IF(E77<MAX(Underwriting!H213,Underwriting!H230,Underwriting!H238),\"Error. Need More HTF Units\", \"OK\")","v":{"$error":"#DIV/0!"}},null,null,null,null,null,null,null,null,null,null,null,null,null,null,null,null,null,null,null,null,null,null,null,null,null,null,"Natchitoches Parish",{"$f":"24400*2","v":48800}]
[null,"   4 Bedrooms",null,null,null,null,null,{"$f":"IF(E78<MAX(Underwriting!H214,Underwriting!H231,Underwriting!H239),\"Error. Need More HTF Units\", \"OK\")","v":{"$error":"#DIV/0!"}},null,null,null,null,null,null,null,null,null,null,null,null,null,null,null,null,null,null,null,null,null,null,null,null,null,null,"Orleans Parish",{"$f":"30000*2","v":60000}]
[null,"   5 Bedrooms",null,null,null,null,null,{"$f":"IF(E79<MAX(Underwriting!H215,Underwriting!H232,Underwriting!H240),\"Error. Need More HTF Units\", \"OK\")","v":{"$error":"#DIV/0!"}},null,null,null,null,null,null,null,null,null,null,null,null,null,null,null,null,null,null,null,null,null,null,null,null,null,null,"Ouachita Parish",{"$f":"25000*2","v":50000}]
[null,"   Other",null,null,null,null,null,null,null,null,null,null,null,null,null,null,null,null,null,null,null,null,null,null,null,null,null,null,null,null,null,null,null,null,"Plaquemines Parish",{"$f":"30000*2","v":60000}]
[null,null,"Total",null,{"$f":"SUM(E74:G80)","v":0}]
[null,"Unassisted Units"]
[null,"   0 Bedroom (Efficiency)",null,null,{"$f":"IF(+E56-(E65+E74)<0,0,E56-(E65+E74))","v":0}]
[null,"   1 Bedroom",null,null,0]
[null,"   2 Bedrooms",null,null,{"$f":"IF(+E58-(E67+E76)<0,0,E58-(E67+E76))","v":0}]
[null,"   3 Bedrooms",null,null,{"$f":"IF(+E59-(E68+E77)<0,0,E59-(E68+E77))","v":0}]
[null,"   4 Bedrooms",null,null,0]
[null,"   5 Bedrooms",null,null,0]
[null,"   Other",null,null,0]
[null,null,"Total",null,{"$f":"SUM(E83:G89)","v":0}]
[null,"GRAND TOTAL",null,null,{"$f":"+E90+E81+E72","v":0},null,null,{"$f":"IF(E91<>E35, \"Invalid Input. You must adjust either the Total Units or the Unit Mix\", \"OK\")","v":"OK"},null,null,null,null,null,null,null,null,null,null,null,null,null,null,null,null,null,null,null,null,null,null,null,null,null,null,"Pointe Coupee Parish",{"$f":"32750*2","v":65500}]
[null,null,null,null,null,null,null,null,null,null,null,null,null,null,null,null,null,null,null,null,null,null,null,null,null,null,null,null,null,null,null,null,null,null,"Rapides Parish",{"$f":"25400*2","v":50800}]
[null,"Maximum Per Unit Subsidy",null,null,null,null,null,null,null,null,null,null,null,null,null,null,null,null,null,null,null,null,null,null,null,null,null,null,null,null,null,null,null,null,"Red River Parish",{"$f":"24400*2","v":48800}]
[null,"   0 Bedroom (Efficiency)",null,null,{"$f":"+Lists!Q76","v":0},null,null,null,null,null,null,null,null,null,null,null,null,null,null,null,null,null,null,null,null,null,null,null,null,null,null,null,null,null,"Richland Parish",{"$f":"24400*2","v":48800}]
[null,"   1 Bedroom",null,null,{"$f":"+Lists!R76","v":0},null,null,null,null,null,null,null,null,null,null,null,null,null,null,null,null,null,null,null,null,null,null,null,null,null,null,null,null,null,"Sabine Parish",{"$f":"24850*2","v":49700}]
[null,"   2 Bedrooms",null,null,{"$f":"+Lists!S76","v":0},null,null,null,null,null,null,null,null,null,null,null,null,null,null,null,null,null,null,null,null,null,null,null,null,null,null,null,null,null,"St. Bernard Parish",{"$f":"33450*2","v":66900}]
[null,"   3 Bedrooms",null,null,{"$f":"+Lists!T76","v":0},null,null,null,null,null,null,null,null,null,null,null,null,null,null,null,null,null,null,null,null,null,null,null,null,null,null,null,null,null,"St. Charles Parish",{"$f":"30000*2","v":60000}]
[null,"   4 Bedrooms",null,null,{"$f":"+Lists!U76","v":0},null,null,null,null,null,null,null,null,null,null,null,null,null,null,null,null,null,null,null,null,null,null,null,null,null,null,null,null,null,"St. Helena Parish",{"$f":"32750*2","v":65500}]
[null,"   5 Bedrooms",null,null,{"$f":"+E98","v":0},null,null,null,null,null,null,null,null,null,null,null,null,null,null,null,null,null,null,null,null,null,null,null,null,null,null,null,null,null,"St. James Parish",{"$f":"33450*2","v":66900}]
[null,null,null,null,null,null,null,null,null,null,null,null,null,null,null,null,null,null,null,null,null,null,null,null,null,null,null,null,null,null,null,null,null,null,"St. John the Baptist Parish",{"$f":"30000*2","v":60000}]
[null,null,null,null,null,null,null,null,null,null,null,null,null,null,null,null,null,null,null,null,null,null,null,null,null,null,null,null,null,null,null,null,null,null,"St. Landry Parish",{"$f":"24400*2","v":48800}]
[null,"Appraisal:   ",null,null,null,null,null,null,null,null,null,null,null,null,null,null,null,null,null,null,null,null,null,null,null,null,null,null,null,null,null,null,null,null,"St. Martin Parish",{"$f":"31650*2","v":63300}]
[null,"   Appraisal Date:",null,null,null,null,null,null,null,null,null,null,null,null,null,null,null,null,null,null,null,null,null,null,null,null,null,null,null,null,null,null,null,null,"St. Mary Parish",{"$f":"25300*2","v":50600}]
[null,"   Purchase Price",null,null,null,null,null,null,null,null,null,null,null,null,null,null,null,null,null,null,null,null,null,null,null,null,null,null,null,null,null,null,null,null,"St. Tammany Parish",{"$f":"30000*2","v":60000}]
[null,"   Pre-Rehab Appraisal Value:",null,null,null,null,null,null,null,null,null,null,null,null,null,null,null,null,null,null,null,null,null,null,null,null,null,null,null,null,null,null,null,null,"Tangipahoa Parish",{"$f":"24500*2","v":49000}]
[null,"   Post-Rehab Appraisal Value:",null,null,null,null,null,null,null,null,null,null,null,null,null,null,null,null,null,null,null,null,null,null,null,null,null,null,null,null,null,null,null,null,"Tensas Parish",{"$f":"24400*2","v":48800}]
[null,null,null,null,null,null,null,null,null,null,null,null,null,null,null,null,null,null,null,null,null,null,null,null,null,null,null,null,null,null,null,null,null,null,"Terrebonne Parish",{"$f":"29350*2","v":58700}]
[null,null,null,null,null,null,null,null,null,null,null,null,null,null,null,null,null,null,null,null,null,null,null,null,null,null,null,null,null,null,null,null,null,null,"Union Parish",{"$f":"25000*2","v":50000}]
[null,null,null,null,null,null,null,null,null,null,null,null,null,null,null,null,null,null,null,null,null,null,null,null,null,null,null,null,null,null,null,null,null,null,"Vermilion Parish",{"$f":"29500*2","v":59000}]
[null,null,null,null,null,null,null,null,null,null,null,null,null,null,null,null,null,null,null,null,null,null,null,null,null,null,null,null,null,null,null,null,null,null,"Vernon Parish",27400]
[null,null,null,null,null,null,null,null,null,null,null,null,null,null,null,null,null,null,null,null,null,null,null,null,null,null,null,null,null,null,null,null,null,null,"Washington Parish",{"$f":"24400*2","v":48800}]
[null,null,null,null,null,null,null,null,null,null,null,null,null,null,null,null,null,null,null,null,null,null,null,null,null,null,null,null,null,null,null,null,null,null,"Webster Parish",{"$f":"24400*2","v":48800}]
[null,null,null,null,null,null,null,null,null,null,null,null,null,null,null,null,null,null,null,null,null,null,null,null,null,null,null,null,null,null,null,null,null,null,"West Baton Rouge Parish",{"$f":"32750*2","v":65500}]
[null,null,null,null,null,null,null,null,null,null,null,null,null,null,null,null,null,null,null,null,null,null,null,null,null,null,null,null,null,null,null,null,null,null,"West Carroll Parish",{"$f":"24400*2","v":48800}]
[null,null,null,null,null,null,null,null,null,null,null,null,null,null,null,null,null,null,null,null,null,null,null,null,null,null,null,null,null,null,null,null,null,null,"West Feliciana Parish",{"$f":"32750*2","v":65500}]
[null,null,null,null,null,null,null,null,null,null,null,null,null,null,null,null,null,null,null,null,null,null,null,null,null,null,null,null,null,null,null,null,null,null,"Winn Parish",{"$f":"24400*2","v":48800}]
[]
[]
[]
[]
[]
[null,null,null,null,null,null,null,null,null,null,null,null,null,null,null,null,null,null,null,null,null,null,null,null,null,null,null,null,null,null,null,null,null,null,2016,"4 Person 50% Limit"]
[null,null,null,null,null,null,null,null,null,null,null,null,null,null,null,null,null,null,null,null,null,null,null,null,null,null,null,null,null,null,null,null,null,null,"Acadia",23600,2,{"$f":"+AJ123*AK123","v":47200}]
[null,null,null,null,null,null,null,null,null,null,null,null,null,null,null,null,null,null,null,null,null,null,null,null,null,null,null,null,null,null,null,null,null,null,"Allen",25400,2,{"$f":"+AJ124*AK124","v":50800}]
[null,null,null,null,null,null,null,null,null,null,null,null,null,null,null,null,null,null,null,null,null,null,null,null,null,null,null,null,null,null,null,null,null,null,"Ascension",33950,2,67900]
[null,null,null,null,null,null,null,null,null,null,null,null,null,null,null,null,null,null,null,null,null,null,null,null,null,null,null,null,null,null,null,null,null,null,"Assumption",28300,2,56600]
[null,null,null,null,null,null,null,null,null,null,null,null,null,null,null,null,null,null,null,null,null,null,null,null,null,null,null,null,null,null,null,null,null,null,"Avoyelles",23600,2,47200]
[null,null,null,null,null,null,null,null,null,null,null,null,null,null,null,null,null,null,null,null,null,null,null,null,null,null,null,null,null,null,null,null,null,null,"Beauregard",31200,2,62400]
[null,null,null,null,null,null,null,null,null,null,null,null,null,null,null,null,null,null,null,null,null,null,null,null,null,null,null,null,null,null,null,null,null,null,"Bienville",23600,2,47200]
[null,null,null,null,null,null,null,null,null,null,null,null,null,null,null,null,null,null,null,null,null,null,null,null,null,null,null,null,null,null,null,null,null,null,"Bossier",28300,2,56600]
[null,null,null,null,null,null,null,null,null,null,null,null,null,null,null,null,null,null,null,null,null,null,null,null,null,null,null,null,null,null,null,null,null,null,"Caddo",28300,2,56600]
[null,null,null,null,null,null,null,null,null,null,null,null,null,null,null,null,null,null,null,null,null,null,null,null,null,null,null,null,null,null,null,null,null,null,"Calcasieu",29250,2,58500]
[null,null,null,null,null,null,null,null,null,null,null,null,null,null,null,null,null,null,null,null,null,null,null,null,null,null,null,null,null,null,null,null,null,null,"Caldwell",24150,2,48300]
[null,null,null,null,null,null,null,null,null,null,null,null,null,null,null,null,null,null,null,null,null,null,null,null,null,null,null,null,null,null,null,null,null,null,"Cameron",29250,2,58500]
[null,null,null,null,null,null,null,null,null,null,null,null,null,null,null,null,null,null,null,null,null,null,null,null,null,null,null,null,null,null,null,null,null,null,"Catahoula",24550,2,49100]
[null,null,null,null,null,null,null,null,null,null,null,null,null,null,null,null,null,null,null,null,null,null,null,null,null,null,null,null,null,null,null,null,null,null,"Claiborne",23600,2,47200]
[null,null,null,null,null,null,null,null,null,null,null,null,null,null,null,null,null,null,null,null,null,null,null,null,null,null,null,null,null,null,null,null,null,null,"Concordia",23600,2,47200]
[null,null,null,null,null,null,null,null,null,null,null,null,null,null,null,null,null,null,null,null,null,null,null,null,null,null,null,null,null,null,null,null,null,null,"DeSoto",28300,2,56600]
[null,null,null,null,null,null,null,null,null,null,null,null,null,null,null,null,null,null,null,null,null,null,null,null,null,null,null,null,null,null,null,null,null,null,"East Baton Rouge",33950,2,67900]
[null,null,null,null,null,null,null,null,null,null,null,null,null,null,null,null,null,null,null,null,null,null,null,null,null,null,null,null,null,null,null,null,null,null,"East Carroll",23600,2,47200]
[null,null,null,null,null,null,null,null,null,null,null,null,null,null,null,null,null,null,null,null,null,null,null,null,null,null,null,null,null,null,null,null,null,null,"East Feliciana",33950,2,67900]
[null,null,null,null,null,null,null,null,null,null,null,null,null,null,null,null,null,null,null,null,null,null,null,null,null,null,null,null,null,null,null,null,null,null,"Evangeline",23600,2,47200]
[null,null,null,null,null,null,null,null,null,null,null,null,null,null,null,null,null,null,null,null,null,null,null,null,null,null,null,null,null,null,null,null,null,null,"Franklin",23600,2,47200]
[null,null,null,null,null,null,null,null,null,null,null,null,null,null,null,null,null,null,null,null,null,null,null,null,null,null,null,null,null,null,null,null,null,null,"Grant",27150,2,54300]
[null,null,null,null,null,null,null,null,null,null,null,null,null,null,null,null,null,null,null,null,null,null,null,null,null,null,null,null,null,null,null,null,null,null,"Iberia",26400,2,52800]
[null,null,null,null,null,null,null,null,null,null,null,null,null,null,null,null,null,null,null,null,null,null,null,null,null,null,null,null,null,null,null,null,null,null,"Iberville",27800,2,55600]
[null,null,null,null,null,null,null,null,null,null,null,null,null,null,null,null,null,null,null,null,null,null,null,null,null,null,null,null,null,null,null,null,null,null,"Jackson",23750,2,47500]
[null,null,null,null,null,null,null,null,null,null,null,null,null,null,null,null,null,null,null,null,null,null,null,null,null,null,null,null,null,null,null,null,null,null,"Jefferson",31650,2,63300]
[null,null,null,null,null,null,null,null,null,null,null,null,null,null,null,null,null,null,null,null,null,null,null,null,null,null,null,null,null,null,null,null,null,null,"Jefferson Davis",26200,2,52400]
[null,null,null,null,null,null,null,null,null,null,null,null,null,null,null,null,null,null,null,null,null,null,null,null,null,null,null,null,null,null,null,null,null,null,"Lafayette",32750,2,65500]
[null,null,null,null,null,null,null,null,null,null,null,null,null,null,null,null,null,null,null,null,null,null,null,null,null,null,null,null,null,null,null,null,null,null,"Lafourche",29300,2,58600]
[null,null,null,null,null,null,null,null,null,null,null,null,null,null,null,null,null,null,null,null,null,null,null,null,null,null,null,null,null,null,null,null,null,null,"La Salle",28450,2,56900]
[null,null,null,null,null,null,null,null,null,null,null,null,null,null,null,null,null,null,null,null,null,null,null,null,null,null,null,null,null,null,null,null,null,null,"Lincoln",27050,2,54100]
[null,null,null,null,null,null,null,null,null,null,null,null,null,null,null,null,null,null,null,null,null,null,null,null,null,null,null,null,null,null,null,null,null,null,"Livingston",33950,2,67900]
[null,null,null,null,null,null,null,null,null,null,null,null,null,null,null,null,null,null,null,null,null,null,null,null,null,null,null,null,null,null,null,null,null,null,"Madison",23600,2,47200]
[null,null,null,null,null,null,null,null,null,null,null,null,null,null,null,null,null,null,null,null,null,null,null,null,null,null,null,null,null,null,null,null,null,null,"Morehouse",23600,2,47200]
[null,null,null,null,null,null,null,null,null,null,null,null,null,null,null,null,null,null,null,null,null,null,null,null,null,null,null,null,null,null,null,null,null,null,"Natchitoches",23600,2,47200]
[null,null,null,null,null,null,null,null,null,null,null,null,null,null,null,null,null,null,null,null,null,null,null,null,null,null,null,null,null,null,null,null,null,null,"Orleans",31650,2,63300]
[null,null,null,null,null,null,null,null,null,null,null,null,null,null,null,null,null,null,null,null,null,null,null,null,null,null,null,null,null,null,null,null,null,null,"Ouachita",26300,2,52600]
[null,null,null,null,null,null,null,null,null,null,null,null,null,null,null,null,null,null,null,null,null,null,null,null,null,null,null,null,null,null,null,null,null,null,"Plaquemines",31650,2,63300]
[null,null,null,null,null,null,null,null,null,null,null,null,null,null,null,null,null,null,null,null,null,null,null,null,null,null,null,null,null,null,null,null,null,null,"Pointe Coupee",33950,2,67900]
[null,null,null,null,null,null,null,null,null,null,null,null,null,null,null,null,null,null,null,null,null,null,null,null,null,null,null,null,null,null,null,null,null,null,"Rapides",27150,2,54300]
[null,null,null,null,null,null,null,null,null,null,null,null,null,null,null,null,null,null,null,null,null,null,null,null,null,null,null,null,null,null,null,null,null,null,"Red River",24550,2,49100]
[null,null,null,null,null,null,null,null,null,null,null,null,null,null,null,null,null,null,null,null,null,null,null,null,null,null,null,null,null,null,null,null,null,null,"Richland",23600,2,47200]
[null,null,null,null,null,null,null,null,null,null,null,null,null,null,null,null,null,null,null,null,null,null,null,null,null,null,null,null,null,null,null,null,null,null,"Sabine",24950,2,49900]
[null,null,null,null,null,null,null,null,null,null,null,null,null,null,null,null,null,null,null,null,null,null,null,null,null,null,null,null,null,null,null,null,null,null,"St. Bernard",31650,2,63300]
[null,null,null,null,null,null,null,null,null,null,null,null,null,null,null,null,null,null,null,null,null,null,null,null,null,null,null,null,null,null,null,null,null,null,"St. Charles",31650,2,63300]
[null,null,null,null,null,null,null,null,null,null,null,null,null,null,null,null,null,null,null,null,null,null,null,null,null,null,null,null,null,null,null,null,null,null,"St. Helena",33950,2,67900]
[null,null,null,null,null,null,null,null,null,null,null,null,null,null,null,null,null,null,null,null,null,null,null,null,null,null,null,null,null,null,null,null,null,null,"St. James",32050,2,64100]
[null,null,null,null,null,null,null,null,null,null,null,null,null,null,null,null,null,null,null,null,null,null,null,null,null,null,null,null,null,null,null,null,null,null,"St. John the Baptist",31650,2,63300]
[null,null,null,null,null,null,null,null,null,null,null,null,null,null,null,null,null,null,null,null,null,null,null,null,null,null,null,null,null,null,null,null,null,null,"St. Landry",23600,2,47200]
[null,null,null,null,null,null,null,null,null,null,null,null,null,null,null,null,null,null,null,null,null,null,null,null,null,null,null,null,null,null,null,null,null,null,"St. Martin",32750,2,65500]
[null,null,null,null,null,null,null,null,null,null,null,null,null,null,null,null,null,null,null,null,null,null,null,null,null,null,null,null,null,null,null,null,null,null,"St. Mary",25650,2,51300]
[null,null,null,null,null,null,null,null,null,null,null,null,null,null,null,null,null,null,null,null,null,null,null,null,null,null,null,null,null,null,null,null,null,null,"St. Tammany",31650,2,63300]
[null,null,null,null,null,null,null,null,null,null,null,null,null,null,null,null,null,null,null,null,null,null,null,null,null,null,null,null,null,null,null,null,null,null,"Tangipahoa",27500,2,55000]
[null,null,null,null,null,null,null,null,null,null,null,null,null,null,null,null,null,null,null,null,null,null,null,null,null,null,null,null,null,null,null,null,null,null,"Tensas",23600,2,47200]
[null,null,null,null,null,null,null,null,null,null,null,null,null,null,null,null,null,null,null,null,null,null,null,null,null,null,null,null,null,null,null,null,null,null,"Terrebonne",29300,2,58600]
[null,null,null,null,null,null,null,null,null,null,null,null,null,null,null,null,null,null,null,null,null,null,null,null,null,null,null,null,null,null,null,null,null,null,"Union",26300,2,52600]
[null,null,null,null,null,null,null,null,null,null,null,null,null,null,null,null,null,null,null,null,null,null,null,null,null,null,null,null,null,null,null,null,null,null,"Vermilion",29550,2,59100]
[null,null,null,null,null,null,null,null,null,null,null,null,null,null,null,null,null,null,null,null,null,null,null,null,null,null,null,null,null,null,null,null,null,null,"Vernon",26850,2,53700]
[null,null,null,null,null,null,null,null,null,null,null,null,null,null,null,null,null,null,null,null,null,null,null,null,null,null,null,null,null,null,null,null,null,null,"Washington",23600,2,47200]
[null,null,null,null,null,null,null,null,null,null,null,null,null,null,null,null,null,null,null,null,null,null,null,null,null,null,null,null,null,null,null,null,null,null,"Webster",23600,2,47200]
[null,null,null,null,null,null,null,null,null,null,null,null,null,null,null,null,null,null,null,null,null,null,null,null,null,null,null,null,null,null,null,null,null,null,"West Baton Rouge",33950,2,67900]
[null,null,null,null,null,null,null,null,null,null,null,null,null,null,null,null,null,null,null,null,null,null,null,null,null,null,null,null,null,null,null,null,null,null,"West Carroll",23600,2,47200]
[null,null,null,null,null,null,null,null,null,null,null,null,null,null,null,null,null,null,null,null,null,null,null,null,null,null,null,null,null,null,null,null,null,null,"West Feliciana",33950,2,67900]
[null,null,null,null,null,null,null,null,null,null,null,null,null,null,null,null,null,null,null,null,null,null,null,null,null,null,null,null,null,null,null,null,null,null,"Winn",23600,2,47200]

{"sheet":"AODN DATA","index":2,"n_rows":2528,"n_cols":31,"rows_kept":2528,"cut":false,"hidden":false,"merged":[[0,1,0,28]]}
[{"$f":"+'Primary Input'!A2:C2","v":"10262021.2021FAHN"},"AREA OF DEMONSTRATED NEED CENSUS TRACT DATA"]
["Parish","City","Tracts.Tract","Census Tract Extended","QCT","QTC Numeric","Points  QCT","LHC Unique Identification Number","State","Louisiana.MHV","CitiesTownsVillages.MHV","MHVPerc","MHV","Points  MHV","Louisiana.MHHI","CitiesTownsVillages.MHHI","HHMIPerc","MHHI","Points MHHI","Louisiana.Poverty","CitiesTownsVillages.Poverty","PovertyPerc","POV",null,null,null,null,"Points  POV","Area of Demonstrated Need","Area of Demonstrated Need","Total Points AODN"]
["Acadia","Branch",9602,22001960200,"FALSE",0,{"$f":"IF(E3=\"TRUE\",4,0)","v":0},71420210003,"Louisiana",152900,null,null,{"$f":"IF(L3>=50%,TRUE,\"\")","v":""},{"$f":"IF(M3=TRUE,4,0)","v":0},46710,44808,0.95928066795118805,{"$f":"IF(Q3<=65%,TRUE,\"\")","v":""},{"$f":"IF(R3=TRUE, 4,0)","v":0},19.600000000000001,0,0,{"$f":"IF(V3>=1.5,TRUE,\"\")","v":""},{"$f":"IF(M3=TRUE,1,0)","v":0},{"$f":"IF(R3=TRUE,1,0)","v":0},{"$f":"IF(W3=TRUE,1,0)","v":0},{"$f":"SUM(X3:Z3)","v":0},{"$f":"IF(W3=TRUE, 4,0)","v":0},{"$f":"IF(AND(E3=\"TRUE\",AA3>1),\"YES\",\"NO\")","v":"NO"},{"$f":"IF(AND(F3=1,AA3>1), \"YES\",\"NO\")","v":"NO"},{"$f":"+G3+N3+S3+AB3","v":0}]
["Acadia","Branch",9604,22001960400,"FALSE",0,0,71420210004,"Louisiana",152900,null,null,"",0,46710,44808,0.95928066795118805,"",0,19.600000000000001,0,0,"",0,0,0,0,0,"NO","NO",0]
["Acadia","Branch",9605,22001960500,"FALSE",0,0,71420210005,"Louisiana",152900,null,null,"",0,46710,44808,0.95928066795118805,"",0,19.600000000000001,0,0,"",0,0,0,0,0,"NO","NO",0]
["Acadia","Church Point",9601,22001960100,"TRUE",1,4,71420210006,"Louisiana",152900,75900,0.49640287769784203,"",0,46710,32452,0.69475487047741402,"",0,19.600000000000001,32.5,1.65816326530612,true,0,0,1,1,4,"NO","NO",8]
["Acadia","Church Point",9602,22001960200,"FALSE",0,0,71420210007,"Louisiana",152900,75900,0.49640287769784203,"",0,46710,32452,0.69475487047741402,"",0,19.600000000000001,32.5,1.65816326530612,true,0,0,1,1,4,"NO","NO",4]
["Acadia","Church Point",9605,22001960500,"FALSE",0,0,71420210008,"Louisiana",152900,75900,0.49640287769784203,"",0,46710,32452,0.69475487047741402,"",0,19.600000000000001,32.5,1.65816326530612,true,0,0,1,1,4,"NO","NO",4]
["Acadia","Church Point",21.01,22055002101,"FALSE",0,0,71420210009,"Louisiana",152900,75900,0.49640287769784203,"",0,46710,32452,0.69475487047741402,"",0,19.600000000000001,32.5,1.65816326530612,true,0,0,1,1,4,"NO","NO",4]
["Acadia","Church Point",9607,22097960700,"FALSE",0,0,71420210010,"Louisiana",152900,75900,0.49640287769784203,"",0,46710,32452,0.69475487047741402,"",0,19.600000000000001,32.5,1.65816326530612,true,0,0,1,1,4,"NO","NO",4]
["Acadia","Church Point",9608,22097960800,"FALSE",0,0,71420210011,"Louisiana",152900,75900,0.49640287769784203,"",0,46710,32452,0.69475487047741402,"",0,19.600000000000001,32.5,1.65816326530612,true,0,0,1,1,4,"NO","NO",4]
["Acadia","Church Point",9612,22097961200,"FALSE",0,0,71420210012,"Louisiana",152900,75900,0.49640287769784203,"",0,46710,32452,0.69475487047741402,"",0,19.600000000000001,32.5,1.65816326530612,true,0,0,1,1,4,"NO","NO",4]
["Acadia","Church Point",9618,22097961800,"FALSE",0,0,71420210013,"Louisiana",152900,75900,0.49640287769784203,"",0,46710,32452,0.69475487047741402,"",0,19.600000000000001,32.5,1.65816326530612,true,0,0,1,1,4,"NO","NO",4]
["Acadia","Crowley",9602,22001960200,"FALSE",0,0,71420210014,"Louisiana",152900,98100,0.64159581425768497,true,4,46710,26645,0.57043459644615702,true,4,19.600000000000001,34.700000000000003,1.7704081632653099,true,1,1,1,3,4,"NO","NO",12]
["Acadia","Crowley",9604,22001960400,"FALSE",0,0,71420210015,"Louisiana",152900,98100,0.64159581425768497,true,4,46710,26645,0.57043459644615702,true,4,19.600000000000001,34.700000000000003,1.7704081632653099,true,1,1,1,3,4,"NO","NO",12]
["Acadia","Crowley",9608,22001960800,"FALSE",0,0,71420210016,"Louisiana",152900,98100,0.64159581425768497,true,4,46710,26645,0.57043459644615702,true,4,19.600000000000001,34.700000000000003,1.7704081632653099,true,1,1,1,3,4,"NO","NO",12]
["Acadia","Crowley",9609,22001960900,"TRUE",1,4,71420210017,"Louisiana",152900,98100,0.64159581425768497,true,4,46710,26645,0.57043459644615702,true,4,19.600000000000001,34.700000000000003,1.7704081632653099,true,1,1,1,3,4,"YES","YES",16]
["Acadia","Crowley",9610,22001961000,"TRUE",1,4,71420210018,"Louisiana",152900,98100,0.64159581425768497,true,4,46710,26645,0.57043459644615702,true,4,19.600000000000001,34.700000000000003,1.7704081632653099,true,1,1,1,3,4,"YES","YES",16]
["Acadia","Crowley",9611,22001961100,"FALSE",0,0,71420210019,"Louisiana",152900,98100,0.64159581425768497,true,4,46710,26645,0.57043459644615702,true,4,19.600000000000001,34.700000000000003,1.7704081632653099,true,1,1,1,3,4,"NO","NO",12]
["Acadia","Crowley",9612,22001961200,"FALSE",0,0,71420210020,"Louisiana",152900,98100,0.64159581425768497,true,4,46710,26645,0.57043459644615702,true,4,19.600000000000001,34.700000000000003,1.7704081632653099,true,1,1,1,3,4,"NO","NO",12]
["Acadia","Crowley",9501,22113950100,"FALSE",0,0,71420210021,"Louisiana",152900,98100,0.64159581425768497,true,4,46710,26645,0.57043459644615702,true,4,19.600000000000001,34.700000000000003,1.7704081632653099,true,1,1,1,3,4,"NO","NO",12]
["Acadia","Duson",9606,22001960600,"FALSE",0,0,71420210022,"Louisiana",152900,72800,0.47612818835840398,"",0,46710,33472,0.71659173624491501,"",0,19.600000000000001,21.5,1.0969387755102,"",0,0,0,0,0,"NO","NO",0]
["Acadia","Duson",19.010000000000002,22055001901,"FALSE",0,0,71420210023,"Louisiana",152900,72800,0.47612818835840398,"",0,46710,33472,0.71659173624491501,"",0,19.600000000000001,21.5,1.0969387755102,"",0,0,0,0,0,"NO","NO",0]
["Acadia","Duson",19.02,22055001902,"FALSE",0,0,71420210024,"Louisiana",152900,72800,0.47612818835840398,"",0,46710,33472,0.71659173624491501,"",0,19.600000000000001,21.5,1.0969387755102,"",0,0,0,0,0,"NO","NO",0]
["Acadia","Duson",19.03,22055001903,"FALSE",0,0,71420210025,"Louisiana",152900,72800,0.47612818835840398,"",0,46710,33472,0.71659173624491501,"",0,19.600000000000001,21.5,1.0969387755102,"",0,0,0,0,0,"NO","NO",0]
["Acadia","Duson",19.05,22055001905,"FALSE",0,0,71420210026,"Louisiana",152900,72800,0.47612818835840398,"",0,46710,33472,0.71659173624491501,"",0,19.600000000000001,21.5,1.0969387755102,"",0,0,0,0,0,"NO","NO",0]
["Acadia","Duson",20.010000000000002,22055002001,"TRUE",1,4,71420210027,"Louisiana",152900,72800,0.47612818835840398,"",0,46710,33472,0.71659173624491501,"",0,19.600000000000001,21.5,1.0969387755102,"",0,0,0,0,0,"NO","NO",4]
["Acadia","Duson",9501,22113950100,"FALSE",0,0,71420210028,"Louisiana",152900,72800,0.47612818835840398,"",0,46710,33472,0.71659173624491501,"",0,19.600000000000001,21.5,1.0969387755102,"",0,0,0,0,0,"NO","NO",0]
["Acadia","Egan",9604,22001960400,"FALSE",0,0,71420210029,"Louisiana",152900,123800,0.80967952910398999,true,4,46710,null,null,true,4,19.600000000000001,29.5,1.50510204081633,true,1,1,1,3,4,"NO","NO",12]
["Acadia","Estherwood",9611,22001961100,"FALSE",0,0,71420210030,"Louisiana",152900,61700,0.40353172007848298,"",0,46710,36477,0.78092485549132995,"",0,19.600000000000001,19.100000000000001,0.97448979591836704,"",0,0,0,0,0,"NO","NO",0]
["Acadia","Eunice",9602,22001960200,"FALSE",0,0,71420210031,"Louisiana",152900,97100,0.63505559189012395,true,4,46710,29189,0.62489830871333796,true,4,19.600000000000001,30.5,1.55612244897959,true,1,1,1,3,4,"NO","NO",12]
["Acadia","Eunice",9603,22001960300,"FALSE",0,0,71420210032,"Louisiana",152900,97100,0.63505559189012395,true,4,46710,29189,0.62489830871333796,true,4,19.600000000000001,30.5,1.55612244897959,true,1,1,1,3,4,"NO","NO",12]
["Acadia","Eunice",9503,22039950300,"FALSE",0,0,71420210033,"Louisiana",152900,97100,0.63505559189012395,true,4,46710,29189,0.62489830871333796,true,4,19.600000000000001,30.5,1.55612244897959,true,1,1,1,3,4,"NO","NO",12]
["Acadia","Eunice",9508,22039950800,"FALSE",0,0,71420210034,"Louisiana",152900,97100,0.63505559189012395,true,4,46710,29189,0.62489830871333796,true,4,19.600000000000001,30.5,1.55612244897959,true,1,1,1,3,4,"NO","NO",12]
["Acadia","Eunice",9608,22097960800,"FALSE",0,0,71420210035,"Louisiana",152900,97100,0.63505559189012395,true,4,46710,29189,0.62489830871333796,true,4,19.600000000000001,30.5,1.55612244897959,true,1,1,1,3,4,"NO","NO",12]
["Acadia","Eunice",9609,22097960900,"FALSE",0,0,71420210036,"Louisiana",152900,97100,0.63505559189012395,true,4,46710,29189,0.62489830871333796,true,4,19.600000000000001,30.5,1.55612244897959,true,1,1,1,3,4,"NO","NO",12]
["Acadia","Eunice",9610,22097961000,"FALSE",0,0,71420210037,"Louisiana",152900,97100,0.63505559189012395,true,4,46710,29189,0.62489830871333796,true,4,19.600000000000001,30.5,1.55612244897959,true,1,1,1,3,4,"NO","NO",12]
["Acadia","Eunice",9611,22097961100,"FALSE",0,0,71420210038,"Louisiana",152900,97100,0.63505559189012395,true,4,46710,29189,0.62489830871333796,true,4,19.600000000000001,30.5,1.55612244897959,true,1,1,1,3,4,"NO","NO",12]
["Acadia","Evangeline",9603,22001960300,"FALSE",0,0,71420210039,"Louisiana",152900,0,0,"",0,46710,0,0,true,4,19.600000000000001,0,0,"",0,1,0,1,0,"NO","NO",4]
["Acadia","Evangeline",9604,22001960400,"FALSE",0,0,71420210040,"Louisiana",152900,0,0,"",0,46710,0,0,true,4,19.600000000000001,0,0,"",0,1,0,1,0,"NO","NO",4]
["Acadia","Iota",9602,22001960200,"FALSE",0,0,71420210041,"Louisiana",152900,115200,0.75343361674296905,true,4,46710,43542,0.932177263969171,"",0,19.600000000000001,11.4,0.58163265306122403,"",1,0,0,1,0,"NO","NO",4]
["Acadia","Iota",9603,22001960300,"FALSE",0,0,71420210042,"Louisiana",152900,115200,0.75343361674296905,true,4,46710,43542,0.932177263969171,"",0,19.600000000000001,11.4,0.58163265306122403,"",1,0,0,1,0,"NO","NO",4]
["Acadia","Iota",9604,22001960400,"FALSE",0,0,71420210043,"Louisiana",152900,115200,0.75343361674296905,true,4,46710,43542,0.932177263969171,"",0,19.600000000000001,11.4,0.58163265306122403,"",1,0,0,1,0,"NO","NO",4]
["Acadia","Mermentau",9611,22001961100,"FALSE",0,0,71420210044,"Louisiana",152900,72600,0.47482014388489202,"",0,46710,31667,0.67794904731320904,"",0,19.600000000000001,31.2,1.59183673469388,true,0,0,1,1,4,"NO","NO",4]
["Acadia","Morse",9611,22001961100,"FALSE",0,0,71420210045,"Louisiana",152900,64700,0.42315238718116399,"",0,46710,46394,0.99323485335046002,"",0,19.600000000000001,17.2,0.87755102040816302,"",0,0,0,0,0,"NO","NO",0]
["Acadia","Morse",9612,22001961200,"FALSE",0,0,71420210046,"Louisiana",152900,64700,0.42315238718116399,"",0,46710,46394,0.99323485335046002,"",0,19.600000000000001,17.2,0.87755102040816302,"",0,0,0,0,0,"NO","NO",0]
["Acadia","Rayne",9604,22001960400,"FALSE",0,0,71420210047,"Louisiana",152900,94200,0.61608894702419903,true,4,46710,31653,0.67764932562620395,"",0,19.600000000000001,25.4,1.2959183673469401,"",1,0,0,1,0,"NO","NO",4]
["Acadia","Rayne",9605,22001960500,"FALSE",0,0,71420210048,"Louisiana",152900,94200,0.61608894702419903,true,4,46710,31653,0.67764932562620395,"",0,19.600000000000001,25.4,1.2959183673469401,"",1,0,0,1,0,"NO","NO",4]
["Acadia","Rayne",9606,22001960600,"FALSE",0,0,71420210049,"Louisiana",152900,94200,0.61608894702419903,true,4,46710,31653,0.67764932562620395,"",0,19.600000000000001,25.4,1.2959183673469401,"",1,0,0,1,0,"NO","NO",4]
["Acadia","Rayne",9607,22001960700,"TRUE",1,4,71420210050,"Louisiana",152900,94200,0.61608894702419903,true,4,46710,31653,0.67764932562620395,"",0,19.600000000000001,25.4,1.2959183673469401,"",1,0,0,1,0,"NO","NO",8]
["Acadia","Rayne",9608,22001960800,"FALSE",0,0,71420210051,"Louisiana",152900,94200,0.61608894702419903,true,4,46710,31653,0.67764932562620395,"",0,19.600000000000001,25.4,1.2959183673469401,"",1,0,0,1,0,"NO","NO",4]
["Acadia","Rayne",9612,22001961200,"FALSE",0,0,71420210052,"Louisiana",152900,94200,0.61608894702419903,true,4,46710,31653,0.67764932562620395,"",0,19.600000000000001,25.4,1.2959183673469401,"",1,0,0,1,0,"NO","NO",4]
["Acadia","Rayne",19.010000000000002,22055001901,"FALSE",0,0,71420210053,"Louisiana",152900,94200,0.61608894702419903,true,4,46710,31653,0.67764932562620395,"",0,19.600000000000001,25.4,1.2959183673469401,"",1,0,0,1,0,"NO","NO",4]
["Acadia","Rayne",9501,22113950100,"FALSE",0,0,71420210054,"Louisiana",152900,94200,0.61608894702419903,true,4,46710,31653,0.67764932562620395,"",0,19.600000000000001,25.4,1.2959183673469401,"",1,0,0,1,0,"NO","NO",4]
["Allen","Elizabeth",9501,22003950100,"FALSE",0,0,71420210055,"Louisiana",152900,77500,0.50686723348593898,true,4,46710,41250,0.88310854206807998,"",0,19.600000000000001,18.899999999999999,0.96428571428571397,"",1,0,0,1,0,"NO","NO",4]
["Allen","Grant",9501,22003950100,"FALSE",0,0,71420210056,"Louisiana",152900,0,0,"",0,46710,0,0,true,4,19.600000000000001,0,0,"",0,1,0,1,0,"NO","NO",4]
["Allen","Kinder",9501,22003950100,"FALSE",0,0,71420210057,"Louisiana",152900,78800,0.515369522563767,true,4,46710,42696,0.91406551059730201,"",0,19.600000000000001,16.100000000000001,0.82142857142857195,"",1,0,0,1,0,"NO","NO",4]
["Allen","Kinder",9504,22003950400,"FALSE",0,0,71420210058,"Louisiana",152900,78800,0.515369522563767,true,4,46710,42696,0.91406551059730201,"",0,19.600000000000001,16.100000000000001,0.82142857142857195,"",1,0,0,1,0,"NO","NO",4]
["Allen","Kinder",9505,22003950500,"FALSE",0,0,71420210059,"Louisiana",152900,78800,0.515369522563767,true,4,46710,42696,0.91406551059730201,"",0,19.600000000000001,16.100000000000001,0.82142857142857195,"",1,0,0,1,0,"NO","NO",4]
["Allen","Kinder",1,22053000100,"FALSE",0,0,71420210060,"Louisiana",152900,78800,0.515369522563767,true,4,46710,42696,0.91406551059730201,"",0,19.600000000000001,16.100000000000001,0.82142857142857195,"",1,0,0,1,0,"NO","NO",4]
["Allen","Kinder",2,22053000200,"FALSE",0,0,71420210061,"Louisiana",152900,78800,0.515369522563767,true,4,46710,42696,0.91406551059730201,"",0,19.600000000000001,16.100000000000001,0.82142857142857195,"",1,0,0,1,0,"NO","NO",4]
["Allen","Leblanc",9501,22003950100,"FALSE",0,0,71420210062,"Louisiana",152900,0,0,"",0,46710,0,0,true,4,19.600000000000001,0,0,"",0,1,0,1,0,"NO","NO",4]
["Allen","Mittie",9501,22003950100,"FALSE",0,0,71420210063,"Louisiana",152900,0,0,"",0,46710,0,0,true,4,19.600000000000001,0,0,"",0,1,0,1,0,"NO","NO",4]
["Allen","Oakdale",9501,22003950100,"FALSE",0,0,71420210064,"Louisiana",152900,59000,0.38587311968606902,"",0,46710,25893,0.55433526011560696,true,4,19.600000000000001,32.1,1.6377551020408201,true,0,1,1,2,4,"NO","NO",8]
["Allen","Oakdale",9502,22003950200,"FALSE",0,0,71420210065,"Louisiana",152900,59000,0.38587311968606902,"",0,46710,25893,0.55433526011560696,true,4,19.600000000000001,32.1,1.6377551020408201,true,0,1,1,2,4,"NO","NO",8]
["Allen","Oakdale",9503,22003950300,"TRUE",1,4,71420210066,"Louisiana",152900,59000,0.38587311968606902,"",0,46710,25893,0.55433526011560696,true,4,19.600000000000001,32.1,1.6377551020408201,true,0,1,1,2,4,"YES","YES",12]
["Allen","Oakdale",9504,22003950400,"FALSE",0,{"$f":"IF(E67=\"TRUE\",4,0)","v":0},71420210067,"Louisiana",152900,59000,0.38587311968606902,{"$f":"IF(L67>=50%,TRUE,\"\")","v":""},{"$f":"IF(M67=TRUE,4,0)","v":0},46710,25893,0.55433526011560696,{"$f":"IF(Q67<=65%,TRUE,\"\")","v":true},{"$f":"IF(R67=TRUE, 4,0)","v":4},19.600000000000001,32.1,1.6377551020408201,{"$f":"IF(V67>=1.5,TRUE,\"\")","v":true},{"$f":"IF(M67=TRUE,1,0)","v":0},{"$f":"IF(R67=TRUE,1,0)","v":1},{"$f":"IF(W67=TRUE,1,0)","v":1},{"$f":"SUM(X67:Z67)","v":2},{"$f":"IF(W67=TRUE, 4,0)","v":4},{"$f":"IF(AND(E67=\"TRUE\",AA67>1),\"YES\",\"NO\")","v":"NO"},{"$f":"IF(AND(F67=1,AA67>1), \"YES\",\"NO\")","v":"NO"},{"$f":"+G67+N67+S67+AB67","v":8}]
["Allen","Oakdale",9502,22039950200,"FALSE",0,0,71420210068,"Louisiana",152900,59000,0.38587311968606902,"",0,46710,25893,0.55433526011560696,true,4,19.600000000000001,32.1,1.6377551020408201,true,0,1,1,2,4,"NO","NO",8]
["Allen","Oakdale",135,22079013500,"FALSE",0,0,71420210069,"Louisiana",152900,59000,0.38587311968606902,"",0,46710,25893,0.55433526011560696,true,4,19.600000000000001,32.1,1.6377551020408201,true,0,1,1,2,4,"NO","NO",8]
["Allen","Oakdale",136,22079013600,"FALSE",0,0,71420210070,"Louisiana",152900,59000,0.38587311968606902,"",0,46710,25893,0.55433526011560696,true,4,19.600000000000001,32.1,1.6377551020408201,true,0,1,1,2,4,"NO","NO",8]
["Allen","Oberlin",9501,22003950100,"FALSE",0,0,71420210071,"Louisiana",152900,78200,0.51144538914323101,true,4,46710,35441,0.75874545065296495,"",0,19.600000000000001,23.5,1.1989795918367301,"",1,0,0,1,0,"NO","NO",4]
["Allen","Oberlin",9504,22003950400,"FALSE",0,0,71420210072,"Louisiana",152900,78200,0.51144538914323101,true,4,46710,35441,0.75874545065296495,"",0,19.600000000000001,23.5,1.1989795918367301,"",1,0,0,1,0,"NO","NO",4]
["Allen","Oberlin",9505,22003950500,"FALSE",0,0,71420210073,"Louisiana",152900,78200,0.51144538914323101,true,4,46710,35441,0.75874545065296495,"",0,19.600000000000001,23.5,1.1989795918367301,"",1,0,0,1,0,"NO","NO",4]
["Allen","Reeves",9501,22003950100,"FALSE",0,0,71420210074,"Louisiana",152900,76100,0.49771092217135399,"",0,46710,41000,0.87775636908584898,"",0,19.600000000000001,19.8,1.0102040816326501,"",0,0,0,0,0,"NO","NO",0]
["Ascension","Brittany",304.02,22005030402,"FALSE",0,0,71420210075,"Louisiana",152900,0,0,"",0,46710,0,0,true,4,19.600000000000001,0,0,"",0,1,0,1,0,"NO","NO",4]
["Ascension","Darrow",303,22005030300,"FALSE",0,0,71420210076,"Louisiana",152900,0,0,"",0,46710,0,0,true,4,19.600000000000001,0,0,"",0,1,0,1,0,"NO","NO",4]
["Ascension","Donaldsonville",309,22005030900,"TRUE",1,4,71420210077,"Louisiana",152900,108700,0.71092217135382596,true,4,46710,34197,0.732113037893385,"",0,19.600000000000001,31.5,1.6071428571428601,true,1,0,1,2,4,"YES","YES",12]
["Ascension","Donaldsonville",310,22005031000,"TRUE",1,4,71420210078,"Louisiana",152900,108700,0.71092217135382596,true,4,46710,34197,0.732113037893385,"",0,19.600000000000001,31.5,1.6071428571428601,true,1,0,1,2,4,"YES","YES",12]
["Ascension","Donaldsonville",501,22007050100,"FALSE",0,0,71420210079,"Louisiana",152900,108700,0.71092217135382596,true,4,46710,34197,0.732113037893385,"",0,19.600000000000001,31.5,1.6071428571428601,true,1,0,1,2,4,"NO","NO",8]
["Ascension","Donaldsonville",9530,22047953000,"FALSE",0,0,71420210080,"Louisiana",152900,108700,0.71092217135382596,true,4,46710,34197,0.732113037893385,"",0,19.600000000000001,31.5,1.6071428571428601,true,1,0,1,2,4,"NO","NO",8]
["Ascension","Donaldsonville",405,22093040500,"TRUE",1,4,71420210081,"Louisiana",152900,108700,0.71092217135382596,true,4,46710,34197,0.732113037893385,"",0,19.600000000000001,31.5,1.6071428571428601,true,1,0,1,2,4,"YES","YES",12]
["Ascension","Duplessis",302.05,22005030205,"FALSE",0,0,71420210082,"Louisiana",152900,0,0,"",0,46710,0,0,true,4,19.600000000000001,0,0,"",0,1,0,1,0,"NO","NO",4]
["Ascension","Geismar",303,22005030300,"FALSE",0,0,71420210083,"Louisiana",152900,0,0,"",0,46710,0,0,true,4,19.600000000000001,0,0,"",0,1,0,1,0,"NO","NO",4]
["Ascension","Gonzales",301.01,22005030101,"FALSE",0,0,71420210084,"Louisiana",152900,154300,1.0091563113145801,true,4,46710,58082,1.24345964461571,"",0,19.600000000000001,16,0.81632653061224503,"",1,0,0,1,0,"NO","NO",4]
["Ascension","Gonzales",301.02,22005030102,"FALSE",0,0,71420210085,"Louisiana",152900,154300,1.0091563113145801,true,4,46710,58082,1.24345964461571,"",0,19.600000000000001,16,0.81632653061224503,"",1,0,0,1,0,"NO","NO",4]
["Ascension","Gonzales",301.02999999999997,22005030103,"FALSE",0,0,71420210086,"Louisiana",152900,154300,1.0091563113145801,true,4,46710,58082,1.24345964461571,"",0,19.600000000000001,16,0.81632653061224503,"",1,0,0,1,0,"NO","NO",4]
["Ascension","Gonzales",302.05,22005030205,"FALSE",0,0,71420210087,"Louisiana",152900,154300,1.0091563113145801,true,4,46710,58082,1.24345964461571,"",0,19.600000000000001,16,0.81632653061224503,"",1,0,0,1,0,"NO","NO",4]
["Ascension","Gonzales",302.06,22005030206,"FALSE",0,0,71420210088,"Louisiana",152900,154300,1.0091563113145801,true,4,46710,58082,1.24345964461571,"",0,19.600000000000001,16,0.81632653061224503,"",1,0,0,1,0,"NO","NO",4]
["Ascension","Gonzales",303,22005030300,"FALSE",0,0,71420210089,"Louisiana",152900,154300,1.0091563113145801,true,4,46710,58082,1.24345964461571,"",0,19.600000000000001,16,0.81632653061224503,"",1,0,0,1,0,"NO","NO",4]
["Ascension","Gonzales",304.01,22005030401,"FALSE",0,0,71420210090,"Louisiana",152900,154300,1.0091563113145801,true,4,46710,58082,1.24345964461571,"",0,19.600000000000001,16,0.81632653061224503,"",1,0,0,1,0,"NO","NO",4]
["Ascension","Gonzales",304.02,22005030402,"FALSE",0,0,71420210091,"Louisiana",152900,154300,1.0091563113145801,true,4,46710,58082,1.24345964461571,"",0,19.600000000000001,16,0.81632653061224503,"",1,0,0,1,0,"NO","NO",4]
["Ascension","Gonzales",305,22005030500,"t He",0,0,71420210092,"Louisiana",152900,154300,1.0091563113145801,true,4,46710,58082,1.24345964461571,"",0,19.600000000000001,16,0.81632653061224503,"",1,0,0,1,0,"NO","NO",4]
["Ascension","Gonzales",306,22005030600,"TRUE",0,4,71420210093,"Louisiana",152900,154300,1.0091563113145801,true,4,46710,58082,1.24345964461571,"",0,19.600000000000001,16,0.81632653061224503,"",1,0,0,1,0,"NO","NO",8]
["Ascension","Prairieville",301.01,22005030101,"FALSE",0,0,71420210094,"Louisiana",152900,222000,1.45192936559843,true,4,46710,98130,2.1008349389852299,"",0,19.600000000000001,8,0.40816326530612201,"",1,0,0,1,0,"NO","NO",4]
["Ascension","Prairieville",301.02999999999997,22005030103,"FALSE",0,0,71420210095,"Louisiana",152900,222000,1.45192936559843,true,4,46710,98130,2.1008349389852299,"",0,19.600000000000001,8,0.40816326530612201,"",1,0,0,1,0,"NO","NO",4]
["Ascension","Prairieville",302.02999999999997,22005030203,"FALSE",0,0,71420210096,"Louisiana",152900,222000,1.45192936559843,true,4,46710,98130,2.1008349389852299,"",0,19.600000000000001,8,0.40816326530612201,"",1,0,0,1,0,"NO","NO",4]
["Ascension","Prairieville",302.04000000000002,22005030204,"FALSE",0,0,71420210097,"Louisiana",152900,222000,1.45192936559843,true,4,46710,98130,2.1008349389852299,"",0,19.600000000000001,8,0.40816326530612201,"",1,0,0,1,0,"NO","NO",4]
["Ascension","Prairieville",302.05,22005030205,"FALSE",0,0,71420210098,"Louisiana",152900,222000,1.45192936559843,true,4,46710,98130,2.1008349389852299,"",0,19.600000000000001,8,0.40816326530612201,"",1,0,0,1,0,"NO","NO",4]
["Ascension","Prairieville",302.06,22005030206,"FALSE",0,0,71420210099,"Louisiana",152900,222000,1.45192936559843,true,4,46710,98130,2.1008349389852299,"",0,19.600000000000001,8,0.40816326530612201,"",1,0,0,1,0,"NO","NO",4]
["Ascension","Prairieville",303,22005030300,"FALSE",0,0,71420210100,"Louisiana",152900,222000,1.45192936559843,true,4,46710,98130,2.1008349389852299,"",0,19.600000000000001,8,0.40816326530612201,"",1,0,0,1,0,"NO","NO",4]
["Ascension","Saint Amant",301.02,22005030102,"FALSE",0,0,71420210101,"Louisiana",152900,0,0,"",0,46710,0,0,true,4,19.600000000000001,0,0,"",0,1,0,1,0,"NO","NO",4]
["Ascension","Saint Amant",301.02999999999997,22005030103,"FALSE",0,0,71420210102,"Louisiana",152900,0,0,"",0,46710,0,0,true,4,19.600000000000001,0,0,"",0,1,0,1,0,"NO","NO",4]
["Ascension","Saint Amant",305,22005030500,"FALSE",0,0,71420210103,"Louisiana",152900,0,0,"",0,46710,0,0,true,4,19.600000000000001,0,0,"",0,1,0,1,0,"NO","NO",4]
["Ascension","Saint Amant",409.02,22063040902,"TRUE",0,4,71420210104,"Louisiana",152900,0,0,"",0,46710,0,0,true,4,19.600000000000001,0,0,"",0,1,0,1,0,"NO","NO",8]
["Ascension","Sorrento",303,22005030300,"FALSE",0,0,71420210105,"Louisiana",152900,133900,0.87573577501635103,true,4,46710,46667,0.99907942624705603,"",0,19.600000000000001,10.4,0.530612244897959,"",1,0,0,1,0,"NO","NO",4]
["Ascension","Sorrento",305,22005030500,"FALSE",0,0,71420210106,"Louisiana",152900,133900,0.87573577501635103,true,4,46710,46667,0.99907942624705603,"",0,19.600000000000001,10.4,0.530612244897959,"",1,0,0,1,0,"NO","NO",4]
["Ascension","Sorrento",306,22005030600,"TRUE",0,4,71420210107,"Louisiana",152900,133900,0.87573577501635103,true,4,46710,46667,0.99907942624705603,"",0,19.600000000000001,10.4,0.530612244897959,"",1,0,0,1,0,"NO","NO",8]
["Assumption","Belle Rose",501,22007050100,"FALSE",0,0,71420210108,"Louisiana",152900,135000,0.88293001962066697,true,4,46710,32404,0.69372725326482598,"",0,19.600000000000001,15,0.76530612244898,"",1,0,0,1,0,"NO","NO",4]
["Assumption","Belle Rose",503,22007050300,"FALSE",0,0,71420210109,"Louisiana",152900,135000,0.88293001962066697,true,4,46710,32404,0.69372725326482598,"",0,19.600000000000001,15,0.76530612244898,"",1,0,0,1,0,"NO","NO",4]
["Assumption","Labadieville",505,22007050500,"FALSE",0,0,71420210110,"Louisiana",152900,135500,0.88620013080444704,true,4,46710,56750,1.21494326696639,"",0,19.600000000000001,16.2,0.82653061224489799,"",1,0,0,1,0,"NO","NO",4]
["Assumption","Labadieville",506,22007050600,"FALSE",0,0,71420210111,"Louisiana",152900,135500,0.88620013080444704,true,4,46710,56750,1.21494326696639,"",0,19.600000000000001,16.2,0.82653061224489799,"",1,0,0,1,0,"NO","NO",4]
["Assumption","Napoleonville",503,22007050300,"FALSE",0,0,71420210112,"Louisiana",152900,73000,0.477436232831916,"",0,46710,25043,0.53613787197602203,true,4,19.600000000000001,37.9,1.93367346938776,true,0,1,1,2,4,"NO","NO",8]
["Assumption","Napoleonville",504,22007050400,"FALSE",0,0,71420210113,"Louisiana",152900,73000,0.477436232831916,"",0,46710,25043,0.53613787197602203,true,4,19.600000000000001,37.9,1.93367346938776,true,0,1,1,2,4,"NO","NO",8]
["Assumption","Napoleonville",505,22007050500,"FALSE",0,0,71420210114,"Louisiana",152900,73000,0.477436232831916,"",0,46710,25043,0.53613787197602203,true,4,19.600000000000001,37.9,1.93367346938776,true,0,1,1,2,4,"NO","NO",8]
["Assumption","Paincourtville",503,22007050300,"FALSE",0,0,71420210115,"Louisiana",152900,129700,0.84826684107259598,true,4,46710,90129,1.92954399486191,"",0,19.600000000000001,1,5.10204081632653E-2,"",1,0,0,1,0,"NO","NO",4]
["Assumption","Pierre Part",501,22007050100,"FALSE",0,0,71420210116,"Louisiana",152900,114700,0.75016350555918898,true,4,46710,82646,1.7693427531577799,"",0,19.600000000000001,11.2,0.57142857142857195,"",1,0,0,1,0,"NO","NO",4]
["Assumption","Pierre Part",502,22007050200,"FALSE",0,0,71420210117,"Louisiana",152900,114700,0.75016350555918898,true,4,46710,82646,1.7693427531577799,"",0,19.600000000000001,11.2,0.57142857142857195,"",1,0,0,1,0,"NO","NO",4]
["Assumption","Pierre Part",210,22099021000,"FALSE",0,0,71420210118,"Louisiana",152900,114700,0.75016350555918898,true,4,46710,82646,1.7693427531577799,"",0,19.600000000000001,11.2,0.57142857142857195,"",1,0,0,1,0,"NO","NO",4]
["Assumption","Plattenville",503,22007050300,"FALSE",0,0,71420210119,"Louisiana",152900,0,0,"",0,46710,0,0,true,4,19.600000000000001,0,0,"",0,1,0,1,0,"NO","NO",4]
["Avoyelles","Bordelonville",301,22009030100,"FALSE",0,0,71420210120,"Louisiana",152900,71300,0.466317854807063,"",0,46710,null,null,true,4,19.600000000000001,41.3,2.1071428571428599,true,0,1,1,2,4,"NO","NO",8]
["Avoyelles","Bunkie",305,22009030500,"FALSE",0,0,71420210121,"Louisiana",152900,66500,0.43492478744277302,"",0,46710,26161,0.56007278955255801,true,4,19.600000000000001,25.1,1.28061224489796,"",0,1,0,1,0,"NO","NO",4]
["Avoyelles","Bunkie",306,22009030600,"FALSE",0,0,71420210122,"Louisiana",152900,66500,0.43492478744277302,"",0,46710,26161,0.56007278955255801,true,4,19.600000000000001,25.1,1.28061224489796,"",0,1,0,1,0,"NO","NO",4]
["Avoyelles","Bunkie",307,22009030700,"FALSE",0,0,71420210123,"Louisiana",152900,66500,0.43492478744277302,"",0,46710,26161,0.56007278955255801,true,4,19.600000000000001,25.1,1.28061224489796,"",0,1,0,1,0,"NO","NO",4]
["Avoyelles","Bunkie",133,22079013300,"FALSE",0,0,71420210124,"Louisiana",152900,66500,0.43492478744277302,"",0,46710,26161,0.56007278955255801,true,4,19.600000000000001,25.1,1.28061224489796,"",0,1,0,1,0,"NO","NO",4]
["Avoyelles","Bunkie",9602,22097960200,"FALSE",0,0,71420210125,"Louisiana",152900,66500,0.43492478744277302,"",0,46710,26161,0.56007278955255801,true,4,19.600000000000001,25.1,1.28061224489796,"",0,1,0,1,0,"NO","NO",4]
["Avoyelles","Center Point",302,22009030200,"FALSE",0,0,71420210126,"Louisiana",152900,89800,0.58731196860693302,true,4,46710,null,null,true,4,19.600000000000001,53.5,2.7295918367346901,true,1,1,1,3,4,"NO","NO",12]
["Avoyelles","Center Point",132,22079013200,"FALSE",0,0,71420210127,"Louisiana",152900,89800,0.58731196860693302,true,4,46710,null,null,true,4,19.600000000000001,53.5,2.7295918367346901,true,1,1,1,3,4,"NO","NO",12]
["Avoyelles","Cottonport",307,22009030700,"FALSE",0,0,71420210128,"Louisiana",152900,93400,0.61085676913014997,true,4,46710,18241,0.39051594947548701,true,4,19.600000000000001,45.2,2.3061224489795902,true,1,1,1,3,4,"NO","NO",12]
["Avoyelles","Cottonport",308,22009030800,"FALSE",0,0,71420210129,"Louisiana",152900,93400,0.61085676913014997,true,4,46710,18241,0.39051594947548701,true,4,19.600000000000001,45.2,2.3061224489795902,true,1,1,1,3,4,"NO","NO",12]
["Avoyelles","Dupont",308,22009030800,"FALSE",0,0,71420210130,"Louisiana",152900,0,0,"",0,46710,0,0,true,4,19.600000000000001,0,0,"",0,1,0,1,0,"NO","NO",4]
["Avoyelles","Effie",302,22009030200,"FALSE",0,{"$f":"IF(E131=\"TRUE\",4,0)","v":0},71420210131,"Louisiana",152900,0,0,{"$f":"IF(L131>=50%,TRUE,\"\")","v":""},{"$f":"IF(M131=TRUE,4,0)","v":0},46710,0,0,{"$f":"IF(Q131<=65%,TRUE,\"\")","v":true},{"$f":"IF(R131=TRUE, 4,0)","v":4},19.600000000000001,0,0,{"$f":"IF(V131>=1.5,TRUE,\"\")","v":""},{"$f":"IF(M131=TRUE,1,0)","v":0},{"$f":"IF(R131=TRUE,1,0)","v":1},{"$f":"IF(W131=TRUE,1,0)","v":0},{"$f":"SUM(X131:Z131)","v":1},{"$f":"IF(W131=TRUE, 4,0)","v":0},{"$f":"IF(AND(E131=\"TRUE\",AA131>1),\"YES\",\"NO\")","v":"NO"},{"$f":"IF(AND(F131=1,AA131>1), \"YES\",\"NO\")","v":"NO"},{"$f":"+G131+N131+S131+AB131","v":4}]
["Avoyelles","Evergreen",307,22009030700,"FALSE",0,0,71420210132,"Louisiana",152900,121900,0.79725310660562498,true,4,46710,22554,0.48285163776493301,true,4,19.600000000000001,44.2,2.2551020408163298,true,1,1,1,3,4,"NO","NO",12]
["Avoyelles","Evergreen",308,22009030800,"FALSE",0,0,71420210133,"Louisiana",152900,121900,0.79725310660562498,true,4,46710,22554,0.48285163776493301,true,4,19.600000000000001,44.2,2.2551020408163298,true,1,1,1,3,4,"NO","NO",12]
["Avoyelles","Hamburg",309,22009030900,"TRUE",0,4,71420210134,"Louisiana",152900,0,0,"",0,46710,0,0,true,4,19.600000000000001,0,0,"",0,1,0,1,0,"NO","NO",8]
["Avoyelles","Hessmer",303,22009030300,"FALSE",0,0,71420210135,"Louisiana",152900,152300,0.99607586657946401,true,4,46710,36250,0.77606508242346395,"",0,19.600000000000001,21.6,1.1020408163265301,"",1,0,0,1,0,"NO","NO",4]
["Avoyelles","Hessmer",305,22009030500,"FALSE",0,0,71420210136,"Louisiana",152900,152300,0.99607586657946401,true,4,46710,36250,0.77606508242346395,"",0,19.600000000000001,21.6,1.1020408163265301,"",1,0,0,1,0,"NO","NO",4]
["Avoyelles","Mansura",301,22009030100,"FALSE",0,0,71420210137,"Louisiana",152900,117300,0.76716808371484602,true,4,46710,21136,0.45249411260972,true,4,19.600000000000001,39.799999999999997,2.0306122448979602,true,1,1,1,3,4,"NO","NO",12]
["Avoyelles","Mansura",304,22009030400,"FALSE",0,0,71420210138,"Louisiana",152900,117300,0.76716808371484602,true,4,46710,21136,0.45249411260972,true,4,19.600000000000001,39.799999999999997,2.0306122448979602,true,1,1,1,3,4,"NO","NO",12]
["Avoyelles","Mansura",305,22009030500,"FALSE",0,0,71420210139,"Louisiana",152900,117300,0.76716808371484602,true,4,46710,21136,0.45249411260972,true,4,19.600000000000001,39.799999999999997,2.0306122448979602,true,1,1,1,3,4,"NO","NO",12]
["Avoyelles","Mansura",307,22009030700,"FALSE",0,0,71420210140,"Louisiana",152900,117300,0.76716808371484602,true,4,46710,21136,0.45249411260972,true,4,19.600000000000001,39.799999999999997,2.0306122448979602,true,1,1,1,3,4,"NO","NO",12]
["Avoyelles","Marksville",301,22009030100,"FALSE",0,0,71420210141,"Louisiana",152900,98900,0.64682799215173303,true,4,46710,25980,0.55619781631342302,true,4,19.600000000000001,34,1.7346938775510199,true,1,1,1,3,4,"NO","NO",12]
["Avoyelles","Marksville",303,22009030300,"FALSE",0,0,71420210142,"Louisiana",152900,98900,0.64682799215173303,true,4,46710,25980,0.55619781631342302,true,4,19.600000000000001,34,1.7346938775510199,true,1,1,1,3,4,"NO","NO",12]
["Avoyelles","Marksville",304,22009030400,"FALSE",0,0,71420210143,"Louisiana",152900,98900,0.64682799215173303,true,4,46710,25980,0.55619781631342302,true,4,19.600000000000001,34,1.7346938775510199,true,1,1,1,3,4,"NO","NO",12]
["Avoyelles","Marksville",133,22079013300,"FALSE",0,0,71420210144,"Louisiana",152900,98900,0.64682799215173303,true,4,46710,25980,0.55619781631342302,true,4,19.600000000000001,34,1.7346938775510199,true,1,1,1,3,4,"NO","NO",12]
["Avoyelles","Moreauville",301,22009030100,"FALSE",0,0,71420210145,"Louisiana",152900,102800,0.67233485938521897,true,4,46710,27120,0.580603725112396,true,4,19.600000000000001,18.8,0.95918367346938804,"",1,1,0,2,0,"NO","NO",8]
["Avoyelles","Moreauville",307,22009030700,"FALSE",0,0,71420210146,"Louisiana",152900,102800,0.67233485938521897,true,4,46710,27120,0.580603725112396,true,4,19.600000000000001,18.8,0.95918367346938804,"",1,1,0,2,0,"NO","NO",8]
["Avoyelles","Moreauville",309,22009030900,"TRUE",1,4,71420210147,"Louisiana",152900,102800,0.67233485938521897,true,4,46710,27120,0.580603725112396,true,4,19.600000000000001,18.8,0.95918367346938804,"",1,1,0,2,0,"YES","YES",12]
["Avoyelles","Plaucheville",307,22009030700,"FALSE",0,0,71420210148,"Louisiana",152900,114600,0.74950948332243295,true,4,46710,34375,0.73592378505673295,"",0,19.600000000000001,19,0.969387755102041,"",1,0,0,1,0,"NO","NO",4]
["Avoyelles","Plaucheville",308,22009030800,"FALSE",0,0,71420210149,"Louisiana",152900,114600,0.74950948332243295,true,4,46710,34375,0.73592378505673295,"",0,19.600000000000001,19,0.969387755102041,"",1,0,0,1,0,"NO","NO",4]
["Avoyelles","Plaucheville",309,22009030900,"TRUE",0,4,71420210150,"Louisiana",152900,114600,0.74950948332243295,true,4,46710,34375,0.73592378505673295,"",0,19.600000000000001,19,0.969387755102041,"",1,0,0,1,0,"NO","NO",8]
["Avoyelles","Plaucheville",9601,22097960100,"FALSE",0,0,71420210151,"Louisiana",152900,114600,0.74950948332243295,true,4,46710,34375,0.73592378505673295,"",0,19.600000000000001,19,0.969387755102041,"",1,0,0,1,0,"NO","NO",4]
["Avoyelles","Simmesport",309,22009030900,"TRUE",1,4,71420210152,"Louisiana",152900,55100,0.36036625245258302,"",0,46710,23333,0.49952900877756401,true,4,19.600000000000001,50.7,2.58673469387755,true,0,1,1,2,4,"YES","YES",12]
["Beauregard","DeRidder",9601,22011960100,"TRUE",1,4,71420210153,"Louisiana",152900,135200,0.88423806409417904,true,4,46710,43618,0.93380432455577,"",0,19.600000000000001,24.4,1.24489795918367,"",1,0,0,1,0,"NO","NO",8]
["Beauregard","DeRidder",9602,22011960200,"FALSE",0,0,71420210154,"Louisiana",152900,135200,0.88423806409417904,true,4,46710,43618,0.93380432455577,"",0,19.600000000000001,24.4,1.24489795918367,"",1,0,0,1,0,"NO","NO",4]
["Beauregard","DeRidder",9603,22011960300,"TRUE",1,4,71420210155,"Louisiana",152900,135200,0.88423806409417904,true,4,46710,43618,0.93380432455577,"",0,19.600000000000001,24.4,1.24489795918367,"",1,0,0,1,0,"NO","NO",8]
["Beauregard","DeRidder",9604,22011960400,"FALSE",0,0,71420210156,"Louisiana",152900,135200,0.88423806409417904,true,4,46710,43618,0.93380432455577,"",0,19.600000000000001,24.4,1.24489795918367,"",1,0,0,1,0,"NO","NO",4]
["Beauregard","DeRidder",9605,22011960500,"TRUE",1,4,71420210157,"Louisiana",152900,135200,0.88423806409417904,true,4,46710,43618,0.93380432455577,"",0,19.600000000000001,24.4,1.24489795918367,"",1,0,0,1,0,"NO","NO",8]
["Beauregard","DeRidder",9606,22011960600,"TRUE",1,4,71420210158,"Louisiana",152900,135200,0.88423806409417904,true,4,46710,43618,0.93380432455577,"",0,19.600000000000001,24.4,1.24489795918367,"",1,0,0,1,0,"NO","NO",8]
["Beauregard","DeRidder",9607,22011960700,"FALSE",0,0,71420210159,"Louisiana",152900,135200,0.88423806409417904,true,4,46710,43618,0.93380432455577,"",0,19.600000000000001,24.4,1.24489795918367,"",1,0,0,1,0,"NO","NO",4]
["Beauregard","DeRidder",9503,22115950300,"FALSE",0,0,71420210160,"Louisiana",152900,135200,0.88423806409417904,true,4,46710,43618,0.93380432455577,"",0,19.600000000000001,24.4,1.24489795918367,"",1,0,0,1,0,"NO","NO",4]
["Beauregard","DeRidder",9508,22115950800,"FALSE",0,0,71420210161,"Louisiana",152900,135200,0.88423806409417904,true,4,46710,43618,0.93380432455577,"",0,19.600000000000001,24.4,1.24489795918367,"",1,0,0,1,0,"NO","NO",4]
["Beauregard","DeRidder",9509,22115950900,"FALSE",0,0,71420210162,"Louisiana",152900,135200,0.88423806409417904,true,4,46710,43618,0.93380432455577,"",0,19.600000000000001,24.4,1.24489795918367,"",1,0,0,1,0,"NO","NO",4]
["Beauregard","Dry Creek",9501,22003950100,"FALSE",0,0,71420210163,"Louisiana",152900,0,0,"",0,46710,0,0,true,4,19.600000000000001,0,0,"",0,1,0,1,0,"NO","NO",4]
["Beauregard","Dry Creek",9601,22011960100,"FALSE",0,0,71420210164,"Louisiana",152900,0,0,"",0,46710,0,0,true,4,19.600000000000001,0,0,"",0,1,0,1,0,"NO","NO",4]
["Beauregard","Longville",9601,22011960100,"FALSE",0,0,71420210165,"Louisiana",152900,null,null,"",0,46710,null,null,true,4,19.600000000000001,11.9,0.60714285714285698,"",0,1,0,1,0,"NO","NO",4]
["Beauregard","Longville",9607,22011960700,"FALSE",0,0,71420210166,"Louisiana",152900,null,null,"",0,46710,null,null,true,4,19.600000000000001,11.9,0.60714285714285698,"",0,1,0,1,0,"NO","NO",4]
["Beauregard","Merryville",9602,22011960200,"FALSE",0,0,71420210167,"Louisiana",152900,63300,0.41399607586657899,"",0,46710,25321,0.542089488332263,true,4,19.600000000000001,23.9,1.21938775510204,"",0,1,0,1,0,"NO","NO",4]
["Beauregard","Merryville",9606,22011960600,"FALSE",0,0,71420210168,"Louisiana",152900,63300,0.41399607586657899,"",0,46710,25321,0.542089488332263,true,4,19.600000000000001,23.9,1.21938775510204,"",0,1,0,1,0,"NO","NO",4]
["Beauregard","Ragley",9501,22003950100,"FALSE",0,0,71420210169,"Louisiana",152900,0,0,"",0,46710,0,0,true,4,19.600000000000001,0,0,"",0,1,0,1,0,"NO","NO",4]
["Beauregard","Ragley",9601,22011960100,"FALSE",0,0,71420210170,"Louisiana",152900,0,0,"",0,46710,0,0,true,4,19.600000000000001,0,0,"",0,1,0,1,0,"NO","NO",4]
["Beauregard","Ragley",9607,22011960700,"FALSE",0,0,71420210171,"Louisiana",152900,0,0,"",0,46710,0,0,true,4,19.600000000000001,0,0,"",0,1,0,1,0,"NO","NO",4]
["Beauregard","Ragley",22.01,22019002201,"FALSE",0,0,71420210172,"Louisiana",152900,0,0,"",0,46710,0,0,true,4,19.600000000000001,0,0,"",0,1,0,1,0,"NO","NO",4]
["Beauregard","Ragley",2,22053000200,"FALSE",0,0,71420210173,"Louisiana",152900,0,0,"",0,46710,0,0,true,4,19.600000000000001,0,0,"",0,1,0,1,0,"NO","NO",4]
["Beauregard","Singer",9606,22011960600,"FALSE",0,0,71420210174,"Louisiana",152900,null,null,"",0,46710,68517,1.4668593448940299,"",0,19.600000000000001,15,0.76530612244898,"",0,0,0,0,0,"NO","NO",0]
["Beauregard","Singer",9607,22011960700,"FALSE",0,0,71420210175,"Louisiana",152900,null,null,"",0,46710,68517,1.4668593448940299,"",0,19.600000000000001,15,0.76530612244898,"",0,0,0,0,0,"NO","NO",0]
["Beauregard","Sugartown",9501,22003950100,"FALSE",0,0,71420210176,"Louisiana",152900,0,0,"",0,46710,0,0,true,4,19.600000000000001,0,0,"",0,1,0,1,0,"NO","NO",4]
["Beauregard","Sugartown",9601,22011960100,"FALSE",0,0,71420210177,"Louisiana",152900,0,0,"",0,46710,0,0,true,4,19.600000000000001,0,0,"",0,1,0,1,0,"NO","NO",4]
["Bienville","Arcadia",9701,22013970100,"TRUE",1,4,71420210178,"Louisiana",152900,85500,0.55918901242642205,true,4,46710,23015,0.492721044744166,true,4,19.600000000000001,44.1,2.25,true,1,1,1,3,4,"YES","YES",16]
["Bienville","Arcadia",9702,22013970200,"FALSE",0,0,71420210179,"Louisiana",152900,85500,0.55918901242642205,true,4,46710,23015,0.492721044744166,true,4,19.600000000000001,44.1,2.25,true,1,1,1,3,4,"NO","NO",12]
["Bienville","Arcadia",9501,22027950100,"FALSE",0,0,71420210180,"Louisiana",152900,85500,0.55918901242642205,true,4,46710,23015,0.492721044744166,true,4,19.600000000000001,44.1,2.25,true,1,1,1,3,4,"NO","NO",12]
["Bienville","Arcadia",9505,22027950500,"FALSE",0,0,71420210181,"Louisiana",152900,85500,0.55918901242642205,true,4,46710,23015,0.492721044744166,true,4,19.600000000000001,44.1,2.25,true,1,1,1,3,4,"NO","NO",12]
["Bienville","Arcadia",9602,22061960200,"FALSE",0,0,71420210182,"Louisiana",152900,85500,0.55918901242642205,true,4,46710,23015,0.492721044744166,true,4,19.600000000000001,44.1,2.25,true,1,1,1,3,4,"NO","NO",12]
["Bienville","Bienville",9702,22013970200,"FALSE",0,0,71420210183,"Louisiana",152900,49000,0.32047089601046402,"",0,46710,32500,0.69578248769000195,"",0,19.600000000000001,6.3,0.32142857142857101,"",0,0,0,0,0,"NO","NO",0]
["Bienville","Bienville",9705,22013970500,"FALSE",0,0,71420210184,"Louisiana",152900,49000,0.32047089601046402,"",0,46710,32500,0.69578248769000195,"",0,19.600000000000001,6.3,0.32142857142857101,"",0,0,0,0,0,"NO","NO",0]
["Bienville","Castor",9704,22013970400,"FALSE",0,0,71420210185,"Louisiana",152900,75000,0.49051667756703698,"",0,46710,28000,0.59944337400984804,true,4,19.600000000000001,15,0.76530612244898,"",0,1,0,1,0,"NO","NO",4]
["Bienville","Castor",9705,22013970500,"FALSE",0,0,71420210186,"Louisiana",152900,75000,0.49051667756703698,"",0,46710,28000,0.59944337400984804,true,4,19.600000000000001,15,0.76530612244898,"",0,1,0,1,0,"NO","NO",4]
["Bienville","Castor",1,22069000100,"FALSE",0,0,71420210187,"Louisiana",152900,75000,0.49051667756703698,"",0,46710,28000,0.59944337400984804,true,4,19.600000000000001,15,0.76530612244898,"",0,1,0,1,0,"NO","NO",4]
["Bienville","Gibsland",9702,22013970200,"FALSE",0,0,71420210188,"Louisiana",152900,83500,0.54610856769130101,true,4,46710,32292,0.691329479768786,"",0,19.600000000000001,36.200000000000003,1.8469387755102,true,1,0,1,2,4,"NO","NO",8]
["Bienville","Gibsland",9705,22013970500,"FALSE",0,0,71420210189,"Louisiana",152900,83500,0.54610856769130101,true,4,46710,32292,0.691329479768786,"",0,19.600000000000001,36.200000000000003,1.8469387755102,true,1,0,1,2,4,"NO","NO",8]
["Bienville","Gibsland",9505,22027950500,"FALSE",0,0,71420210190,"Louisiana",152900,83500,0.54610856769130101,true,4,46710,32292,0.691329479768786,"",0,19.600000000000001,36.200000000000003,1.8469387755102,true,1,0,1,2,4,"NO","NO",8]
["Bienville","Jamestown",9704,22013970400,"FALSE",0,0,71420210191,"Louisiana",152900,0,0,"",0,46710,0,0,true,4,19.600000000000001,0,0,"",0,1,0,1,0,"NO","NO",4]
["Bienville","Jamestown",9705,22013970500,"FALSE",0,0,71420210192,"Louisiana",152900,0,0,"",0,46710,0,0,true,4,19.600000000000001,0,0,"",0,1,0,1,0,"NO","NO",4]
["Bienville","Ringgold",9703,22013970300,"FALSE",0,0,71420210193,"Louisiana",152900,63800,0.41726618705036,"",0,46710,18347,0.39278527081995301,true,4,19.600000000000001,47.2,2.4081632653061198,true,0,1,1,2,4,"NO","NO",8]
["Bienville","Ringgold",9704,22013970400,"FALSE",0,0,71420210194,"Louisiana",152900,63800,0.41726618705036,"",0,46710,18347,0.39278527081995301,true,4,19.600000000000001,47.2,2.4081632653061198,true,0,1,1,2,4,"NO","NO",8]
["Bienville","Ringgold",9601,22081960100,"FALSE",0,{"$f":"IF(E195=\"TRUE\",4,0)","v":0},71420210195,"Louisiana",152900,63800,0.41726618705036,{"$f":"IF(L195>=50%,TRUE,\"\")","v":""},{"$f":"IF(M195=TRUE,4,0)","v":0},46710,18347,0.39278527081995301,{"$f":"IF(Q195<=65%,TRUE,\"\")","v":true},{"$f":"IF(R195=TRUE, 4,0)","v":4},19.600000000000001,47.2,2.4081632653061198,{"$f":"IF(V195>=1.5,TRUE,\"\")","v":true},{"$f":"IF(M195=TRUE,1,0)","v":0},{"$f":"IF(R195=TRUE,1,0)","v":1},{"$f":"IF(W195=TRUE,1,0)","v":1},{"$f":"SUM(X195:Z195)","v":2},{"$f":"IF(W195=TRUE, 4,0)","v":4},{"$f":"IF(AND(E195=\"TRUE\",AA195>1),\"YES\",\"NO\")","v":"NO"},{"$f":"IF(AND(F195=1,AA195>1), \"YES\",\"NO\")","v":"NO"},{"$f":"+G195+N195+S195+AB195","v":8}]
["Bienville","Saline",9705,22013970500,"FALSE",0,0,71420210196,"Louisiana",152900,66000,0.43165467625899301,"",0,46710,50500,1.0811389424106199,"",0,19.600000000000001,14.1,0.719387755102041,"",0,0,0,0,0,"NO","NO",0]
["Bienville","Saline",1,22069000100,"FALSE",0,0,71420210197,"Louisiana",152900,66000,0.43165467625899301,"",0,46710,50500,1.0811389424106199,"",0,19.600000000000001,14.1,0.719387755102041,"",0,0,0,0,0,"NO","NO",0]
["Bienville","Saline",9602,22127960200,"FALSE",0,0,71420210198,"Louisiana",152900,66000,0.43165467625899301,"",0,46710,50500,1.0811389424106199,"",0,19.600000000000001,14.1,0.719387755102041,"",0,0,0,0,0,"NO","NO",0]
["Bienville","Taylor",9702,22013970200,"FALSE",0,0,71420210199,"Louisiana",152900,0,0,"",0,46710,0,0,true,4,19.600000000000001,0,0,"",0,1,0,1,0,"NO","NO",4]
["Bossier","Barksdale Afb",109,22015010900,"FALSE",0,0,71420210200,"Louisiana",152900,0,0,"",0,46710,0,0,true,4,19.600000000000001,0,0,"",0,1,0,1,0,"NO","NO",4]
["Bossier","Benton",111.03,22015011103,"FALSE",0,0,71420210201,"Louisiana",152900,107400,0.70241988227599705,true,4,46710,34453,0.73759366302718898,"",0,19.600000000000001,31,1.5816326530612199,true,1,0,1,2,4,"NO","NO",8]
["Bossier","Benton",111.07,22015011107,"FALSE",0,0,71420210202,"Louisiana",152900,107400,0.70241988227599705,true,4,46710,34453,0.73759366302718898,"",0,19.600000000000001,31,1.5816326530612199,true,1,0,1,2,4,"NO","NO",8]
["Bossier","Benton",111.08,22015011108,"FALSE",0,0,71420210203,"Louisiana",152900,107400,0.70241988227599705,true,4,46710,34453,0.73759366302718898,"",0,19.600000000000001,31,1.5816326530612199,true,1,0,1,2,4,"NO","NO",8]
["Bossier","Benton",112,22015011200,"FALSE",0,0,71420210204,"Louisiana",152900,107400,0.70241988227599705,true,4,46710,34453,0.73759366302718898,"",0,19.600000000000001,31,1.5816326530612199,true,1,0,1,2,4,"NO","NO",8]
["Bossier","Bossier City",104,22015010400,"TRUE",1,4,71420210205,"Louisiana",152900,161400,1.05559189012426,true,4,46710,48468,1.0376364804110501,"",0,19.600000000000001,19.3,0.98469387755102,"",1,0,0,1,0,"NO","NO",8]
["Bossier","Bossier City",105,22015010500,"FALSE",0,0,71420210206,"Louisiana",152900,161400,1.05559189012426,true,4,46710,48468,1.0376364804110501,"",0,19.600000000000001,19.3,0.98469387755102,"",1,0,0,1,0,"NO","NO",4]
["Bossier","Bossier City",106.01,22015010601,"FALSE",0,0,71420210207,"Louisiana",152900,161400,1.05559189012426,true,4,46710,48468,1.0376364804110501,"",0,19.600000000000001,19.3,0.98469387755102,"",1,0,0,1,0,"NO","NO",4]
["Bossier","Bossier City",106.01,22015010601,"FALSE",0,0,71420210208,"Louisiana",152900,161400,1.05559189012426,true,4,46710,48468,1.0376364804110501,"",0,19.600000000000001,19.3,0.98469387755102,"",1,0,0,1,0,"NO","NO",4]
["Bossier","Bossier City",106.02,22015010602,"FALSE",0,0,71420210209,"Louisiana",152900,161400,1.05559189012426,true,4,46710,48468,1.0376364804110501,"",0,19.600000000000001,19.3,0.98469387755102,"",1,0,0,1,0,"NO","NO",4]
["Bossier","Bossier City",106.02,22015010602,"FALSE",0,0,71420210210,"Louisiana",152900,161400,1.05559189012426,true,4,46710,48468,1.0376364804110501,"",0,19.600000000000001,19.3,0.98469387755102,"",1,0,0,1,0,"NO","NO",4]
["Bossier","Bossier City",106.02,22015010602,"FALSE",0,0,71420210211,"Louisiana",152900,161400,1.05559189012426,true,4,46710,48468,1.0376364804110501,"",0,19.600000000000001,19.3,0.98469387755102,"",1,0,0,1,0,"NO","NO",4]
["Bossier","Bossier City",106.02,22015010602,"FALSE",0,0,71420210212,"Louisiana",152900,161400,1.05559189012426,true,4,46710,48468,1.0376364804110501,"",0,19.600000000000001,19.3,0.98469387755102,"",1,0,0,1,0,"NO","NO",4]
["Bossier","Bossier City",107.01,22015010701,"FALSE",0,0,71420210213,"Louisiana",152900,161400,1.05559189012426,true,4,46710,48468,1.0376364804110501,"",0,19.600000000000001,19.3,0.98469387755102,"",1,0,0,1,0,"NO","NO",4]
["Bossier","Bossier City",107.01,22015010701,"FALSE",0,0,71420210214,"Louisiana",152900,161400,1.05559189012426,true,4,46710,48468,1.0376364804110501,"",0,19.600000000000001,19.3,0.98469387755102,"",1,0,0,1,0,"NO","NO",4]
["Bossier","Bossier City",107.02,22015010702,"FALSE",0,0,71420210215,"Louisiana",152900,161400,1.05559189012426,true,4,46710,48468,1.0376364804110501,"",0,19.600000000000001,19.3,0.98469387755102,"",1,0,0,1,0,"NO","NO",4]
["Bossier","Bossier City",108.01,22015010801,"FALSE",0,0,71420210216,"Louisiana",152900,161400,1.05559189012426,true,4,46710,48468,1.0376364804110501,"",0,19.600000000000001,19.3,0.98469387755102,"",1,0,0,1,0,"NO","NO",4]
["Bossier","Bossier City",108.01,22015010801,"FALSE",0,0,71420210217,"Louisiana",152900,161400,1.05559189012426,true,4,46710,48468,1.0376364804110501,"",0,19.600000000000001,19.3,0.98469387755102,"",1,0,0,1,0,"NO","NO",4]
["Bossier","Bossier City",108.04,22015010804,"FALSE",0,0,71420210218,"Louisiana",152900,161400,1.05559189012426,true,4,46710,48468,1.0376364804110501,"",0,19.600000000000001,19.3,0.98469387755102,"",1,0,0,1,0,"NO","NO",4]
["Bossier","Bossier City",108.05,22015010805,"FALSE",0,0,71420210219,"Louisiana",152900,161400,1.05559189012426,true,4,46710,48468,1.0376364804110501,"",0,19.600000000000001,19.3,0.98469387755102,"",1,0,0,1,0,"NO","NO",4]
["Bossier","Bossier City",108.05,22015010805,"FALSE",0,0,71420210220,"Louisiana",152900,161400,1.05559189012426,true,4,46710,48468,1.0376364804110501,"",0,19.600000000000001,19.3,0.98469387755102,"",1,0,0,1,0,"NO","NO",4]
["Bossier","Bossier City",108.06,22015010806,"FALSE",0,0,71420210221,"Louisiana",152900,161400,1.05559189012426,true,4,46710,48468,1.0376364804110501,"",0,19.600000000000001,19.3,0.98469387755102,"",1,0,0,1,0,"NO","NO",4]
["Bossier","Bossier City",110.01,22015011001,"FALSE",0,0,71420210222,"Louisiana",152900,161400,1.05559189012426,true,4,46710,48468,1.0376364804110501,"",0,19.600000000000001,19.3,0.98469387755102,"",1,0,0,1,0,"NO","NO",4]
["Bossier","Bossier City",110.02,22015011002,"FALSE",0,0,71420210223,"Louisiana",152900,161400,1.05559189012426,true,4,46710,48468,1.0376364804110501,"",0,19.600000000000001,19.3,0.98469387755102,"",1,0,0,1,0,"NO","NO",4]
["Bossier","Bossier City",111.08,22015011108,"FALSE",0,0,71420210224,"Louisiana",152900,161400,1.05559189012426,true,4,46710,48468,1.0376364804110501,"",0,19.600000000000001,19.3,0.98469387755102,"",1,0,0,1,0,"NO","NO",4]
["Bossier","Bossier City",111.09,22015011109,"FALSE",0,0,71420210225,"Louisiana",152900,161400,1.05559189012426,true,4,46710,48468,1.0376364804110501,"",0,19.600000000000001,19.3,0.98469387755102,"",1,0,0,1,0,"NO","NO",4]
["Bossier","Bossier City",111.09,22015011109,"FALSE",0,0,71420210226,"Louisiana",152900,161400,1.05559189012426,true,4,46710,48468,1.0376364804110501,"",0,19.600000000000001,19.3,0.98469387755102,"",1,0,0,1,0,"NO","NO",4]
["Bossier","Bossier City",111.1,22015011110,"FALSE",0,0,71420210227,"Louisiana",152900,161400,1.05559189012426,true,4,46710,48468,1.0376364804110501,"",0,19.600000000000001,19.3,0.98469387755102,"",1,0,0,1,0,"NO","NO",4]
["Bossier","Bossier City",113,22015011300,"TRUE",1,4,71420210228,"Louisiana",152900,161400,1.05559189012426,true,4,46710,48468,1.0376364804110501,"",0,19.600000000000001,19.3,0.98469387755102,"",1,0,0,1,0,"NO","NO",8]
["Bossier","Elm Grove",110.01,22015011001,"FALSE",0,0,71420210229,"Louisiana",152900,0,0,"",0,46710,0,0,true,4,19.600000000000001,0,0,"",0,1,0,1,0,"NO","NO",4]
["Bossier","Elm Grove",110.02,22015011002,"FALSE",0,0,71420210230,"Louisiana",152900,0,0,"",0,46710,0,0,true,4,19.600000000000001,0,0,"",0,1,0,1,0,"NO","NO",4]
["Bossier","Haughton",110.01,22015011001,"FALSE",0,0,71420210231,"Louisiana",152900,128500,0.840418574231524,true,4,46710,57431,1.2295225861699799,"",0,19.600000000000001,17.600000000000001,0.89795918367346905,"",1,0,0,1,0,"NO","NO",4]
["Bossier","Haughton",110.02,22015011002,"FALSE",0,0,71420210232,"Louisiana",152900,128500,0.840418574231524,true,4,46710,57431,1.2295225861699799,"",0,19.600000000000001,17.600000000000001,0.89795918367346905,"",1,0,0,1,0,"NO","NO",4]
["Bossier","Haughton",111.03,22015011103,"FALSE",0,0,71420210233,"Louisiana",152900,128500,0.840418574231524,true,4,46710,57431,1.2295225861699799,"",0,19.600000000000001,17.600000000000001,0.89795918367346905,"",1,0,0,1,0,"NO","NO",4]
["Bossier","Haughton",111.05,22015011105,"FALSE",0,0,71420210234,"Louisiana",152900,128500,0.840418574231524,true,4,46710,57431,1.2295225861699799,"",0,19.600000000000001,17.600000000000001,0.89795918367346905,"",1,0,0,1,0,"NO","NO",4]
["Bossier","Haughton",111.06,22015011106,"FALSE",0,0,71420210235,"Louisiana",152900,128500,0.840418574231524,true,4,46710,57431,1.2295225861699799,"",0,19.600000000000001,17.600000000000001,0.89795918367346905,"",1,0,0,1,0,"NO","NO",4]
["Bossier","Haughton",315,22119031500,"FALSE",0,0,71420210236,"Louisiana",152900,128500,0.840418574231524,true,4,46710,57431,1.2295225861699799,"",0,19.600000000000001,17.600000000000001,0.89795918367346905,"",1,0,0,1,0,"NO","NO",4]
["Bossier","Plain Dealing",112,22015011200,"FALSE",0,0,71420210237,"Louisiana",152900,75800,0.49574885546108599,"",0,46710,34375,0.73592378505673295,"",0,19.600000000000001,38.6,1.96938775510204,true,0,0,1,1,4,"NO","NO",4]
["Bossier","Princeton",111.03,22015011103,"FALSE",0,0,71420210238,"Louisiana",152900,0,0,"",0,46710,0,0,true,4,19.600000000000001,0,0,"",0,1,0,1,0,"NO","NO",4]
["Bossier","Princeton",111.05,22015011105,"FALSE",0,0,71420210239,"Louisiana",152900,0,0,"",0,46710,0,0,true,4,19.600000000000001,0,0,"",0,1,0,1,0,"NO","NO",4]
["Bossier","Princeton",111.06,22015011106,"FALSE",0,0,71420210240,"Louisiana",152900,0,0,"",0,46710,0,0,true,4,19.600000000000001,0,0,"",0,1,0,1,0,"NO","NO",4]
["Bossier","Princeton",315,22119031500,"FALSE",0,0,71420210241,"Louisiana",152900,0,0,"",0,46710,0,0,true,4,19.600000000000001,0,0,"",0,1,0,1,0,"NO","NO",4]
["Caddo","Belcher",248,22017024800,"FALSE",0,0,71420210242,"Louisiana",152900,135900,0.88881621975147196,true,4,46710,36000,0.77071290944123305,"",0,19.600000000000001,30.5,1.55612244897959,true,1,0,1,2,4,"NO","NO",8]
["Caddo","Bethany",242.03,22017024203,"FALSE",0,0,71420210243,"Louisiana",152900,0,0,"",0,46710,0,0,true,4,19.600000000000001,0,0,"",0,1,0,1,0,"NO","NO",4]
["Caddo","Bethany",243.04,22017024304,"FALSE",0,0,71420210244,"Louisiana",152900,0,0,"",0,46710,0,0,true,4,19.600000000000001,0,0,"",0,1,0,1,0,"NO","NO",4]
["Caddo","Blanchard",254.05,22017025405,"FALSE",0,0,71420210245,"Louisiana",152900,170200,1.1131458469588,true,4,46710,69500,1.48790408906016,"",0,19.600000000000001,2.6,0.13265306122449,"",1,0,0,1,0,"NO","NO",4]
["Caddo","Gilliam",248,22017024800,"FALSE",0,0,71420210246,"Louisiana",152900,158600,1.0372792674950899,true,4,46710,58750,1.2577606508242301,"",0,19.600000000000001,12,0.61224489795918402,"",1,0,0,1,0,"NO","NO",4]
["Caddo","Gilliam",251,22017025100,"FALSE",0,0,71420210247,"Louisiana",152900,158600,1.0372792674950899,true,4,46710,58750,1.2577606508242301,"",0,19.600000000000001,12,0.61224489795918402,"",1,0,0,1,0,"NO","NO",4]
["Caddo","Greenwood",243.01,22017024301,"FALSE",0,0,71420210248,"Louisiana",152900,115000,0.75212557226945698,true,4,46710,58750,1.2577606508242301,"",0,19.600000000000001,10.5,0.53571428571428603,"",1,0,0,1,0,"NO","NO",4]
["Caddo","Greenwood",243.03,22017024303,"FALSE",0,0,71420210249,"Louisiana",152900,115000,0.75212557226945698,true,4,46710,58750,1.2577606508242301,"",0,19.600000000000001,10.5,0.53571428571428603,"",1,0,0,1,0,"NO","NO",4]
["Caddo","Greenwood",243.04,22017024304,"FALSE",0,0,71420210250,"Louisiana",152900,115000,0.75212557226945698,true,4,46710,58750,1.2577606508242301,"",0,19.600000000000001,10.5,0.53571428571428603,"",1,0,0,1,0,"NO","NO",4]
["Caddo","Hosston",251,22017025100,"FALSE",0,0,71420210251,"Louisiana",152900,88700,0.58011772400261596,true,4,46710,47813,1.0236137871976001,"",0,19.600000000000001,15.2,0.77551020408163296,"",1,0,0,1,0,"NO","NO",4]
["Caddo","Ida",251,22017025100,"FALSE",0,0,71420210252,"Louisiana",152900,72500,0.47416612164813599,"",0,46710,38750,0.82958681224577202,"",0,19.600000000000001,11.2,0.57142857142857195,"",0,0,0,0,0,"NO","NO",0]
["Caddo","Keithville",241.02,22017024102,"FALSE",0,0,71420210253,"Louisiana",152900,0,0,"",0,46710,0,0,true,4,19.600000000000001,0,0,"",0,1,0,1,0,"NO","NO",4]
["Caddo","Keithville",242.02,22017024202,"FALSE",0,0,71420210254,"Louisiana",152900,0,0,"",0,46710,0,0,true,4,19.600000000000001,0,0,"",0,1,0,1,0,"NO","NO",4]
["Caddo","Keithville",242.03,22017024203,"FALSE",0,0,71420210255,"Louisiana",152900,0,0,"",0,46710,0,0,true,4,19.600000000000001,0,0,"",0,1,0,1,0,"NO","NO",4]
["Caddo","Mooringsport",245.04,22017024504,"FALSE",0,0,71420210256,"Louisiana",152900,77600,0.50752125572269502,true,4,46710,28281,0.60545921644187495,true,4,19.600000000000001,25.1,1.28061224489796,"",1,1,0,2,0,"NO","NO",8]
["Caddo","Mooringsport",248,22017024800,"FALSE",0,0,71420210257,"Louisiana",152900,77600,0.50752125572269502,true,4,46710,28281,0.60545921644187495,true,4,19.600000000000001,25.1,1.28061224489796,"",1,1,0,2,0,"NO","NO",8]
["Caddo","Mooringsport",249,22017024900,"FALSE",0,0,71420210258,"Louisiana",152900,77600,0.50752125572269502,true,4,46710,28281,0.60545921644187495,true,4,19.600000000000001,25.1,1.28061224489796,"",1,1,0,2,0,"NO","NO",8]
["Caddo","Mooringsport",254.06,22017025406,"FALSE",0,{"$f":"IF(E259=\"TRUE\",4,0)","v":0},71420210259,"Louisiana",152900,77600,0.50752125572269502,{"$f":"IF(L259>=50%,TRUE,\"\")","v":true},{"$f":"IF(M259=TRUE,4,0)","v":4},46710,28281,0.60545921644187495,{"$f":"IF(Q259<=65%,TRUE,\"\")","v":true},{"$f":"IF(R259=TRUE, 4,0)","v":4},19.600000000000001,25.1,1.28061224489796,{"$f":"IF(V259>=1.5,TRUE,\"\")","v":""},{"$f":"IF(M259=TRUE,1,0)","v":1},{"$f":"IF(R259=TRUE,1,0)","v":1},{"$f":"IF(W259=TRUE,1,0)","v":0},{"$f":"SUM(X259:Z259)","v":2},0,{"$f":"IF(AND(E259=\"TRUE\",AA259>1),\"YES\",\"NO\")","v":"NO"},{"$f":"IF(AND(F259=1,AA259>1), \"YES\",\"NO\")","v":"NO"},{"$f":"+G259+N259+S259+AB259","v":8}]
["Caddo","Oil City",249,22017024900,"FALSE",0,0,71420210260,"Louisiana",152900,88800,0.580771746239372,true,4,46710,20769,0.444637122671805,true,4,19.600000000000001,31.7,1.6173469387755099,true,1,1,1,3,4,"NO","NO",12]
["Caddo","Rodessa",249,22017024900,"FALSE",0,0,71420210261,"Louisiana",152900,null,null,"",0,46710,35833,0.76713765788910304,"",0,19.600000000000001,15.7,0.80102040816326503,"",0,0,0,0,0,"NO","NO",0]
["Caddo","Rodessa",251,22017025100,"FALSE",0,0,71420210262,"Louisiana",152900,null,null,"",0,46710,35833,0.76713765788910304,"",0,19.600000000000001,15.7,0.80102040816326503,"",0,0,0,0,0,"NO","NO",0]
["Caddo","Shreveport",104,22015010400,"TRUE",1,4,71420210263,"Louisiana",152900,139800,0.91432308698495701,true,null,46710,37390,0.80047099122243603,"",null,19.600000000000001,25.7,1.31122448979592,"",1,0,0,1,null,"NO","NO",4]
["Caddo","Shreveport",104,22015010400,"TRUE",0,4,71420210264,"Louisiana",152900,139800,0.91432308698495701,true,null,46710,37390,0.80047099122243603,"",null,19.600000000000001,25.7,1.31122448979592,"",1,0,0,1,null,"NO","NO",4]
["Caddo","Shreveport",104,22015010400,"TRUE",1,4,71420210265,"Louisiana",152900,139800,0.91432308698495701,true,null,46710,37390,0.80047099122243603,"",null,19.600000000000001,25.7,1.31122448979592,"",1,0,0,1,null,"NO","NO",4]
["Caddo","Shreveport",108.01,22015010801,"TRUE",1,4,71420210266,"Louisiana",152900,139800,0.91432308698495701,true,null,46710,37390,0.80047099122243603,"",null,19.600000000000001,25.7,1.31122448979592,"",1,0,0,1,null,"NO","NO",4]
["Caddo","Shreveport",108.05,22015010805,"TRUE",1,4,71420210267,"Louisiana",152900,139800,0.91432308698495701,true,null,46710,37390,0.80047099122243603,"",null,19.600000000000001,25.7,1.31122448979592,"",1,0,0,1,null,"NO","NO",4]
["Caddo","Shreveport",110.02,22015011002,"TRUE",1,4,71420210268,"Louisiana",152900,139800,0.91432308698495701,true,null,46710,37390,0.80047099122243603,"",null,19.600000000000001,25.7,1.31122448979592,"",1,0,0,1,null,"NO","NO",4]
["Caddo","Shreveport",111.06,22015011106,"TRUE",1,4,71420210269,"Louisiana",152900,139800,0.91432308698495701,true,null,46710,37390,0.80047099122243603,"",null,19.600000000000001,25.7,1.31122448979592,"",1,0,0,1,null,"NO","NO",4]
["Caddo","Shreveport",205,22017020500,"TRUE",0,4,71420210270,"Louisiana",152900,139800,0.91432308698495701,true,null,46710,37390,0.80047099122243603,"",null,19.600000000000001,25.7,1.31122448979592,"",1,0,0,1,null,"NO","NO",4]
["Caddo","Shreveport",205,22017020500,"TRUE",0,4,71420210271,"Louisiana",152900,139800,0.91432308698495701,true,null,46710,37390,0.80047099122243603,"",null,19.600000000000001,25.7,1.31122448979592,"",1,0,0,1,null,"NO","NO",4]
["Caddo","Shreveport",206,22017020600,"TRUE",0,4,71420210272,"Louisiana",152900,139800,0.91432308698495701,true,null,46710,37390,0.80047099122243603,"",null,19.600000000000001,25.7,1.31122448979592,"",1,0,0,1,null,"NO","NO",4]
["Caddo","Shreveport",207,22017020700,"TRUE",0,4,71420210273,"Louisiana",152900,139800,0.91432308698495701,true,null,46710,37390,0.80047099122243603,"",null,19.600000000000001,25.7,1.31122448979592,"",1,0,0,1,null,"NO","NO",4]
["Caddo","Shreveport",207,22017020700,"TRUE",0,4,71420210274,"Louisiana",152900,139800,0.91432308698495701,true,null,46710,37390,0.80047099122243603,"",null,19.600000000000001,25.7,1.31122448979592,"",1,0,0,1,null,"NO","NO",4]
["Caddo","Shreveport",210,22017021000,"TRUE",1,4,71420210275,"Louisiana",152900,139800,0.91432308698495701,true,null,46710,37390,0.80047099122243603,"",null,19.600000000000001,25.7,1.31122448979592,"",1,0,0,1,null,"NO","NO",4]
["Caddo","Shreveport",210,22017021000,"TRUE",1,4,71420210276,"Louisiana",152900,139800,0.91432308698495701,true,null,46710,37390,0.80047099122243603,"",null,19.600000000000001,25.7,1.31122448979592,"",1,0,0,1,null,"NO","NO",4]
["Caddo","Shreveport",210,22017021000,"TRUE",1,4,71420210277,"Louisiana",152900,139800,0.91432308698495701,true,null,46710,37390,0.80047099122243603,"",null,19.600000000000001,25.7,1.31122448979592,"",1,0,0,1,null,"NO","NO",4]
["Caddo","Shreveport",211,22017021100,"TRUE",1,4,71420210278,"Louisiana",152900,139800,0.91432308698495701,true,null,46710,37390,0.80047099122243603,"",null,19.600000000000001,25.7,1.31122448979592,"",1,0,0,1,null,"NO","NO",4]
["Caddo","Shreveport",211,22017021100,"TRUE",1,4,71420210279,"Louisiana",152900,139800,0.91432308698495701,true,null,46710,37390,0.80047099122243603,"",null,19.600000000000001,25.7,1.31122448979592,"",1,0,0,1,null,"NO","NO",4]
["Caddo","Shreveport",212,22017021200,"TRUE",1,4,71420210280,"Louisiana",152900,139800,0.91432308698495701,true,null,46710,37390,0.80047099122243603,"",null,19.600000000000001,25.7,1.31122448979592,"",1,0,0,1,null,"NO","NO",4]
["Caddo","Shreveport",212,22017021200,"TRUE",1,4,71420210281,"Louisiana",152900,139800,0.91432308698495701,true,null,46710,37390,0.80047099122243603,"",null,19.600000000000001,25.7,1.31122448979592,"",1,0,0,1,null,"NO","NO",4]
["Caddo","Shreveport",213,22017021300,"TRUE",1,4,71420210282,"Louisiana",152900,139800,0.91432308698495701,true,null,46710,37390,0.80047099122243603,"",null,19.600000000000001,25.7,1.31122448979592,"",1,0,0,1,null,"NO","NO",4]
["Caddo","Shreveport",213,22017021300,"TRUE",1,4,71420210283,"Louisiana",152900,139800,0.91432308698495701,true,null,46710,37390,0.80047099122243603,"",null,19.600000000000001,25.7,1.31122448979592,"",1,0,0,1,null,"NO","NO",4]
["Caddo","Shreveport",213,22017021300,"TRUE",1,4,71420210284,"Louisiana",152900,139800,0.91432308698495701,true,null,46710,37390,0.80047099122243603,"",null,19.600000000000001,25.7,1.31122448979592,"",1,0,0,1,null,"NO","NO",4]
["Caddo","Shreveport",214,22017021400,"FALSE",0,0,71420210285,"Louisiana",152900,139800,0.91432308698495701,true,null,46710,37390,0.80047099122243603,"",null,19.600000000000001,25.7,1.31122448979592,"",1,0,0,1,null,"NO","NO",0]
["Caddo","Shreveport",214,22017021400,"TRUE",1,4,71420210286,"Louisiana",152900,139800,0.91432308698495701,true,null,46710,37390,0.80047099122243603,"",null,19.600000000000001,25.7,1.31122448979592,"",1,0,0,1,null,"NO","NO",4]
["Caddo","Shreveport",215,22017021500,"FALSE",0,0,71420210287,"Louisiana",152900,139800,0.91432308698495701,true,null,46710,37390,0.80047099122243603,"",null,19.600000000000001,25.7,1.31122448979592,"",1,0,0,1,null,"NO","NO",0]
["Caddo","Shreveport",215,22017021500,"FALSE",0,0,71420210288,"Louisiana",152900,139800,0.91432308698495701,true,null,46710,37390,0.80047099122243603,"",null,19.600000000000001,25.7,1.31122448979592,"",1,0,0,1,null,"NO","NO",0]
["Caddo","Shreveport",215,22017021500,"FALSE",0,0,71420210289,"Louisiana",152900,139800,0.91432308698495701,true,null,46710,37390,0.80047099122243603,"",null,19.600000000000001,25.7,1.31122448979592,"",1,0,0,1,null,"NO","NO",0]
["Caddo","Shreveport",216,22017021600,"FALSE",0,0,71420210290,"Louisiana",152900,139800,0.91432308698495701,true,null,46710,37390,0.80047099122243603,"",null,19.600000000000001,25.7,1.31122448979592,"",1,0,0,1,null,"NO","NO",0]
["Caddo","Shreveport",216,22017021600,"FALSE",0,0,71420210291,"Louisiana",152900,139800,0.91432308698495701,true,null,46710,37390,0.80047099122243603,"",null,19.600000000000001,25.7,1.31122448979592,"",1,0,0,1,null,"NO","NO",0]
["Caddo","Shreveport",217,22017021700,"TRUE",1,4,71420210292,"Louisiana",152900,139800,0.91432308698495701,true,null,46710,37390,0.80047099122243603,"",null,19.600000000000001,25.7,1.31122448979592,"",1,0,0,1,null,"NO","NO",4]
["Caddo","Shreveport",217,22017021700,"TRUE",1,4,71420210293,"Louisiana",152900,139800,0.91432308698495701,true,null,46710,37390,0.80047099122243603,"",null,19.600000000000001,25.7,1.31122448979592,"",1,0,0,1,null,"NO","NO",4]
["Caddo","Shreveport",218,22017021800,"FALSE",0,0,71420210294,"Louisiana",152900,139800,0.91432308698495701,true,null,46710,37390,0.80047099122243603,"",null,19.600000000000001,25.7,1.31122448979592,"",1,0,0,1,null,"NO","NO",0]
["Caddo","Shreveport",218,22017021800,"FALSE",0,0,71420210295,"Louisiana",152900,139800,0.91432308698495701,true,null,46710,37390,0.80047099122243603,"",null,19.600000000000001,25.7,1.31122448979592,"",1,0,0,1,null,"NO","NO",0]
["Caddo","Shreveport",218,22017021800,"FALSE",0,0,71420210296,"Louisiana",152900,139800,0.91432308698495701,true,null,46710,37390,0.80047099122243603,"",null,19.600000000000001,25.7,1.31122448979592,"",1,0,0,1,null,"NO","NO",0]
["Caddo","Shreveport",218,22017021800,"FALSE",0,0,71420210297,"Louisiana",152900,139800,0.91432308698495701,true,null,46710,37390,0.80047099122243603,"",null,19.600000000000001,25.7,1.31122448979592,"",1,0,0,1,null,"NO","NO",0]
["Caddo","Shreveport",219,22017021900,"FALSE",0,0,71420210298,"Louisiana",152900,139800,0.91432308698495701,true,null,46710,37390,0.80047099122243603,"",null,19.600000000000001,25.7,1.31122448979592,"",1,0,0,1,null,"NO","NO",0]
["Caddo","Shreveport",220,22017022000,"TRUE",1,4,71420210299,"Louisiana",152900,139800,0.91432308698495701,true,null,46710,37390,0.80047099122243603,"",null,19.600000000000001,25.7,1.31122448979592,"",1,0,0,1,null,"NO","NO",4]
["Caddo","Shreveport",221,22017022100,"TRUE",1,4,71420210300,"Louisiana",152900,139800,0.91432308698495701,true,null,46710,37390,0.80047099122243603,"",null,19.600000000000001,25.7,1.31122448979592,"",1,0,0,1,null,"NO","NO",4]
["Caddo","Shreveport",221,22017022100,"TRUE",1,4,71420210301,"Louisiana",152900,139800,0.91432308698495701,true,null,46710,37390,0.80047099122243603,"",null,19.600000000000001,25.7,1.31122448979592,"",1,0,0,1,null,"NO","NO",4]
["Caddo","Shreveport",222,22017022200,"TRUE",1,4,71420210302,"Louisiana",152900,139800,0.91432308698495701,true,null,46710,37390,0.80047099122243603,"",null,19.600000000000001,25.7,1.31122448979592,"",1,0,0,1,null,"NO","NO",4]
["Caddo","Shreveport",223,22017022300,"TRUE",1,4,71420210303,"Louisiana",152900,139800,0.91432308698495701,true,null,46710,37390,0.80047099122243603,"",null,19.600000000000001,25.7,1.31122448979592,"",1,0,0,1,null,"NO","NO",4]
["Caddo","Shreveport",223,22017022300,"TRUE",1,4,71420210304,"Louisiana",152900,139800,0.91432308698495701,true,null,46710,37390,0.80047099122243603,"",null,19.600000000000001,25.7,1.31122448979592,"",1,0,0,1,null,"NO","NO",4]
["Caddo","Shreveport",224,22017022400,"TRUE",1,4,71420210305,"Louisiana",152900,139800,0.91432308698495701,true,null,46710,37390,0.80047099122243603,"",null,19.600000000000001,25.7,1.31122448979592,"",1,0,0,1,null,"NO","NO",4]
["Caddo","Shreveport",224,22017022400,"TRUE",1,4,71420210306,"Louisiana",152900,139800,0.91432308698495701,true,null,46710,37390,0.80047099122243603,"",null,19.600000000000001,25.7,1.31122448979592,"",1,0,0,1,null,"NO","NO",4]
["Caddo","Shreveport",225,22017022500,"FALSE",0,0,71420210307,"Louisiana",152900,139800,0.91432308698495701,true,null,46710,37390,0.80047099122243603,"",null,19.600000000000001,25.7,1.31122448979592,"",1,0,0,1,null,"NO","NO",0]
["Caddo","Shreveport",226,22017022600,"FALSE",0,0,71420210308,"Louisiana",152900,139800,0.91432308698495701,true,null,46710,37390,0.80047099122243603,"",null,19.600000000000001,25.7,1.31122448979592,"",1,0,0,1,null,"NO","NO",0]
["Caddo","Shreveport",227,22017022700,"FALSE",0,0,71420210309,"Louisiana",152900,139800,0.91432308698495701,true,null,46710,37390,0.80047099122243603,"",null,19.600000000000001,25.7,1.31122448979592,"",1,0,0,1,null,"NO","NO",0]
["Caddo","Shreveport",228,22017022800,"FALSE",0,0,71420210310,"Louisiana",152900,139800,0.91432308698495701,true,null,46710,37390,0.80047099122243603,"",null,19.600000000000001,25.7,1.31122448979592,"",1,0,0,1,null,"NO","NO",0]
["Caddo","Shreveport",229,22017022900,"FALSE",0,0,71420210311,"Louisiana",152900,139800,0.91432308698495701,true,null,46710,37390,0.80047099122243603,"",null,19.600000000000001,25.7,1.31122448979592,"",1,0,0,1,null,"NO","NO",0]
["Caddo","Shreveport",230,22017023000,"FALSE",0,0,71420210312,"Louisiana",152900,139800,0.91432308698495701,true,null,46710,37390,0.80047099122243603,"",null,19.600000000000001,25.7,1.31122448979592,"",1,0,0,1,null,"NO","NO",0]
["Caddo","Shreveport",231,22017023100,"FALSE",0,0,71420210313,"Louisiana",152900,139800,0.91432308698495701,true,null,46710,37390,0.80047099122243603,"",null,19.600000000000001,25.7,1.31122448979592,"",1,0,0,1,null,"NO","NO",0]
["Caddo","Shreveport",232,22017023200,"FALSE",0,0,71420210314,"Louisiana",152900,139800,0.91432308698495701,true,null,46710,37390,0.80047099122243603,"",null,19.600000000000001,25.7,1.31122448979592,"",1,0,0,1,null,"NO","NO",0]
["Caddo","Shreveport",233,22017023300,"TRUE",1,4,71420210315,"Louisiana",152900,139800,0.91432308698495701,true,null,46710,37390,0.80047099122243603,"",null,19.600000000000001,25.7,1.31122448979592,"",1,0,0,1,null,"NO","NO",4]
["Caddo","Shreveport",233,22017023300,"TRUE",1,4,71420210316,"Louisiana",152900,139800,0.91432308698495701,true,null,46710,37390,0.80047099122243603,"",null,19.600000000000001,25.7,1.31122448979592,"",1,0,0,1,null,"NO","NO",4]
["Caddo","Shreveport",234,22017023400,"TRUE",1,4,71420210317,"Louisiana",152900,139800,0.91432308698495701,true,null,46710,37390,0.80047099122243603,"",null,19.600000000000001,25.7,1.31122448979592,"",1,0,0,1,null,"NO","NO",4]
["Caddo","Shreveport",235,22017023500,"TRUE",1,4,71420210318,"Louisiana",152900,139800,0.91432308698495701,true,null,46710,37390,0.80047099122243603,"",null,19.600000000000001,25.7,1.31122448979592,"",1,0,0,1,null,"NO","NO",4]
["Caddo","Shreveport",236,22017023600,"TRUE",1,4,71420210319,"Louisiana",152900,139800,0.91432308698495701,true,null,46710,37390,0.80047099122243603,"",null,19.600000000000001,25.7,1.31122448979592,"",1,0,0,1,null,"NO","NO",4]
["Caddo","Shreveport",237,22017023700,"TRUE",1,4,71420210320,"Louisiana",152900,139800,0.91432308698495701,true,null,46710,37390,0.80047099122243603,"",null,19.600000000000001,25.7,1.31122448979592,"",1,0,0,1,null,"NO","NO",4]
["Caddo","Shreveport",237,22017023700,"TRUE",1,4,71420210321,"Louisiana",152900,139800,0.91432308698495701,true,null,46710,37390,0.80047099122243603,"",null,19.600000000000001,25.7,1.31122448979592,"",1,0,0,1,null,"NO","NO",4]
["Caddo","Shreveport",238,22017023800,"FALSE",0,0,71420210322,"Louisiana",152900,139800,0.91432308698495701,true,null,46710,37390,0.80047099122243603,"",null,19.600000000000001,25.7,1.31122448979592,"",1,0,0,1,null,"NO","NO",0]
["Caddo","Shreveport",239.01,22017023901,"FALSE",0,{"$f":"IF(E323=\"TRUE\",4,0)","v":0},71420210323,"Louisiana",152900,139800,0.91432308698495701,{"$f":"IF(L323>=50%,TRUE,\"\")","v":true},null,46710,37390,0.80047099122243603,{"$f":"IF(Q323<=65%,TRUE,\"\")","v":""},null,19.600000000000001,25.7,1.31122448979592,{"$f":"IF(V323>=1.5,TRUE,\"\")","v":""},{"$f":"IF(M323=TRUE,1,0)","v":1},{"$f":"IF(R323=TRUE,1,0)","v":0},{"$f":"IF(W323=TRUE,1,0)","v":0},{"$f":"SUM(X323:Z323)","v":1},null,{"$f":"IF(AND(E323=\"TRUE\",AA323>1),\"YES\",\"NO\")","v":"NO"},{"$f":"IF(AND(F323=1,AA323>1), \"YES\",\"NO\")","v":"NO"},{"$f":"+G323+N323+S323+AB323","v":0}]
["Caddo","Shreveport",239.01,22017023901,"FALSE",0,0,71420210324,"Louisiana",152900,139800,0.91432308698495701,true,null,46710,37390,0.80047099122243603,"",null,19.600000000000001,25.7,1.31122448979592,"",1,0,0,1,null,"NO","NO",0]
["Caddo","Shreveport",239.01,22017023901,"FALSE",0,0,71420210325,"Louisiana",152900,139800,0.91432308698495701,true,null,46710,37390,0.80047099122243603,"",null,19.600000000000001,25.7,1.31122448979592,"",1,0,0,1,null,"NO","NO",0]
["Caddo","Shreveport",239.03,22017023903,"FALSE",0,0,71420210326,"Louisiana",152900,139800,0.91432308698495701,true,null,46710,37390,0.80047099122243603,"",null,19.600000000000001,25.7,1.31122448979592,"",1,0,0,1,null,"NO","NO",0]
["Caddo","Shreveport",239.03,22017023903,"FALSE",0,0,71420210327,"Louisiana",152900,139800,0.91432308698495701,true,null,46710,37390,0.80047099122243603,"",null,19.600000000000001,25.7,1.31122448979592,"",1,0,0,1,null,"NO","NO",0]
["Caddo","Shreveport",239.03,22017023903,"FALSE",0,0,71420210328,"Louisiana",152900,139800,0.91432308698495701,true,null,46710,37390,0.80047099122243603,"",null,19.600000000000001,25.7,1.31122448979592,"",1,0,0,1,null,"NO","NO",0]
["Caddo","Shreveport",239.03,22017023903,"FALSE",0,0,71420210329,"Louisiana",152900,139800,0.91432308698495701,true,null,46710,37390,0.80047099122243603,"",null,19.600000000000001,25.7,1.31122448979592,"",1,0,0,1,null,"NO","NO",0]
["Caddo","Shreveport",239.04,22017023904,"FALSE",0,0,71420210330,"Louisiana",152900,139800,0.91432308698495701,true,null,46710,37390,0.80047099122243603,"",null,19.600000000000001,25.7,1.31122448979592,"",1,0,0,1,null,"NO","NO",0]
["Caddo","Shreveport",239.05,22017023905,"FALSE",0,0,71420210331,"Louisiana",152900,139800,0.91432308698495701,true,null,46710,37390,0.80047099122243603,"",null,19.600000000000001,25.7,1.31122448979592,"",1,0,0,1,null,"NO","NO",0]
["Caddo","Shreveport",239.05,22017023905,"FALSE",0,0,71420210332,"Louisiana",152900,139800,0.91432308698495701,true,null,46710,37390,0.80047099122243603,"",null,19.600000000000001,25.7,1.31122448979592,"",1,0,0,1,null,"NO","NO",0]
["Caddo","Shreveport",240,22017024000,"FALSE",0,0,71420210333,"Louisiana",152900,139800,0.91432308698495701,true,null,46710,37390,0.80047099122243603,"",null,19.600000000000001,25.7,1.31122448979592,"",1,0,0,1,null,"NO","NO",0]
["Caddo","Shreveport",240,22017024000,"FALSE",0,0,71420210334,"Louisiana",152900,139800,0.91432308698495701,true,null,46710,37390,0.80047099122243603,"",null,19.600000000000001,25.7,1.31122448979592,"",1,0,0,1,null,"NO","NO",0]
["Caddo","Shreveport",241.02,22017024102,"FALSE",0,0,71420210335,"Louisiana",152900,139800,0.91432308698495701,true,null,46710,37390,0.80047099122243603,"",null,19.600000000000001,25.7,1.31122448979592,"",1,0,0,1,null,"NO","NO",0]
["Caddo","Shreveport",241.02,22017024102,"FALSE",0,0,71420210336,"Louisiana",152900,139800,0.91432308698495701,true,null,46710,37390,0.80047099122243603,"",null,19.600000000000001,25.7,1.31122448979592,"",1,0,0,1,null,"NO","NO",0]
["Caddo","Shreveport",241.04,22017024104,"FALSE",0,0,71420210337,"Louisiana",152900,139800,0.91432308698495701,true,null,46710,37390,0.80047099122243603,"",null,19.600000000000001,25.7,1.31122448979592,"",1,0,0,1,null,"NO","NO",0]
["Caddo","Shreveport",241.04,22017024104,"FALSE",0,0,71420210338,"Louisiana",152900,139800,0.91432308698495701,true,null,46710,37390,0.80047099122243603,"",null,19.600000000000001,25.7,1.31122448979592,"",1,0,0,1,null,"NO","NO",0]
["Caddo","Shreveport",241.04,22017024104,"FALSE",0,0,71420210339,"Louisiana",152900,139800,0.91432308698495701,true,null,46710,37390,0.80047099122243603,"",null,19.600000000000001,25.7,1.31122448979592,"",1,0,0,1,null,"NO","NO",0]
["Caddo","Shreveport",241.06,22017024106,"FALSE",0,0,71420210340,"Louisiana",152900,139800,0.91432308698495701,true,null,46710,37390,0.80047099122243603,"",null,19.600000000000001,25.7,1.31122448979592,"",1,0,0,1,null,"NO","NO",0]
["Caddo","Shreveport",241.06,22017024106,"FALSE",0,0,71420210341,"Louisiana",152900,139800,0.91432308698495701,true,null,46710,37390,0.80047099122243603,"",null,19.600000000000001,25.7,1.31122448979592,"",1,0,0,1,null,"NO","NO",0]
["Caddo","Shreveport",241.07,22017024107,"FALSE",0,0,71420210342,"Louisiana",152900,139800,0.91432308698495701,true,null,46710,37390,0.80047099122243603,"",null,19.600000000000001,25.7,1.31122448979592,"",1,0,0,1,null,"NO","NO",0]
["Caddo","Shreveport",241.07,22017024107,"FALSE",0,0,71420210343,"Louisiana",152900,139800,0.91432308698495701,true,null,46710,37390,0.80047099122243603,"",null,19.600000000000001,25.7,1.31122448979592,"",1,0,0,1,null,"NO","NO",0]
["Caddo","Shreveport",241.07,22017024107,"FALSE",0,0,71420210344,"Louisiana",152900,139800,0.91432308698495701,true,null,46710,37390,0.80047099122243603,"",null,19.600000000000001,25.7,1.31122448979592,"",1,0,0,1,null,"NO","NO",0]
["Caddo","Shreveport",241.07,22017024107,"FALSE",0,0,71420210345,"Louisiana",152900,139800,0.91432308698495701,true,null,46710,37390,0.80047099122243603,"",null,19.600000000000001,25.7,1.31122448979592,"",1,0,0,1,null,"NO","NO",0]
["Caddo","Shreveport",241.08,22017024108,"FALSE",0,0,71420210346,"Louisiana",152900,139800,0.91432308698495701,true,null,46710,37390,0.80047099122243603,"",null,19.600000000000001,25.7,1.31122448979592,"",1,0,0,1,null,"NO","NO",0]
["Caddo","Shreveport",241.09,22017024109,"FALSE",0,0,71420210347,"Louisiana",152900,139800,0.91432308698495701,true,null,46710,37390,0.80047099122243603,"",null,19.600000000000001,25.7,1.31122448979592,"",1,0,0,1,null,"NO","NO",0]
["Caddo","Shreveport",241.09,22017024109,"FALSE",0,0,71420210348,"Louisiana",152900,139800,0.91432308698495701,true,null,46710,37390,0.80047099122243603,"",null,19.600000000000001,25.7,1.31122448979592,"",1,0,0,1,null,"NO","NO",0]
["Caddo","Shreveport",242.01,22017024201,"FALSE",0,0,71420210349,"Louisiana",152900,139800,0.91432308698495701,true,null,46710,37390,0.80047099122243603,"",null,19.600000000000001,25.7,1.31122448979592,"",1,0,0,1,null,"NO","NO",0]
["Caddo","Shreveport",242.01,22017024201,"FALSE",0,0,71420210350,"Louisiana",152900,139800,0.91432308698495701,true,null,46710,37390,0.80047099122243603,"",null,19.600000000000001,25.7,1.31122448979592,"",1,0,0,1,null,"NO","NO",0]
["Caddo","Shreveport",242.02,22017024202,"FALSE",0,0,71420210351,"Louisiana",152900,139800,0.91432308698495701,true,null,46710,37390,0.80047099122243603,"",null,19.600000000000001,25.7,1.31122448979592,"",1,0,0,1,null,"NO","NO",0]
["Caddo","Shreveport",242.03,22017024203,"FALSE",0,0,71420210352,"Louisiana",152900,139800,0.91432308698495701,true,null,46710,37390,0.80047099122243603,"",null,19.600000000000001,25.7,1.31122448979592,"",1,0,0,1,null,"NO","NO",0]
["Caddo","Shreveport",243.01,22017024301,"FALSE",0,0,71420210353,"Louisiana",152900,139800,0.91432308698495701,true,null,46710,37390,0.80047099122243603,"",null,19.600000000000001,25.7,1.31122448979592,"",1,0,0,1,null,"NO","NO",0]
["Caddo","Shreveport",243.03,22017024303,"FALSE",0,0,71420210354,"Louisiana",152900,139800,0.91432308698495701,true,null,46710,37390,0.80047099122243603,"",null,19.600000000000001,25.7,1.31122448979592,"",1,0,0,1,null,"NO","NO",0]
["Caddo","Shreveport",243.03,22017024303,"FALSE",0,0,71420210355,"Louisiana",152900,139800,0.91432308698495701,true,null,46710,37390,0.80047099122243603,"",null,19.600000000000001,25.7,1.31122448979592,"",1,0,0,1,null,"NO","NO",0]
["Caddo","Shreveport",243.04,22017024304,"FALSE",0,0,71420210356,"Louisiana",152900,139800,0.91432308698495701,true,null,46710,37390,0.80047099122243603,"",null,19.600000000000001,25.7,1.31122448979592,"",1,0,0,1,null,"NO","NO",0]
["Caddo","Shreveport",244,22017024400,"FALSE",0,0,71420210357,"Louisiana",152900,139800,0.91432308698495701,true,null,46710,37390,0.80047099122243603,"",null,19.600000000000001,25.7,1.31122448979592,"",1,0,0,1,null,"NO","NO",0]
["Caddo","Shreveport",244,22017024400,"FALSE",0,0,71420210358,"Louisiana",152900,139800,0.91432308698495701,true,null,46710,37390,0.80047099122243603,"",null,19.600000000000001,25.7,1.31122448979592,"",1,0,0,1,null,"NO","NO",0]
["Caddo","Shreveport",245.03,22017024503,"FALSE",0,0,71420210359,"Louisiana",152900,139800,0.91432308698495701,true,null,46710,37390,0.80047099122243603,"",null,19.600000000000001,25.7,1.31122448979592,"",1,0,0,1,null,"NO","NO",0]
["Caddo","Shreveport",245.04,22017024504,"FALSE",0,0,71420210360,"Louisiana",152900,139800,0.91432308698495701,true,null,46710,37390,0.80047099122243603,"",null,19.600000000000001,25.7,1.31122448979592,"",1,0,0,1,null,"NO","NO",0]
["Caddo","Shreveport",246.01,22017024601,"TRUE",1,4,71420210361,"Louisiana",152900,139800,0.91432308698495701,true,null,46710,37390,0.80047099122243603,"",null,19.600000000000001,25.7,1.31122448979592,"",1,0,0,1,null,"NO","NO",4]
["Caddo","Shreveport",246.02,22017024602,"TRUE",1,4,71420210362,"Louisiana",152900,139800,0.91432308698495701,true,null,46710,37390,0.80047099122243603,"",null,19.600000000000001,25.7,1.31122448979592,"",1,0,0,1,null,"NO","NO",4]
["Caddo","Shreveport",247,22017024700,"FALSE",0,0,71420210363,"Louisiana",152900,139800,0.91432308698495701,true,null,46710,37390,0.80047099122243603,"",null,19.600000000000001,25.7,1.31122448979592,"",1,0,0,1,null,"NO","NO",0]
["Caddo","Shreveport",248,22017024800,"FALSE",0,0,71420210364,"Louisiana",152900,139800,0.91432308698495701,true,null,46710,37390,0.80047099122243603,"",null,19.600000000000001,25.7,1.31122448979592,"",1,0,0,1,null,"NO","NO",0]
["Caddo","Shreveport",252,22017025200,"TRUE",1,4,71420210365,"Louisiana",152900,139800,0.91432308698495701,true,null,46710,37390,0.80047099122243603,"",null,19.600000000000001,25.7,1.31122448979592,"",1,0,0,1,null,"NO","NO",4]
["Caddo","Shreveport",252,22017025200,"TRUE",1,4,71420210366,"Louisiana",152900,139800,0.91432308698495701,true,null,46710,37390,0.80047099122243603,"",null,19.600000000000001,25.7,1.31122448979592,"",1,0,0,1,null,"NO","NO",4]
["Caddo","Shreveport",253,22017025300,"TRUE",0,4,71420210367,"Louisiana",152900,139800,0.91432308698495701,true,null,46710,37390,0.80047099122243603,"",null,19.600000000000001,25.7,1.31122448979592,"",1,0,0,1,null,"NO","NO",4]
["Caddo","Shreveport",253,22017025300,"TRUE",1,4,71420210368,"Louisiana",152900,139800,0.91432308698495701,true,null,46710,37390,0.80047099122243603,"",null,19.600000000000001,25.7,1.31122448979592,"",1,0,0,1,null,"NO","NO",4]
["Caddo","Shreveport",253,22017025300,"TRUE",1,4,71420210369,"Louisiana",152900,139800,0.91432308698495701,true,null,46710,37390,0.80047099122243603,"",null,19.600000000000001,25.7,1.31122448979592,"",1,0,0,1,null,"NO","NO",4]
["Caddo","Shreveport",253,22017025300,"TRUE",1,4,71420210370,"Louisiana",152900,139800,0.91432308698495701,true,null,46710,37390,0.80047099122243603,"",null,19.600000000000001,25.7,1.31122448979592,"",1,0,0,1,null,"NO","NO",4]
["Caddo","Shreveport",253,22017025300,"TRUE",1,4,71420210371,"Louisiana",152900,139800,0.91432308698495701,true,null,46710,37390,0.80047099122243603,"",null,19.600000000000001,25.7,1.31122448979592,"",1,0,0,1,null,"NO","NO",4]
["Caddo","Shreveport",253,22017025300,"TRUE",1,4,71420210372,"Louisiana",152900,139800,0.91432308698495701,true,null,46710,37390,0.80047099122243603,"",null,19.600000000000001,25.7,1.31122448979592,"",1,0,0,1,null,"NO","NO",4]
["Caddo","Shreveport",253,22017025300,"TRUE",1,4,71420210373,"Louisiana",152900,139800,0.91432308698495701,true,null,46710,37390,0.80047099122243603,"",null,19.600000000000001,25.7,1.31122448979592,"",1,0,0,1,null,"NO","NO",4]
["Caddo","Shreveport",253,22017025300,"TRUE",1,4,71420210374,"Louisiana",152900,139800,0.91432308698495701,true,null,46710,37390,0.80047099122243603,"",null,19.600000000000001,25.7,1.31122448979592,"",1,0,0,1,null,"NO","NO",4]
["Caddo","Shreveport",254.05,22017025405,"FALSE",0,0,71420210375,"Louisiana",152900,139800,0.91432308698495701,true,null,46710,37390,0.80047099122243603,"",null,19.600000000000001,25.7,1.31122448979592,"",1,0,0,1,null,"NO","NO",0]
["Caddo","Shreveport",254.06,22017025406,"FALSE",0,0,71420210376,"Louisiana",152900,139800,0.91432308698495701,true,null,46710,37390,0.80047099122243603,"",null,19.600000000000001,25.7,1.31122448979592,"",1,0,0,1,null,"NO","NO",0]
["Caddo","Shreveport",9800,22017980000,"FALSE",0,0,71420210377,"Louisiana",152900,139800,0.91432308698495701,true,null,46710,37390,0.80047099122243603,"",null,19.600000000000001,25.7,1.31122448979592,"",1,0,0,1,null,"NO","NO",0]
["Caddo","Shreveport",9800,22017980000,"FALSE",0,0,71420210378,"Louisiana",152900,139800,0.91432308698495701,true,null,46710,37390,0.80047099122243603,"",null,19.600000000000001,25.7,1.31122448979592,"",1,0,0,1,null,"NO","NO",0]
["Caddo","Shreveport",9601,22081960100,"FALSE",0,0,71420210379,"Louisiana",152900,139800,0.91432308698495701,true,null,46710,37390,0.80047099122243603,"",null,19.600000000000001,25.7,1.31122448979592,"",1,0,0,1,null,"NO","NO",0]
["Caddo","Vivian",249,22017024900,"FALSE",0,0,71420210380,"Louisiana",152900,59600,0.38979725310660601,"",{"$f":"IF(M380=TRUE,4,0)","v":0},46710,28265,0.60511667737101305,true,{"$f":"IF(R380=TRUE, 4,0)","v":4},19.600000000000001,30.2,1.5408163265306101,true,0,1,1,2,{"$f":"IF(W380=TRUE, 4,0)","v":4},"NO","NO",8]
["Caddo","Vivian",250,22017025000,"TRUE",1,4,71420210381,"Louisiana",152900,59600,0.38979725310660601,"",0,46710,28265,0.60511667737101305,true,4,19.600000000000001,30.2,1.5408163265306101,true,0,1,1,2,4,"YES","YES",12]
["Calcasieu","Bell City",20,22019002000,"FALSE",0,0,71420210382,"Louisiana",152900,0,0,"",0,46710,0,0,true,4,19.600000000000001,0,0,"",0,1,0,1,0,"NO","NO",4]
["Calcasieu","Bell City",9701,22023970100,"FALSE",0,0,71420210383,"Louisiana",152900,0,0,"",0,46710,0,0,true,4,19.600000000000001,0,0,"",0,1,0,1,0,"NO","NO",4]
["Calcasieu","DeQuincy",9607,22011960700,"FALSE",0,0,71420210384,"Louisiana",152900,81000,0.52975801177240001,true,4,46710,49215,1.05362877328195,"",0,19.600000000000001,5.3,0.27040816326530598,"",1,0,0,1,0,"NO","NO",4]
["Calcasieu","DeQuincy",23,22019002300,"FALSE",0,0,71420210385,"Louisiana",152900,81000,0.52975801177240001,true,4,46710,49215,1.05362877328195,"",0,19.600000000000001,5.3,0.27040816326530598,"",1,0,0,1,0,"NO","NO",4]
["Calcasieu","DeQuincy",24,22019002400,"FALSE",0,0,71420210386,"Louisiana",152900,81000,0.52975801177240001,true,4,46710,49215,1.05362877328195,"",0,19.600000000000001,5.3,0.27040816326530598,"",1,0,0,1,0,"NO","NO",4]
["Calcasieu","Hayes",20,22019002000,"FALSE",0,{"$f":"IF(E387=\"TRUE\",4,0)","v":0},71420210387,"Louisiana",152900,66400,0.43427076520601698,{"$f":"IF(L387>=50%,TRUE,\"\")","v":""},0,46710,86432,1.85039606080069,{"$f":"IF(Q387<=65%,TRUE,\"\")","v":""},0,19.600000000000001,15.9,0.81122448979591799,{"$f":"IF(V387>=1.5,TRUE,\"\")","v":""},{"$f":"IF(M387=TRUE,1,0)","v":0},{"$f":"IF(R387=TRUE,1,0)","v":0},{"$f":"IF(W387=TRUE,1,0)","v":0},{"$f":"SUM(X387:Z387)","v":0},0,{"$f":"IF(AND(E387=\"TRUE\",AA387>1),\"YES\",\"NO\")","v":"NO"},{"$f":"IF(AND(F387=1,AA387>1), \"YES\",\"NO\")","v":"NO"},{"$f":"+G387+N387+S387+AB387","v":0}]
["Calcasieu","Iowa",17,22019001700,"FALSE",0,0,71420210388,"Louisiana",152900,112400,0.73512099411380005,true,4,46710,42038,0.89997859130807101,"",0,19.600000000000001,23.2,1.18367346938776,"",1,0,0,1,0,"NO","NO",4]
["Calcasieu","Iowa",20,22019002000,"FALSE",0,0,71420210389,"Louisiana",152900,112400,0.73512099411380005,true,4,46710,42038,0.89997859130807101,"",0,19.600000000000001,23.2,1.18367346938776,"",1,0,0,1,0,"NO","NO",4]
["Calcasieu","Iowa",21,22019002100,"FALSE",0,0,71420210390,"Louisiana",152900,112400,0.73512099411380005,true,4,46710,42038,0.89997859130807101,"",0,19.600000000000001,23.2,1.18367346938776,"",1,0,0,1,0,"NO","NO",4]
["Calcasieu","Iowa",1,22053000100,"FALSE",0,0,71420210391,"Louisiana",152900,112400,0.73512099411380005,true,4,46710,42038,0.89997859130807101,"",0,19.600000000000001,23.2,1.18367346938776,"",1,0,0,1,0,"NO","NO",4]
["Calcasieu","Iowa",2,22053000200,"FALSE",0,0,71420210392,"Louisiana",152900,112400,0.73512099411380005,true,4,46710,42038,0.89997859130807101,"",0,19.600000000000001,23.2,1.18367346938776,"",1,0,0,1,0,"NO","NO",4]
["Calcasieu","Lake Charles",1,22019000100,"TRUE",1,4,71420210393,"Louisiana",152900,145900,0.95421844342707696,true,null,46710,40910,0.87582958681224599,"",null,19.600000000000001,22.9,1.1683673469387801,"",1,0,0,1,null,"NO","NO",4]
["Calcasieu","Lake Charles",1,22019000100,"TRUE",1,4,71420210394,"Louisiana",152900,145900,0.95421844342707696,true,null,46710,40910,0.87582958681224599,"",null,19.600000000000001,22.9,1.1683673469387801,"",1,0,0,1,null,"NO","NO",4]
["Calcasieu","Lake Charles",1,22019000100,"TRUE",0,4,71420210395,"Louisiana",152900,145900,0.95421844342707696,true,null,46710,40910,0.87582958681224599,"",null,19.600000000000001,22.9,1.1683673469387801,"",1,0,0,1,null,"NO","NO",4]
["Calcasieu","Lake Charles",2,22019000200,"TRUE",1,4,71420210396,"Louisiana",152900,145900,0.95421844342707696,true,null,46710,40910,0.87582958681224599,"",null,19.600000000000001,22.9,1.1683673469387801,"",1,0,0,1,null,"NO","NO",4]
["Calcasieu","Lake Charles",3,22019000300,"TRUE",1,4,71420210397,"Louisiana",152900,145900,0.95421844342707696,true,null,46710,40910,0.87582958681224599,"",null,19.600000000000001,22.9,1.1683673469387801,"",1,0,0,1,null,"NO","NO",4]
["Calcasieu","Lake Charles",4,22019000400,"TRUE",1,4,71420210398,"Louisiana",152900,145900,0.95421844342707696,true,null,46710,40910,0.87582958681224599,"",null,19.600000000000001,22.9,1.1683673469387801,"",1,0,0,1,null,"NO","NO",4]
["Calcasieu","Lake Charles",5,22019000500,"FALSE",0,0,71420210399,"Louisiana",152900,145900,0.95421844342707696,true,null,46710,40910,0.87582958681224599,"",null,19.600000000000001,22.9,1.1683673469387801,"",1,0,0,1,null,"NO","NO",0]
["Calcasieu","Lake Charles",5,22019000500,"FALSE",0,0,71420210400,"Louisiana",152900,145900,0.95421844342707696,true,null,46710,40910,0.87582958681224599,"",null,19.600000000000001,22.9,1.1683673469387801,"",1,0,0,1,null,"NO","NO",0]
["Calcasieu","Lake Charles",6,22019000600,"TRUE",1,4,71420210401,"Louisiana",152900,145900,0.95421844342707696,true,null,46710,40910,0.87582958681224599,"",null,19.600000000000001,22.9,1.1683673469387801,"",1,0,0,1,null,"NO","NO",4]
["Calcasieu","Lake Charles",6,22019000600,"TRUE",1,4,71420210402,"Louisiana",152900,145900,0.95421844342707696,true,null,46710,40910,0.87582958681224599,"",null,19.600000000000001,22.9,1.1683673469387801,"",1,0,0,1,null,"NO","NO",4]
["Calcasieu","Lake Charles",7,22019000700,"TRUE",1,4,71420210403,"Louisiana",152900,145900,0.95421844342707696,true,null,46710,40910,0.87582958681224599,"",null,19.600000000000001,22.9,1.1683673469387801,"",1,0,0,1,null,"NO","NO",4]
["Calcasieu","Lake Charles",8,22019000800,"TRUE",1,4,71420210404,"Louisiana",152900,145900,0.95421844342707696,true,null,46710,40910,0.87582958681224599,"",null,19.600000000000001,22.9,1.1683673469387801,"",1,0,0,1,null,"NO","NO",4]
["Calcasieu","Lake Charles",9,22019000900,"FALSE",0,0,71420210405,"Louisiana",152900,145900,0.95421844342707696,true,null,46710,40910,0.87582958681224599,"",null,19.600000000000001,22.9,1.1683673469387801,"",1,0,0,1,null,"NO","NO",0]
["Calcasieu","Lake Charles",10,22019001000,"FALSE",0,0,71420210406,"Louisiana",152900,145900,0.95421844342707696,true,null,46710,40910,0.87582958681224599,"",null,19.600000000000001,22.9,1.1683673469387801,"",1,0,0,1,null,"NO","NO",0]
["Calcasieu","Lake Charles",11,22019001100,"FALSE",0,0,71420210407,"Louisiana",152900,145900,0.95421844342707696,true,null,46710,40910,0.87582958681224599,"",null,19.600000000000001,22.9,1.1683673469387801,"",1,0,0,1,null,"NO","NO",0]
["Calcasieu","Lake Charles",11,22019001100,"FALSE",0,0,71420210408,"Louisiana",152900,145900,0.95421844342707696,true,null,46710,40910,0.87582958681224599,"",null,19.600000000000001,22.9,1.1683673469387801,"",1,0,0,1,null,"NO","NO",0]
["Calcasieu","Lake Charles",11,22019001100,"FALSE",0,0,71420210409,"Louisiana",152900,145900,0.95421844342707696,true,null,46710,40910,0.87582958681224599,"",null,19.600000000000001,22.9,1.1683673469387801,"",1,0,0,1,null,"NO","NO",0]
["Calcasieu","Lake Charles",12.01,22019001201,"FALSE",0,0,71420210410,"Louisiana",152900,145900,0.95421844342707696,true,null,46710,40910,0.87582958681224599,"",null,19.600000000000001,22.9,1.1683673469387801,"",1,0,0,1,null,"NO","NO",0]
["Calcasieu","Lake Charles",12.02,22019001202,"TRUE",1,4,71420210411,"Louisiana",152900,145900,0.95421844342707696,true,null,46710,40910,0.87582958681224599,"",null,19.600000000000001,22.9,1.1683673469387801,"",1,0,0,1,null,"NO","NO",4]
["Calcasieu","Lake Charles",13,22019001300,"FALSE",0,0,71420210412,"Louisiana",152900,145900,0.95421844342707696,true,null,46710,40910,0.87582958681224599,"",null,19.600000000000001,22.9,1.1683673469387801,"",1,0,0,1,null,"NO","NO",0]
["Calcasieu","Lake Charles",13,22019001300,"FALSE",0,0,71420210413,"Louisiana",152900,145900,0.95421844342707696,true,null,46710,40910,0.87582958681224599,"",null,19.600000000000001,22.9,1.1683673469387801,"",1,0,0,1,null,"NO","NO",0]
["Calcasieu","Lake Charles",14,22019001400,"TRUE",1,4,71420210414,"Louisiana",152900,145900,0.95421844342707696,true,null,46710,40910,0.87582958681224599,"",null,19.600000000000001,22.9,1.1683673469387801,"",1,0,0,1,null,"NO","NO",4]
["Calcasieu","Lake Charles",14,22019001400,"TRUE",1,4,71420210415,"Louisiana",152900,145900,0.95421844342707696,true,null,46710,40910,0.87582958681224599,"",null,19.600000000000001,22.9,1.1683673469387801,"",1,0,0,1,null,"NO","NO",4]
["Calcasieu","Lake Charles",15,22019001500,"TRUE",1,4,71420210416,"Louisiana",152900,145900,0.95421844342707696,true,null,46710,40910,0.87582958681224599,"",null,19.600000000000001,22.9,1.1683673469387801,"",1,0,0,1,null,"NO","NO",4]
["Calcasieu","Lake Charles",15,22019001500,"TRUE",1,4,71420210417,"Louisiana",152900,145900,0.95421844342707696,true,null,46710,40910,0.87582958681224599,"",null,19.600000000000001,22.9,1.1683673469387801,"",1,0,0,1,null,"NO","NO",4]
["Calcasieu","Lake Charles",16,22019001600,"TRUE",1,4,71420210418,"Louisiana",152900,145900,0.95421844342707696,true,null,46710,40910,0.87582958681224599,"",null,19.600000000000001,22.9,1.1683673469387801,"",1,0,0,1,null,"NO","NO",4]
["Calcasieu","Lake Charles",16,22019001600,"TRUE",1,4,71420210419,"Louisiana",152900,145900,0.95421844342707696,true,null,46710,40910,0.87582958681224599,"",null,19.600000000000001,22.9,1.1683673469387801,"",1,0,0,1,null,"NO","NO",4]
["Calcasieu","Lake Charles",17,22019001700,"FALSE",0,0,71420210420,"Louisiana",152900,145900,0.95421844342707696,true,null,46710,40910,0.87582958681224599,"",null,19.600000000000001,22.9,1.1683673469387801,"",1,0,0,1,null,"NO","NO",0]
["Calcasieu","Lake Charles",17,22019001700,"FALSE",0,0,71420210421,"Louisiana",152900,145900,0.95421844342707696,true,null,46710,40910,0.87582958681224599,"",null,19.600000000000001,22.9,1.1683673469387801,"",1,0,0,1,null,"NO","NO",0]
["Calcasieu","Lake Charles",17,22019001700,"FALSE",0,0,71420210422,"Louisiana",152900,145900,0.95421844342707696,true,null,46710,40910,0.87582958681224599,"",null,19.600000000000001,22.9,1.1683673469387801,"",1,0,0,1,null,"NO","NO",0]
["Calcasieu","Lake Charles",18.010000000000002,22019001801,"FALSE",0,0,71420210423,"Louisiana",152900,145900,0.95421844342707696,true,null,46710,40910,0.87582958681224599,"",null,19.600000000000001,22.9,1.1683673469387801,"",1,0,0,1,null,"NO","NO",0]
["Calcasieu","Lake Charles",18.010000000000002,22019001801,"FALSE",0,0,71420210424,"Louisiana",152900,145900,0.95421844342707696,true,null,46710,40910,0.87582958681224599,"",null,19.600000000000001,22.9,1.1683673469387801,"",1,0,0,1,null,"NO","NO",0]
["Calcasieu","Lake Charles",19.010000000000002,22019001901,"FALSE",0,0,71420210425,"Louisiana",152900,145900,0.95421844342707696,true,null,46710,40910,0.87582958681224599,"",null,19.600000000000001,22.9,1.1683673469387801,"",1,0,0,1,null,"NO","NO",0]
["Calcasieu","Lake Charles",19.010000000000002,22019001901,"FALSE",0,0,71420210426,"Louisiana",152900,145900,0.95421844342707696,true,null,46710,40910,0.87582958681224599,"",null,19.600000000000001,22.9,1.1683673469387801,"",1,0,0,1,null,"NO","NO",0]
["Calcasieu","Lake Charles",19.03,22019001903,"FALSE",0,0,71420210427,"Louisiana",152900,145900,0.95421844342707696,true,null,46710,40910,0.87582958681224599,"",null,19.600000000000001,22.9,1.1683673469387801,"",1,0,0,1,null,"NO","NO",0]
["Calcasieu","Lake Charles",19.03,22019001903,"FALSE",0,0,71420210428,"Louisiana",152900,145900,0.95421844342707696,true,null,46710,40910,0.87582958681224599,"",null,19.600000000000001,22.9,1.1683673469387801,"",1,0,0,1,null,"NO","NO",0]
["Calcasieu","Lake Charles",19.04,22019001904,"FALSE",0,0,71420210429,"Louisiana",152900,145900,0.95421844342707696,true,null,46710,40910,0.87582958681224599,"",null,19.600000000000001,22.9,1.1683673469387801,"",1,0,0,1,null,"NO","NO",0]
["Calcasieu","Lake Charles",20,22019002000,"FALSE",0,0,71420210430,"Louisiana",152900,145900,0.95421844342707696,true,null,46710,40910,0.87582958681224599,"",null,19.600000000000001,22.9,1.1683673469387801,"",1,0,0,1,null,"NO","NO",0]
["Calcasieu","Lake Charles",22.01,22019002201,"FALSE",0,0,71420210431,"Louisiana",152900,145900,0.95421844342707696,true,null,46710,40910,0.87582958681224599,"",null,19.600000000000001,22.9,1.1683673469387801,"",1,0,0,1,null,"NO","NO",0]
["Calcasieu","Lake Charles",22.03,22019002203,"FALSE",0,0,71420210432,"Louisiana",152900,145900,0.95421844342707696,true,null,46710,40910,0.87582958681224599,"",null,19.600000000000001,22.9,1.1683673469387801,"",1,0,0,1,null,"NO","NO",0]
["Calcasieu","Lake Charles",22.04,22019002204,"FALSE",0,0,71420210433,"Louisiana",152900,145900,0.95421844342707696,true,null,46710,40910,0.87582958681224599,"",null,19.600000000000001,22.9,1.1683673469387801,"",1,0,0,1,null,"NO","NO",0]
["Calcasieu","Lake Charles",22.04,22019002204,"FALSE",0,0,71420210434,"Louisiana",152900,145900,0.95421844342707696,true,null,46710,40910,0.87582958681224599,"",null,19.600000000000001,22.9,1.1683673469387801,"",1,0,0,1,null,"NO","NO",0]
["Calcasieu","Lake Charles",9800,22019980000,"FALSE",0,0,71420210435,"Louisiana",152900,145900,0.95421844342707696,true,null,46710,40910,0.87582958681224599,"",null,19.600000000000001,22.9,1.1683673469387801,"",1,0,0,1,null,"NO","NO",0]
["Calcasieu","Lake Charles",9801,22019980100,"FALSE",0,0,71420210436,"Louisiana",152900,145900,0.95421844342707696,true,null,46710,40910,0.87582958681224599,"",null,19.600000000000001,22.9,1.1683673469387801,"",1,0,0,1,null,"NO","NO",0]
["Calcasieu","Lake Charles",9801,22019980100,"FALSE",0,0,71420210437,"Louisiana",152900,145900,0.95421844342707696,true,null,46710,40910,0.87582958681224599,"",null,19.600000000000001,22.9,1.1683673469387801,"",1,0,0,1,null,"NO","NO",0]
["Calcasieu","Lake Charles",9701,22023970100,"FALSE",0,0,71420210438,"Louisiana",152900,145900,0.95421844342707696,true,null,46710,40910,0.87582958681224599,"",null,19.600000000000001,22.9,1.1683673469387801,"",1,0,0,1,null,"NO","NO",0]
["Calcasieu","Lake Charles",9701,22023970100,"FALSE",0,0,71420210439,"Louisiana",152900,145900,0.95421844342707696,true,null,46710,40910,0.87582958681224599,"",null,19.600000000000001,22.9,1.1683673469387801,"",1,0,0,1,null,"NO","NO",0]
["Calcasieu","Lake Charles",2,22053000200,"FALSE",1,0,71420210440,"Louisiana",152900,145900,0.95421844342707696,true,null,46710,40910,0.87582958681224599,"",null,19.600000000000001,22.9,1.1683673469387801,"",1,0,0,1,null,"NO","NO",0]
["Calcasieu","Starks",9606,22011960600,"FALSE",0,0,71420210441,"Louisiana",152900,56100,0.36690647482014399,"",{"$f":"IF(M441=TRUE,4,0)","v":0},46710,23611,0.50548062513380398,true,{"$f":"IF(R441=TRUE, 4,0)","v":4},19.600000000000001,49,2.5,true,0,1,1,2,{"$f":"IF(W441=TRUE, 4,0)","v":4},"NO","NO",8]
["Calcasieu","Starks",36,22019003600,"FALSE",0,0,71420210442,"Louisiana",152900,56100,0.36690647482014399,"",0,46710,23611,0.50548062513380398,true,4,19.600000000000001,49,2.5,true,0,1,1,2,4,"NO","NO",8]
["Calcasieu","Sulphur",23,22019002300,"FALSE",0,0,71420210443,"Louisiana",152900,124500,0.81425768476128202,true,4,46710,53058,1.1359023763648,"",0,19.600000000000001,15.5,0.79081632653061196,"",1,0,0,1,0,"NO","NO",4]
["Calcasieu","Sulphur",27,22019002700,"FALSE",0,0,71420210444,"Louisiana",152900,124500,0.81425768476128202,true,4,46710,53058,1.1359023763648,"",0,19.600000000000001,15.5,0.79081632653061196,"",1,0,0,1,0,"NO","NO",4]
["Calcasieu","Sulphur",28,22019002800,"FALSE",0,0,71420210445,"Louisiana",152900,124500,0.81425768476128202,true,4,46710,53058,1.1359023763648,"",0,19.600000000000001,15.5,0.79081632653061196,"",1,0,0,1,0,"NO","NO",4]
["Calcasieu","Sulphur",29,22019002900,"FALSE",0,0,71420210446,"Louisiana",152900,124500,0.81425768476128202,true,4,46710,53058,1.1359023763648,"",0,19.600000000000001,15.5,0.79081632653061196,"",1,0,0,1,0,"NO","NO",4]
["Calcasieu","Sulphur",30,22019003000,"FALSE",0,0,71420210447,"Louisiana",152900,124500,0.81425768476128202,true,4,46710,53058,1.1359023763648,"",0,19.600000000000001,15.5,0.79081632653061196,"",1,0,0,1,0,"NO","NO",4]
["Calcasieu","Sulphur",31.01,22019003101,"FALSE",0,0,71420210448,"Louisiana",152900,124500,0.81425768476128202,true,4,46710,53058,1.1359023763648,"",0,19.600000000000001,15.5,0.79081632653061196,"",1,0,0,1,0,"NO","NO",4]
["Calcasieu","Sulphur",31.02,22019003102,"FALSE",0,0,71420210449,"Louisiana",152900,124500,0.81425768476128202,true,4,46710,53058,1.1359023763648,"",0,19.600000000000001,15.5,0.79081632653061196,"",1,0,0,1,0,"NO","NO",4]
["Calcasieu","Sulphur",32,22019003200,"FALSE",0,0,71420210450,"Louisiana",152900,124500,0.81425768476128202,true,4,46710,53058,1.1359023763648,"",0,19.600000000000001,15.5,0.79081632653061196,"",1,0,0,1,0,"NO","NO",4]
["Calcasieu","Sulphur",32,22019003200,"FALSE",0,{"$f":"IF(E451=\"TRUE\",4,0)","v":0},71420210451,"Louisiana",152900,124500,0.81425768476128202,{"$f":"IF(L451>=50%,TRUE,\"\")","v":true},4,46710,53058,1.1359023763648,{"$f":"IF(Q451<=65%,TRUE,\"\")","v":""},0,19.600000000000001,15.5,0.79081632653061196,{"$f":"IF(V451>=1.5,TRUE,\"\")","v":""},{"$f":"IF(M451=TRUE,1,0)","v":1},{"$f":"IF(R451=TRUE,1,0)","v":0},{"$f":"IF(W451=TRUE,1,0)","v":0},{"$f":"SUM(X451:Z451)","v":1},0,{"$f":"IF(AND(E451=\"TRUE\",AA451>1),\"YES\",\"NO\")","v":"NO"},{"$f":"IF(AND(F451=1,AA451>1), \"YES\",\"NO\")","v":"NO"},{"$f":"+G451+N451+S451+AB451","v":4}]
["Calcasieu","Sulphur",33,22019003300,"FALSE",0,0,71420210452,"Louisiana",152900,124500,0.81425768476128202,true,4,46710,53058,1.1359023763648,"",0,19.600000000000001,15.5,0.79081632653061196,"",1,0,0,1,0,"NO","NO",4]
["Calcasieu","Sulphur",34,22019003400,"FALSE",0,0,71420210453,"Louisiana",152900,124500,0.81425768476128202,true,4,46710,53058,1.1359023763648,"",0,19.600000000000001,15.5,0.79081632653061196,"",1,0,0,1,0,"NO","NO",4]
["Calcasieu","Vinton",27,22019002700,"FALSE",0,0,71420210454,"Louisiana",152900,85100,0.55657292347939802,true,4,46710,36234,0.77572254335260105,"",0,19.600000000000001,21.8,1.1122448979591799,"",1,0,0,1,0,"NO","NO",4]
["Calcasieu","Vinton",34,22019003400,"FALSE",0,0,71420210455,"Louisiana",152900,85100,0.55657292347939802,true,4,46710,36234,0.77572254335260105,"",0,19.600000000000001,21.8,1.1122448979591799,"",1,0,0,1,0,"NO","NO",4]
["Calcasieu","Vinton",35,22019003500,"FALSE",0,0,71420210456,"Louisiana",152900,85100,0.55657292347939802,true,4,46710,36234,0.77572254335260105,"",0,19.600000000000001,21.8,1.1122448979591799,"",1,0,0,1,0,"NO","NO",4]
["Calcasieu","Vinton",36,22019003600,"FALSE",0,0,71420210457,"Louisiana",152900,85100,0.55657292347939802,true,4,46710,36234,0.77572254335260105,"",0,19.600000000000001,21.8,1.1122448979591799,"",1,0,0,1,0,"NO","NO",4]
["Calcasieu","Westlake",25,22019002500,"FALSE",0,0,71420210458,"Louisiana",152900,109000,0.71288423806409396,true,4,46710,53417,1.14358809676729,"",0,19.600000000000001,14.5,0.73979591836734704,"",1,0,0,1,0,"NO","NO",4]
["Calcasieu","Westlake",26,22019002600,"FALSE",0,0,71420210459,"Louisiana",152900,109000,0.71288423806409396,true,4,46710,53417,1.14358809676729,"",0,19.600000000000001,14.5,0.73979591836734704,"",1,0,0,1,0,"NO","NO",4]
["Calcasieu","Westlake",27,22019002700,"FALSE",0,0,71420210460,"Louisiana",152900,109000,0.71288423806409396,true,4,46710,53417,1.14358809676729,"",0,19.600000000000001,14.5,0.73979591836734704,"",1,0,0,1,0,"NO","NO",4]
["Calcasieu","Westlake",32,22019003200,"FALSE",0,0,71420210461,"Louisiana",152900,109000,0.71288423806409396,true,4,46710,53417,1.14358809676729,"",0,19.600000000000001,14.5,0.73979591836734704,"",1,0,0,1,0,"NO","NO",4]
["Caldwell","Clarks",3,22021000300,"FALSE",0,0,71420210462,"Louisiana",152900,46600,0.304774362328319,"",0,46710,23857,0.51074716334831904,true,4,19.600000000000001,43.8,2.2346938775510199,true,0,1,1,2,4,"NO","NO",8]
["Caldwell","Columbia",1,22021000100,"FALSE",0,0,71420210463,"Louisiana",152900,68200,0.44604316546762601,"",0,46710,38229,0.81843288375080303,"",0,19.600000000000001,24.9,1.2704081632653099,"",0,0,0,0,0,"NO","NO",0]
["Caldwell","Columbia",2,22021000200,"FALSE",0,0,71420210464,"Louisiana",152900,68200,0.44604316546762601,"",0,46710,38229,0.81843288375080303,"",0,19.600000000000001,24.9,1.2704081632653099,"",0,0,0,0,0,"NO","NO",0]
["Caldwell","Columbia",3,22021000300,"FALSE",0,0,71420210465,"Louisiana",152900,68200,0.44604316546762601,"",0,46710,38229,0.81843288375080303,"",0,19.600000000000001,24.9,1.2704081632653099,"",0,0,0,0,0,"NO","NO",0]
["Caldwell","Columbia",1,22025000100,"FALSE",0,0,71420210466,"Louisiana",152900,68200,0.44604316546762601,"",0,46710,38229,0.81843288375080303,"",0,19.600000000000001,24.9,1.2704081632653099,"",0,0,0,0,0,"NO","NO",0]
["Caldwell","Columbia",105.02,22073010502,"FALSE",0,0,71420210467,"Louisiana",152900,68200,0.44604316546762601,"",0,46710,38229,0.81843288375080303,"",0,19.600000000000001,24.9,1.2704081632653099,"",0,0,0,0,0,"NO","NO",0]
["Caldwell","Columbia",9706,22083970600,"FALSE",0,0,71420210468,"Louisiana",152900,68200,0.44604316546762601,"",0,46710,38229,0.81843288375080303,"",0,19.600000000000001,24.9,1.2704081632653099,"",0,0,0,0,0,"NO","NO",0]
["Caldwell","Grayson",2,22021000200,"FALSE",0,0,71420210469,"Louisiana",152900,72700,0.475474166121648,"",0,46710,33750,0.72254335260115599,"",0,19.600000000000001,21.2,1.0816326530612199,"",0,0,0,0,0,"NO","NO",0]
["Caldwell","Grayson",3,22021000300,"FALSE",0,0,71420210470,"Louisiana",152900,72700,0.475474166121648,"",0,46710,33750,0.72254335260115599,"",0,19.600000000000001,21.2,1.0816326530612199,"",0,0,0,0,0,"NO","NO",0]
["Caldwell","Grayson",9701,22049970100,"FALSE",0,0,71420210471,"Louisiana",152900,72700,0.475474166121648,"",0,46710,33750,0.72254335260115599,"",0,19.600000000000001,21.2,1.0816326530612199,"",0,0,0,0,0,"NO","NO",0]
["Caldwell","Grayson",9701,22059970100,"FALSE",0,0,71420210472,"Louisiana",152900,72700,0.475474166121648,"",0,46710,33750,0.72254335260115599,"",0,19.600000000000001,21.2,1.0816326530612199,"",0,0,0,0,0,"NO","NO",0]
["Caldwell","Kelly",2,22021000200,"FALSE",0,0,71420210473,"Louisiana",152900,0,0,"",{"$f":"IF(M473=TRUE,4,0)","v":0},46710,0,0,true,{"$f":"IF(R473=TRUE, 4,0)","v":4},19.600000000000001,0,0,"",0,1,0,1,{"$f":"IF(W473=TRUE, 4,0)","v":0},"NO","NO",4]
["Caldwell","Kelly",3,22021000300,"FALSE",0,0,71420210474,"Louisiana",152900,0,0,"",0,46710,0,0,true,4,19.600000000000001,0,0,"",0,1,0,1,0,"NO","NO",4]
["Caldwell","Kelly",9701,22059970100,"FALSE",0,0,71420210475,"Louisiana",152900,0,0,"",0,46710,0,0,true,4,19.600000000000001,0,0,"",0,1,0,1,0,"NO","NO",4]
["Cameron","Cameron",9701,22023970100,"FALSE",0,0,71420210476,"Louisiana",152900,93800,0.613472858077175,true,4,46710,null,null,true,4,19.600000000000001,23.5,1.1989795918367301,"",1,1,0,2,0,"NO","NO",8]
["Cameron","Cameron",9702.01,22023970201,"TRUE",1,4,71420210477,"Louisiana",152900,93800,0.613472858077175,true,4,46710,null,null,true,4,19.600000000000001,23.5,1.1989795918367301,"",1,1,0,2,0,"YES","YES",12]
["Cameron","Creole",9701,22023970100,"FALSE",0,0,71420210478,"Louisiana",152900,0,0,"",0,46710,0,0,true,4,19.600000000000001,0,0,"",0,1,0,1,0,"NO","NO",4]
["Cameron","Creole",9702.01,22023970201,"FALSE",0,0,71420210479,"Louisiana",152900,0,0,"",0,46710,0,0,true,4,19.600000000000001,0,0,"",0,1,0,1,0,"NO","NO",4]
["Cameron","Grand Chenier",9701,22023970100,"FALSE",0,0,71420210480,"Louisiana",152900,0,0,"",0,46710,0,0,true,4,19.600000000000001,0,0,"",0,1,0,1,0,"NO","NO",4]
["Cameron","Grand Chenier",9702.01,22023970201,"FALSE",0,0,71420210481,"Louisiana",152900,0,0,"",0,46710,0,0,true,4,19.600000000000001,0,0,"",0,1,0,1,0,"NO","NO",4]
["Cameron","Hackberry",9702.01,22023970201,"FALSE",0,0,71420210482,"Louisiana",152900,123900,0.81033355134074603,true,4,46710,45789,0.98028259473346202,"",0,19.600000000000001,10.1,0.51530612244898,"",1,0,0,1,0,"NO","NO",4]
["Catahoula","Aimwell",1,22025000100,"FALSE",0,0,71420210483,"Louisiana",152900,0,0,"",0,46710,0,0,true,4,19.600000000000001,0,0,"",0,1,0,1,0,"NO","NO",4]
["Catahoula","Enterprise",1,22025000100,"FALSE",0,0,71420210484,"Louisiana",152900,0,0,"",0,46710,0,0,true,4,19.600000000000001,0,0,"",0,1,0,1,0,"NO","NO",4]
["Catahoula","Harrisonburg",1,22025000100,"FALSE",0,0,71420210485,"Louisiana",152900,70500,0.461085676913015,"",0,46710,25139,0.538193106401199,true,4,19.600000000000001,27.5,1.4030612244898,"",0,1,0,1,0,"NO","NO",4]
["Catahoula","Jonesville",1,22025000100,"FALSE",0,0,71420210486,"Louisiana",152900,63900,0.41792020928711598,"",0,46710,20391,0.436544637122672,true,4,19.600000000000001,44.8,2.28571428571429,true,0,1,1,2,4,"NO","NO",8]
["Catahoula","Jonesville",2,22025000200,"TRUE",1,4,71420210487,"Louisiana",152900,63900,0.41792020928711598,"",0,46710,20391,0.436544637122672,true,4,19.600000000000001,44.8,2.28571428571429,true,0,1,1,2,4,"YES","YES",12]
["Catahoula","Jonesville",3,22025000300,"FALSE",0,0,71420210488,"Louisiana",152900,63900,0.41792020928711598,"",0,46710,20391,0.436544637122672,true,4,19.600000000000001,44.8,2.28571428571429,true,0,1,1,2,4,"NO","NO",8]
["Catahoula","Jonesville",1,22029000100,"FALSE",0,0,71420210489,"Louisiana",152900,63900,0.41792020928711598,"",0,46710,20391,0.436544637122672,true,4,19.600000000000001,44.8,2.28571428571429,true,0,1,1,2,4,"NO","NO",8]
["Catahoula","Jonesville",5,22029000500,"FALSE",0,0,71420210490,"Louisiana",152900,63900,0.41792020928711598,"",0,46710,20391,0.436544637122672,true,4,19.600000000000001,44.8,2.28571428571429,true,0,1,1,2,4,"NO","NO",8]
["Catahoula","Jonesville",9703,22059970300,"FALSE",0,0,71420210491,"Louisiana",152900,63900,0.41792020928711598,"",0,46710,20391,0.436544637122672,true,4,19.600000000000001,44.8,2.28571428571429,true,0,1,1,2,4,"NO","NO",8]
["Catahoula","Rhinehart",1,22025000100,"FALSE",0,0,71420210492,"Louisiana",152900,0,0,"",0,46710,0,0,true,4,19.600000000000001,0,0,"",0,1,0,1,0,"NO","NO",4]
["Catahoula","Sicily Island",1,22025000100,"FALSE",0,0,71420210493,"Louisiana",152900,null,null,"",0,46710,18580,0.39777349603939199,true,4,19.600000000000001,52.5,2.6785714285714302,true,0,1,1,2,4,"NO","NO",8]
["Catahoula","Sicily Island",9504,22041950400,"FALSE",0,0,71420210494,"Louisiana",152900,null,null,"",0,46710,18580,0.39777349603939199,true,4,19.600000000000001,52.5,2.6785714285714302,true,0,1,1,2,4,"NO","NO",8]
["Claiborne","Athens",9505,22027950500,"FALSE",0,0,71420210495,"Louisiana",152900,82200,0.53760627861347299,true,4,46710,38594,0.82624705630485995,"",0,19.600000000000001,12,0.61224489795918402,"",1,0,0,1,0,"NO","NO",4]
["Claiborne","Athens",9602,22061960200,"FALSE",0,0,71420210496,"Louisiana",152900,82200,0.53760627861347299,true,4,46710,38594,0.82624705630485995,"",0,19.600000000000001,12,0.61224489795918402,"",1,0,0,1,0,"NO","NO",4]
["Claiborne","Haynesville",9501,22027950100,"FALSE",0,0,71420210497,"Louisiana",152900,69900,0.45716154349247901,"",0,46710,22708,0.48614857632198699,true,4,19.600000000000001,40.4,2.06122448979592,true,0,1,1,2,4,"NO","NO",8]
["Claiborne","Haynesville",9502,22027950200,"FALSE",0,0,71420210498,"Louisiana",152900,69900,0.45716154349247901,"",0,46710,22708,0.48614857632198699,true,4,19.600000000000001,40.4,2.06122448979592,true,0,1,1,2,4,"NO","NO",8]
["Claiborne","Haynesville",9503,22027950300,"FALSE",0,0,71420210499,"Louisiana",152900,69900,0.45716154349247901,"",0,46710,22708,0.48614857632198699,true,4,19.600000000000001,40.4,2.06122448979592,true,0,1,1,2,4,"NO","NO",8]
["Claiborne","Haynesville",311,22119031100,"FALSE",0,0,71420210500,"Louisiana",152900,69900,0.45716154349247901,"",0,46710,22708,0.48614857632198699,true,4,19.600000000000001,40.4,2.06122448979592,true,0,1,1,2,4,"NO","NO",8]
["Claiborne","Homer",9501,22027950100,"FALSE",0,0,71420210501,"Louisiana",152900,51700,0.33812949640287798,"",0,46710,18945,0.40558766859344902,true,4,19.600000000000001,36.700000000000003,1.87244897959184,true,0,1,1,2,4,"NO","NO",8]
["Claiborne","Homer",9502,22027950200,"FALSE",0,0,71420210502,"Louisiana",152900,51700,0.33812949640287798,"",0,46710,18945,0.40558766859344902,true,4,19.600000000000001,36.700000000000003,1.87244897959184,true,0,1,1,2,4,"NO","NO",8]
["Claiborne","Homer",9504,22027950400,"TRUE",1,4,71420210503,"Louisiana",152900,51700,0.33812949640287798,"",0,46710,18945,0.40558766859344902,true,4,19.600000000000001,36.700000000000003,1.87244897959184,true,0,1,1,2,4,"YES","YES",12]
["Claiborne","Homer",9505,22027950500,"FALSE",0,0,71420210504,"Louisiana",152900,51700,0.33812949640287798,"",0,46710,18945,0.40558766859344902,true,4,19.600000000000001,36.700000000000003,1.87244897959184,true,0,1,1,2,4,"NO","NO",8]
["Claiborne","Lisbon",9501,22027950100,"FALSE",0,0,71420210505,"Louisiana",152900,83800,0.54807063440157,true,{"$f":"IF(M505=TRUE,4,0)","v":4},46710,35000,0.74930421751231002,"",{"$f":"IF(R505=TRUE, 4,0)","v":0},19.600000000000001,27.8,1.4183673469387801,"",1,0,0,1,{"$f":"IF(W505=TRUE, 4,0)","v":0},"NO","NO",4]
["Claiborne","Summerfield",9501,22027950100,"FALSE",0,0,71420210506,"Louisiana",152900,0,0,"",0,46710,0,0,true,4,19.600000000000001,0,0,"",0,1,0,1,0,"NO","NO",4]
["Concordia","Acme",5,22029000500,"FALSE",0,0,71420210507,"Louisiana",152900,0,0,"",0,46710,0,0,true,4,19.600000000000001,0,0,"",0,1,0,1,0,"NO","NO",4]
["Concordia","Clayton",1,22025000100,"FALSE",0,0,71420210508,"Louisiana",152900,32000,0.20928711576193601,"",0,46710,20938,0.44825519160779298,true,4,19.600000000000001,38,1.93877551020408,true,0,1,1,2,4,"NO","NO",8]
["Concordia","Clayton",1,22029000100,"FALSE",0,0,71420210509,"Louisiana",152900,32000,0.20928711576193601,"",0,46710,20938,0.44825519160779298,true,4,19.600000000000001,38,1.93877551020408,true,0,1,1,2,4,"NO","NO",8]
["Concordia","Clayton",2,22107000200,"FALSE",0,0,71420210510,"Louisiana",152900,32000,0.20928711576193601,"",0,46710,20938,0.44825519160779298,true,4,19.600000000000001,38,1.93877551020408,true,0,1,1,2,4,"NO","NO",8]
["Concordia","Clayton",3,22107000300,"FALSE",0,0,71420210511,"Louisiana",152900,32000,0.20928711576193601,"",0,46710,20938,0.44825519160779298,true,4,19.600000000000001,38,1.93877551020408,true,0,1,1,2,4,"NO","NO",8]
["Concordia","Ferriday",1,22029000100,"FALSE",0,0,71420210512,"Louisiana",152900,83700,0.54741661216481396,true,4,46710,22043,0.471911796189253,true,4,19.600000000000001,47.4,2.4183673469387799,true,1,1,1,3,4,"NO","NO",12]
["Concordia","Ferriday",2,22029000200,"TRUE",1,4,71420210513,"Louisiana",152900,83700,0.54741661216481396,true,4,46710,22043,0.471911796189253,true,4,19.600000000000001,47.4,2.4183673469387799,true,1,1,1,3,4,"YES","YES",16]
["Concordia","Ferriday",3,22029000300,"FALSE",0,0,71420210514,"Louisiana",152900,83700,0.54741661216481396,true,4,46710,22043,0.471911796189253,true,4,19.600000000000001,47.4,2.4183673469387799,true,1,1,1,3,4,"NO","NO",12]
["Concordia","Ferriday",5,22029000500,"FALSE",0,{"$f":"IF(E515=\"TRUE\",4,0)","v":0},71420210515,"Louisiana",152900,83700,0.54741661216481396,{"$f":"IF(L515>=50%,TRUE,\"\")","v":true},4,46710,22043,0.471911796189253,{"$f":"IF(Q515<=65%,TRUE,\"\")","v":true},4,19.600000000000001,47.4,2.4183673469387799,{"$f":"IF(V515>=1.5,TRUE,\"\")","v":true},{"$f":"IF(M515=TRUE,1,0)","v":1},{"$f":"IF(R515=TRUE,1,0)","v":1},{"$f":"IF(W515=TRUE,1,0)","v":1},{"$f":"SUM(X515:Z515)","v":3},4,{"$f":"IF(AND(E515=\"TRUE\",AA515>1),\"YES\",\"NO\")","v":"NO"},{"$f":"IF(AND(F515=1,AA515>1), \"YES\",\"NO\")","v":"NO"},{"$f":"+G515+N515+S515+AB515","v":12}]
["Concordia","Ferriday",3,22107000300,"FALSE",0,0,71420210516,"Louisiana",152900,83700,0.54741661216481396,true,4,46710,22043,0.471911796189253,true,4,19.600000000000001,47.4,2.4183673469387799,true,1,1,1,3,4,"NO","NO",12]
["Concordia","Monterey",3,22025000300,"FALSE",0,0,71420210517,"Louisiana",152900,null,null,"",0,46710,45125,0.96606722329265704,"",0,19.600000000000001,13.7,0.69897959183673497,"",0,0,0,0,0,"NO","NO",0]
["Concordia","Monterey",5,22029000500,"FALSE",0,0,71420210518,"Louisiana",152900,null,null,"",0,46710,45125,0.96606722329265704,"",0,19.600000000000001,13.7,0.69897959183673497,"",0,0,0,0,0,"NO","NO",0]
["Concordia","Vidalia",2,22029000200,"FALSE",0,0,71420210519,"Louisiana",152900,84900,0.55526487900588595,true,4,46710,37951,0.81248126739456195,"",0,19.600000000000001,22.2,1.1326530612244901,"",1,0,0,1,0,"NO","NO",4]
["Concordia","Vidalia",3,22029000300,"FALSE",0,0,71420210520,"Louisiana",152900,84900,0.55526487900588595,true,4,46710,37951,0.81248126739456195,"",0,19.600000000000001,22.2,1.1326530612244901,"",1,0,0,1,0,"NO","NO",4]
["Concordia","Vidalia",4,22029000400,"FALSE",0,0,71420210521,"Louisiana",152900,84900,0.55526487900588595,true,4,46710,37951,0.81248126739456195,"",0,19.600000000000001,22.2,1.1326530612244901,"",1,0,0,1,0,"NO","NO",4]
["Concordia","Vidalia",5,22029000500,"FALSE",0,0,71420210522,"Louisiana",152900,84900,0.55526487900588595,true,4,46710,37951,0.81248126739456195,"",0,19.600000000000001,22.2,1.1326530612244901,"",1,0,0,1,0,"NO","NO",4]
["De Soto","Frierson",9501,22031950100,"FALSE",0,0,71420210523,"Louisiana",152900,78200,0.51144538914323101,true,4,46710,null,null,true,4,19.600000000000001,59.8,3.0510204081632701,true,1,1,1,3,4,"NO","NO",12]
["De Soto","Frierson",9503,22031950300,"FALSE",0,0,71420210524,"Louisiana",152900,78200,0.51144538914323101,true,4,46710,null,null,true,4,19.600000000000001,59.8,3.0510204081632701,true,1,1,1,3,4,"NO","NO",12]
["De Soto","Gloster",9501,22031950100,"FALSE",0,0,71420210525,"Louisiana",152900,null,null,"",0,46710,null,null,true,4,19.600000000000001,0,0,"",0,1,0,1,0,"NO","NO",4]
["De Soto","Gloster",9502,22031950200,"FALSE",0,0,71420210526,"Louisiana",152900,null,null,"",0,46710,null,null,true,4,19.600000000000001,0,0,"",0,1,0,1,0,"NO","NO",4]
["De Soto","Gloster",9503,22031950300,"FALSE",0,0,71420210527,"Louisiana",152900,null,null,"",0,46710,null,null,true,4,19.600000000000001,0,0,"",0,1,0,1,0,"NO","NO",4]
["De Soto","Grand Cane",9501,22031950100,"FALSE",0,0,71420210528,"Louisiana",152900,210000,1.3734466971877,true,4,46710,56786,1.2157139798758301,"",0,19.600000000000001,11.8,0.60204081632653095,"",1,0,0,1,0,"NO","NO",4]
["De Soto","Grand Cane",9502,22031950200,"FALSE",0,0,71420210529,"Louisiana",152900,210000,1.3734466971877,true,4,46710,56786,1.2157139798758301,"",0,19.600000000000001,11.8,0.60204081632653095,"",1,0,0,1,0,"NO","NO",4]
["De Soto","Grand Cane",9503,22031950300,"FALSE",0,0,71420210530,"Louisiana",152900,210000,1.3734466971877,true,4,46710,56786,1.2157139798758301,"",0,19.600000000000001,11.8,0.60204081632653095,"",1,0,0,1,0,"NO","NO",4]
["De Soto","Grand Cane",9504,22031950400,"FALSE",0,0,71420210531,"Louisiana",152900,210000,1.3734466971877,true,4,46710,56786,1.2157139798758301,"",0,19.600000000000001,11.8,0.60204081632653095,"",1,0,0,1,0,"NO","NO",4]
["De Soto","Grand Cane",9507,22031950700,"FALSE",0,0,71420210532,"Louisiana",152900,210000,1.3734466971877,true,4,46710,56786,1.2157139798758301,"",0,19.600000000000001,11.8,0.60204081632653095,"",1,0,0,1,0,"NO","NO",4]
["De Soto","Keatchie",242.03,22017024203,"FALSE",0,0,71420210533,"Louisiana",152900,0,0,"",0,46710,0,0,true,4,19.600000000000001,0,0,"",0,1,0,1,0,"NO","NO",4]
["De Soto","Keatchie",9501,22031950100,"FALSE",0,0,71420210534,"Louisiana",152900,0,0,"",0,46710,0,0,true,4,19.600000000000001,0,0,"",0,1,0,1,0,"NO","NO",4]
["De Soto","Keatchie",9502,22031950200,"FALSE",0,0,71420210535,"Louisiana",152900,0,0,"",0,46710,0,0,true,4,19.600000000000001,0,0,"",0,1,0,1,0,"NO","NO",4]
["De Soto","Logansport",9502,22031950200,"FALSE",0,0,71420210536,"Louisiana",152900,77600,0.50752125572269502,true,4,46710,31111,0.66604581460072798,"",0,19.600000000000001,28.1,1.43367346938776,"",1,0,0,1,0,"NO","NO",4]
["De Soto","Logansport",9507,22031950700,"FALSE",0,0,71420210537,"Louisiana",152900,77600,0.50752125572269502,true,{"$f":"IF(M537=TRUE,4,0)","v":4},46710,31111,0.66604581460072798,"",{"$f":"IF(R537=TRUE, 4,0)","v":0},19.600000000000001,28.1,1.43367346938776,"",1,0,0,1,{"$f":"IF(W537=TRUE, 4,0)","v":0},"NO","NO",4]
["De Soto","Mansfield",9501,22031950100,"FALSE",0,0,71420210538,"Louisiana",152900,79400,0.51929365598430299,true,4,46710,24750,0.52986512524084795,true,4,19.600000000000001,42.2,2.1530612244898002,true,1,1,1,3,4,"NO","NO",12]
["De Soto","Mansfield",9503,22031950300,"FALSE",0,0,71420210539,"Louisiana",152900,79400,0.51929365598430299,true,4,46710,24750,0.52986512524084795,true,4,19.600000000000001,42.2,2.1530612244898002,true,1,1,1,3,4,"NO","NO",12]
["De Soto","Mansfield",9504,22031950400,"FALSE",0,0,71420210540,"Louisiana",152900,79400,0.51929365598430299,true,4,46710,24750,0.52986512524084795,true,4,19.600000000000001,42.2,2.1530612244898002,true,1,1,1,3,4,"NO","NO",12]
["De Soto","Mansfield",9505,22031950500,"TRUE",1,4,71420210541,"Louisiana",152900,79400,0.51929365598430299,true,4,46710,24750,0.52986512524084795,true,4,19.600000000000001,42.2,2.1530612244898002,true,1,1,1,3,4,"YES","YES",16]
["De Soto","Mansfield",9506,22031950600,"TRUE",1,4,71420210542,"Louisiana",152900,79400,0.51929365598430299,true,4,46710,24750,0.52986512524084795,true,4,19.600000000000001,42.2,2.1530612244898002,true,1,1,1,3,4,"YES","YES",16]
["De Soto","Mansfield",9507,22031950700,"FALSE",0,0,71420210543,"Louisiana",152900,79400,0.51929365598430299,true,4,46710,24750,0.52986512524084795,true,4,19.600000000000001,42.2,2.1530612244898002,true,1,1,1,3,4,"NO","NO",12]
["De Soto","Mansfield",9601,22081960100,"FALSE",0,0,71420210544,"Louisiana",152900,79400,0.51929365598430299,true,4,46710,24750,0.52986512524084795,true,4,19.600000000000001,42.2,2.1530612244898002,true,1,1,1,3,4,"NO","NO",12]
["De Soto","Pelican",9503,22031950300,"FALSE",0,0,71420210545,"Louisiana",152900,0,0,"",0,46710,0,0,true,4,19.600000000000001,0,0,"",0,1,0,1,0,"NO","NO",4]
["De Soto","Pelican",9507,22031950700,"FALSE",0,0,71420210546,"Louisiana",152900,0,0,"",0,46710,0,0,true,4,19.600000000000001,0,0,"",0,1,0,1,0,"NO","NO",4]
["De Soto","Pelican",3,22069000300,"FALSE",0,0,71420210547,"Louisiana",152900,0,0,"",0,46710,0,0,true,4,19.600000000000001,0,0,"",0,1,0,1,0,"NO","NO",4]
["De Soto","Stonewall",9501,22031950100,"FALSE",0,0,71420210548,"Louisiana",152900,187100,1.2236756049705699,true,4,46710,55000,1.1774780560907701,"",0,19.600000000000001,11.9,0.60714285714285698,"",1,0,0,1,0,"NO","NO",4]
["East Baton Rouge","Baker",32.01,22033003201,"FALSE",0,0,71420210549,"Louisiana",152900,126000,0.824068018312623,true,4,46710,44509,0.95287946906443999,"",0,19.600000000000001,20.5,1.0459183673469401,"",1,0,0,1,0,"NO","NO",4]
["East Baton Rouge","Baker",32.020000000000003,22033003202,"TRUE",0,4,71420210550,"Louisiana",152900,126000,0.824068018312623,true,4,46710,44509,0.95287946906443999,"",0,19.600000000000001,20.5,1.0459183673469401,"",1,0,0,1,0,"NO","NO",8]
["East Baton Rouge","Baker",42.01,22033004201,"TRUE",0,4,71420210551,"Louisiana",152900,126000,0.824068018312623,true,4,46710,44509,0.95287946906443999,"",0,19.600000000000001,20.5,1.0459183673469401,"",1,0,0,1,0,"NO","NO",8]
["East Baton Rouge","Baker",42.03,22033004203,"FALSE",0,0,71420210552,"Louisiana",152900,126000,0.824068018312623,true,4,46710,44509,0.95287946906443999,"",0,19.600000000000001,20.5,1.0459183673469401,"",1,0,0,1,0,"NO","NO",4]
["East Baton Rouge","Baker",42.03,22033004203,"FALSE",0,0,71420210553,"Louisiana",152900,126000,0.824068018312623,true,4,46710,44509,0.95287946906443999,"",0,19.600000000000001,20.5,1.0459183673469401,"",1,0,0,1,0,"NO","NO",4]
["East Baton Rouge","Baker",42.04,22033004204,"FALSE",0,0,71420210554,"Louisiana",152900,126000,0.824068018312623,true,4,46710,44509,0.95287946906443999,"",0,19.600000000000001,20.5,1.0459183673469401,"",1,0,0,1,0,"NO","NO",4]
["East Baton Rouge","Baker",42.05,22033004205,"FALSE",0,0,71420210555,"Louisiana",152900,126000,0.824068018312623,true,4,46710,44509,0.95287946906443999,"",0,19.600000000000001,20.5,1.0459183673469401,"",1,0,0,1,0,"NO","NO",4]
["East Baton Rouge","Baker",43.01,22033004301,"TRUE",1,4,71420210556,"Louisiana",152900,126000,0.824068018312623,true,4,46710,44509,0.95287946906443999,"",0,19.600000000000001,20.5,1.0459183673469401,"",1,0,0,1,0,"NO","NO",8]
["East Baton Rouge","Baker",46.02,22033004602,"FALSE",0,0,71420210557,"Louisiana",152900,126000,0.824068018312623,true,4,46710,44509,0.95287946906443999,"",0,19.600000000000001,20.5,1.0459183673469401,"",1,0,0,1,0,"NO","NO",4]
["East Baton Rouge","Baker",46.04,22033004604,"FALSE",0,0,71420210558,"Louisiana",152900,126000,0.824068018312623,true,4,46710,44509,0.95287946906443999,"",0,19.600000000000001,20.5,1.0459183673469401,"",1,0,0,1,0,"NO","NO",4]
["East Baton Rouge","Baton Rouge",1,22033000100,"TRUE",1,4,71420210559,"Louisiana",152900,162600,1.06344015696534,true,null,46710,40948,0.87664311710554499,"",null,19.600000000000001,26,1.3265306122449001,"",1,0,0,1,null,"NO","NO",4]
["East Baton Rouge","Baton Rouge",2,22033000200,"TRUE",1,4,71420210560,"Louisiana",152900,162600,1.06344015696534,true,null,46710,40948,0.87664311710554499,"",null,19.600000000000001,26,1.3265306122449001,"",1,0,0,1,null,"NO","NO",4]
["East Baton Rouge","Baton Rouge",3,22033000300,"TRUE",1,4,71420210561,"Louisiana",152900,162600,1.06344015696534,true,null,46710,40948,0.87664311710554499,"",null,19.600000000000001,26,1.3265306122449001,"",1,0,0,1,null,"NO","NO",4]
["East Baton Rouge","Baton Rouge",3,22033000300,"TRUE",1,4,71420210562,"Louisiana",152900,162600,1.06344015696534,true,null,46710,40948,0.87664311710554499,"",null,19.600000000000001,26,1.3265306122449001,"",1,0,0,1,null,"NO","NO",4]
["East Baton Rouge","Baton Rouge",4,22033000400,"TRUE",1,4,71420210563,"Louisiana",152900,162600,1.06344015696534,true,null,46710,40948,0.87664311710554499,"",null,19.600000000000001,26,1.3265306122449001,"",1,0,0,1,null,"NO","NO",4]
["East Baton Rouge","Baton Rouge",5,22033000500,"TRUE",0,4,71420210564,"Louisiana",152900,162600,1.06344015696534,true,null,46710,40948,0.87664311710554499,"",null,19.600000000000001,26,1.3265306122449001,"",1,0,0,1,null,"NO","NO",4]
["East Baton Rouge","Baton Rouge",6.01,22033000601,"TRUE",0,4,71420210565,"Louisiana",152900,162600,1.06344015696534,true,null,46710,40948,0.87664311710554499,"",null,19.600000000000001,26,1.3265306122449001,"",1,0,0,1,null,"NO","NO",4]
["East Baton Rouge","Baton Rouge",6.02,22033000602,"TRUE",1,4,71420210566,"Louisiana",152900,162600,1.06344015696534,true,null,46710,40948,0.87664311710554499,"",null,19.600000000000001,26,1.3265306122449001,"",1,0,0,1,null,"NO","NO",4]
["East Baton Rouge","Baton Rouge",6.02,22033000602,"TRUE",1,4,71420210567,"Louisiana",152900,162600,1.06344015696534,true,null,46710,40948,0.87664311710554499,"",null,19.600000000000001,26,1.3265306122449001,"",1,0,0,1,null,"NO","NO",4]
["East Baton Rouge","Baton Rouge",6.02,22033000602,"TRUE",0,4,71420210568,"Louisiana",152900,162600,1.06344015696534,true,null,46710,40948,0.87664311710554499,"",null,19.600000000000001,26,1.3265306122449001,"",1,0,0,1,null,"NO","NO",4]
["East Baton Rouge","Baton Rouge",7.01,22033000701,"TRUE",1,4,71420210569,"Louisiana",152900,162600,1.06344015696534,true,null,46710,40948,0.87664311710554499,"",null,19.600000000000001,26,1.3265306122449001,"",1,0,0,1,null,"NO","NO",4]
["East Baton Rouge","Baton Rouge",7.02,22033000702,"TRUE",1,4,71420210570,"Louisiana",152900,162600,1.06344015696534,true,null,46710,40948,0.87664311710554499,"",null,19.600000000000001,26,1.3265306122449001,"",1,0,0,1,null,"NO","NO",4]
["East Baton Rouge","Baton Rouge",7.02,22033000702,"TRUE",1,4,71420210571,"Louisiana",152900,162600,1.06344015696534,true,null,46710,40948,0.87664311710554499,"",null,19.600000000000001,26,1.3265306122449001,"",1,0,0,1,null,"NO","NO",4]
["East Baton Rouge","Baton Rouge",9,22033000900,"TRUE",1,4,71420210572,"Louisiana",152900,162600,1.06344015696534,true,null,46710,40948,0.87664311710554499,"",null,19.600000000000001,26,1.3265306122449001,"",1,0,0,1,null,"NO","NO",4]
["East Baton Rouge","Baton Rouge",9,22033000900,"TRUE",0,4,71420210573,"Louisiana",152900,162600,1.06344015696534,true,null,46710,40948,0.87664311710554499,"",null,19.600000000000001,26,1.3265306122449001,"",1,0,0,1,null,"NO","NO",4]
["East Baton Rouge","Baton Rouge",10,22033001000,"TRUE",0,4,71420210574,"Louisiana",152900,162600,1.06344015696534,true,null,46710,40948,0.87664311710554499,"",null,19.600000000000001,26,1.3265306122449001,"",1,0,0,1,null,"NO","NO",4]
["East Baton Rouge","Baton Rouge",10,22033001000,"TRUE",0,4,71420210575,"Louisiana",152900,162600,1.06344015696534,true,null,46710,40948,0.87664311710554499,"",null,19.600000000000001,26,1.3265306122449001,"",1,0,0,1,null,"NO","NO",4]
["East Baton Rouge","Baton Rouge",11.02,22033001102,"TRUE",0,4,71420210576,"Louisiana",152900,162600,1.06344015696534,true,null,46710,40948,0.87664311710554499,"",null,19.600000000000001,26,1.3265306122449001,"",1,0,0,1,null,"NO","NO",4]
["East Baton Rouge","Baton Rouge",11.02,22033001102,"TRUE",0,4,71420210577,"Louisiana",152900,162600,1.06344015696534,true,null,46710,40948,0.87664311710554499,"",null,19.600000000000001,26,1.3265306122449001,"",1,0,0,1,null,"NO","NO",4]
["East Baton Rouge","Baton Rouge",11.03,22033001103,"TRUE",0,4,71420210578,"Louisiana",152900,162600,1.06344015696534,true,null,46710,40948,0.87664311710554499,"",null,19.600000000000001,26,1.3265306122449001,"",1,0,0,1,null,"NO","NO",4]
["East Baton Rouge","Baton Rouge",11.03,22033001103,"TRUE",0,{"$f":"IF(E579=\"TRUE\",4,0)","v":4},71420210579,"Louisiana",152900,162600,1.06344015696534,{"$f":"IF(L579>=50%,TRUE,\"\")","v":true},null,46710,40948,0.87664311710554499,{"$f":"IF(Q579<=65%,TRUE,\"\")","v":""},null,19.600000000000001,26,1.3265306122449001,{"$f":"IF(V579>=1.5,TRUE,\"\")","v":""},{"$f":"IF(M579=TRUE,1,0)","v":1},{"$f":"IF(R579=TRUE,1,0)","v":0},{"$f":"IF(W579=TRUE,1,0)","v":0},{"$f":"SUM(X579:Z579)","v":1},null,{"$f":"IF(AND(E579=\"TRUE\",AA579>1),\"YES\",\"NO\")","v":"NO"},{"$f":"IF(AND(F579=1,AA579>1), \"YES\",\"NO\")","v":"NO"},{"$f":"+G579+N579+S579+AB579","v":4}]
["East Baton Rouge","Baton Rouge",11.04,22033001104,"TRUE",1,4,71420210580,"Louisiana",152900,162600,1.06344015696534,true,null,46710,40948,0.87664311710554499,"",null,19.600000000000001,26,1.3265306122449001,"",1,0,0,1,null,"NO","NO",4]
["East Baton Rouge","Baton Rouge",16,22033001600,"TRUE",1,4,71420210581,"Louisiana",152900,162600,1.06344015696534,true,null,46710,40948,0.87664311710554499,"",null,19.600000000000001,26,1.3265306122449001,"",1,0,0,1,null,"NO","NO",4]
["East Baton Rouge","Baton Rouge",16,22033001600,"TRUE",1,4,71420210582,"Louisiana",152900,162600,1.06344015696534,true,null,46710,40948,0.87664311710554499,"",null,19.600000000000001,26,1.3265306122449001,"",1,0,0,1,null,"NO","NO",4]
["East Baton Rouge","Baton Rouge",17,22033001700,"FALSE",0,0,71420210583,"Louisiana",152900,162600,1.06344015696534,true,null,46710,40948,0.87664311710554499,"",null,19.600000000000001,26,1.3265306122449001,"",1,0,0,1,null,"NO","NO",0]
["East Baton Rouge","Baton Rouge",17,22033001700,"FALSE",0,0,71420210584,"Louisiana",152900,162600,1.06344015696534,true,null,46710,40948,0.87664311710554499,"",null,19.600000000000001,26,1.3265306122449001,"",1,0,0,1,null,"NO","NO",0]
["East Baton Rouge","Baton Rouge",17,22033001700,"FALSE",0,0,71420210585,"Louisiana",152900,162600,1.06344015696534,true,null,46710,40948,0.87664311710554499,"",null,19.600000000000001,26,1.3265306122449001,"",1,0,0,1,null,"NO","NO",0]
["East Baton Rouge","Baton Rouge",18,22033001800,"FALSE",0,0,71420210586,"Louisiana",152900,162600,1.06344015696534,true,null,46710,40948,0.87664311710554499,"",null,19.600000000000001,26,1.3265306122449001,"",1,0,0,1,null,"NO","NO",0]
["East Baton Rouge","Baton Rouge",19,22033001900,"FALSE",0,0,71420210587,"Louisiana",152900,162600,1.06344015696534,true,null,46710,40948,0.87664311710554499,"",null,19.600000000000001,26,1.3265306122449001,"",1,0,0,1,null,"NO","NO",0]
["East Baton Rouge","Baton Rouge",20,22033002000,"TRUE",0,4,71420210588,"Louisiana",152900,162600,1.06344015696534,true,null,46710,40948,0.87664311710554499,"",null,19.600000000000001,26,1.3265306122449001,"",1,0,0,1,null,"NO","NO",4]
["East Baton Rouge","Baton Rouge",20,22033002000,"TRUE",0,4,71420210589,"Louisiana",152900,162600,1.06344015696534,true,null,46710,40948,0.87664311710554499,"",null,19.600000000000001,26,1.3265306122449001,"",1,0,0,1,null,"NO","NO",4]
["East Baton Rouge","Baton Rouge",20,22033002000,"TRUE",1,4,71420210590,"Louisiana",152900,162600,1.06344015696534,true,null,46710,40948,0.87664311710554499,"",null,19.600000000000001,26,1.3265306122449001,"",1,0,0,1,null,"NO","NO",4]
["East Baton Rouge","Baton Rouge",22,22033002200,"TRUE",1,4,71420210591,"Louisiana",152900,162600,1.06344015696534,true,null,46710,40948,0.87664311710554499,"",null,19.600000000000001,26,1.3265306122449001,"",1,0,0,1,null,"NO","NO",4]
["East Baton Rouge","Baton Rouge",22,22033002200,"TRUE",1,4,71420210592,"Louisiana",152900,162600,1.06344015696534,true,null,46710,40948,0.87664311710554499,"",null,19.600000000000001,26,1.3265306122449001,"",1,0,0,1,null,"NO","NO",4]
["East Baton Rouge","Baton Rouge",23,22033002300,"TRUE",0,4,71420210593,"Louisiana",152900,162600,1.06344015696534,true,null,46710,40948,0.87664311710554499,"",null,19.600000000000001,26,1.3265306122449001,"",1,0,0,1,null,"NO","NO",4]
["East Baton Rouge","Baton Rouge",23,22033002300,"TRUE",0,4,71420210594,"Louisiana",152900,162600,1.06344015696534,true,null,46710,40948,0.87664311710554499,"",null,19.600000000000001,26,1.3265306122449001,"",1,0,0,1,null,"NO","NO",4]
["East Baton Rouge","Baton Rouge",24,22033002400,"TRUE",1,4,71420210595,"Louisiana",152900,162600,1.06344015696534,true,null,46710,40948,0.87664311710554499,"",null,19.600000000000001,26,1.3265306122449001,"",1,0,0,1,null,"NO","NO",4]
["East Baton Rouge","Baton Rouge",25,22033002500,"FALSE",0,0,71420210596,"Louisiana",152900,162600,1.06344015696534,true,null,46710,40948,0.87664311710554499,"",null,19.600000000000001,26,1.3265306122449001,"",1,0,0,1,null,"NO","NO",0]
["East Baton Rouge","Baton Rouge",25,22033002500,"FALSE",0,0,71420210597,"Louisiana",152900,162600,1.06344015696534,true,null,46710,40948,0.87664311710554499,"",null,19.600000000000001,26,1.3265306122449001,"",1,0,0,1,null,"NO","NO",0]
["East Baton Rouge","Baton Rouge",26.01,22033002601,"FALSE",0,0,71420210598,"Louisiana",152900,162600,1.06344015696534,true,null,46710,40948,0.87664311710554499,"",null,19.600000000000001,26,1.3265306122449001,"",1,0,0,1,null,"NO","NO",0]
["East Baton Rouge","Baton Rouge",26.02,22033002602,"TRUE",0,4,71420210599,"Louisiana",152900,162600,1.06344015696534,true,null,46710,40948,0.87664311710554499,"",null,19.600000000000001,26,1.3265306122449001,"",1,0,0,1,null,"NO","NO",4]
["East Baton Rouge","Baton Rouge",26.02,22033002602,"TRUE",1,4,71420210600,"Louisiana",152900,162600,1.06344015696534,true,null,46710,40948,0.87664311710554499,"",null,19.600000000000001,26,1.3265306122449001,"",1,0,0,1,null,"NO","NO",4]
["East Baton Rouge","Baton Rouge",27,22033002700,"TRUE",1,4,71420210601,"Louisiana",152900,162600,1.06344015696534,true,null,46710,40948,0.87664311710554499,"",null,19.600000000000001,26,1.3265306122449001,"",1,0,0,1,null,"NO","NO",4]
["East Baton Rouge","Baton Rouge",28.01,22033002801,"TRUE",0,4,71420210602,"Louisiana",152900,162600,1.06344015696534,true,null,46710,40948,0.87664311710554499,"",null,19.600000000000001,26,1.3265306122449001,"",1,0,0,1,null,"NO","NO",4]
["East Baton Rouge","Baton Rouge",28.01,22033002801,"TRUE",1,4,71420210603,"Louisiana",152900,162600,1.06344015696534,true,null,46710,40948,0.87664311710554499,"",null,19.600000000000001,26,1.3265306122449001,"",1,0,0,1,null,"NO","NO",4]
["East Baton Rouge","Baton Rouge",28.01,22033002801,"TRUE",0,4,71420210604,"Louisiana",152900,162600,1.06344015696534,true,null,46710,40948,0.87664311710554499,"",null,19.600000000000001,26,1.3265306122449001,"",1,0,0,1,null,"NO","NO",4]
["East Baton Rouge","Baton Rouge",28.02,22033002802,"TRUE",0,4,71420210605,"Louisiana",152900,162600,1.06344015696534,true,null,46710,40948,0.87664311710554499,"",null,19.600000000000001,26,1.3265306122449001,"",1,0,0,1,null,"NO","NO",4]
["East Baton Rouge","Baton Rouge",28.02,22033002802,"TRUE",0,4,71420210606,"Louisiana",152900,162600,1.06344015696534,true,null,46710,40948,0.87664311710554499,"",null,19.600000000000001,26,1.3265306122449001,"",1,0,0,1,null,"NO","NO",4]
["East Baton Rouge","Baton Rouge",30,22033003000,"TRUE",0,4,71420210607,"Louisiana",152900,162600,1.06344015696534,true,null,46710,40948,0.87664311710554499,"",null,19.600000000000001,26,1.3265306122449001,"",1,0,0,1,null,"NO","NO",4]
["East Baton Rouge","Baton Rouge",30,22033003000,"TRUE",0,4,71420210608,"Louisiana",152900,162600,1.06344015696534,true,null,46710,40948,0.87664311710554499,"",null,19.600000000000001,26,1.3265306122449001,"",1,0,0,1,null,"NO","NO",4]
["East Baton Rouge","Baton Rouge",31.01,22033003101,"TRUE",0,4,71420210609,"Louisiana",152900,162600,1.06344015696534,true,null,46710,40948,0.87664311710554499,"",null,19.600000000000001,26,1.3265306122449001,"",1,0,0,1,null,"NO","NO",4]
["East Baton Rouge","Baton Rouge",31.03,22033003103,"FALSE",0,0,71420210610,"Louisiana",152900,162600,1.06344015696534,true,null,46710,40948,0.87664311710554499,"",null,19.600000000000001,26,1.3265306122449001,"",1,0,0,1,null,"NO","NO",0]
["East Baton Rouge","Baton Rouge",31.03,22033003103,"FALSE",0,0,71420210611,"Louisiana",152900,162600,1.06344015696534,true,null,46710,40948,0.87664311710554499,"",null,19.600000000000001,26,1.3265306122449001,"",1,0,0,1,null,"NO","NO",0]
["East Baton Rouge","Baton Rouge",32.01,22033003201,"TRUE",1,4,71420210612,"Louisiana",152900,162600,1.06344015696534,true,null,46710,40948,0.87664311710554499,"",null,19.600000000000001,26,1.3265306122449001,"",1,0,0,1,null,"NO","NO",4]
["East Baton Rouge","Baton Rouge",32.020000000000003,22033003202,"TRUE",0,4,71420210613,"Louisiana",152900,162600,1.06344015696534,true,null,46710,40948,0.87664311710554499,"",null,19.600000000000001,26,1.3265306122449001,"",1,0,0,1,null,"NO","NO",4]
["East Baton Rouge","Baton Rouge",33,22033003300,"TRUE",0,4,71420210614,"Louisiana",152900,162600,1.06344015696534,true,null,46710,40948,0.87664311710554499,"",null,19.600000000000001,26,1.3265306122449001,"",1,0,0,1,null,"NO","NO",4]
["East Baton Rouge","Baton Rouge",33,22033003300,"TRUE",0,4,71420210615,"Louisiana",152900,162600,1.06344015696534,true,null,46710,40948,0.87664311710554499,"",null,19.600000000000001,26,1.3265306122449001,"",1,0,0,1,null,"NO","NO",4]
["East Baton Rouge","Baton Rouge",33,22033003300,"TRUE",0,4,71420210616,"Louisiana",152900,162600,1.06344015696534,true,null,46710,40948,0.87664311710554499,"",null,19.600000000000001,26,1.3265306122449001,"",1,0,0,1,null,"NO","NO",4]
["East Baton Rouge","Baton Rouge",34,22033003400,"FALSE",0,0,71420210617,"Louisiana",152900,162600,1.06344015696534,true,null,46710,40948,0.87664311710554499,"",null,19.600000000000001,26,1.3265306122449001,"",1,0,0,1,null,"NO","NO",0]
["East Baton Rouge","Baton Rouge",34,22033003400,"FALSE",0,0,71420210618,"Louisiana",152900,162600,1.06344015696534,true,null,46710,40948,0.87664311710554499,"",null,19.600000000000001,26,1.3265306122449001,"",1,0,0,1,null,"NO","NO",0]
["East Baton Rouge","Baton Rouge",34,22033003400,"FALSE",0,0,71420210619,"Louisiana",152900,162600,1.06344015696534,true,null,46710,40948,0.87664311710554499,"",null,19.600000000000001,26,1.3265306122449001,"",1,0,0,1,null,"NO","NO",0]
["East Baton Rouge","Baton Rouge",34,22033003400,"FALSE",0,0,71420210620,"Louisiana",152900,162600,1.06344015696534,true,null,46710,40948,0.87664311710554499,"",null,19.600000000000001,26,1.3265306122449001,"",1,0,0,1,null,"NO","NO",0]
["East Baton Rouge","Baton Rouge",35.01,22033003501,"FALSE",0,0,71420210621,"Louisiana",152900,162600,1.06344015696534,true,null,46710,40948,0.87664311710554499,"",null,19.600000000000001,26,1.3265306122449001,"",1,0,0,1,null,"NO","NO",0]
["East Baton Rouge","Baton Rouge",35.01,22033003501,"FALSE",0,0,71420210622,"Louisiana",152900,162600,1.06344015696534,true,null,46710,40948,0.87664311710554499,"",null,19.600000000000001,26,1.3265306122449001,"",1,0,0,1,null,"NO","NO",0]
["East Baton Rouge","Baton Rouge",35.04,22033003504,"TRUE",1,4,71420210623,"Louisiana",152900,162600,1.06344015696534,true,null,46710,40948,0.87664311710554499,"",null,19.600000000000001,26,1.3265306122449001,"",1,0,0,1,null,"NO","NO",4]
["East Baton Rouge","Baton Rouge",35.04,22033003504,"FALSE",0,0,71420210624,"Louisiana",152900,162600,1.06344015696534,true,null,46710,40948,0.87664311710554499,"",null,19.600000000000001,26,1.3265306122449001,"",1,0,0,1,null,"NO","NO",0]
["East Baton Rouge","Baton Rouge",35.049999999999997,22033003505,"FALSE",0,0,71420210625,"Louisiana",152900,162600,1.06344015696534,true,null,46710,40948,0.87664311710554499,"",null,19.600000000000001,26,1.3265306122449001,"",1,0,0,1,null,"NO","NO",0]
["East Baton Rouge","Baton Rouge",35.049999999999997,22033003505,"TRUE",1,4,71420210626,"Louisiana",152900,162600,1.06344015696534,true,null,46710,40948,0.87664311710554499,"",null,19.600000000000001,26,1.3265306122449001,"",1,0,0,1,null,"NO","NO",4]
["East Baton Rouge","Baton Rouge",35.049999999999997,22033003505,"FALSE",0,0,71420210627,"Louisiana",152900,162600,1.06344015696534,true,null,46710,40948,0.87664311710554499,"",null,19.600000000000001,26,1.3265306122449001,"",1,0,0,1,null,"NO","NO",0]
["East Baton Rouge","Baton Rouge",35.049999999999997,22033003505,"FALSE",0,0,71420210628,"Louisiana",152900,162600,1.06344015696534,true,null,46710,40948,0.87664311710554499,"",null,19.600000000000001,26,1.3265306122449001,"",1,0,0,1,null,"NO","NO",0]
["East Baton Rouge","Baton Rouge",35.06,22033003506,"FALSE",0,0,71420210629,"Louisiana",152900,162600,1.06344015696534,true,null,46710,40948,0.87664311710554499,"",null,19.600000000000001,26,1.3265306122449001,"",1,0,0,1,null,"NO","NO",0]
["East Baton Rouge","Baton Rouge",35.07,22033003507,"FALSE",0,0,71420210630,"Louisiana",152900,162600,1.06344015696534,true,null,46710,40948,0.87664311710554499,"",null,19.600000000000001,26,1.3265306122449001,"",1,0,0,1,null,"NO","NO",0]
["East Baton Rouge","Baton Rouge",36.01,22033003601,"TRUE",0,4,71420210631,"Louisiana",152900,162600,1.06344015696534,true,null,46710,40948,0.87664311710554499,"",null,19.600000000000001,26,1.3265306122449001,"",1,0,0,1,null,"NO","NO",4]
["East Baton Rouge","Baton Rouge",36.03,22033003603,"TRUE",0,4,71420210632,"Louisiana",152900,162600,1.06344015696534,true,null,46710,40948,0.87664311710554499,"",null,19.600000000000001,26,1.3265306122449001,"",1,0,0,1,null,"NO","NO",4]
["East Baton Rouge","Baton Rouge",36.03,22033003603,"TRUE",0,4,71420210633,"Louisiana",152900,162600,1.06344015696534,true,null,46710,40948,0.87664311710554499,"",null,19.600000000000001,26,1.3265306122449001,"",1,0,0,1,null,"NO","NO",4]
["East Baton Rouge","Baton Rouge",36.04,22033003604,"FALSE",0,0,71420210634,"Louisiana",152900,162600,1.06344015696534,true,null,46710,40948,0.87664311710554499,"",null,19.600000000000001,26,1.3265306122449001,"",1,0,0,1,null,"NO","NO",0]
["East Baton Rouge","Baton Rouge",37.01,22033003701,"TRUE",1,4,71420210635,"Louisiana",152900,162600,1.06344015696534,true,null,46710,40948,0.87664311710554499,"",null,19.600000000000001,26,1.3265306122449001,"",1,0,0,1,null,"NO","NO",4]
["East Baton Rouge","Baton Rouge",37.01,22033003701,"FALSE",0,0,71420210636,"Louisiana",152900,162600,1.06344015696534,true,null,46710,40948,0.87664311710554499,"",null,19.600000000000001,26,1.3265306122449001,"",1,0,0,1,null,"NO","NO",0]
["East Baton Rouge","Baton Rouge",37.01,22033003701,"FALSE",0,0,71420210637,"Louisiana",152900,162600,1.06344015696534,true,null,46710,40948,0.87664311710554499,"",null,19.600000000000001,26,1.3265306122449001,"",1,0,0,1,null,"NO","NO",0]
["East Baton Rouge","Baton Rouge",37.020000000000003,22033003702,"FALSE",0,0,71420210638,"Louisiana",152900,162600,1.06344015696534,true,null,46710,40948,0.87664311710554499,"",null,19.600000000000001,26,1.3265306122449001,"",1,0,0,1,null,"NO","NO",0]
["East Baton Rouge","Baton Rouge",37.020000000000003,22033003702,"FALSE",0,0,71420210639,"Louisiana",152900,162600,1.06344015696534,true,null,46710,40948,0.87664311710554499,"",null,19.600000000000001,26,1.3265306122449001,"",1,0,0,1,null,"NO","NO",0]
["East Baton Rouge","Baton Rouge",37.03,22033003703,"FALSE",0,0,71420210640,"Louisiana",152900,162600,1.06344015696534,true,null,46710,40948,0.87664311710554499,"",null,19.600000000000001,26,1.3265306122449001,"",1,0,0,1,null,"NO","NO",0]
["East Baton Rouge","Baton Rouge",37.03,22033003703,"FALSE",0,0,71420210641,"Louisiana",152900,162600,1.06344015696534,true,null,46710,40948,0.87664311710554499,"",null,19.600000000000001,26,1.3265306122449001,"",1,0,0,1,null,"NO","NO",0]
["East Baton Rouge","Baton Rouge",38.01,22033003801,"FALSE",0,0,71420210642,"Louisiana",152900,162600,1.06344015696534,true,null,46710,40948,0.87664311710554499,"",null,19.600000000000001,26,1.3265306122449001,"",1,0,0,1,null,"NO","NO",0]
["East Baton Rouge","Baton Rouge",38.01,22033003801,"FALSE",0,{"$f":"IF(E643=\"TRUE\",4,0)","v":0},71420210643,"Louisiana",152900,162600,1.06344015696534,{"$f":"IF(L643>=50%,TRUE,\"\")","v":true},null,46710,40948,0.87664311710554499,{"$f":"IF(Q643<=65%,TRUE,\"\")","v":""},null,19.600000000000001,26,1.3265306122449001,{"$f":"IF(V643>=1.5,TRUE,\"\")","v":""},{"$f":"IF(M643=TRUE,1,0)","v":1},{"$f":"IF(R643=TRUE,1,0)","v":0},{"$f":"IF(W643=TRUE,1,0)","v":0},{"$f":"SUM(X643:Z643)","v":1},null,{"$f":"IF(AND(E643=\"TRUE\",AA643>1),\"YES\",\"NO\")","v":"NO"},{"$f":"IF(AND(F643=1,AA643>1), \"YES\",\"NO\")","v":"NO"},{"$f":"+G643+N643+S643+AB643","v":0}]
["East Baton Rouge","Baton Rouge",38.01,22033003801,"FALSE",0,0,71420210644,"Louisiana",152900,162600,1.06344015696534,true,null,46710,40948,0.87664311710554499,"",null,19.600000000000001,26,1.3265306122449001,"",1,0,0,1,null,"NO","NO",0]
["East Baton Rouge","Baton Rouge",38.01,22033003801,"FALSE",0,0,71420210645,"Louisiana",152900,162600,1.06344015696534,true,null,46710,40948,0.87664311710554499,"",null,19.600000000000001,26,1.3265306122449001,"",1,0,0,1,null,"NO","NO",0]
["East Baton Rouge","Baton Rouge",38.020000000000003,22033003802,"FALSE",0,0,71420210646,"Louisiana",152900,162600,1.06344015696534,true,null,46710,40948,0.87664311710554499,"",null,19.600000000000001,26,1.3265306122449001,"",1,0,0,1,null,"NO","NO",0]
["East Baton Rouge","Baton Rouge",38.020000000000003,22033003802,"FALSE",0,0,71420210647,"Louisiana",152900,162600,1.06344015696534,true,null,46710,40948,0.87664311710554499,"",null,19.600000000000001,26,1.3265306122449001,"",1,0,0,1,null,"NO","NO",0]
["East Baton Rouge","Baton Rouge",38.04,22033003804,"FALSE",0,0,71420210648,"Louisiana",152900,162600,1.06344015696534,true,null,46710,40948,0.87664311710554499,"",null,19.600000000000001,26,1.3265306122449001,"",1,0,0,1,null,"NO","NO",0]
["East Baton Rouge","Baton Rouge",38.04,22033003804,"FALSE",0,0,71420210649,"Louisiana",152900,162600,1.06344015696534,true,null,46710,40948,0.87664311710554499,"",null,19.600000000000001,26,1.3265306122449001,"",1,0,0,1,null,"NO","NO",0]
["East Baton Rouge","Baton Rouge",38.049999999999997,22033003805,"FALSE",0,0,71420210650,"Louisiana",152900,162600,1.06344015696534,true,null,46710,40948,0.87664311710554499,"",null,19.600000000000001,26,1.3265306122449001,"",1,0,0,1,null,"NO","NO",0]
["East Baton Rouge","Baton Rouge",38.049999999999997,22033003805,"FALSE",0,0,71420210651,"Louisiana",152900,162600,1.06344015696534,true,null,46710,40948,0.87664311710554499,"",null,19.600000000000001,26,1.3265306122449001,"",1,0,0,1,null,"NO","NO",0]
["East Baton Rouge","Baton Rouge",38.049999999999997,22033003805,"FALSE",0,0,71420210652,"Louisiana",152900,162600,1.06344015696534,true,null,46710,40948,0.87664311710554499,"",null,19.600000000000001,26,1.3265306122449001,"",1,0,0,1,null,"NO","NO",0]
["East Baton Rouge","Baton Rouge",38.049999999999997,22033003805,"FALSE",0,0,71420210653,"Louisiana",152900,162600,1.06344015696534,true,null,46710,40948,0.87664311710554499,"",null,19.600000000000001,26,1.3265306122449001,"",1,0,0,1,null,"NO","NO",0]
["East Baton Rouge","Baton Rouge",39.04,22033003904,"TRUE",1,4,71420210654,"Louisiana",152900,162600,1.06344015696534,true,null,46710,40948,0.87664311710554499,"",null,19.600000000000001,26,1.3265306122449001,"",1,0,0,1,null,"NO","NO",4]
["East Baton Rouge","Baton Rouge",39.06,22033003906,"FALSE",0,0,71420210655,"Louisiana",152900,162600,1.06344015696534,true,null,46710,40948,0.87664311710554499,"",null,19.600000000000001,26,1.3265306122449001,"",1,0,0,1,null,"NO","NO",0]
["East Baton Rouge","Baton Rouge",39.06,22033003906,"FALSE",0,0,71420210656,"Louisiana",152900,162600,1.06344015696534,true,null,46710,40948,0.87664311710554499,"",null,19.600000000000001,26,1.3265306122449001,"",1,0,0,1,null,"NO","NO",0]
["East Baton Rouge","Baton Rouge",39.06,22033003906,"TRUE",1,4,71420210657,"Louisiana",152900,162600,1.06344015696534,true,null,46710,40948,0.87664311710554499,"",null,19.600000000000001,26,1.3265306122449001,"",1,0,0,1,null,"NO","NO",4]
["East Baton Rouge","Baton Rouge",39.07,22033003907,"TRUE",1,4,71420210658,"Louisiana",152900,162600,1.06344015696534,true,null,46710,40948,0.87664311710554499,"",null,19.600000000000001,26,1.3265306122449001,"",1,0,0,1,null,"NO","NO",4]
["East Baton Rouge","Baton Rouge",39.08,22033003908,"FALSE",0,0,71420210659,"Louisiana",152900,162600,1.06344015696534,true,null,46710,40948,0.87664311710554499,"",null,19.600000000000001,26,1.3265306122449001,"",1,0,0,1,null,"NO","NO",0]
["East Baton Rouge","Baton Rouge",39.08,22033003908,"TRUE",1,4,71420210660,"Louisiana",152900,162600,1.06344015696534,true,null,46710,40948,0.87664311710554499,"",null,19.600000000000001,26,1.3265306122449001,"",1,0,0,1,null,"NO","NO",4]
["East Baton Rouge","Baton Rouge",39.090000000000003,22033003909,"FALSE",0,0,71420210661,"Louisiana",152900,162600,1.06344015696534,true,null,46710,40948,0.87664311710554499,"",null,19.600000000000001,26,1.3265306122449001,"",1,0,0,1,null,"NO","NO",0]
["East Baton Rouge","Baton Rouge",39.090000000000003,22033003909,"FALSE",0,0,71420210662,"Louisiana",152900,162600,1.06344015696534,true,null,46710,40948,0.87664311710554499,"",null,19.600000000000001,26,1.3265306122449001,"",1,0,0,1,null,"NO","NO",0]
["East Baton Rouge","Baton Rouge",39.090000000000003,22033003909,"FALSE",0,0,71420210663,"Louisiana",152900,162600,1.06344015696534,true,null,46710,40948,0.87664311710554499,"",null,19.600000000000001,26,1.3265306122449001,"",1,0,0,1,null,"NO","NO",0]
["East Baton Rouge","Baton Rouge",39.1,22033003910,"FALSE",0,0,71420210664,"Louisiana",152900,162600,1.06344015696534,true,null,46710,40948,0.87664311710554499,"",null,19.600000000000001,26,1.3265306122449001,"",1,0,0,1,null,"NO","NO",0]
["East Baton Rouge","Baton Rouge",40.049999999999997,22033004005,"FALSE",0,0,71420210665,"Louisiana",152900,162600,1.06344015696534,true,null,46710,40948,0.87664311710554499,"",null,19.600000000000001,26,1.3265306122449001,"",1,0,0,1,null,"NO","NO",0]
["East Baton Rouge","Baton Rouge",40.06,22033004006,"FALSE",0,0,71420210666,"Louisiana",152900,162600,1.06344015696534,true,null,46710,40948,0.87664311710554499,"",null,19.600000000000001,26,1.3265306122449001,"",1,0,0,1,null,"NO","NO",0]
["East Baton Rouge","Baton Rouge",40.06,22033004006,"FALSE",0,0,71420210667,"Louisiana",152900,162600,1.06344015696534,true,null,46710,40948,0.87664311710554499,"",null,19.600000000000001,26,1.3265306122449001,"",1,0,0,1,null,"NO","NO",0]
["East Baton Rouge","Baton Rouge",40.06,22033004006,"FALSE",0,0,71420210668,"Louisiana",152900,162600,1.06344015696534,true,null,46710,40948,0.87664311710554499,"",null,19.600000000000001,26,1.3265306122449001,"",1,0,0,1,null,"NO","NO",0]
["East Baton Rouge","Baton Rouge",40.090000000000003,22033004009,"FALSE",0,0,71420210669,"Louisiana",152900,162600,1.06344015696534,true,null,46710,40948,0.87664311710554499,"",null,19.600000000000001,26,1.3265306122449001,"",1,0,0,1,null,"NO","NO",0]
["East Baton Rouge","Baton Rouge",40.090000000000003,22033004009,"FALSE",0,0,71420210670,"Louisiana",152900,162600,1.06344015696534,true,null,46710,40948,0.87664311710554499,"",null,19.600000000000001,26,1.3265306122449001,"",1,0,0,1,null,"NO","NO",0]
["East Baton Rouge","Baton Rouge",40.090000000000003,22033004009,"FALSE",0,0,71420210671,"Louisiana",152900,162600,1.06344015696534,true,null,46710,40948,0.87664311710554499,"",null,19.600000000000001,26,1.3265306122449001,"",1,0,0,1,null,"NO","NO",0]
["East Baton Rouge","Baton Rouge",40.090000000000003,22033004009,"TRUE",1,4,71420210672,"Louisiana",152900,162600,1.06344015696534,true,null,46710,40948,0.87664311710554499,"",null,19.600000000000001,26,1.3265306122449001,"",1,0,0,1,null,"NO","NO",4]
["East Baton Rouge","Baton Rouge",40.1,22033004010,"TRUE",0,4,71420210673,"Louisiana",152900,162600,1.06344015696534,true,null,46710,40948,0.87664311710554499,"",null,19.600000000000001,26,1.3265306122449001,"",1,0,0,1,null,"NO","NO",4]
["East Baton Rouge","Baton Rouge",40.11,22033004011,"TRUE",0,4,71420210674,"Louisiana",152900,162600,1.06344015696534,true,null,46710,40948,0.87664311710554499,"",null,19.600000000000001,26,1.3265306122449001,"",1,0,0,1,null,"NO","NO",4]
["East Baton Rouge","Baton Rouge",40.11,22033004011,"TRUE",0,4,71420210675,"Louisiana",152900,162600,1.06344015696534,true,null,46710,40948,0.87664311710554499,"",null,19.600000000000001,26,1.3265306122449001,"",1,0,0,1,null,"NO","NO",4]
["East Baton Rouge","Baton Rouge",40.11,22033004011,"TRUE",0,4,71420210676,"Louisiana",152900,162600,1.06344015696534,true,null,46710,40948,0.87664311710554499,"",null,19.600000000000001,26,1.3265306122449001,"",1,0,0,1,null,"NO","NO",4]
["East Baton Rouge","Baton Rouge",40.130000000000003,22033004013,"TRUE",0,4,71420210677,"Louisiana",152900,162600,1.06344015696534,true,null,46710,40948,0.87664311710554499,"",null,19.600000000000001,26,1.3265306122449001,"",1,0,0,1,null,"NO","NO",4]
["East Baton Rouge","Baton Rouge",40.130000000000003,22033004013,"TRUE",0,4,71420210678,"Louisiana",152900,162600,1.06344015696534,true,null,46710,40948,0.87664311710554499,"",null,19.600000000000001,26,1.3265306122449001,"",1,0,0,1,null,"NO","NO",4]
["East Baton Rouge","Baton Rouge",40.130000000000003,22033004013,"TRUE",0,4,71420210679,"Louisiana",152900,162600,1.06344015696534,true,null,46710,40948,0.87664311710554499,"",null,19.600000000000001,26,1.3265306122449001,"",1,0,0,1,null,"NO","NO",4]
["East Baton Rouge","Baton Rouge",40.14,22033004014,"TRUE",0,4,71420210680,"Louisiana",152900,162600,1.06344015696534,true,null,46710,40948,0.87664311710554499,"",null,19.600000000000001,26,1.3265306122449001,"",1,0,0,1,null,"NO","NO",4]
["East Baton Rouge","Baton Rouge",40.14,22033004014,"TRUE",0,4,71420210681,"Louisiana",152900,162600,1.06344015696534,true,null,46710,40948,0.87664311710554499,"",null,19.600000000000001,26,1.3265306122449001,"",1,0,0,1,null,"NO","NO",4]
["East Baton Rouge","Baton Rouge",40.15,22033004015,"FALSE",0,0,71420210682,"Louisiana",152900,162600,1.06344015696534,true,null,46710,40948,0.87664311710554499,"",null,19.600000000000001,26,1.3265306122449001,"",1,0,0,1,null,"NO","NO",0]
["East Baton Rouge","Baton Rouge",40.15,22033004015,"FALSE",0,0,71420210683,"Louisiana",152900,162600,1.06344015696534,true,null,46710,40948,0.87664311710554499,"",null,19.600000000000001,26,1.3265306122449001,"",1,0,0,1,null,"NO","NO",0]
["East Baton Rouge","Baton Rouge",40.159999999999997,22033004016,"TRUE",1,4,71420210684,"Louisiana",152900,162600,1.06344015696534,true,null,46710,40948,0.87664311710554499,"",null,19.600000000000001,26,1.3265306122449001,"",1,0,0,1,null,"NO","NO",4]
["East Baton Rouge","Baton Rouge",40.159999999999997,22033004016,"TRUE",1,4,71420210685,"Louisiana",152900,162600,1.06344015696534,true,null,46710,40948,0.87664311710554499,"",null,19.600000000000001,26,1.3265306122449001,"",1,0,0,1,null,"NO","NO",4]
["East Baton Rouge","Baton Rouge",42.01,22033004201,"TRUE",1,4,71420210686,"Louisiana",152900,162600,1.06344015696534,true,null,46710,40948,0.87664311710554499,"",null,19.600000000000001,26,1.3265306122449001,"",1,0,0,1,null,"NO","NO",4]
["East Baton Rouge","Baton Rouge",42.01,22033004201,"TRUE",1,4,71420210687,"Louisiana",152900,162600,1.06344015696534,true,null,46710,40948,0.87664311710554499,"",null,19.600000000000001,26,1.3265306122449001,"",1,0,0,1,null,"NO","NO",4]
["East Baton Rouge","Baton Rouge",42.03,22033004203,"TRUE",1,4,71420210688,"Louisiana",152900,162600,1.06344015696534,true,null,46710,40948,0.87664311710554499,"",null,19.600000000000001,26,1.3265306122449001,"",1,0,0,1,null,"NO","NO",4]
["East Baton Rouge","Baton Rouge",43.01,22033004301,"TRUE",1,4,71420210689,"Louisiana",152900,162600,1.06344015696534,true,null,46710,40948,0.87664311710554499,"",null,19.600000000000001,26,1.3265306122449001,"",1,0,0,1,null,"NO","NO",4]
["East Baton Rouge","Baton Rouge",43.02,22033004302,"TRUE",1,4,71420210690,"Louisiana",152900,162600,1.06344015696534,true,null,46710,40948,0.87664311710554499,"",null,19.600000000000001,26,1.3265306122449001,"",1,0,0,1,null,"NO","NO",4]
["East Baton Rouge","Baton Rouge",44.01,22033004401,"TRUE",1,4,71420210691,"Louisiana",152900,162600,1.06344015696534,true,null,46710,40948,0.87664311710554499,"",null,19.600000000000001,26,1.3265306122449001,"",1,0,0,1,null,"NO","NO",4]
["East Baton Rouge","Baton Rouge",44.02,22033004402,"FALSE",0,0,71420210692,"Louisiana",152900,162600,1.06344015696534,true,null,46710,40948,0.87664311710554499,"",null,19.600000000000001,26,1.3265306122449001,"",1,0,0,1,null,"NO","NO",0]
["East Baton Rouge","Baton Rouge",44.03,22033004403,"FALSE",0,0,71420210693,"Louisiana",152900,162600,1.06344015696534,true,null,46710,40948,0.87664311710554499,"",null,19.600000000000001,26,1.3265306122449001,"",1,0,0,1,null,"NO","NO",0]
["East Baton Rouge","Baton Rouge",44.03,22033004403,"TRUE",1,4,71420210694,"Louisiana",152900,162600,1.06344015696534,true,null,46710,40948,0.87664311710554499,"",null,19.600000000000001,26,1.3265306122449001,"",1,0,0,1,null,"NO","NO",4]
["East Baton Rouge","Baton Rouge",45.03,22033004503,"TRUE",1,4,71420210695,"Louisiana",152900,162600,1.06344015696534,true,null,46710,40948,0.87664311710554499,"",null,19.600000000000001,26,1.3265306122449001,"",1,0,0,1,null,"NO","NO",4]
["East Baton Rouge","Baton Rouge",45.03,22033004503,"TRUE",1,4,71420210696,"Louisiana",152900,162600,1.06344015696534,true,null,46710,40948,0.87664311710554499,"",null,19.600000000000001,26,1.3265306122449001,"",1,0,0,1,null,"NO","NO",4]
["East Baton Rouge","Baton Rouge",45.03,22033004503,"TRUE",1,4,71420210697,"Louisiana",152900,162600,1.06344015696534,true,null,46710,40948,0.87664311710554499,"",null,19.600000000000001,26,1.3265306122449001,"",1,0,0,1,null,"NO","NO",4]
["East Baton Rouge","Baton Rouge",45.04,22033004504,"TRUE",1,4,71420210698,"Louisiana",152900,162600,1.06344015696534,true,null,46710,40948,0.87664311710554499,"",null,19.600000000000001,26,1.3265306122449001,"",1,0,0,1,null,"NO","NO",4]
["East Baton Rouge","Baton Rouge",45.04,22033004504,"TRUE",1,4,71420210699,"Louisiana",152900,162600,1.06344015696534,true,null,46710,40948,0.87664311710554499,"",null,19.600000000000001,26,1.3265306122449001,"",1,0,0,1,null,"NO","NO",4]
["East Baton Rouge","Baton Rouge",45.05,22033004505,"TRUE",1,4,71420210700,"Louisiana",152900,162600,1.06344015696534,true,null,46710,40948,0.87664311710554499,"",null,19.600000000000001,26,1.3265306122449001,"",1,0,0,1,null,"NO","NO",4]
["East Baton Rouge","Baton Rouge",45.07,22033004507,"TRUE",1,4,71420210701,"Louisiana",152900,162600,1.06344015696534,true,null,46710,40948,0.87664311710554499,"",null,19.600000000000001,26,1.3265306122449001,"",1,0,0,1,null,"NO","NO",4]
["East Baton Rouge","Baton Rouge",45.08,22033004508,"TRUE",1,4,71420210702,"Louisiana",152900,162600,1.06344015696534,true,null,46710,40948,0.87664311710554499,"",null,19.600000000000001,26,1.3265306122449001,"",1,0,0,1,null,"NO","NO",4]
["East Baton Rouge","Baton Rouge",45.09,22033004509,"FALSE",0,0,71420210703,"Louisiana",152900,162600,1.06344015696534,true,null,46710,40948,0.87664311710554499,"",null,19.600000000000001,26,1.3265306122449001,"",1,0,0,1,null,"NO","NO",0]
["East Baton Rouge","Baton Rouge",45.09,22033004509,"FALSE",0,0,71420210704,"Louisiana",152900,162600,1.06344015696534,true,null,46710,40948,0.87664311710554499,"",null,19.600000000000001,26,1.3265306122449001,"",1,0,0,1,null,"NO","NO",0]
["East Baton Rouge","Baton Rouge",45.1,22033004510,"FALSE",0,0,71420210705,"Louisiana",152900,162600,1.06344015696534,true,null,46710,40948,0.87664311710554499,"",null,19.600000000000001,26,1.3265306122449001,"",1,0,0,1,null,"NO","NO",0]
["East Baton Rouge","Baton Rouge",46.03,22033004603,"TRUE",1,4,71420210706,"Louisiana",152900,162600,1.06344015696534,true,null,46710,40948,0.87664311710554499,"",null,19.600000000000001,26,1.3265306122449001,"",1,0,0,1,null,"NO","NO",4]
["East Baton Rouge","Baton Rouge",48,22033004800,"FALSE",0,{"$f":"IF(E707=\"TRUE\",4,0)","v":0},71420210707,"Louisiana",152900,162600,1.06344015696534,{"$f":"IF(L707>=50%,TRUE,\"\")","v":true},null,46710,40948,0.87664311710554499,{"$f":"IF(Q707<=65%,TRUE,\"\")","v":""},null,19.600000000000001,26,1.3265306122449001,{"$f":"IF(V707>=1.5,TRUE,\"\")","v":""},{"$f":"IF(M707=TRUE,1,0)","v":1},{"$f":"IF(R707=TRUE,1,0)","v":0},{"$f":"IF(W707=TRUE,1,0)","v":0},{"$f":"SUM(X707:Z707)","v":1},null,{"$f":"IF(AND(E707=\"TRUE\",AA707>1),\"YES\",\"NO\")","v":"NO"},{"$f":"IF(AND(F707=1,AA707>1), \"YES\",\"NO\")","v":"NO"},{"$f":"+G707+N707+S707+AB707","v":0}]
["East Baton Rouge","Baton Rouge",48,22033004800,"FALSE",0,0,71420210708,"Louisiana",152900,162600,1.06344015696534,true,null,46710,40948,0.87664311710554499,"",null,19.600000000000001,26,1.3265306122449001,"",1,0,0,1,null,"NO","NO",0]
["East Baton Rouge","Baton Rouge",49,22033004900,"FALSE",0,0,71420210709,"Louisiana",152900,162600,1.06344015696534,true,null,46710,40948,0.87664311710554499,"",null,19.600000000000001,26,1.3265306122449001,"",1,0,0,1,null,"NO","NO",0]
["East Baton Rouge","Baton Rouge",50,22033005000,"TRUE",0,4,71420210710,"Louisiana",152900,162600,1.06344015696534,true,null,46710,40948,0.87664311710554499,"",null,19.600000000000001,26,1.3265306122449001,"",1,0,0,1,null,"NO","NO",4]
["East Baton Rouge","Baton Rouge",50,22033005000,"TRUE",0,4,71420210711,"Louisiana",152900,162600,1.06344015696534,true,null,46710,40948,0.87664311710554499,"",null,19.600000000000001,26,1.3265306122449001,"",1,0,0,1,null,"NO","NO",4]
["East Baton Rouge","Baton Rouge",51,22033005100,"TRUE",0,4,71420210712,"Louisiana",152900,162600,1.06344015696534,true,null,46710,40948,0.87664311710554499,"",null,19.600000000000001,26,1.3265306122449001,"",1,0,0,1,null,"NO","NO",4]
["East Baton Rouge","Baton Rouge",51,22033005100,"TRUE",0,4,71420210713,"Louisiana",152900,162600,1.06344015696534,true,null,46710,40948,0.87664311710554499,"",null,19.600000000000001,26,1.3265306122449001,"",1,0,0,1,null,"NO","NO",4]
["East Baton Rouge","Baton Rouge",51,22033005100,"TRUE",0,4,71420210714,"Louisiana",152900,162600,1.06344015696534,true,null,46710,40948,0.87664311710554499,"",null,19.600000000000001,26,1.3265306122449001,"",1,0,0,1,null,"NO","NO",4]
["East Baton Rouge","Baton Rouge",51,22033005100,"TRUE",0,4,71420210715,"Louisiana",152900,162600,1.06344015696534,true,null,46710,40948,0.87664311710554499,"",null,19.600000000000001,26,1.3265306122449001,"",1,0,0,1,null,"NO","NO",4]
["East Baton Rouge","Baton Rouge",51,22033005100,"TRUE",0,4,71420210716,"Louisiana",152900,162600,1.06344015696534,true,null,46710,40948,0.87664311710554499,"",null,19.600000000000001,26,1.3265306122449001,"",1,0,0,1,null,"NO","NO",4]
["East Baton Rouge","Baton Rouge",51,22033005100,"TRUE",1,4,71420210717,"Louisiana",152900,162600,1.06344015696534,true,null,46710,40948,0.87664311710554499,"",null,19.600000000000001,26,1.3265306122449001,"",1,0,0,1,null,"NO","NO",4]
["East Baton Rouge","Baton Rouge",52,22033005200,"TRUE",0,4,71420210718,"Louisiana",152900,162600,1.06344015696534,true,null,46710,40948,0.87664311710554499,"",null,19.600000000000001,26,1.3265306122449001,"",1,0,0,1,null,"NO","NO",4]
["East Baton Rouge","Baton Rouge",52,22033005200,"TRUE",0,4,71420210719,"Louisiana",152900,162600,1.06344015696534,true,null,46710,40948,0.87664311710554499,"",null,19.600000000000001,26,1.3265306122449001,"",1,0,0,1,null,"NO","NO",4]
["East Baton Rouge","Baton Rouge",53,22033005300,"FALSE",0,0,71420210720,"Louisiana",152900,162600,1.06344015696534,true,null,46710,40948,0.87664311710554499,"",null,19.600000000000001,26,1.3265306122449001,"",1,0,0,1,null,"NO","NO",0]
["East Baton Rouge","Baton Rouge",53,22033005300,"TRUE",1,4,71420210721,"Louisiana",152900,162600,1.06344015696534,true,null,46710,40948,0.87664311710554499,"",null,19.600000000000001,26,1.3265306122449001,"",1,0,0,1,null,"NO","NO",4]
["East Baton Rouge","Baton Rouge",9800,22033980000,"TRUE",1,4,71420210722,"Louisiana",152900,162600,1.06344015696534,true,null,46710,40948,0.87664311710554499,"",null,19.600000000000001,26,1.3265306122449001,"",1,0,0,1,null,"NO","NO",4]
["East Baton Rouge","Baton Rouge",9800,22033980000,"TRUE",1,4,71420210723,"Louisiana",152900,162600,1.06344015696534,true,null,46710,40948,0.87664311710554499,"",null,19.600000000000001,26,1.3265306122449001,"",1,0,0,1,null,"NO","NO",4]
["East Baton Rouge","Greenwell Springs",43.02,22033004302,"TRUE",1,4,71420210724,"Louisiana",152900,0,0,"",{"$f":"IF(M724=TRUE,4,0)","v":0},46710,0,0,true,{"$f":"IF(R724=TRUE, 4,0)","v":4},19.600000000000001,0,0,"",0,1,0,1,{"$f":"IF(W724=TRUE, 4,0)","v":0},"NO","NO",8]
["East Baton Rouge","Greenwell Springs",44.01,22033004401,"TRUE",1,4,71420210725,"Louisiana",152900,0,0,"",0,46710,0,0,true,4,19.600000000000001,0,0,"",0,1,0,1,0,"NO","NO",8]
["East Baton Rouge","Greenwell Springs",44.02,22033004402,"TRUE",1,4,71420210726,"Louisiana",152900,0,0,"",0,46710,0,0,true,4,19.600000000000001,0,0,"",0,1,0,1,0,"NO","NO",8]
["East Baton Rouge","Greenwell Springs",44.03,22033004403,"TRUE",1,4,71420210727,"Louisiana",152900,0,0,"",0,46710,0,0,true,4,19.600000000000001,0,0,"",0,1,0,1,0,"NO","NO",8]
["East Baton Rouge","Greenwell Springs",45.03,22033004503,"TRUE",1,4,71420210728,"Louisiana",152900,0,0,"",0,46710,0,0,true,4,19.600000000000001,0,0,"",0,1,0,1,0,"NO","NO",8]
["East Baton Rouge","Greenwell Springs",47,22033004700,"TRUE",1,4,71420210729,"Louisiana",152900,0,0,"",0,46710,0,0,true,4,19.600000000000001,0,0,"",0,1,0,1,0,"NO","NO",8]
["East Baton Rouge","Pride",43.02,22033004302,"TRUE",1,4,71420210730,"Louisiana",152900,0,0,"",0,46710,0,0,true,4,19.600000000000001,0,0,"",0,1,0,1,0,"NO","NO",8]
["East Baton Rouge","Pride",47,22033004700,"TRUE",1,4,71420210731,"Louisiana",152900,0,0,"",0,46710,0,0,true,4,19.600000000000001,0,0,"",0,1,0,1,0,"NO","NO",8]
["East Baton Rouge","Zachary",43.01,22033004301,"TRUE",1,4,71420210732,"Louisiana",152900,214700,1.40418574231524,true,4,46710,79346,1.6986940697923401,"",0,19.600000000000001,7.4,0.37755102040816302,"",1,0,0,1,0,"NO","NO",8]
["East Baton Rouge","Zachary",43.02,22033004302,"FALSE",0,0,71420210733,"Louisiana",152900,214700,1.40418574231524,true,4,46710,79346,1.6986940697923401,"",0,19.600000000000001,7.4,0.37755102040816302,"",1,0,0,1,0,"NO","NO",4]
["East Baton Rouge","Zachary",46.02,22033004602,"FALSE",0,0,71420210734,"Louisiana",152900,214700,1.40418574231524,true,4,46710,79346,1.6986940697923401,"",0,19.600000000000001,7.4,0.37755102040816302,"",1,0,0,1,0,"NO","NO",4]
["East Baton Rouge","Zachary",46.03,22033004603,"FALSE",0,0,71420210735,"Louisiana",152900,214700,1.40418574231524,true,4,46710,79346,1.6986940697923401,"",0,19.600000000000001,7.4,0.37755102040816302,"",1,0,0,1,0,"NO","NO",4]
["East Baton Rouge","Zachary",46.04,22033004604,"FALSE",0,0,71420210736,"Louisiana",152900,214700,1.40418574231524,true,4,46710,79346,1.6986940697923401,"",0,19.600000000000001,7.4,0.37755102040816302,"",1,0,0,1,0,"NO","NO",4]
["East Baton Rouge","Zachary",47,22033004700,"TRUE",0,4,71420210737,"Louisiana",152900,214700,1.40418574231524,true,4,46710,79346,1.6986940697923401,"",0,19.600000000000001,7.4,0.37755102040816302,"",1,0,0,1,0,"NO","NO",8]
["East Baton Rouge","Zachary",9515.01,22037951501,"TRUE",1,4,71420210738,"Louisiana",152900,214700,1.40418574231524,true,4,46710,79346,1.6986940697923401,"",0,19.600000000000001,7.4,0.37755102040816302,"",1,0,0,1,0,"NO","NO",8]
["East Carroll","Lake Providence",1,22035000100,"TRUE",1,4,71420210739,"Louisiana",152900,46300,0.30281229561805101,"",0,46710,18713,0.400620852065939,true,4,19.600000000000001,53.6,2.7346938775510199,true,0,1,1,2,4,"YES","YES",12]
["East Carroll","Lake Providence",2,22035000200,"FALSE",0,0,71420210740,"Louisiana",152900,46300,0.30281229561805101,"",0,46710,18713,0.400620852065939,true,4,19.600000000000001,53.6,2.7346938775510199,true,0,1,1,2,4,"NO","NO",8]
["East Carroll","Lake Providence",3,22035000300,"TRUE",1,4,71420210741,"Louisiana",152900,46300,0.30281229561805101,"",0,46710,18713,0.400620852065939,true,4,19.600000000000001,53.6,2.7346938775510199,true,0,1,1,2,4,"YES","YES",12]
["East Carroll","Sondheimer",2,22035000200,"FALSE",0,0,71420210742,"Louisiana",152900,0,0,"",0,46710,0,0,true,4,19.600000000000001,0,0,"",0,1,0,1,0,"NO","NO",4]
["East Carroll","Transylvania",2,22035000200,"FALSE",0,0,71420210743,"Louisiana",152900,0,0,"",0,46710,0,0,true,4,19.600000000000001,0,0,"",0,1,0,1,0,"NO","NO",4]
["East Carroll","Transylvania",3,22123000300,"FALSE",0,0,71420210744,"Louisiana",152900,0,0,"",0,46710,0,0,true,4,19.600000000000001,0,0,"",0,1,0,1,0,"NO","NO",4]
["East Feliciana","Clinton",47,22033004700,"TRUE",0,4,71420210745,"Louisiana",152900,142100,0.92936559843034705,true,4,46710,36510,0.78163134232498399,"",0,19.600000000000001,19.5,0.99489795918367296,"",1,0,0,1,0,"NO","NO",8]
["East Feliciana","Clinton",9513,22037951300,"FALSE",0,0,71420210746,"Louisiana",152900,142100,0.92936559843034705,true,4,46710,36510,0.78163134232498399,"",0,19.600000000000001,19.5,0.99489795918367296,"",1,0,0,1,0,"NO","NO",4]
["East Feliciana","Clinton",9516,22037951600,"FALSE",0,0,71420210747,"Louisiana",152900,142100,0.92936559843034705,true,4,46710,36510,0.78163134232498399,"",0,19.600000000000001,19.5,0.99489795918367296,"",1,0,0,1,0,"NO","NO",4]
["East Feliciana","Ethel",9513,22037951300,"FALSE",0,0,71420210748,"Louisiana",152900,0,0,"",0,46710,0,0,true,4,19.600000000000001,0,0,"",0,1,0,1,0,"NO","NO",4]
["East Feliciana","Ethel",9514,22037951400,"FALSE",0,0,71420210749,"Louisiana",152900,0,0,"",0,46710,0,0,true,4,19.600000000000001,0,0,"",0,1,0,1,0,"NO","NO",4]
["East Feliciana","Ethel",9515.02,22037951502,"FALSE",0,0,71420210750,"Louisiana",152900,0,0,"",0,46710,0,0,true,4,19.600000000000001,0,0,"",0,1,0,1,0,"NO","NO",4]
["East Feliciana","Jackson",46.03,22033004603,"FALSE",0,0,71420210751,"Louisiana",152900,71700,0.46893394375408798,"",0,46710,40481,0.86664525797473801,"",0,19.600000000000001,33.799999999999997,1.72448979591837,true,0,0,1,1,4,"NO","NO",4]
["East Feliciana","Jackson",9513,22037951300,"FALSE",0,0,71420210752,"Louisiana",152900,71700,0.46893394375408798,"",0,46710,40481,0.86664525797473801,"",0,19.600000000000001,33.799999999999997,1.72448979591837,true,0,0,1,1,4,"NO","NO",4]
["East Feliciana","Jackson",9514,22037951400,"FALSE",0,0,71420210753,"Louisiana",152900,71700,0.46893394375408798,"",0,46710,40481,0.86664525797473801,"",0,19.600000000000001,33.799999999999997,1.72448979591837,true,0,0,1,1,4,"NO","NO",4]
["East Feliciana","Jackson",9515.01,22037951501,"FALSE",0,0,71420210754,"Louisiana",152900,71700,0.46893394375408798,"",0,46710,40481,0.86664525797473801,"",0,19.600000000000001,33.799999999999997,1.72448979591837,true,0,0,1,1,4,"NO","NO",4]
["East Feliciana","Jackson",9515.02,22037951502,"FALSE",0,0,71420210755,"Louisiana",152900,71700,0.46893394375408798,"",0,46710,40481,0.86664525797473801,"",0,19.600000000000001,33.799999999999997,1.72448979591837,true,0,0,1,1,4,"NO","NO",4]
["East Feliciana","Jackson",9518,22125951800,"TRUE",1,4,71420210756,"Louisiana",152900,71700,0.46893394375408798,"",{"$f":"IF(M756=TRUE,4,0)","v":0},46710,40481,0.86664525797473801,"",{"$f":"IF(R756=TRUE, 4,0)","v":0},19.600000000000001,33.799999999999997,1.72448979591837,true,0,0,1,1,{"$f":"IF(W756=TRUE, 4,0)","v":4},"NO","NO",8]
["East Feliciana","Norwood",9513,22037951300,"TRUE",1,4,71420210757,"Louisiana",152900,114000,0.74558534990189695,true,4,46710,45625,0.97677156925711806,"",0,19.600000000000001,14.2,0.72448979591836704,"",1,0,0,1,0,"NO","NO",8]
["East Feliciana","Slaughter",46.02,22033004602,"FALSE",0,0,71420210758,"Louisiana",152900,144600,0.94571615434924805,true,4,46710,62083,1.32911582102334,"",0,19.600000000000001,3.5,0.17857142857142899,"",1,0,0,1,0,"NO","NO",4]
["East Feliciana","Slaughter",46.04,22033004604,"FALSE",0,0,71420210759,"Louisiana",152900,144600,0.94571615434924805,true,4,46710,62083,1.32911582102334,"",0,19.600000000000001,3.5,0.17857142857142899,"",1,0,0,1,0,"NO","NO",4]
["East Feliciana","Slaughter",47,22033004700,"TRUE",1,4,71420210760,"Louisiana",152900,144600,0.94571615434924805,true,4,46710,62083,1.32911582102334,"",0,19.600000000000001,3.5,0.17857142857142899,"",1,0,0,1,0,"NO","NO",8]
["East Feliciana","Slaughter",9515.01,22037951501,"TRUE",1,4,71420210761,"Louisiana",152900,144600,0.94571615434924805,true,4,46710,62083,1.32911582102334,"",0,19.600000000000001,3.5,0.17857142857142899,"",1,0,0,1,0,"NO","NO",8]
["East Feliciana","Slaughter",9515.02,22037951502,"FALSE",0,0,71420210762,"Louisiana",152900,144600,0.94571615434924805,true,4,46710,62083,1.32911582102334,"",0,19.600000000000001,3.5,0.17857142857142899,"",1,0,0,1,0,"NO","NO",4]
["East Feliciana","Slaughter",9516,22037951600,"TRUE",1,4,71420210763,"Louisiana",152900,144600,0.94571615434924805,true,4,46710,62083,1.32911582102334,"",0,19.600000000000001,3.5,0.17857142857142899,"",1,0,0,1,0,"NO","NO",8]
["East Feliciana","Wilson",9513,22037951300,"TRUE",1,4,71420210764,"Louisiana",152900,70300,0.45977763243950298,"",0,46710,35577,0.76165703275529895,"",0,19.600000000000001,28.2,1.43877551020408,"",0,0,0,0,0,"NO","NO",4]
["East Feliciana","Wilson",9514,22037951400,"TRUE",1,4,71420210765,"Louisiana",152900,70300,0.45977763243950298,"",0,46710,35577,0.76165703275529895,"",0,19.600000000000001,28.2,1.43877551020408,"",0,0,0,0,0,"NO","NO",4]
["Evangeline","Basile",9603,22001960300,"FALSE",0,0,71420210766,"Louisiana",152900,54400,0.355788096795291,"",0,46710,26667,0.57090558766859301,true,4,19.600000000000001,42.8,2.18367346938776,true,0,1,1,2,4,"NO","NO",8]
["Evangeline","Basile",9503,22039950300,"FALSE",0,0,71420210767,"Louisiana",152900,54400,0.355788096795291,"",0,46710,26667,0.57090558766859301,true,4,19.600000000000001,42.8,2.18367346938776,true,0,1,1,2,4,"NO","NO",8]
["Evangeline","Chataignier",9508,22039950800,"FALSE",0,0,71420210768,"Louisiana",152900,66100,0.43230869849574899,"",0,46710,23542,0.50400342539070897,true,4,19.600000000000001,39.700000000000003,2.02551020408163,true,0,1,1,2,4,"NO","NO",8]
["Evangeline","Mamou",9502,22039950200,"FALSE",0,0,71420210769,"Louisiana",152900,75000,0.49051667756703698,"",0,46710,27466,0.58801113251980297,true,4,19.600000000000001,39.200000000000003,2,true,0,1,1,2,4,"NO","NO",8]
["Evangeline","Mamou",9503,22039950300,"FALSE",0,0,71420210770,"Louisiana",152900,75000,0.49051667756703698,"",0,46710,27466,0.58801113251980297,true,4,19.600000000000001,39.200000000000003,2,true,0,1,1,2,4,"NO","NO",8]
["Evangeline","Mamou",9504,22039950400,"FALSE",0,{"$f":"IF(E771=\"TRUE\",4,0)","v":0},71420210771,"Louisiana",152900,75000,0.49051667756703698,{"$f":"IF(L771>=50%,TRUE,\"\")","v":""},0,46710,27466,0.58801113251980297,{"$f":"IF(Q771<=65%,TRUE,\"\")","v":true},4,19.600000000000001,39.200000000000003,2,{"$f":"IF(V771>=1.5,TRUE,\"\")","v":true},{"$f":"IF(M771=TRUE,1,0)","v":0},{"$f":"IF(R771=TRUE,1,0)","v":1},{"$f":"IF(W771=TRUE,1,0)","v":1},{"$f":"SUM(X771:Z771)","v":2},4,{"$f":"IF(AND(E771=\"TRUE\",AA771>1),\"YES\",\"NO\")","v":"NO"},{"$f":"IF(AND(F771=1,AA771>1), \"YES\",\"NO\")","v":"NO"},{"$f":"+G771+N771+S771+AB771","v":8}]
["Evangeline","Mamou",9508,22039950800,"FALSE",0,0,71420210772,"Louisiana",152900,75000,0.49051667756703698,"",0,46710,27466,0.58801113251980297,true,4,19.600000000000001,39.200000000000003,2,true,0,1,1,2,4,"NO","NO",8]
["Evangeline","Pine Prairie",9501,22039950100,"FALSE",0,0,71420210773,"Louisiana",152900,77700,0.50817527795945105,true,4,46710,36726,0.78625561978163105,"",0,19.600000000000001,19.8,1.0102040816326501,"",1,0,0,1,0,"NO","NO",4]
["Evangeline","Reddell",9504,22039950400,"FALSE",0,0,71420210774,"Louisiana",152900,113300,0.74100719424460404,true,4,46710,38316,0.82029543994861898,"",0,19.600000000000001,4.9000000000000004,0.25,"",1,0,0,1,0,"NO","NO",4]
["Evangeline","Saint Landry",306,22009030600,"FALSE",0,0,71420210775,"Louisiana",152900,0,0,"",0,46710,0,0,true,4,19.600000000000001,0,0,"",0,1,0,1,0,"NO","NO",4]
["Evangeline","Saint Landry",9501,22039950100,"FALSE",0,0,71420210776,"Louisiana",152900,0,0,"",0,46710,0,0,true,4,19.600000000000001,0,0,"",0,1,0,1,0,"NO","NO",4]
["Evangeline","Turkey Creek",9501,22039950100,"FALSE",0,0,71420210777,"Louisiana",152900,78800,0.515369522563767,true,4,46710,29167,0.62442731749090097,true,4,19.600000000000001,25.2,1.28571428571429,"",1,1,0,2,0,"NO","NO",8]
["Evangeline","Ville Platte",9501,22039950100,"FALSE",0,0,71420210778,"Louisiana",152900,86900,0.56834532374100699,true,4,46710,19716,0.42209377007064902,true,4,19.600000000000001,35.5,1.81122448979592,true,1,1,1,3,4,"NO","NO",12]
["Evangeline","Ville Platte",9502,22039950200,"FALSE",0,0,71420210779,"Louisiana",152900,86900,0.56834532374100699,true,4,46710,19716,0.42209377007064902,true,4,19.600000000000001,35.5,1.81122448979592,true,1,1,1,3,4,"NO","NO",12]
["Evangeline","Ville Platte",9503,22039950300,"FALSE",0,0,71420210780,"Louisiana",152900,86900,0.56834532374100699,true,4,46710,19716,0.42209377007064902,true,4,19.600000000000001,35.5,1.81122448979592,true,1,1,1,3,4,"NO","NO",12]
["Evangeline","Ville Platte",9504,22039950400,"FALSE",0,0,71420210781,"Louisiana",152900,86900,0.56834532374100699,true,4,46710,19716,0.42209377007064902,true,4,19.600000000000001,35.5,1.81122448979592,true,1,1,1,3,4,"NO","NO",12]
["Evangeline","Ville Platte",9505,22039950500,"TRUE",1,4,71420210782,"Louisiana",152900,86900,0.56834532374100699,true,4,46710,19716,0.42209377007064902,true,4,19.600000000000001,35.5,1.81122448979592,true,1,1,1,3,4,"YES","YES",16]
["Evangeline","Ville Platte",9506,22039950600,"TRUE",1,4,71420210783,"Louisiana",152900,86900,0.56834532374100699,true,4,46710,19716,0.42209377007064902,true,4,19.600000000000001,35.5,1.81122448979592,true,1,1,1,3,4,"YES","YES",16]
["Evangeline","Ville Platte",9507,22039950700,"FALSE",0,0,71420210784,"Louisiana",152900,86900,0.56834532374100699,true,4,46710,19716,0.42209377007064902,true,4,19.600000000000001,35.5,1.81122448979592,true,1,1,1,3,4,"NO","NO",12]
["Evangeline","Ville Platte",9508,22039950800,"FALSE",0,0,71420210785,"Louisiana",152900,86900,0.56834532374100699,true,4,46710,19716,0.42209377007064902,true,4,19.600000000000001,35.5,1.81122448979592,true,1,1,1,3,4,"NO","NO",12]
["Evangeline","Ville Platte",9606,22097960600,"FALSE",0,0,71420210786,"Louisiana",152900,86900,0.56834532374100699,true,4,46710,19716,0.42209377007064902,true,4,19.600000000000001,35.5,1.81122448979592,true,1,1,1,3,4,"NO","NO",12]
["Evangeline","Ville Platte",9607,22097960700,"FALSE",0,0,71420210787,"Louisiana",152900,86900,0.56834532374100699,true,4,46710,19716,0.42209377007064902,true,4,19.600000000000001,35.5,1.81122448979592,true,1,1,1,3,4,"NO","NO",12]
["Evangeline","Ville Platte",9608,22097960800,"FALSE",0,0,71420210788,"Louisiana",152900,86900,0.56834532374100699,true,{"$f":"IF(M788=TRUE,4,0)","v":4},46710,19716,0.42209377007064902,true,{"$f":"IF(R788=TRUE, 4,0)","v":4},19.600000000000001,35.5,1.81122448979592,true,1,1,1,3,{"$f":"IF(W788=TRUE, 4,0)","v":4},"NO","NO",12]
["Franklin","Baskin",9501,22041950100,"FALSE",0,0,71420210789,"Louisiana",152900,75000,0.49051667756703698,"",0,46710,38000,0.813530293299079,"",0,19.600000000000001,15.2,0.77551020408163296,"",0,0,0,0,0,"NO","NO",0]
["Franklin","Chase",9502,22041950200,"FALSE",0,0,71420210790,"Louisiana",152900,0,0,"",0,46710,0,0,true,4,19.600000000000001,0,0,"",0,1,0,1,0,"NO","NO",4]
["Franklin","Crowville",9501,22041950100,"FALSE",0,0,71420210791,"Louisiana",152900,0,0,"",0,46710,0,0,true,4,19.600000000000001,0,0,"",0,1,0,1,0,"NO","NO",4]
["Franklin","Fort Necessity",9505,22041950500,"FALSE",0,0,71420210792,"Louisiana",152900,0,0,"",0,46710,0,0,true,4,19.600000000000001,0,0,"",0,1,0,1,0,"NO","NO",4]
["Franklin","Gilbert",9502,22041950200,"FALSE",0,0,71420210793,"Louisiana",152900,67100,0.43884892086330901,"",0,46710,25833,0.55305073859987197,true,4,19.600000000000001,28.6,1.4591836734693899,"",0,1,0,1,0,"NO","NO",4]
["Franklin","Gilbert",9504,22041950400,"FALSE",0,0,71420210794,"Louisiana",152900,67100,0.43884892086330901,"",0,46710,25833,0.55305073859987197,true,4,19.600000000000001,28.6,1.4591836734693899,"",0,1,0,1,0,"NO","NO",4]
["Franklin","Gilbert",9506,22041950600,"FALSE",0,0,71420210795,"Louisiana",152900,67100,0.43884892086330901,"",0,46710,25833,0.55305073859987197,true,4,19.600000000000001,28.6,1.4591836734693899,"",0,1,0,1,0,"NO","NO",4]
["Franklin","Jigger",9505,22041950500,"FALSE",0,0,71420210796,"Louisiana",152900,0,0,"",0,46710,0,0,true,4,19.600000000000001,0,0,"",0,1,0,1,0,"NO","NO",4]
["Franklin","Winnsboro",9501,22041950100,"FALSE",0,0,71420210797,"Louisiana",152900,77600,0.50752125572269502,true,4,46710,19685,0.42143010062085201,true,4,19.600000000000001,46.6,2.37755102040816,true,1,1,1,3,4,"NO","NO",12]
["Franklin","Winnsboro",9502,22041950200,"FALSE",0,0,71420210798,"Louisiana",152900,77600,0.50752125572269502,true,4,46710,19685,0.42143010062085201,true,4,19.600000000000001,46.6,2.37755102040816,true,1,1,1,3,4,"NO","NO",12]
["Franklin","Winnsboro",9503,22041950300,"TRUE",1,4,71420210799,"Louisiana",152900,77600,0.50752125572269502,true,4,46710,19685,0.42143010062085201,true,4,19.600000000000001,46.6,2.37755102040816,true,1,1,1,3,4,"YES","YES",16]
["Franklin","Winnsboro",9504,22041950400,"FALSE",0,0,71420210800,"Louisiana",152900,77600,0.50752125572269502,true,4,46710,19685,0.42143010062085201,true,4,19.600000000000001,46.6,2.37755102040816,true,1,1,1,3,4,"NO","NO",12]
["Franklin","Winnsboro",9505,22041950500,"FALSE",0,0,71420210801,"Louisiana",152900,77600,0.50752125572269502,true,4,46710,19685,0.42143010062085201,true,4,19.600000000000001,46.6,2.37755102040816,true,1,1,1,3,4,"NO","NO",12]
["Franklin","Wisner",9504,22041950400,"FALSE",0,0,71420210802,"Louisiana",152900,70000,0.45781556572923499,"",0,46710,18333,0.39248554913294798,true,4,19.600000000000001,35.799999999999997,1.8265306122449001,true,0,1,1,2,4,"NO","NO",8]
["Franklin","Wisner",9506,22041950600,"TRUE",1,4,71420210803,"Louisiana",152900,70000,0.45781556572923499,"",0,46710,18333,0.39248554913294798,true,4,19.600000000000001,35.799999999999997,1.8265306122449001,true,0,1,1,2,4,"YES","YES",12]
["Grant","Bentley",204.01,22043020401,"FALSE",0,0,71420210804,"Louisiana",152900,0,0,"",0,46710,0,0,true,4,19.600000000000001,0,0,"",0,1,0,1,0,"NO","NO",4]
["Grant","Colfax",201,22043020100,"FALSE",0,0,71420210805,"Louisiana",152900,69200,0.45258338783518598,"",0,46710,25321,0.542089488332263,true,4,19.600000000000001,46.1,2.3520408163265301,true,0,1,1,2,4,"NO","NO",8]
["Grant","Colfax",202,22043020200,"FALSE",0,0,71420210806,"Louisiana",152900,69200,0.45258338783518598,"",0,46710,25321,0.542089488332263,true,4,19.600000000000001,46.1,2.3520408163265301,true,0,1,1,2,4,"NO","NO",8]
["Grant","Colfax",203,22043020300,"FALSE",0,0,71420210807,"Louisiana",152900,69200,0.45258338783518598,"",0,46710,25321,0.542089488332263,true,4,19.600000000000001,46.1,2.3520408163265301,true,0,1,1,2,4,"NO","NO",8]
["Grant","Colfax",204.01,22043020401,"FALSE",0,0,71420210808,"Louisiana",152900,69200,0.45258338783518598,"",0,46710,25321,0.542089488332263,true,4,19.600000000000001,46.1,2.3520408163265301,true,0,1,1,2,4,"NO","NO",8]
["Grant","Colfax",204.02,22043020402,"TRUE",1,4,71420210809,"Louisiana",152900,69200,0.45258338783518598,"",0,46710,25321,0.542089488332263,true,4,19.600000000000001,46.1,2.3520408163265301,true,0,1,1,2,4,"YES","YES",12]
["Grant","Dry Prong",201,22043020100,"FALSE",0,0,71420210810,"Louisiana",152900,112500,0.73577501635055598,true,4,46710,38571,0.82575465639049495,"",0,19.600000000000001,15,0.76530612244898,"",1,0,0,1,0,"NO","NO",4]
["Grant","Dry Prong",202,22043020200,"FALSE",0,0,71420210811,"Louisiana",152900,112500,0.73577501635055598,true,4,46710,38571,0.82575465639049495,"",0,19.600000000000001,15,0.76530612244898,"",1,0,0,1,0,"NO","NO",4]
["Grant","Dry Prong",203,22043020300,"FALSE",0,0,71420210812,"Louisiana",152900,112500,0.73577501635055598,true,4,46710,38571,0.82575465639049495,"",0,19.600000000000001,15,0.76530612244898,"",1,0,0,1,0,"NO","NO",4]
["Grant","Dry Prong",204.01,22043020401,"FALSE",0,0,71420210813,"Louisiana",152900,112500,0.73577501635055598,true,4,46710,38571,0.82575465639049495,"",0,19.600000000000001,15,0.76530612244898,"",1,0,0,1,0,"NO","NO",4]
["Grant","Dry Prong",204.02,22043020402,"FALSE",0,0,71420210814,"Louisiana",152900,112500,0.73577501635055598,true,4,46710,38571,0.82575465639049495,"",0,19.600000000000001,15,0.76530612244898,"",1,0,0,1,0,"NO","NO",4]
["Grant","Dry Prong",104,22079010400,"FALSE",0,0,71420210815,"Louisiana",152900,112500,0.73577501635055598,true,4,46710,38571,0.82575465639049495,"",0,19.600000000000001,15,0.76530612244898,"",1,0,0,1,0,"NO","NO",4]
["Grant","Georgetown",201,22043020100,"FALSE",0,0,71420210816,"Louisiana",152900,0,0,"",0,46710,0,0,true,4,19.600000000000001,0,0,"",0,1,0,1,0,"NO","NO",4]
["Grant","Georgetown",9601,22127960100,"FALSE",0,0,71420210817,"Louisiana",152900,0,0,"",0,46710,0,0,true,4,19.600000000000001,0,0,"",0,1,0,1,0,"NO","NO",4]
["Grant","Montgomery",202,22043020200,"FALSE",0,0,71420210818,"Louisiana",152900,69000,0.45127534336167402,"",0,46710,31250,0.66902162277884802,"",0,19.600000000000001,15.5,0.79081632653061196,"",0,0,0,0,0,"NO","NO",0]
["Grant","Montgomery",9602,22127960200,"FALSE",0,0,71420210819,"Louisiana",152900,69000,0.45127534336167402,"",0,46710,31250,0.66902162277884802,"",0,19.600000000000001,15.5,0.79081632653061196,"",0,0,0,0,0,"NO","NO",0]
["Grant","Pollock",201,22043020100,"FALSE",0,0,71420210820,"Louisiana",152900,101100,0.66121648136036604,true,{"$f":"IF(M820=TRUE,4,0)","v":4},46710,30375,0.65028901734104005,"",{"$f":"IF(R820=TRUE, 4,0)","v":0},19.600000000000001,29.6,1.5102040816326501,true,1,0,1,2,{"$f":"IF(W820=TRUE, 4,0)","v":4},"NO","NO",8]
["Grant","Pollock",204.01,22043020401,"FALSE",0,0,71420210821,"Louisiana",152900,101100,0.66121648136036604,true,4,46710,30375,0.65028901734104005,"",0,19.600000000000001,29.6,1.5102040816326501,true,1,0,1,2,4,"NO","NO",8]
["Grant","Pollock",204.02,22043020402,"FALSE",0,0,71420210822,"Louisiana",152900,101100,0.66121648136036604,true,4,46710,30375,0.65028901734104005,"",0,19.600000000000001,29.6,1.5102040816326501,true,1,0,1,2,4,"NO","NO",8]
["Grant","Pollock",101,22079010100,"FALSE",0,0,71420210823,"Louisiana",152900,101100,0.66121648136036604,true,4,46710,30375,0.65028901734104005,"",0,19.600000000000001,29.6,1.5102040816326501,true,1,0,1,2,4,"NO","NO",8]
["Grant","Pollock",137,22079013700,"FALSE",0,0,71420210824,"Louisiana",152900,101100,0.66121648136036604,true,4,46710,30375,0.65028901734104005,"",0,19.600000000000001,29.6,1.5102040816326501,true,1,0,1,2,4,"NO","NO",8]
["Iberia","Avery Island",304,22045030400,"FALSE",0,0,71420210825,"Louisiana",152900,0,0,"",0,46710,0,0,true,4,19.600000000000001,0,0,"",0,1,0,1,0,"NO","NO",4]
["Iberia","Delcambre",303.02,22045030302,"FALSE",0,0,71420210826,"Louisiana",152900,77900,0.50948332243296302,true,4,46710,43750,0.93663027189038806,"",0,19.600000000000001,26.2,1.33673469387755,"",1,0,0,1,0,"NO","NO",4]
["Iberia","Delcambre",9510.02,22113951002,"FALSE",0,0,71420210827,"Louisiana",152900,77900,0.50948332243296302,true,4,46710,43750,0.93663027189038806,"",0,19.600000000000001,26.2,1.33673469387755,"",1,0,0,1,0,"NO","NO",4]
["Iberia","Jeanerette",301,22045030100,"TRUE",0,4,71420210828,"Louisiana",152900,73100,0.47809025506867198,"",0,46710,29533,0.63226289873688701,true,4,19.600000000000001,27.7,1.41326530612245,"",0,1,0,1,0,"NO","NO",8]
["Iberia","Jeanerette",313,22045031300,"FALSE",0,0,71420210829,"Louisiana",152900,73100,0.47809025506867198,"",0,46710,29533,0.63226289873688701,true,4,19.600000000000001,27.7,1.41326530612245,"",0,1,0,1,0,"NO","NO",4]
["Iberia","Jeanerette",316,22045031600,"FALSE",0,0,71420210830,"Louisiana",152900,73100,0.47809025506867198,"",0,46710,29533,0.63226289873688701,true,4,19.600000000000001,27.7,1.41326530612245,"",0,1,0,1,0,"NO","NO",4]
["Iberia","Jeanerette",410,22101041000,"FALSE",0,0,71420210831,"Louisiana",152900,73100,0.47809025506867198,"",0,46710,29533,0.63226289873688701,true,4,19.600000000000001,27.7,1.41326530612245,"",0,1,0,1,0,"NO","NO",4]
["Iberia","Jeanerette",411,22101041100,"FALSE",0,0,71420210832,"Louisiana",152900,73100,0.47809025506867198,"",0,46710,29533,0.63226289873688701,true,4,19.600000000000001,27.7,1.41326530612245,"",0,1,0,1,0,"NO","NO",4]
["Iberia","Loreauville",302,22045030200,"FALSE",0,0,71420210833,"Louisiana",152900,118400,0.77436232831916296,true,4,46710,40962,0.87694283879254997,"",0,19.600000000000001,28.8,1.46938775510204,"",1,0,0,1,0,"NO","NO",4]
["Iberia","Lydia",313,22045031300,"FALSE",0,0,71420210834,"Louisiana",152900,68800,0.449967298888162,"",0,46710,39076,0.83656604581460103,"",0,19.600000000000001,23.8,1.21428571428571,"",0,0,0,0,0,"NO","NO",0]
["Iberia","New Iberia",301,22045030100,"TRUE",0,{"$f":"IF(E835=\"TRUE\",4,0)","v":4},71420210835,"Louisiana",152900,106100,0.69391759319816904,{"$f":"IF(L835>=50%,TRUE,\"\")","v":true},4,46710,39059,0.83620209805180901,{"$f":"IF(Q835<=65%,TRUE,\"\")","v":""},0,19.600000000000001,24,1.22448979591837,{"$f":"IF(V835>=1.5,TRUE,\"\")","v":""},{"$f":"IF(M835=TRUE,1,0)","v":1},{"$f":"IF(R835=TRUE,1,0)","v":0},{"$f":"IF(W835=TRUE,1,0)","v":0},{"$f":"SUM(X835:Z835)","v":1},0,{"$f":"IF(AND(E835=\"TRUE\",AA835>1),\"YES\",\"NO\")","v":"NO"},{"$f":"IF(AND(F835=1,AA835>1), \"YES\",\"NO\")","v":"NO"},{"$f":"+G835+N835+S835+AB835","v":8}]
["Iberia","New Iberia",301,22045030100,"TRUE",0,4,71420210836,"Louisiana",152900,106100,0.69391759319816904,true,4,46710,39059,0.83620209805180901,"",0,19.600000000000001,24,1.22448979591837,"",1,0,0,1,0,"NO","NO",8]
["Iberia","New Iberia",302,22045030200,"FALSE",0,0,71420210837,"Louisiana",152900,106100,0.69391759319816904,true,4,46710,39059,0.83620209805180901,"",0,19.600000000000001,24,1.22448979591837,"",1,0,0,1,0,"NO","NO",4]
["Iberia","New Iberia",303.01,22045030301,"FALSE",0,0,71420210838,"Louisiana",152900,106100,0.69391759319816904,true,4,46710,39059,0.83620209805180901,"",0,19.600000000000001,24,1.22448979591837,"",1,0,0,1,0,"NO","NO",4]
["Iberia","New Iberia",303.01,22045030301,"FALSE",0,0,71420210839,"Louisiana",152900,106100,0.69391759319816904,true,4,46710,39059,0.83620209805180901,"",0,19.600000000000001,24,1.22448979591837,"",1,0,0,1,0,"NO","NO",4]
["Iberia","New Iberia",303.02,22045030302,"FALSE",0,0,71420210840,"Louisiana",152900,106100,0.69391759319816904,true,4,46710,39059,0.83620209805180901,"",0,19.600000000000001,24,1.22448979591837,"",1,0,0,1,0,"NO","NO",4]
["Iberia","New Iberia",304,22045030400,"FALSE",0,0,71420210841,"Louisiana",152900,106100,0.69391759319816904,true,4,46710,39059,0.83620209805180901,"",0,19.600000000000001,24,1.22448979591837,"",1,0,0,1,0,"NO","NO",4]
["Iberia","New Iberia",305,22045030500,"FALSE",0,0,71420210842,"Louisiana",152900,106100,0.69391759319816904,true,4,46710,39059,0.83620209805180901,"",0,19.600000000000001,24,1.22448979591837,"",1,0,0,1,0,"NO","NO",4]
["Iberia","New Iberia",305,22045030500,"FALSE",0,0,71420210843,"Louisiana",152900,106100,0.69391759319816904,true,4,46710,39059,0.83620209805180901,"",0,19.600000000000001,24,1.22448979591837,"",1,0,0,1,0,"NO","NO",4]
["Iberia","New Iberia",306,22045030600,"FALSE",0,0,71420210844,"Louisiana",152900,106100,0.69391759319816904,true,4,46710,39059,0.83620209805180901,"",0,19.600000000000001,24,1.22448979591837,"",1,0,0,1,0,"NO","NO",4]
["Iberia","New Iberia",307,22045030700,"FALSE",0,0,71420210845,"Louisiana",152900,106100,0.69391759319816904,true,4,46710,39059,0.83620209805180901,"",0,19.600000000000001,24,1.22448979591837,"",1,0,0,1,0,"NO","NO",4]
["Iberia","New Iberia",308,22045030800,"TRUE",1,4,71420210846,"Louisiana",152900,106100,0.69391759319816904,true,4,46710,39059,0.83620209805180901,"",0,19.600000000000001,24,1.22448979591837,"",1,0,0,1,0,"NO","NO",8]
["Iberia","New Iberia",309,22045030900,"TRUE",1,4,71420210847,"Louisiana",152900,106100,0.69391759319816904,true,4,46710,39059,0.83620209805180901,"",0,19.600000000000001,24,1.22448979591837,"",1,0,0,1,0,"NO","NO",8]
["Iberia","New Iberia",310,22045031000,"TRUE",1,4,71420210848,"Louisiana",152900,106100,0.69391759319816904,true,4,46710,39059,0.83620209805180901,"",0,19.600000000000001,24,1.22448979591837,"",1,0,0,1,0,"NO","NO",8]
["Iberia","New Iberia",310,22045031000,"TRUE",1,4,71420210849,"Louisiana",152900,106100,0.69391759319816904,true,4,46710,39059,0.83620209805180901,"",0,19.600000000000001,24,1.22448979591837,"",1,0,0,1,0,"NO","NO",8]
["Iberia","New Iberia",311,22045031100,"TRUE",0,4,71420210850,"Louisiana",152900,106100,0.69391759319816904,true,4,46710,39059,0.83620209805180901,"",0,19.600000000000001,24,1.22448979591837,"",1,0,0,1,0,"NO","NO",8]
["Iberia","New Iberia",311,22045031100,"TRUE",0,4,71420210851,"Louisiana",152900,106100,0.69391759319816904,true,4,46710,39059,0.83620209805180901,"",0,19.600000000000001,24,1.22448979591837,"",1,0,0,1,0,"NO","NO",8]
["Iberia","New Iberia",312,22045031200,"FALSE",0,0,71420210852,"Louisiana",152900,106100,0.69391759319816904,true,{"$f":"IF(M852=TRUE,4,0)","v":4},46710,39059,0.83620209805180901,"",{"$f":"IF(R852=TRUE, 4,0)","v":0},19.600000000000001,24,1.22448979591837,"",1,0,0,1,{"$f":"IF(W852=TRUE, 4,0)","v":0},"NO","NO",4]
["Iberia","New Iberia",313,22045031300,"FALSE",0,0,71420210853,"Louisiana",152900,106100,0.69391759319816904,true,4,46710,39059,0.83620209805180901,"",0,19.600000000000001,24,1.22448979591837,"",1,0,0,1,0,"NO","NO",4]
["Iberia","New Iberia",316,22045031600,"FALSE",0,0,71420210854,"Louisiana",152900,106100,0.69391759319816904,true,4,46710,39059,0.83620209805180901,"",0,19.600000000000001,24,1.22448979591837,"",1,0,0,1,0,"NO","NO",4]
["Iberia","New Iberia",14.1,22055001410,"FALSE",0,0,71420210855,"Louisiana",152900,106100,0.69391759319816904,true,4,46710,39059,0.83620209805180901,"",0,19.600000000000001,24,1.22448979591837,"",1,0,0,1,0,"NO","NO",4]
["Iberia","New Iberia",206,22099020600,"FALSE",0,0,71420210856,"Louisiana",152900,106100,0.69391759319816904,true,4,46710,39059,0.83620209805180901,"",0,19.600000000000001,24,1.22448979591837,"",1,0,0,1,0,"NO","NO",4]
["Iberia","New Iberia",208,22099020800,"FALSE",0,0,71420210857,"Louisiana",152900,106100,0.69391759319816904,true,4,46710,39059,0.83620209805180901,"",0,19.600000000000001,24,1.22448979591837,"",1,0,0,1,0,"NO","NO",4]
["Iberia","New Iberia",209,22099020900,"FALSE",0,0,71420210858,"Louisiana",152900,106100,0.69391759319816904,true,4,46710,39059,0.83620209805180901,"",0,19.600000000000001,24,1.22448979591837,"",1,0,0,1,0,"NO","NO",4]
["Iberia","New Iberia",9509.02,22113950902,"FALSE",0,0,71420210859,"Louisiana",152900,106100,0.69391759319816904,true,4,46710,39059,0.83620209805180901,"",0,19.600000000000001,24,1.22448979591837,"",1,0,0,1,0,"NO","NO",4]
["Iberville","Carville",9532,22047953200,"FALSE",0,0,71420210860,"Louisiana",152900,0,0,"",0,46710,0,0,true,4,19.600000000000001,0,0,"",0,1,0,1,0,"NO","NO",4]
["Iberville","Grosse Tete",9526,22047952600,"TRUE",1,4,71420210861,"Louisiana",152900,102500,0.67037279267495098,true,4,46710,40417,0.86527510169128696,"",0,19.600000000000001,11.8,0.60204081632653095,"",1,0,0,1,0,"NO","NO",8]
["Iberville","Grosse Tete",9527,22047952700,"FALSE",0,0,71420210862,"Louisiana",152900,102500,0.67037279267495098,true,4,46710,40417,0.86527510169128696,"",0,19.600000000000001,11.8,0.60204081632653095,"",1,0,0,1,0,"NO","NO",4]
["Iberville","Maringouin",9526,22047952600,"FALSE",0,0,71420210863,"Louisiana",152900,82200,0.53760627861347299,true,4,46710,38750,0.82958681224577202,"",0,19.600000000000001,18.100000000000001,0.92346938775510201,"",1,0,0,1,0,"NO","NO",4]
["Iberville","Maringouin",9527,22047952700,"FALSE",0,0,71420210864,"Louisiana",152900,82200,0.53760627861347299,true,4,46710,38750,0.82958681224577202,"",0,19.600000000000001,18.100000000000001,0.92346938775510201,"",1,0,0,1,0,"NO","NO",4]
["Iberville","Maringouin",9524,22077952400,"FALSE",0,0,71420210865,"Louisiana",152900,82200,0.53760627861347299,true,4,46710,38750,0.82958681224577202,"",0,19.600000000000001,18.100000000000001,0.92346938775510201,"",1,0,0,1,0,"NO","NO",4]
["Iberville","Plaquemine",9527,22047952700,"FALSE",0,0,71420210866,"Louisiana",152900,145400,0.950948332243296,true,4,46710,47853,1.02447013487476,"",0,19.600000000000001,24.3,1.2397959183673499,"",1,0,0,1,0,"NO","NO",4]
["Iberville","Plaquemine",9529,22047952900,"FALSE",0,0,71420210867,"Louisiana",152900,145400,0.950948332243296,true,4,46710,47853,1.02447013487476,"",0,19.600000000000001,24.3,1.2397959183673499,"",1,0,0,1,0,"NO","NO",4]
["Iberville","Plaquemine",9530,22047953000,"FALSE",0,0,71420210868,"Louisiana",152900,145400,0.950948332243296,true,4,46710,47853,1.02447013487476,"",0,19.600000000000001,24.3,1.2397959183673499,"",1,0,0,1,0,"NO","NO",4]
["Iberville","Plaquemine",9531.01,22047953101,"FALSE",0,0,71420210869,"Louisiana",152900,145400,0.950948332243296,true,4,46710,47853,1.02447013487476,"",0,19.600000000000001,24.3,1.2397959183673499,"",1,0,0,1,0,"NO","NO",4]
["Iberville","Plaquemine",9531.02,22047953102,"FALSE",0,0,71420210870,"Louisiana",152900,145400,0.950948332243296,true,4,46710,47853,1.02447013487476,"",0,19.600000000000001,24.3,1.2397959183673499,"",1,0,0,1,0,"NO","NO",4]
["Iberville","Plaquemine",204.01,22121020401,"FALSE",0,0,71420210871,"Louisiana",152900,145400,0.950948332243296,true,4,46710,47853,1.02447013487476,"",0,19.600000000000001,24.3,1.2397959183673499,"",1,0,0,1,0,"NO","NO",4]
["Iberville","Plaquemine",204.02,22121020402,"FALSE",0,0,71420210872,"Louisiana",152900,145400,0.950948332243296,true,4,46710,47853,1.02447013487476,"",0,19.600000000000001,24.3,1.2397959183673499,"",1,0,0,1,0,"NO","NO",4]
["Iberville","Rosedale",9526,22047952600,"FALSE",0,0,71420210873,"Louisiana",152900,112500,0.73577501635055598,true,4,46710,38000,0.813530293299079,"",0,19.600000000000001,18.899999999999999,0.96428571428571397,"",1,0,0,1,0,"NO","NO",4]
["Iberville","Saint Gabriel",9532,22047953200,"FALSE",0,0,71420210874,"Louisiana",152900,0,0,"",0,46710,0,0,true,4,19.600000000000001,0,0,"",0,1,0,1,0,"NO","NO",4]
["Iberville","Sunshine",9532,22047953200,"FALSE",0,0,71420210875,"Louisiana",152900,0,0,"",0,46710,0,0,true,4,19.600000000000001,0,0,"",0,1,0,1,0,"NO","NO",4]
["Iberville","White Castle",9529,22047952900,"FALSE",0,0,71420210876,"Louisiana",152900,89800,0.58731196860693302,true,4,46710,28177,0.60323271248126697,true,4,19.600000000000001,34.5,1.7602040816326501,true,1,1,1,3,4,"NO","NO",12]
["Iberville","White Castle",9530,22047953000,"FALSE",0,0,71420210877,"Louisiana",152900,89800,0.58731196860693302,true,4,46710,28177,0.60323271248126697,true,4,19.600000000000001,34.5,1.7602040816326501,true,1,1,1,3,4,"NO","NO",12]
["Jackson","Chatham",9701,22049970100,"FALSE",0,0,71420210878,"Louisiana",152900,71000,0.46435578809679501,"",0,46710,20114,0.43061442945835998,true,4,19.600000000000001,39.9,2.03571428571429,true,0,1,1,2,4,"NO","NO",8]
["Jackson","Chatham",9703,22049970300,"FALSE",0,0,71420210879,"Louisiana",152900,71000,0.46435578809679501,"",0,46710,20114,0.43061442945835998,true,4,19.600000000000001,39.9,2.03571428571429,true,0,1,1,2,4,"NO","NO",8]
["Jackson","Eros",9701,22049970100,"FALSE",0,0,71420210880,"Louisiana",152900,82900,0.54218443427076501,true,4,46710,33750,0.72254335260115599,"",0,19.600000000000001,32,1.6326530612244901,true,1,0,1,2,4,"NO","NO",8]
["Jackson","Eros",104,22073010400,"FALSE",0,0,71420210881,"Louisiana",152900,82900,0.54218443427076501,true,4,46710,33750,0.72254335260115599,"",0,19.600000000000001,32,1.6326530612244901,true,1,0,1,2,4,"NO","NO",8]
["Jackson","Eros",105.02,22073010502,"FALSE",0,0,71420210882,"Louisiana",152900,82900,0.54218443427076501,true,4,46710,33750,0.72254335260115599,"",0,19.600000000000001,32,1.6326530612244901,true,1,0,1,2,4,"NO","NO",8]
["Jackson","Eros",105.03,22073010503,"FALSE",0,0,71420210883,"Louisiana",152900,82900,0.54218443427076501,true,4,46710,33750,0.72254335260115599,"",0,19.600000000000001,32,1.6326530612244901,true,1,0,1,2,4,"NO","NO",8]
["Jackson","Eros",105.04,22073010504,"FALSE",0,0,71420210884,"Louisiana",152900,82900,0.54218443427076501,true,{"$f":"IF(M884=TRUE,4,0)","v":4},46710,33750,0.72254335260115599,"",{"$f":"IF(R884=TRUE, 4,0)","v":0},19.600000000000001,32,1.6326530612244901,true,1,0,1,2,{"$f":"IF(W884=TRUE, 4,0)","v":4},"NO","NO",8]
["Jackson","Hodge",9702,22049970200,"FALSE",0,0,71420210885,"Louisiana",152900,151400,0.99018966644865902,true,4,46710,40208,0.860800685078142,"",0,19.600000000000001,26,1.3265306122449001,"",1,0,0,1,0,"NO","NO",4]
["Jackson","Jonesboro",9705,22013970500,"FALSE",0,0,71420210886,"Louisiana",152900,57900,0.37867887508175302,"",0,46710,20164,0.43168486405480599,true,4,19.600000000000001,54.7,2.7908163265306101,true,0,1,1,2,4,"NO","NO",8]
["Jackson","Jonesboro",9702,22049970200,"FALSE",0,0,71420210887,"Louisiana",152900,57900,0.37867887508175302,"",0,46710,20164,0.43168486405480599,true,4,19.600000000000001,54.7,2.7908163265306101,true,0,1,1,2,4,"NO","NO",8]
["Jackson","Jonesboro",9703,22049970300,"FALSE",0,0,71420210888,"Louisiana",152900,57900,0.37867887508175302,"",0,46710,20164,0.43168486405480599,true,4,19.600000000000001,54.7,2.7908163265306101,true,0,1,1,2,4,"NO","NO",8]
["Jackson","Jonesboro",9704,22049970400,"TRUE",1,4,71420210889,"Louisiana",152900,57900,0.37867887508175302,"",0,46710,20164,0.43168486405480599,true,4,19.600000000000001,54.7,2.7908163265306101,true,0,1,1,2,4,"YES","YES",12]
["Jackson","Jonesboro",9705,22049970500,"FALSE",0,0,71420210890,"Louisiana",152900,57900,0.37867887508175302,"",0,46710,20164,0.43168486405480599,true,4,19.600000000000001,54.7,2.7908163265306101,true,0,1,1,2,4,"NO","NO",8]
["Jackson","Quitman",9705,22013970500,"FALSE",0,0,71420210891,"Louisiana",152900,100000,0.65402223675604998,true,4,46710,61250,1.3112823806465399,"",0,19.600000000000001,3,0.15306122448979601,"",1,0,0,1,0,"NO","NO",4]
["Jackson","Quitman",9701,22049970100,"FALSE",0,0,71420210892,"Louisiana",152900,100000,0.65402223675604998,true,4,46710,61250,1.3112823806465399,"",0,19.600000000000001,3,0.15306122448979601,"",1,0,0,1,0,"NO","NO",4]
["Jackson","Quitman",9702,22049970200,"FALSE",0,0,71420210893,"Louisiana",152900,100000,0.65402223675604998,true,4,46710,61250,1.3112823806465399,"",0,19.600000000000001,3,0.15306122448979601,"",1,0,0,1,0,"NO","NO",4]
["Jackson","Quitman",9703,22049970300,"FALSE",0,0,71420210894,"Louisiana",152900,100000,0.65402223675604998,true,4,46710,61250,1.3112823806465399,"",0,19.600000000000001,3,0.15306122448979601,"",1,0,0,1,0,"NO","NO",4]
["Jackson","Quitman",9705,22049970500,"FALSE",0,0,71420210895,"Louisiana",152900,100000,0.65402223675604998,true,4,46710,61250,1.3112823806465399,"",0,19.600000000000001,3,0.15306122448979601,"",1,0,0,1,0,"NO","NO",4]
["Jefferson","Barataria",279.01,22051027901,"FALSE",0,0,71420210896,"Louisiana",152900,112900,0.73839110529758001,true,null,46710,46920,1.00449582530507,"",null,19.600000000000001,8.1,0.41326530612244899,"",1,0,0,1,null,"NO","NO",0]
["Jefferson","Barataria",279.02,22051027902,"FALSE",0,0,71420210897,"Louisiana",152900,112900,0.73839110529758001,true,null,46710,46920,1.00449582530507,"",null,19.600000000000001,8.1,0.41326530612244899,"",1,0,0,1,null,"NO","NO",0]
["Jefferson","Grand Isle",279.02,22051027902,"FALSE",0,0,71420210898,"Louisiana",152900,174500,1.1412688031393099,true,null,46710,37438,0.80149860843502496,"",null,19.600000000000001,17,0.86734693877550995,"",1,0,0,1,null,"NO","NO",0]
["Jefferson","Gretna",250.01,22051025001,"FALSE",0,{"$f":"IF(E899=\"TRUE\",4,0)","v":0},71420210899,"Louisiana",152900,167200,1.0935251798561201,{"$f":"IF(L899>=50%,TRUE,\"\")","v":true},null,46710,41260,0.88332262898736902,{"$f":"IF(Q899<=65%,TRUE,\"\")","v":""},null,19.600000000000001,20,1.0204081632653099,{"$f":"IF(V899>=1.5,TRUE,\"\")","v":""},{"$f":"IF(M899=TRUE,1,0)","v":1},{"$f":"IF(R899=TRUE,1,0)","v":0},{"$f":"IF(W899=TRUE,1,0)","v":0},{"$f":"SUM(X899:Z899)","v":1},null,{"$f":"IF(AND(E899=\"TRUE\",AA899>1),\"YES\",\"NO\")","v":"NO"},{"$f":"IF(AND(F899=1,AA899>1), \"YES\",\"NO\")","v":"NO"},{"$f":"+G899+N899+S899+AB899","v":0}]
["Jefferson","Gretna",250.02,22051025002,"FALSE",0,0,71420210900,"Louisiana",152900,167200,1.0935251798561201,true,null,46710,41260,0.88332262898736902,"",null,19.600000000000001,20,1.0204081632653099,"",1,0,0,1,null,"NO","NO",0]
["Jefferson","Gretna",250.03,22051025003,"FALSE",0,0,71420210901,"Louisiana",152900,167200,1.0935251798561201,true,null,46710,41260,0.88332262898736902,"",null,19.600000000000001,20,1.0204081632653099,"",1,0,0,1,null,"NO","NO",0]
["Jefferson","Gretna",251.02,22051025102,"FALSE",0,0,71420210902,"Louisiana",152900,167200,1.0935251798561201,true,null,46710,41260,0.88332262898736902,"",null,19.600000000000001,20,1.0204081632653099,"",1,0,0,1,null,"NO","NO",0]
["Jefferson","Gretna",251.03,22051025103,"FALSE",0,0,71420210903,"Louisiana",152900,167200,1.0935251798561201,true,null,46710,41260,0.88332262898736902,"",null,19.600000000000001,20,1.0204081632653099,"",1,0,0,1,null,"NO","NO",0]
["Jefferson","Gretna",251.04,22051025104,"FALSE",0,0,71420210904,"Louisiana",152900,167200,1.0935251798561201,true,null,46710,41260,0.88332262898736902,"",null,19.600000000000001,20,1.0204081632653099,"",1,0,0,1,null,"NO","NO",0]
["Jefferson","Gretna",252.01,22051025201,"TRUE",0,4,71420210905,"Louisiana",152900,167200,1.0935251798561201,true,null,46710,41260,0.88332262898736902,"",null,19.600000000000001,20,1.0204081632653099,"",1,0,0,1,null,"NO","NO",4]
["Jefferson","Gretna",252.01,22051025201,"TRUE",0,4,71420210906,"Louisiana",152900,167200,1.0935251798561201,true,null,46710,41260,0.88332262898736902,"",null,19.600000000000001,20,1.0204081632653099,"",1,0,0,1,null,"NO","NO",4]
["Jefferson","Gretna",252.02,22051025202,"FALSE",0,0,71420210907,"Louisiana",152900,167200,1.0935251798561201,true,null,46710,41260,0.88332262898736902,"",null,19.600000000000001,20,1.0204081632653099,"",1,0,0,1,null,"NO","NO",0]
["Jefferson","Gretna",253,22051025300,"FALSE",0,0,71420210908,"Louisiana",152900,167200,1.0935251798561201,true,null,46710,41260,0.88332262898736902,"",null,19.600000000000001,20,1.0204081632653099,"",1,0,0,1,null,"NO","NO",0]
["Jefferson","Gretna",253,22051025300,"FALSE",0,0,71420210909,"Louisiana",152900,167200,1.0935251798561201,true,null,46710,41260,0.88332262898736902,"",null,19.600000000000001,20,1.0204081632653099,"",1,0,0,1,null,"NO","NO",0]
["Jefferson","Gretna",253,22051025300,"FALSE",0,0,71420210910,"Louisiana",152900,167200,1.0935251798561201,true,null,46710,41260,0.88332262898736902,"",null,19.600000000000001,20,1.0204081632653099,"",1,0,0,1,null,"NO","NO",0]
["Jefferson","Gretna",254,22051025400,"FALSE",0,0,71420210911,"Louisiana",152900,167200,1.0935251798561201,true,null,46710,41260,0.88332262898736902,"",null,19.600000000000001,20,1.0204081632653099,"",1,0,0,1,null,"NO","NO",0]
["Jefferson","Gretna",255,22051025500,"TRUE",1,4,71420210912,"Louisiana",152900,167200,1.0935251798561201,true,null,46710,41260,0.88332262898736902,"",null,19.600000000000001,20,1.0204081632653099,"",1,0,0,1,null,"NO","NO",4]
["Jefferson","Gretna",256,22051025600,"FALSE",0,0,71420210913,"Louisiana",152900,167200,1.0935251798561201,true,null,46710,41260,0.88332262898736902,"",null,19.600000000000001,20,1.0204081632653099,"",1,0,0,1,null,"NO","NO",0]
["Jefferson","Gretna",257,22051025700,"TRUE",0,4,71420210914,"Louisiana",152900,167200,1.0935251798561201,true,null,46710,41260,0.88332262898736902,"",null,19.600000000000001,20,1.0204081632653099,"",1,0,0,1,null,"NO","NO",4]
["Jefferson","Gretna",257,22051025700,"TRUE",1,4,71420210915,"Louisiana",152900,167200,1.0935251798561201,true,null,46710,41260,0.88332262898736902,"",null,19.600000000000001,20,1.0204081632653099,"",1,0,0,1,null,"NO","NO",4]
["Jefferson","Gretna",258,22051025800,"TRUE",1,4,71420210916,"Louisiana",152900,167200,1.0935251798561201,true,null,46710,41260,0.88332262898736902,"",null,19.600000000000001,20,1.0204081632653099,"",1,0,0,1,null,"NO","NO",4]
["Jefferson","Gretna",259,22051025900,"TRUE",0,4,71420210917,"Louisiana",152900,167200,1.0935251798561201,true,null,46710,41260,0.88332262898736902,"",null,19.600000000000001,20,1.0204081632653099,"",1,0,0,1,null,"NO","NO",4]
["Jefferson","Gretna",259,22051025900,"TRUE",0,4,71420210918,"Louisiana",152900,167200,1.0935251798561201,true,null,46710,41260,0.88332262898736902,"",null,19.600000000000001,20,1.0204081632653099,"",1,0,0,1,null,"NO","NO",4]
["Jefferson","Gretna",278.04000000000002,22051027804,"FALSE",0,0,71420210919,"Louisiana",152900,167200,1.0935251798561201,true,null,46710,41260,0.88332262898736902,"",null,19.600000000000001,20,1.0204081632653099,"",1,0,0,1,null,"NO","NO",0]
["Jefferson","Gretna",6.01,22071000601,"TRUE",1,4,71420210920,"Louisiana",152900,167200,1.0935251798561201,true,null,46710,41260,0.88332262898736902,"",null,19.600000000000001,20,1.0204081632653099,"",1,0,0,1,null,"NO","NO",4]
["Jefferson","Harvey",254,22051025400,"FALSE",0,0,71420210921,"Louisiana",152900,134600,0.88031393067364305,true,null,46710,40068,0.85780346820809295,"",null,19.600000000000001,20.2,1.03061224489796,"",1,0,0,1,null,"NO","NO",0]
["Jefferson","Harvey",255,22051025500,"TRUE",0,4,71420210922,"Louisiana",152900,134600,0.88031393067364305,true,null,46710,40068,0.85780346820809295,"",null,19.600000000000001,20.2,1.03061224489796,"",1,0,0,1,null,"NO","NO",4]
["Jefferson","Harvey",256,22051025600,"FALSE",0,0,71420210923,"Louisiana",152900,134600,0.88031393067364305,true,null,46710,40068,0.85780346820809295,"",null,19.600000000000001,20.2,1.03061224489796,"",1,0,0,1,null,"NO","NO",0]
["Jefferson","Harvey",260,22051026000,"FALSE",0,0,71420210924,"Louisiana",152900,134600,0.88031393067364305,true,null,46710,40068,0.85780346820809295,"",null,19.600000000000001,20.2,1.03061224489796,"",1,0,0,1,null,"NO","NO",0]
["Jefferson","Harvey",261,22051026100,"TRUE",0,4,71420210925,"Louisiana",152900,134600,0.88031393067364305,true,null,46710,40068,0.85780346820809295,"",null,19.600000000000001,20.2,1.03061224489796,"",1,0,0,1,null,"NO","NO",4]
["Jefferson","Harvey",262,22051026200,"TRUE",0,4,71420210926,"Louisiana",152900,134600,0.88031393067364305,true,null,46710,40068,0.85780346820809295,"",null,19.600000000000001,20.2,1.03061224489796,"",1,0,0,1,null,"NO","NO",4]
["Jefferson","Harvey",263,22051026300,"FALSE",0,0,71420210927,"Louisiana",152900,134600,0.88031393067364305,true,null,46710,40068,0.85780346820809295,"",null,19.600000000000001,20.2,1.03061224489796,"",1,0,0,1,null,"NO","NO",0]
["Jefferson","Harvey",264,22051026400,"FALSE",0,0,71420210928,"Louisiana",152900,134600,0.88031393067364305,true,null,46710,40068,0.85780346820809295,"",null,19.600000000000001,20.2,1.03061224489796,"",1,0,0,1,null,"NO","NO",0]
["Jefferson","Harvey",278.02999999999997,22051027803,"TRUE",0,4,71420210929,"Louisiana",152900,134600,0.88031393067364305,true,null,46710,40068,0.85780346820809295,"",null,19.600000000000001,20.2,1.03061224489796,"",1,0,0,1,null,"NO","NO",4]
["Jefferson","Harvey",278.04000000000002,22051027804,"FALSE",0,0,71420210930,"Louisiana",152900,134600,0.88031393067364305,true,null,46710,40068,0.85780346820809295,"",null,19.600000000000001,20.2,1.03061224489796,"",1,0,0,1,null,"NO","NO",0]
["Jefferson","Harvey",278.04000000000002,22051027804,"FALSE",0,0,71420210931,"Louisiana",152900,134600,0.88031393067364305,true,null,46710,40068,0.85780346820809295,"",null,19.600000000000001,20.2,1.03061224489796,"",1,0,0,1,null,"NO","NO",0]
["Jefferson","Harvey",278.05,22051027805,"FALSE",0,0,71420210932,"Louisiana",152900,134600,0.88031393067364305,true,null,46710,40068,0.85780346820809295,"",null,19.600000000000001,20.2,1.03061224489796,"",1,0,0,1,null,"NO","NO",0]
["Jefferson","Harvey",278.07,22051027807,"FALSE",0,0,71420210933,"Louisiana",152900,134600,0.88031393067364305,true,null,46710,40068,0.85780346820809295,"",null,19.600000000000001,20.2,1.03061224489796,"",1,0,0,1,null,"NO","NO",0]
["Jefferson","Harvey",278.10000000000002,22051027810,"FALSE",0,0,71420210934,"Louisiana",152900,134600,0.88031393067364305,true,null,46710,40068,0.85780346820809295,"",null,19.600000000000001,20.2,1.03061224489796,"",1,0,0,1,null,"NO","NO",0]
["Jefferson","Harvey",278.11,22051027811,"FALSE",0,0,71420210935,"Louisiana",152900,134600,0.88031393067364305,true,null,46710,40068,0.85780346820809295,"",null,19.600000000000001,20.2,1.03061224489796,"",1,0,0,1,null,"NO","NO",0]
["Jefferson","Harvey",278.12,22051027812,"TRUE",0,4,71420210936,"Louisiana",152900,134600,0.88031393067364305,true,null,46710,40068,0.85780346820809295,"",null,19.600000000000001,20.2,1.03061224489796,"",1,0,0,1,null,"NO","NO",4]
["Jefferson","Kenner",205.02,22051020502,"FALSE",0,0,71420210937,"Louisiana",152900,170900,1.11772400261609,true,null,46710,53336,1.14185399272104,"",null,19.600000000000001,16,0.81632653061224503,"",1,0,0,1,null,"NO","NO",0]
["Jefferson","Kenner",205.02,22051020502,"FALSE",0,0,71420210938,"Louisiana",152900,170900,1.11772400261609,true,null,46710,53336,1.14185399272104,"",null,19.600000000000001,16,0.81632653061224503,"",1,0,0,1,null,"NO","NO",0]
["Jefferson","Kenner",205.05,22051020505,"FALSE",0,0,71420210939,"Louisiana",152900,170900,1.11772400261609,true,null,46710,53336,1.14185399272104,"",null,19.600000000000001,16,0.81632653061224503,"",1,0,0,1,null,"NO","NO",0]
["Jefferson","Kenner",205.06,22051020506,"FALSE",0,0,71420210940,"Louisiana",152900,170900,1.11772400261609,true,null,46710,53336,1.14185399272104,"",null,19.600000000000001,16,0.81632653061224503,"",1,0,0,1,null,"NO","NO",0]
["Jefferson","Kenner",205.06,22051020506,"FALSE",0,0,71420210941,"Louisiana",152900,170900,1.11772400261609,true,null,46710,53336,1.14185399272104,"",null,19.600000000000001,16,0.81632653061224503,"",1,0,0,1,null,"NO","NO",0]
["Jefferson","Kenner",205.07,22051020507,"FALSE",0,0,71420210942,"Louisiana",152900,170900,1.11772400261609,true,null,46710,53336,1.14185399272104,"",null,19.600000000000001,16,0.81632653061224503,"",1,0,0,1,null,"NO","NO",0]
["Jefferson","Kenner",205.08,22051020508,"FALSE",0,0,71420210943,"Louisiana",152900,170900,1.11772400261609,true,null,46710,53336,1.14185399272104,"",null,19.600000000000001,16,0.81632653061224503,"",1,0,0,1,null,"NO","NO",0]
["Jefferson","Kenner",205.08,22051020508,"FALSE",0,0,71420210944,"Louisiana",152900,170900,1.11772400261609,true,null,46710,53336,1.14185399272104,"",null,19.600000000000001,16,0.81632653061224503,"",1,0,0,1,null,"NO","NO",0]
["Jefferson","Kenner",205.11,22051020511,"FALSE",0,0,71420210945,"Louisiana",152900,170900,1.11772400261609,true,null,46710,53336,1.14185399272104,"",null,19.600000000000001,16,0.81632653061224503,"",1,0,0,1,null,"NO","NO",0]
["Jefferson","Kenner",205.12,22051020512,"FALSE",0,0,71420210946,"Louisiana",152900,170900,1.11772400261609,true,null,46710,53336,1.14185399272104,"",null,19.600000000000001,16,0.81632653061224503,"",1,0,0,1,null,"NO","NO",0]
["Jefferson","Kenner",205.13,22051020513,"FALSE",0,0,71420210947,"Louisiana",152900,170900,1.11772400261609,true,null,46710,53336,1.14185399272104,"",null,19.600000000000001,16,0.81632653061224503,"",1,0,0,1,null,"NO","NO",0]
["Jefferson","Kenner",205.14,22051020514,"FALSE",0,0,71420210948,"Louisiana",152900,170900,1.11772400261609,true,null,46710,53336,1.14185399272104,"",null,19.600000000000001,16,0.81632653061224503,"",1,0,0,1,null,"NO","NO",0]
["Jefferson","Kenner",205.15,22051020515,"FALSE",0,0,71420210949,"Louisiana",152900,170900,1.11772400261609,true,null,46710,53336,1.14185399272104,"",null,19.600000000000001,16,0.81632653061224503,"",1,0,0,1,null,"NO","NO",0]
["Jefferson","Kenner",205.16,22051020516,"FALSE",0,0,71420210950,"Louisiana",152900,170900,1.11772400261609,true,null,46710,53336,1.14185399272104,"",null,19.600000000000001,16,0.81632653061224503,"",1,0,0,1,null,"NO","NO",0]
["Jefferson","Kenner",205.17,22051020517,"FALSE",0,0,71420210951,"Louisiana",152900,170900,1.11772400261609,true,null,46710,53336,1.14185399272104,"",null,19.600000000000001,16,0.81632653061224503,"",1,0,0,1,null,"NO","NO",0]
["Jefferson","Kenner",206,22051020600,"TRUE",0,4,71420210952,"Louisiana",152900,170900,1.11772400261609,true,null,46710,53336,1.14185399272104,"",null,19.600000000000001,16,0.81632653061224503,"",1,0,0,1,null,"NO","NO",4]
["Jefferson","Kenner",207,22051020700,"TRUE",0,4,71420210953,"Louisiana",152900,170900,1.11772400261609,true,null,46710,53336,1.14185399272104,"",null,19.600000000000001,16,0.81632653061224503,"",1,0,0,1,null,"NO","NO",4]
["Jefferson","Kenner",210,22051021000,"FALSE",0,0,71420210954,"Louisiana",152900,170900,1.11772400261609,true,null,46710,53336,1.14185399272104,"",null,19.600000000000001,16,0.81632653061224503,"",1,0,0,1,null,"NO","NO",0]
["Jefferson","Kenner",211,22051021100,"FALSE",0,0,71420210955,"Louisiana",152900,170900,1.11772400261609,true,null,46710,53336,1.14185399272104,"",null,19.600000000000001,16,0.81632653061224503,"",1,0,0,1,null,"NO","NO",0]
["Jefferson","Kenner",212,22051021200,"FALSE",0,0,71420210956,"Louisiana",152900,170900,1.11772400261609,true,null,46710,53336,1.14185399272104,"",null,19.600000000000001,16,0.81632653061224503,"",1,0,0,1,null,"NO","NO",0]
["Jefferson","Kenner",212,22051021200,"FALSE",0,0,71420210957,"Louisiana",152900,170900,1.11772400261609,true,null,46710,53336,1.14185399272104,"",null,19.600000000000001,16,0.81632653061224503,"",1,0,0,1,null,"NO","NO",0]
["Jefferson","Kenner",212,22051021200,"FALSE",0,0,71420210958,"Louisiana",152900,170900,1.11772400261609,true,null,46710,53336,1.14185399272104,"",null,19.600000000000001,16,0.81632653061224503,"",1,0,0,1,null,"NO","NO",0]
["Jefferson","Kenner",213,22051021300,"FALSE",0,0,71420210959,"Louisiana",152900,170900,1.11772400261609,true,null,46710,53336,1.14185399272104,"",null,19.600000000000001,16,0.81632653061224503,"",1,0,0,1,null,"NO","NO",0]
["Jefferson","Kenner",213,22051021300,"FALSE",0,0,71420210960,"Louisiana",152900,170900,1.11772400261609,true,null,46710,53336,1.14185399272104,"",null,19.600000000000001,16,0.81632653061224503,"",1,0,0,1,null,"NO","NO",0]
["Jefferson","Kenner",235,22051023500,"FALSE",0,0,71420210961,"Louisiana",152900,170900,1.11772400261609,true,null,46710,53336,1.14185399272104,"",null,19.600000000000001,16,0.81632653061224503,"",1,0,0,1,null,"NO","NO",0]
["Jefferson","Kenner",237,22051023700,"TRUE",1,4,71420210962,"Louisiana",152900,170900,1.11772400261609,true,null,46710,53336,1.14185399272104,"",null,19.600000000000001,16,0.81632653061224503,"",1,0,0,1,null,"NO","NO",4]
["Jefferson","Kenner",238,22051023800,"FALSE",0,{"$f":"IF(E963=\"TRUE\",4,0)","v":0},71420210963,"Louisiana",152900,170900,1.11772400261609,{"$f":"IF(L963>=50%,TRUE,\"\")","v":true},null,46710,53336,1.14185399272104,{"$f":"IF(Q963<=65%,TRUE,\"\")","v":""},null,19.600000000000001,16,0.81632653061224503,{"$f":"IF(V963>=1.5,TRUE,\"\")","v":""},{"$f":"IF(M963=TRUE,1,0)","v":1},{"$f":"IF(R963=TRUE,1,0)","v":0},{"$f":"IF(W963=TRUE,1,0)","v":0},{"$f":"SUM(X963:Z963)","v":1},null,{"$f":"IF(AND(E963=\"TRUE\",AA963>1),\"YES\",\"NO\")","v":"NO"},{"$f":"IF(AND(F963=1,AA963>1), \"YES\",\"NO\")","v":"NO"},{"$f":"+G963+N963+S963+AB963","v":0}]
["Jefferson","Kenner",281,22051028100,"TRUE",0,4,71420210964,"Louisiana",152900,170900,1.11772400261609,true,null,46710,53336,1.14185399272104,"",null,19.600000000000001,16,0.81632653061224503,"",1,0,0,1,null,"NO","NO",4]
["Jefferson","Kenner",9800,22051980000,"FALSE",0,0,71420210965,"Louisiana",152900,170900,1.11772400261609,true,null,46710,53336,1.14185399272104,"",null,19.600000000000001,16,0.81632653061224503,"",1,0,0,1,null,"NO","NO",0]
["Jefferson","Lafitte",279.01,22051027901,"TRUE",1,4,71420210966,"Louisiana",152900,174000,1.1379986919555301,true,{"$f":"IF(M966=TRUE,4,0)","v":4},46710,40859,0.87473774352387101,"",{"$f":"IF(R966=TRUE, 4,0)","v":0},19.600000000000001,33.200000000000003,1.69387755102041,true,1,0,1,2,{"$f":"IF(W966=TRUE, 4,0)","v":4},"YES","YES",12]
["Jefferson","Lafitte",279.02,22051027902,"TRUE",1,4,71420210967,"Louisiana",152900,174000,1.1379986919555301,true,{"$f":"IF(M967=TRUE,4,0)","v":4},46710,40859,0.87473774352387101,"",{"$f":"IF(R967=TRUE, 4,0)","v":0},19.600000000000001,33.200000000000003,1.69387755102041,true,1,0,1,2,{"$f":"IF(W967=TRUE, 4,0)","v":4},"YES","YES",12]
["Jefferson","Marrero",263,22051026300,"FALSE",0,0,71420210968,"Louisiana",152900,130700,0.854807063440157,true,null,46710,36791,0.78764718475701101,"",null,19.600000000000001,24.7,1.2602040816326501,"",1,0,0,1,null,"NO","NO",0]
["Jefferson","Marrero",264,22051026400,"FALSE",0,0,71420210969,"Louisiana",152900,130700,0.854807063440157,true,null,46710,36791,0.78764718475701101,"",null,19.600000000000001,24.7,1.2602040816326501,"",1,0,0,1,null,"NO","NO",0]
["Jefferson","Marrero",265,22051026500,"TRUE",1,4,71420210970,"Louisiana",152900,130700,0.854807063440157,true,null,46710,36791,0.78764718475701101,"",null,19.600000000000001,24.7,1.2602040816326501,"",1,0,0,1,null,"NO","NO",4]
["Jefferson","Marrero",266,22051026600,"TRUE",1,4,71420210971,"Louisiana",152900,130700,0.854807063440157,true,null,46710,36791,0.78764718475701101,"",null,19.600000000000001,24.7,1.2602040816326501,"",1,0,0,1,null,"NO","NO",4]
["Jefferson","Marrero",267,22051026700,"FALSE",0,0,71420210972,"Louisiana",152900,130700,0.854807063440157,true,null,46710,36791,0.78764718475701101,"",null,19.600000000000001,24.7,1.2602040816326501,"",1,0,0,1,null,"NO","NO",0]
["Jefferson","Marrero",268,22051026800,"TRUE",0,4,71420210973,"Louisiana",152900,130700,0.854807063440157,true,null,46710,36791,0.78764718475701101,"",null,19.600000000000001,24.7,1.2602040816326501,"",1,0,0,1,null,"NO","NO",4]
["Jefferson","Marrero",269,22051026900,"TRUE",0,4,71420210974,"Louisiana",152900,130700,0.854807063440157,true,null,46710,36791,0.78764718475701101,"",null,19.600000000000001,24.7,1.2602040816326501,"",1,0,0,1,null,"NO","NO",4]
["Jefferson","Marrero",270,22051027000,"FALSE",0,0,71420210975,"Louisiana",152900,130700,0.854807063440157,true,null,46710,36791,0.78764718475701101,"",null,19.600000000000001,24.7,1.2602040816326501,"",1,0,0,1,null,"NO","NO",0]
["Jefferson","Marrero",277.01,22051027701,"TRUE",0,4,71420210976,"Louisiana",152900,130700,0.854807063440157,true,null,46710,36791,0.78764718475701101,"",null,19.600000000000001,24.7,1.2602040816326501,"",1,0,0,1,null,"NO","NO",4]
["Jefferson","Marrero",277.02999999999997,22051027703,"FALSE",0,0,71420210977,"Louisiana",152900,130700,0.854807063440157,true,null,46710,36791,0.78764718475701101,"",null,19.600000000000001,24.7,1.2602040816326501,"",1,0,0,1,null,"NO","NO",0]
["Jefferson","Marrero",278.06,22051027806,"FALSE",0,0,71420210978,"Louisiana",152900,130700,0.854807063440157,true,null,46710,36791,0.78764718475701101,"",null,19.600000000000001,24.7,1.2602040816326501,"",1,0,0,1,null,"NO","NO",0]
["Jefferson","Marrero",278.06,22051027806,"FALSE",0,0,71420210979,"Louisiana",152900,130700,0.854807063440157,true,null,46710,36791,0.78764718475701101,"",null,19.600000000000001,24.7,1.2602040816326501,"",1,0,0,1,null,"NO","NO",0]
["Jefferson","Marrero",278.07,22051027807,"FALSE",0,0,71420210980,"Louisiana",152900,130700,0.854807063440157,true,null,46710,36791,0.78764718475701101,"",null,19.600000000000001,24.7,1.2602040816326501,"",1,0,0,1,null,"NO","NO",0]
["Jefferson","Marrero",278.08999999999997,22051027809,"FALSE",0,0,71420210981,"Louisiana",152900,130700,0.854807063440157,true,null,46710,36791,0.78764718475701101,"",null,19.600000000000001,24.7,1.2602040816326501,"",1,0,0,1,null,"NO","NO",0]
["Jefferson","Marrero",280,22051028000,"FALSE",0,0,71420210982,"Louisiana",152900,130700,0.854807063440157,true,null,46710,36791,0.78764718475701101,"",null,19.600000000000001,24.7,1.2602040816326501,"",1,0,0,1,null,"NO","NO",0]
["Jefferson","Marrero",282,22051028200,"FALSE",0,0,71420210983,"Louisiana",152900,130700,0.854807063440157,true,null,46710,36791,0.78764718475701101,"",null,19.600000000000001,24.7,1.2602040816326501,"",1,0,0,1,null,"NO","NO",0]
["Jefferson","Metairie",201.01,22051020101,"TRUE",1,4,71420210984,"Louisiana",152900,223000,1.4584695879659899,true,null,46710,55221,1.1822093770070601,"",null,19.600000000000001,12.5,0.63775510204081598,"",1,0,0,1,null,"NO","NO",4]
["Jefferson","Metairie",201.02,22051020102,"FALSE",0,0,71420210985,"Louisiana",152900,223000,1.4584695879659899,true,null,46710,55221,1.1822093770070601,"",null,19.600000000000001,12.5,0.63775510204081598,"",1,0,0,1,null,"NO","NO",0]
["Jefferson","Metairie",201.02,22051020102,"FALSE",0,0,71420210986,"Louisiana",152900,223000,1.4584695879659899,true,null,46710,55221,1.1822093770070601,"",null,19.600000000000001,12.5,0.63775510204081598,"",1,0,0,1,null,"NO","NO",0]
["Jefferson","Metairie",202.01,22051020201,"FALSE",0,0,71420210987,"Louisiana",152900,223000,1.4584695879659899,true,null,46710,55221,1.1822093770070601,"",null,19.600000000000001,12.5,0.63775510204081598,"",1,0,0,1,null,"NO","NO",0]
["Jefferson","Metairie",202.01,22051020201,"FALSE",0,0,71420210988,"Louisiana",152900,223000,1.4584695879659899,true,null,46710,55221,1.1822093770070601,"",null,19.600000000000001,12.5,0.63775510204081598,"",1,0,0,1,null,"NO","NO",0]
["Jefferson","Metairie",202.01,22051020201,"FALSE",0,0,71420210989,"Louisiana",152900,223000,1.4584695879659899,true,null,46710,55221,1.1822093770070601,"",null,19.600000000000001,12.5,0.63775510204081598,"",1,0,0,1,null,"NO","NO",0]
["Jefferson","Metairie",202.01,22051020201,"TRUE",1,4,71420210990,"Louisiana",152900,223000,1.4584695879659899,true,null,46710,55221,1.1822093770070601,"",null,19.600000000000001,12.5,0.63775510204081598,"",1,0,0,1,null,"NO","NO",4]
["Jefferson","Metairie",202.02,22051020202,"FALSE",0,0,71420210991,"Louisiana",152900,223000,1.4584695879659899,true,null,46710,55221,1.1822093770070601,"",null,19.600000000000001,12.5,0.63775510204081598,"",1,0,0,1,null,"NO","NO",0]
["Jefferson","Metairie",202.03,22051020203,"TRUE",1,4,71420210992,"Louisiana",152900,223000,1.4584695879659899,true,null,46710,55221,1.1822093770070601,"",null,19.600000000000001,12.5,0.63775510204081598,"",1,0,0,1,null,"NO","NO",4]
["Jefferson","Metairie",203.01,22051020301,"FALSE",0,0,71420210993,"Louisiana",152900,223000,1.4584695879659899,true,null,46710,55221,1.1822093770070601,"",null,19.600000000000001,12.5,0.63775510204081598,"",1,0,0,1,null,"NO","NO",0]
["Jefferson","Metairie",203.01,22051020301,"TRUE",1,4,71420210994,"Louisiana",152900,223000,1.4584695879659899,true,null,46710,55221,1.1822093770070601,"",null,19.600000000000001,12.5,0.63775510204081598,"",1,0,0,1,null,"NO","NO",4]
["Jefferson","Metairie",203.02,22051020302,"TRUE",1,4,71420210995,"Louisiana",152900,223000,1.4584695879659899,true,null,46710,55221,1.1822093770070601,"",null,19.600000000000001,12.5,0.63775510204081598,"",1,0,0,1,null,"NO","NO",4]
["Jefferson","Metairie",203.02,22051020302,"TRUE",1,4,71420210996,"Louisiana",152900,223000,1.4584695879659899,true,null,46710,55221,1.1822093770070601,"",null,19.600000000000001,12.5,0.63775510204081598,"",1,0,0,1,null,"NO","NO",4]
["Jefferson","Metairie",203.03,22051020303,"FALSE",0,0,71420210997,"Louisiana",152900,223000,1.4584695879659899,true,null,46710,55221,1.1822093770070601,"",null,19.600000000000001,12.5,0.63775510204081598,"",1,0,0,1,null,"NO","NO",0]
["Jefferson","Metairie",203.03,22051020303,"TRUE",1,4,71420210998,"Louisiana",152900,223000,1.4584695879659899,true,null,46710,55221,1.1822093770070601,"",null,19.600000000000001,12.5,0.63775510204081598,"",1,0,0,1,null,"NO","NO",4]
["Jefferson","Metairie",204,22051020400,"TRUE",1,4,71420210999,"Louisiana",152900,223000,1.4584695879659899,true,null,46710,55221,1.1822093770070601,"",null,19.600000000000001,12.5,0.63775510204081598,"",1,0,0,1,null,"NO","NO",4]
["Jefferson","Metairie",205.06,22051020506,"FALSE",0,0,71420211000,"Louisiana",152900,223000,1.4584695879659899,true,null,46710,55221,1.1822093770070601,"",null,19.600000000000001,12.5,0.63775510204081598,"",1,0,0,1,null,"NO","NO",0]
["Jefferson","Metairie",205.14,22051020514,"FALSE",0,0,71420211001,"Louisiana",152900,223000,1.4584695879659899,true,null,46710,55221,1.1822093770070601,"",null,19.600000000000001,12.5,0.63775510204081598,"",1,0,0,1,null,"NO","NO",0]
["Jefferson","Metairie",212,22051021200,"TRUE",1,4,71420211002,"Louisiana",152900,223000,1.4584695879659899,true,null,46710,55221,1.1822093770070601,"",null,19.600000000000001,12.5,0.63775510204081598,"",1,0,0,1,null,"NO","NO",4]
["Jefferson","Metairie",213,22051021300,"TRUE",1,4,71420211003,"Louisiana",152900,223000,1.4584695879659899,true,null,46710,55221,1.1822093770070601,"",null,19.600000000000001,12.5,0.63775510204081598,"",1,0,0,1,null,"NO","NO",4]
["Jefferson","Metairie",213,22051021300,"FALSE",0,0,71420211004,"Louisiana",152900,223000,1.4584695879659899,true,null,46710,55221,1.1822093770070601,"",null,19.600000000000001,12.5,0.63775510204081598,"",1,0,0,1,null,"NO","NO",0]
["Jefferson","Metairie",214,22051021400,"FALSE",0,0,71420211005,"Louisiana",152900,223000,1.4584695879659899,true,null,46710,55221,1.1822093770070601,"",null,19.600000000000001,12.5,0.63775510204081598,"",1,0,0,1,null,"NO","NO",0]
["Jefferson","Metairie",215,22051021500,"TRUE",0,4,71420211006,"Louisiana",152900,223000,1.4584695879659899,true,null,46710,55221,1.1822093770070601,"",null,19.600000000000001,12.5,0.63775510204081598,"",1,0,0,1,null,"NO","NO",4]
["Jefferson","Metairie",216,22051021600,"TRUE",1,4,71420211007,"Louisiana",152900,223000,1.4584695879659899,true,null,46710,55221,1.1822093770070601,"",null,19.600000000000001,12.5,0.63775510204081598,"",1,0,0,1,null,"NO","NO",4]
["Jefferson","Metairie",216,22051021600,"FALSE",0,0,71420211008,"Louisiana",152900,223000,1.4584695879659899,true,null,46710,55221,1.1822093770070601,"",null,19.600000000000001,12.5,0.63775510204081598,"",1,0,0,1,null,"NO","NO",0]
["Jefferson","Metairie",216,22051021600,"FALSE",0,0,71420211009,"Louisiana",152900,223000,1.4584695879659899,true,null,46710,55221,1.1822093770070601,"",null,19.600000000000001,12.5,0.63775510204081598,"",1,0,0,1,null,"NO","NO",0]
["Jefferson","Metairie",217,22051021700,"FALSE",0,0,71420211010,"Louisiana",152900,223000,1.4584695879659899,true,null,46710,55221,1.1822093770070601,"",null,19.600000000000001,12.5,0.63775510204081598,"",1,0,0,1,null,"NO","NO",0]
["Jefferson","Metairie",217,22051021700,"FALSE",0,0,71420211011,"Louisiana",152900,223000,1.4584695879659899,true,null,46710,55221,1.1822093770070601,"",null,19.600000000000001,12.5,0.63775510204081598,"",1,0,0,1,null,"NO","NO",0]
["Jefferson","Metairie",218.01,22051021801,"FALSE",0,0,71420211012,"Louisiana",152900,223000,1.4584695879659899,true,null,46710,55221,1.1822093770070601,"",null,19.600000000000001,12.5,0.63775510204081598,"",1,0,0,1,null,"NO","NO",0]
["Jefferson","Metairie",218.01,22051021801,"FALSE",0,0,71420211013,"Louisiana",152900,223000,1.4584695879659899,true,null,46710,55221,1.1822093770070601,"",null,19.600000000000001,12.5,0.63775510204081598,"",1,0,0,1,null,"NO","NO",0]
["Jefferson","Metairie",218.03,22051021803,"TRUE",1,4,71420211014,"Louisiana",152900,223000,1.4584695879659899,true,null,46710,55221,1.1822093770070601,"",null,19.600000000000001,12.5,0.63775510204081598,"",1,0,0,1,null,"NO","NO",4]
["Jefferson","Metairie",218.04,22051021804,"FALSE",0,0,71420211015,"Louisiana",152900,223000,1.4584695879659899,true,null,46710,55221,1.1822093770070601,"",null,19.600000000000001,12.5,0.63775510204081598,"",1,0,0,1,null,"NO","NO",0]
["Jefferson","Metairie",218.04,22051021804,"TRUE",1,4,71420211016,"Louisiana",152900,223000,1.4584695879659899,true,null,46710,55221,1.1822093770070601,"",null,19.600000000000001,12.5,0.63775510204081598,"",1,0,0,1,null,"NO","NO",4]
["Jefferson","Metairie",219,22051021900,"FALSE",0,0,71420211017,"Louisiana",152900,223000,1.4584695879659899,true,null,46710,55221,1.1822093770070601,"",null,19.600000000000001,12.5,0.63775510204081598,"",1,0,0,1,null,"NO","NO",0]
["Jefferson","Metairie",220.01,22051022001,"FALSE",0,0,71420211018,"Louisiana",152900,223000,1.4584695879659899,true,null,46710,55221,1.1822093770070601,"",null,19.600000000000001,12.5,0.63775510204081598,"",1,0,0,1,null,"NO","NO",0]
["Jefferson","Metairie",220.01,22051022001,"TRUE",1,4,71420211019,"Louisiana",152900,223000,1.4584695879659899,true,null,46710,55221,1.1822093770070601,"",null,19.600000000000001,12.5,0.63775510204081598,"",1,0,0,1,null,"NO","NO",4]
["Jefferson","Metairie",220.02,22051022002,"TRUE",1,4,71420211020,"Louisiana",152900,223000,1.4584695879659899,true,null,46710,55221,1.1822093770070601,"",null,19.600000000000001,12.5,0.63775510204081598,"",1,0,0,1,null,"NO","NO",4]
["Jefferson","Metairie",221.01,22051022101,"TRUE",1,4,71420211021,"Louisiana",152900,223000,1.4584695879659899,true,null,46710,55221,1.1822093770070601,"",null,19.600000000000001,12.5,0.63775510204081598,"",1,0,0,1,null,"NO","NO",4]
["Jefferson","Metairie",221.02,22051022102,"FALSE",0,0,71420211022,"Louisiana",152900,223000,1.4584695879659899,true,null,46710,55221,1.1822093770070601,"",null,19.600000000000001,12.5,0.63775510204081598,"",1,0,0,1,null,"NO","NO",0]
["Jefferson","Metairie",221.02,22051022102,"FALSE",0,0,71420211023,"Louisiana",152900,223000,1.4584695879659899,true,null,46710,55221,1.1822093770070601,"",null,19.600000000000001,12.5,0.63775510204081598,"",1,0,0,1,null,"NO","NO",0]
["Jefferson","Metairie",222,22051022200,"FALSE",0,0,71420211024,"Louisiana",152900,223000,1.4584695879659899,true,null,46710,55221,1.1822093770070601,"",null,19.600000000000001,12.5,0.63775510204081598,"",1,0,0,1,null,"NO","NO",0]
["Jefferson","Metairie",223.01,22051022301,"FALSE",0,0,71420211025,"Louisiana",152900,223000,1.4584695879659899,true,null,46710,55221,1.1822093770070601,"",null,19.600000000000001,12.5,0.63775510204081598,"",1,0,0,1,null,"NO","NO",0]
["Jefferson","Metairie",223.02,22051022302,"FALSE",0,0,71420211026,"Louisiana",152900,223000,1.4584695879659899,true,null,46710,55221,1.1822093770070601,"",null,19.600000000000001,12.5,0.63775510204081598,"",1,0,0,1,null,"NO","NO",0]
["Jefferson","Metairie",223.03,22051022303,"FALSE",0,{"$f":"IF(E1027=\"TRUE\",4,0)","v":0},71420211027,"Louisiana",152900,223000,1.4584695879659899,{"$f":"IF(L1027>=50%,TRUE,\"\")","v":true},null,46710,55221,1.1822093770070601,{"$f":"IF(Q1027<=65%,TRUE,\"\")","v":""},null,19.600000000000001,12.5,0.63775510204081598,{"$f":"IF(V1027>=1.5,TRUE,\"\")","v":""},{"$f":"IF(M1027=TRUE,1,0)","v":1},{"$f":"IF(R1027=TRUE,1,0)","v":0},{"$f":"IF(W1027=TRUE,1,0)","v":0},{"$f":"SUM(X1027:Z1027)","v":1},null,{"$f":"IF(AND(E1027=\"TRUE\",AA1027>1),\"YES\",\"NO\")","v":"NO"},{"$f":"IF(AND(F1027=1,AA1027>1), \"YES\",\"NO\")","v":"NO"},{"$f":"+G1027+N1027+S1027+AB1027","v":0}]
["Jefferson","Metairie",224,22051022400,"FALSE",0,0,71420211028,"Louisiana",152900,223000,1.4584695879659899,true,null,46710,55221,1.1822093770070601,"",null,19.600000000000001,12.5,0.63775510204081598,"",1,0,0,1,null,"NO","NO",0]
["Jefferson","Metairie",224,22051022400,"FALSE",0,0,71420211029,"Louisiana",152900,223000,1.4584695879659899,true,null,46710,55221,1.1822093770070601,"",null,19.600000000000001,12.5,0.63775510204081598,"",1,0,0,1,null,"NO","NO",0]
["Jefferson","Metairie",225,22051022500,"FALSE",0,0,71420211030,"Louisiana",152900,223000,1.4584695879659899,true,null,46710,55221,1.1822093770070601,"",null,19.600000000000001,12.5,0.63775510204081598,"",1,0,0,1,null,"NO","NO",0]
["Jefferson","Metairie",226,22051022600,"FALSE",0,0,71420211031,"Louisiana",152900,223000,1.4584695879659899,true,null,46710,55221,1.1822093770070601,"",null,19.600000000000001,12.5,0.63775510204081598,"",1,0,0,1,null,"NO","NO",0]
["Jefferson","Metairie",226,22051022600,"FALSE",0,0,71420211032,"Louisiana",152900,223000,1.4584695879659899,true,null,46710,55221,1.1822093770070601,"",null,19.600000000000001,12.5,0.63775510204081598,"",1,0,0,1,null,"NO","NO",0]
["Jefferson","Metairie",227,22051022700,"FALSE",0,0,71420211033,"Louisiana",152900,223000,1.4584695879659899,true,null,46710,55221,1.1822093770070601,"",null,19.600000000000001,12.5,0.63775510204081598,"",1,0,0,1,null,"NO","NO",0]
["Jefferson","Metairie",228,22051022800,"FALSE",0,0,71420211034,"Louisiana",152900,223000,1.4584695879659899,true,null,46710,55221,1.1822093770070601,"",null,19.600000000000001,12.5,0.63775510204081598,"",1,0,0,1,null,"NO","NO",0]
["Jefferson","Metairie",228,22051022800,"FALSE",0,0,71420211035,"Louisiana",152900,223000,1.4584695879659899,true,null,46710,55221,1.1822093770070601,"",null,19.600000000000001,12.5,0.63775510204081598,"",1,0,0,1,null,"NO","NO",0]
["Jefferson","Metairie",229,22051022900,"FALSE",0,0,71420211036,"Louisiana",152900,223000,1.4584695879659899,true,null,46710,55221,1.1822093770070601,"",null,19.600000000000001,12.5,0.63775510204081598,"",1,0,0,1,null,"NO","NO",0]
["Jefferson","Metairie",230.01,22051023001,"TRUE",1,4,71420211037,"Louisiana",152900,223000,1.4584695879659899,true,null,46710,55221,1.1822093770070601,"",null,19.600000000000001,12.5,0.63775510204081598,"",1,0,0,1,null,"NO","NO",4]
["Jefferson","Metairie",230.02,22051023002,"FALSE",0,0,71420211038,"Louisiana",152900,223000,1.4584695879659899,true,null,46710,55221,1.1822093770070601,"",null,19.600000000000001,12.5,0.63775510204081598,"",1,0,0,1,null,"NO","NO",0]
["Jefferson","Metairie",230.03,22051023003,"FALSE",0,0,71420211039,"Louisiana",152900,223000,1.4584695879659899,true,null,46710,55221,1.1822093770070601,"",null,19.600000000000001,12.5,0.63775510204081598,"",1,0,0,1,null,"NO","NO",0]
["Jefferson","Metairie",230.03,22051023003,"FALSE",0,0,71420211040,"Louisiana",152900,223000,1.4584695879659899,true,null,46710,55221,1.1822093770070601,"",null,19.600000000000001,12.5,0.63775510204081598,"",1,0,0,1,null,"NO","NO",0]
["Jefferson","Metairie",231,22051023100,"FALSE",0,0,71420211041,"Louisiana",152900,223000,1.4584695879659899,true,null,46710,55221,1.1822093770070601,"",null,19.600000000000001,12.5,0.63775510204081598,"",1,0,0,1,null,"NO","NO",0]
["Jefferson","Metairie",232,22051023200,"FALSE",0,0,71420211042,"Louisiana",152900,223000,1.4584695879659899,true,null,46710,55221,1.1822093770070601,"",null,19.600000000000001,12.5,0.63775510204081598,"",1,0,0,1,null,"NO","NO",0]
["Jefferson","Metairie",232,22051023200,"FALSE",0,0,71420211043,"Louisiana",152900,223000,1.4584695879659899,true,null,46710,55221,1.1822093770070601,"",null,19.600000000000001,12.5,0.63775510204081598,"",1,0,0,1,null,"NO","NO",0]
["Jefferson","Metairie",233,22051023300,"FALSE",0,0,71420211044,"Louisiana",152900,223000,1.4584695879659899,true,null,46710,55221,1.1822093770070601,"",null,19.600000000000001,12.5,0.63775510204081598,"",1,0,0,1,null,"NO","NO",0]
["Jefferson","Metairie",234,22051023400,"FALSE",0,0,71420211045,"Louisiana",152900,223000,1.4584695879659899,true,null,46710,55221,1.1822093770070601,"",null,19.600000000000001,12.5,0.63775510204081598,"",1,0,0,1,null,"NO","NO",0]
["Jefferson","Metairie",235,22051023500,"FALSE",0,0,71420211046,"Louisiana",152900,223000,1.4584695879659899,true,null,46710,55221,1.1822093770070601,"",null,19.600000000000001,12.5,0.63775510204081598,"",1,0,0,1,null,"NO","NO",0]
["Jefferson","Metairie",236,22051023600,"FALSE",0,0,71420211047,"Louisiana",152900,223000,1.4584695879659899,true,null,46710,55221,1.1822093770070601,"",null,19.600000000000001,12.5,0.63775510204081598,"",1,0,0,1,null,"NO","NO",0]
["Jefferson","Metairie",237,22051023700,"TRUE",0,4,71420211048,"Louisiana",152900,223000,1.4584695879659899,true,null,46710,55221,1.1822093770070601,"",null,19.600000000000001,12.5,0.63775510204081598,"",1,0,0,1,null,"NO","NO",4]
["Jefferson","Metairie",242.01,22051024201,"FALSE",0,0,71420211049,"Louisiana",152900,223000,1.4584695879659899,true,null,46710,55221,1.1822093770070601,"",null,19.600000000000001,12.5,0.63775510204081598,"",1,0,0,1,null,"NO","NO",0]
["Jefferson","Metairie",242.01,22051024201,"FALSE",0,0,71420211050,"Louisiana",152900,223000,1.4584695879659899,true,null,46710,55221,1.1822093770070601,"",null,19.600000000000001,12.5,0.63775510204081598,"",1,0,0,1,null,"NO","NO",0]
["Jefferson","Metairie",244,22051024400,"FALSE",0,0,71420211051,"Louisiana",152900,223000,1.4584695879659899,true,null,46710,55221,1.1822093770070601,"",null,19.600000000000001,12.5,0.63775510204081598,"",1,0,0,1,null,"NO","NO",0]
["Jefferson","Metairie",246,22051024600,"FALSE",0,0,71420211052,"Louisiana",152900,223000,1.4584695879659899,true,null,46710,55221,1.1822093770070601,"",null,19.600000000000001,12.5,0.63775510204081598,"",1,0,0,1,null,"NO","NO",0]
["Jefferson","Metairie",248,22051024800,"FALSE",0,0,71420211053,"Louisiana",152900,223000,1.4584695879659899,true,null,46710,55221,1.1822093770070601,"",null,19.600000000000001,12.5,0.63775510204081598,"",1,0,0,1,null,"NO","NO",0]
["Jefferson","Metairie",248,22051024800,"FALSE",0,0,71420211054,"Louisiana",152900,223000,1.4584695879659899,true,null,46710,55221,1.1822093770070601,"",null,19.600000000000001,12.5,0.63775510204081598,"",1,0,0,1,null,"NO","NO",0]
["Jefferson","Westwego",271,22051027100,"FALSE",0,0,71420211055,"Louisiana",152900,125600,0.82145192936559797,true,null,46710,32318,0.69188610575893805,"",null,19.600000000000001,24.8,1.2653061224489801,"",1,0,0,1,null,"NO","NO",0]
["Jefferson","Westwego",272,22051027200,"FALSE",0,0,71420211056,"Louisiana",152900,125600,0.82145192936559797,true,null,46710,32318,0.69188610575893805,"",null,19.600000000000001,24.8,1.2653061224489801,"",1,0,0,1,null,"NO","NO",0]
["Jefferson","Westwego",272,22051027200,"FALSE",0,0,71420211057,"Louisiana",152900,125600,0.82145192936559797,true,null,46710,32318,0.69188610575893805,"",null,19.600000000000001,24.8,1.2653061224489801,"",1,0,0,1,null,"NO","NO",0]
["Jefferson","Westwego",275.01,22051027501,"FALSE",0,0,71420211058,"Louisiana",152900,125600,0.82145192936559797,true,null,46710,32318,0.69188610575893805,"",null,19.600000000000001,24.8,1.2653061224489801,"",1,0,0,1,null,"NO","NO",0]
["Jefferson","Westwego",275.02,22051027502,"FALSE",0,0,71420211059,"Louisiana",152900,125600,0.82145192936559797,true,null,46710,32318,0.69188610575893805,"",null,19.600000000000001,24.8,1.2653061224489801,"",1,0,0,1,null,"NO","NO",0]
["Jefferson","Westwego",276.01,22051027601,"TRUE",0,4,71420211060,"Louisiana",152900,125600,0.82145192936559797,true,null,46710,32318,0.69188610575893805,"",null,19.600000000000001,24.8,1.2653061224489801,"",1,0,0,1,null,"NO","NO",4]
["Jefferson","Westwego",276.02,22051027602,"TRUE",0,4,71420211061,"Louisiana",152900,125600,0.82145192936559797,true,null,46710,32318,0.69188610575893805,"",null,19.600000000000001,24.8,1.2653061224489801,"",1,0,0,1,null,"NO","NO",4]
["Jefferson","Westwego",277.01,22051027701,"TRUE",0,4,71420211062,"Louisiana",152900,125600,0.82145192936559797,true,null,46710,32318,0.69188610575893805,"",null,19.600000000000001,24.8,1.2653061224489801,"",1,0,0,1,null,"NO","NO",4]
["Jefferson","Westwego",282,22051028200,"FALSE",0,0,71420211063,"Louisiana",152900,125600,0.82145192936559797,true,null,46710,32318,0.69188610575893805,"",null,19.600000000000001,24.8,1.2653061224489801,"",1,0,0,1,null,"NO","NO",0]
["Jefferson","Westwego",282,22051028200,"TRUE",1,4,71420211064,"Louisiana",152900,125600,0.82145192936559797,true,null,46710,32318,0.69188610575893805,"",null,19.600000000000001,24.8,1.2653061224489801,"",1,0,0,1,null,"NO","NO",4]
["Jefferson Davis","Elton",9504,22003950400,"FALSE",0,0,71420211065,"Louisiana",152900,64600,0.42249836494440801,"",{"$f":"IF(M1065=TRUE,4,0)","v":0},46710,33142,0.70952686790837105,"",{"$f":"IF(R1065=TRUE, 4,0)","v":0},19.600000000000001,20.3,1.03571428571429,"",0,0,0,0,{"$f":"IF(W1065=TRUE, 4,0)","v":0},"NO","NO",0]
["Jefferson Davis","Elton",9505,22003950500,"FALSE",0,0,71420211066,"Louisiana",152900,64600,0.42249836494440801,"",0,46710,33142,0.70952686790837105,"",0,19.600000000000001,20.3,1.03571428571429,"",0,0,0,0,0,"NO","NO",0]
["Jefferson Davis","Elton",1,22053000100,"FALSE",0,0,71420211067,"Louisiana",152900,64600,0.42249836494440801,"",0,46710,33142,0.70952686790837105,"",0,19.600000000000001,20.3,1.03571428571429,"",0,0,0,0,0,"NO","NO",0]
["Jefferson Davis","Fenton",9505,22003950500,"FALSE",0,0,71420211068,"Louisiana",152900,61900,0.404839764551995,"",0,46710,24375,0.52183686576750199,true,4,19.600000000000001,30.7,1.56632653061224,true,0,1,1,2,4,"NO","NO",8]
["Jefferson Davis","Fenton",1,22053000100,"FALSE",0,0,71420211069,"Louisiana",152900,61900,0.404839764551995,"",0,46710,24375,0.52183686576750199,true,4,19.600000000000001,30.7,1.56632653061224,true,0,1,1,2,4,"NO","NO",8]
["Jefferson Davis","Jennings",9603,22001960300,"FALSE",0,0,71420211070,"Louisiana",152900,99600,0.65140614780902595,true,4,46710,29874,0.63956326268465002,true,4,19.600000000000001,24.1,1.2295918367346901,"",1,1,0,2,0,"NO","NO",8]
["Jefferson Davis","Jennings",1,22053000100,"FALSE",0,0,71420211071,"Louisiana",152900,99600,0.65140614780902595,true,4,46710,29874,0.63956326268465002,true,4,19.600000000000001,24.1,1.2295918367346901,"",1,1,0,2,0,"NO","NO",8]
["Jefferson Davis","Jennings",3,22053000300,"FALSE",0,0,71420211072,"Louisiana",152900,99600,0.65140614780902595,true,4,46710,29874,0.63956326268465002,true,4,19.600000000000001,24.1,1.2295918367346901,"",1,1,0,2,0,"NO","NO",8]
["Jefferson Davis","Jennings",4,22053000400,"FALSE",0,0,71420211073,"Louisiana",152900,99600,0.65140614780902595,true,4,46710,29874,0.63956326268465002,true,4,19.600000000000001,24.1,1.2295918367346901,"",1,1,0,2,0,"NO","NO",8]
["Jefferson Davis","Jennings",5,22053000500,"FALSE",0,0,71420211074,"Louisiana",152900,99600,0.65140614780902595,true,4,46710,29874,0.63956326268465002,true,4,19.600000000000001,24.1,1.2295918367346901,"",1,1,0,2,0,"NO","NO",8]
["Jefferson Davis","Jennings",6,22053000600,"TRUE",1,4,71420211075,"Louisiana",152900,99600,0.65140614780902595,true,4,46710,29874,0.63956326268465002,true,4,19.600000000000001,24.1,1.2295918367346901,"",1,1,0,2,0,"YES","YES",12]
["Jefferson Davis","Jennings",7,22053000700,"FALSE",0,0,71420211076,"Louisiana",152900,99600,0.65140614780902595,true,4,46710,29874,0.63956326268465002,true,4,19.600000000000001,24.1,1.2295918367346901,"",1,1,0,2,0,"NO","NO",8]
["Jefferson Davis","Lacassine",2,22053000200,"FALSE",0,0,71420211077,"Louisiana",152900,105500,0.68999345977763205,true,4,46710,51190,1.0959109398415801,"",0,19.600000000000001,0,0,"",1,0,0,1,0,"NO","NO",4]
["Jefferson Davis","Lake Arthur",9701,22023970100,"FALSE",0,0,71420211078,"Louisiana",152900,80600,0.52714192282537597,true,4,46710,31500,0.67437379576107903,"",0,19.600000000000001,28.4,1.4489795918367301,"",1,0,0,1,0,"NO","NO",4]
["Jefferson Davis","Lake Arthur",2,22053000200,"FALSE",0,0,71420211079,"Louisiana",152900,80600,0.52714192282537597,true,4,46710,31500,0.67437379576107903,"",0,19.600000000000001,28.4,1.4489795918367301,"",1,0,0,1,0,"NO","NO",4]
["Jefferson Davis","Lake Arthur",4,22053000400,"FALSE",0,0,71420211080,"Louisiana",152900,80600,0.52714192282537597,true,4,46710,31500,0.67437379576107903,"",0,19.600000000000001,28.4,1.4489795918367301,"",1,0,0,1,0,"NO","NO",4]
["Jefferson Davis","Roanoke",1,22053000100,"FALSE",0,0,71420211081,"Louisiana",152900,129500,0.84695879659908402,true,4,46710,34714,0.74318133162063804,"",0,19.600000000000001,9,0.45918367346938799,"",1,0,0,1,0,"NO","NO",4]
["Jefferson Davis","Roanoke",3,22053000300,"FALSE",0,0,71420211082,"Louisiana",152900,129500,0.84695879659908402,true,4,46710,34714,0.74318133162063804,"",0,19.600000000000001,9,0.45918367346938799,"",1,0,0,1,0,"NO","NO",4]
["Jefferson Davis","Roanoke",4,22053000400,"FALSE",0,0,71420211083,"Louisiana",152900,129500,0.84695879659908402,true,4,46710,34714,0.74318133162063804,"",0,19.600000000000001,9,0.45918367346938799,"",1,0,0,1,0,"NO","NO",4]
["Jefferson Davis","Welsh",1,22053000100,"FALSE",0,0,71420211084,"Louisiana",152900,109600,0.71680837148463095,true,4,46710,32679,0.69961464354527902,"",0,19.600000000000001,20.6,1.0510204081632699,"",1,0,0,1,0,"NO","NO",4]
["Jefferson Davis","Welsh",2,22053000200,"FALSE",0,0,71420211085,"Louisiana",152900,109600,0.71680837148463095,true,4,46710,32679,0.69961464354527902,"",0,19.600000000000001,20.6,1.0510204081632699,"",1,0,0,1,0,"NO","NO",4]
["Jefferson Davis","Welsh",3,22053000300,"FALSE",0,0,71420211086,"Louisiana",152900,109600,0.71680837148463095,true,4,46710,32679,0.69961464354527902,"",0,19.600000000000001,20.6,1.0510204081632699,"",1,0,0,1,0,"NO","NO",4]
["Lafayette","Broussard",303.01,22045030301,"FALSE",0,0,71420211087,"Louisiana",152900,203400,1.3302812295618101,true,4,46710,72621,1.55472061657033,"",0,19.600000000000001,8.5,0.43367346938775497,"",1,0,0,1,0,"NO","NO",4]
["Lafayette","Broussard",303.02,22045030302,"FALSE",0,0,71420211088,"Louisiana",152900,203400,1.3302812295618101,true,4,46710,72621,1.55472061657033,"",0,19.600000000000001,8.5,0.43367346938775497,"",1,0,0,1,0,"NO","NO",4]
["Lafayette","Broussard",14.09,22055001409,"FALSE",0,0,71420211089,"Louisiana",152900,203400,1.3302812295618101,true,4,46710,72621,1.55472061657033,"",0,19.600000000000001,8.5,0.43367346938775497,"",1,0,0,1,0,"NO","NO",4]
["Lafayette","Broussard",14.1,22055001410,"FALSE",0,0,71420211090,"Louisiana",152900,203400,1.3302812295618101,true,4,46710,72621,1.55472061657033,"",0,19.600000000000001,8.5,0.43367346938775497,"",1,0,0,1,0,"NO","NO",4]
["Lafayette","Broussard",14.11,22055001411,"FALSE",0,{"$f":"IF(E1091=\"TRUE\",4,0)","v":0},71420211091,"Louisiana",152900,203400,1.3302812295618101,{"$f":"IF(L1091>=50%,TRUE,\"\")","v":true},4,46710,72621,1.55472061657033,{"$f":"IF(Q1091<=65%,TRUE,\"\")","v":""},0,19.600000000000001,8.5,0.43367346938775497,{"$f":"IF(V1091>=1.5,TRUE,\"\")","v":""},{"$f":"IF(M1091=TRUE,1,0)","v":1},{"$f":"IF(R1091=TRUE,1,0)","v":0},{"$f":"IF(W1091=TRUE,1,0)","v":0},{"$f":"SUM(X1091:Z1091)","v":1},0,{"$f":"IF(AND(E1091=\"TRUE\",AA1091>1),\"YES\",\"NO\")","v":"NO"},{"$f":"IF(AND(F1091=1,AA1091>1), \"YES\",\"NO\")","v":"NO"},{"$f":"+G1091+N1091+S1091+AB1091","v":4}]
["Lafayette","Broussard",206,22099020600,"TRUE",1,4,71420211092,"Louisiana",152900,203400,1.3302812295618101,true,4,46710,72621,1.55472061657033,"",0,19.600000000000001,8.5,0.43367346938775497,"",1,0,0,1,0,"NO","NO",8]
["Lafayette","Carencro",10.01,22055001001,"FALSE",0,0,71420211093,"Louisiana",152900,153900,1.0065402223675599,true,4,46710,38807,0.83080710768571997,"",0,19.600000000000001,17.5,0.89285714285714302,"",1,0,0,1,0,"NO","NO",4]
["Lafayette","Carencro",20.010000000000002,22055002001,"FALSE",0,0,71420211094,"Louisiana",152900,153900,1.0065402223675599,true,4,46710,38807,0.83080710768571997,"",0,19.600000000000001,17.5,0.89285714285714302,"",1,0,0,1,0,"NO","NO",4]
["Lafayette","Carencro",20.02,22055002002,"FALSE",0,0,71420211095,"Louisiana",152900,153900,1.0065402223675599,true,4,46710,38807,0.83080710768571997,"",0,19.600000000000001,17.5,0.89285714285714302,"",1,0,0,1,0,"NO","NO",4]
["Lafayette","Carencro",21.01,22055002101,"FALSE",0,0,71420211096,"Louisiana",152900,153900,1.0065402223675599,true,4,46710,38807,0.83080710768571997,"",0,19.600000000000001,17.5,0.89285714285714302,"",1,0,0,1,0,"NO","NO",4]
["Lafayette","Carencro",21.02,22055002102,"FALSE",0,0,71420211097,"Louisiana",152900,153900,1.0065402223675599,true,4,46710,38807,0.83080710768571997,"",0,19.600000000000001,17.5,0.89285714285714302,"",1,0,0,1,0,"NO","NO",4]
["Lafayette","Carencro",21.03,22055002103,"FALSE",0,0,71420211098,"Louisiana",152900,153900,1.0065402223675599,true,4,46710,38807,0.83080710768571997,"",0,19.600000000000001,17.5,0.89285714285714302,"",1,0,0,1,0,"NO","NO",4]
["Lafayette","Carencro",21.04,22055002104,"FALSE",0,0,71420211099,"Louisiana",152900,153900,1.0065402223675599,true,4,46710,38807,0.83080710768571997,"",0,19.600000000000001,17.5,0.89285714285714302,"",1,0,0,1,0,"NO","NO",4]
["Lafayette","Carencro",9618,22097961800,"FALSE",0,0,71420211100,"Louisiana",152900,153900,1.0065402223675599,true,4,46710,38807,0.83080710768571997,"",0,19.600000000000001,17.5,0.89285714285714302,"",1,0,0,1,0,"NO","NO",4]
["Lafayette","Lafayette",1,22055000100,"TRUE",1,4,71420211101,"Louisiana",152900,181900,1.1896664486592501,true,null,46710,48533,1.03902804538643,"",null,19.600000000000001,19.100000000000001,0.97448979591836704,"",1,0,0,1,null,"NO","NO",4]
["Lafayette","Lafayette",1,22055000100,"TRUE",1,4,71420211102,"Louisiana",152900,181900,1.1896664486592501,true,null,46710,48533,1.03902804538643,"",null,19.600000000000001,19.100000000000001,0.97448979591836704,"",1,0,0,1,null,"NO","NO",4]
["Lafayette","Lafayette",1,22055000100,"TRUE",1,4,71420211103,"Louisiana",152900,181900,1.1896664486592501,true,null,46710,48533,1.03902804538643,"",null,19.600000000000001,19.100000000000001,0.97448979591836704,"",1,0,0,1,null,"NO","NO",4]
["Lafayette","Lafayette",1,22055000100,"TRUE",1,4,71420211104,"Louisiana",152900,181900,1.1896664486592501,true,null,46710,48533,1.03902804538643,"",null,19.600000000000001,19.100000000000001,0.97448979591836704,"",1,0,0,1,null,"NO","NO",4]
["Lafayette","Lafayette",2,22055000200,"TRUE",1,4,71420211105,"Louisiana",152900,181900,1.1896664486592501,true,null,46710,48533,1.03902804538643,"",null,19.600000000000001,19.100000000000001,0.97448979591836704,"",1,0,0,1,null,"NO","NO",4]
["Lafayette","Lafayette",5,22055000500,"TRUE",1,4,71420211106,"Louisiana",152900,181900,1.1896664486592501,true,null,46710,48533,1.03902804538643,"",null,19.600000000000001,19.100000000000001,0.97448979591836704,"",1,0,0,1,null,"NO","NO",4]
["Lafayette","Lafayette",5,22055000500,"FALSE",0,0,71420211107,"Louisiana",152900,181900,1.1896664486592501,true,null,46710,48533,1.03902804538643,"",null,19.600000000000001,19.100000000000001,0.97448979591836704,"",1,0,0,1,null,"NO","NO",0]
["Lafayette","Lafayette",6.02,22055000602,"TRUE",1,4,71420211108,"Louisiana",152900,181900,1.1896664486592501,true,null,46710,48533,1.03902804538643,"",null,19.600000000000001,19.100000000000001,0.97448979591836704,"",1,0,0,1,null,"NO","NO",4]
["Lafayette","Lafayette",6.02,22055000602,"TRUE",1,4,71420211109,"Louisiana",152900,181900,1.1896664486592501,true,null,46710,48533,1.03902804538643,"",null,19.600000000000001,19.100000000000001,0.97448979591836704,"",1,0,0,1,null,"NO","NO",4]
["Lafayette","Lafayette",6.02,22055000602,"TRUE",1,4,71420211110,"Louisiana",152900,181900,1.1896664486592501,true,null,46710,48533,1.03902804538643,"",null,19.600000000000001,19.100000000000001,0.97448979591836704,"",1,0,0,1,null,"NO","NO",4]
["Lafayette","Lafayette",6.03,22055000603,"FALSE",0,0,71420211111,"Louisiana",152900,181900,1.1896664486592501,true,null,46710,48533,1.03902804538643,"",null,19.600000000000001,19.100000000000001,0.97448979591836704,"",1,0,0,1,null,"NO","NO",0]
["Lafayette","Lafayette",6.04,22055000604,"TRUE",1,4,71420211112,"Louisiana",152900,181900,1.1896664486592501,true,null,46710,48533,1.03902804538643,"",null,19.600000000000001,19.100000000000001,0.97448979591836704,"",1,0,0,1,null,"NO","NO",4]
["Lafayette","Lafayette",7,22055000700,"TRUE",1,4,71420211113,"Louisiana",152900,181900,1.1896664486592501,true,null,46710,48533,1.03902804538643,"",null,19.600000000000001,19.100000000000001,0.97448979591836704,"",1,0,0,1,null,"NO","NO",4]
["Lafayette","Lafayette",7,22055000700,"TRUE",1,4,71420211114,"Louisiana",152900,181900,1.1896664486592501,true,null,46710,48533,1.03902804538643,"",null,19.600000000000001,19.100000000000001,0.97448979591836704,"",1,0,0,1,null,"NO","NO",4]
["Lafayette","Lafayette",8,22055000800,"TRUE",1,4,71420211115,"Louisiana",152900,181900,1.1896664486592501,true,null,46710,48533,1.03902804538643,"",null,19.600000000000001,19.100000000000001,0.97448979591836704,"",1,0,0,1,null,"NO","NO",4]
["Lafayette","Lafayette",8,22055000800,"TRUE",1,4,71420211116,"Louisiana",152900,181900,1.1896664486592501,true,null,46710,48533,1.03902804538643,"",null,19.600000000000001,19.100000000000001,0.97448979591836704,"",1,0,0,1,null,"NO","NO",4]
["Lafayette","Lafayette",9,22055000900,"TRUE",1,4,71420211117,"Louisiana",152900,181900,1.1896664486592501,true,null,46710,48533,1.03902804538643,"",null,19.600000000000001,19.100000000000001,0.97448979591836704,"",1,0,0,1,null,"NO","NO",4]
["Lafayette","Lafayette",9,22055000900,"TRUE",1,4,71420211118,"Louisiana",152900,181900,1.1896664486592501,true,null,46710,48533,1.03902804538643,"",null,19.600000000000001,19.100000000000001,0.97448979591836704,"",1,0,0,1,null,"NO","NO",4]
["Lafayette","Lafayette",10.01,22055001001,"FALSE",0,0,71420211119,"Louisiana",152900,181900,1.1896664486592501,true,null,46710,48533,1.03902804538643,"",null,19.600000000000001,19.100000000000001,0.97448979591836704,"",1,0,0,1,null,"NO","NO",0]
["Lafayette","Lafayette",10.02,22055001002,"FALSE",0,0,71420211120,"Louisiana",152900,181900,1.1896664486592501,true,null,46710,48533,1.03902804538643,"",null,19.600000000000001,19.100000000000001,0.97448979591836704,"",1,0,0,1,null,"NO","NO",0]
["Lafayette","Lafayette",10.029999999999999,22055001003,"FALSE",0,0,71420211121,"Louisiana",152900,181900,1.1896664486592501,true,null,46710,48533,1.03902804538643,"",null,19.600000000000001,19.100000000000001,0.97448979591836704,"",1,0,0,1,null,"NO","NO",0]
["Lafayette","Lafayette",11,22055001100,"TRUE",1,4,71420211122,"Louisiana",152900,181900,1.1896664486592501,true,null,46710,48533,1.03902804538643,"",null,19.600000000000001,19.100000000000001,0.97448979591836704,"",1,0,0,1,null,"NO","NO",4]
["Lafayette","Lafayette",11,22055001100,"TRUE",1,4,71420211123,"Louisiana",152900,181900,1.1896664486592501,true,null,46710,48533,1.03902804538643,"",null,19.600000000000001,19.100000000000001,0.97448979591836704,"",1,0,0,1,null,"NO","NO",4]
["Lafayette","Lafayette",12,22055001200,"FALSE",0,0,71420211124,"Louisiana",152900,181900,1.1896664486592501,true,null,46710,48533,1.03902804538643,"",null,19.600000000000001,19.100000000000001,0.97448979591836704,"",1,0,0,1,null,"NO","NO",0]
["Lafayette","Lafayette",13,22055001300,"TRUE",1,4,71420211125,"Louisiana",152900,181900,1.1896664486592501,true,null,46710,48533,1.03902804538643,"",null,19.600000000000001,19.100000000000001,0.97448979591836704,"",1,0,0,1,null,"NO","NO",4]
["Lafayette","Lafayette",14.01,22055001401,"FALSE",0,0,71420211126,"Louisiana",152900,181900,1.1896664486592501,true,null,46710,48533,1.03902804538643,"",null,19.600000000000001,19.100000000000001,0.97448979591836704,"",1,0,0,1,null,"NO","NO",0]
["Lafayette","Lafayette",14.02,22055001402,"FALSE",0,0,71420211127,"Louisiana",152900,181900,1.1896664486592501,true,null,46710,48533,1.03902804538643,"",null,19.600000000000001,19.100000000000001,0.97448979591836704,"",1,0,0,1,null,"NO","NO",0]
["Lafayette","Lafayette",14.03,22055001403,"FALSE",0,0,71420211128,"Louisiana",152900,181900,1.1896664486592501,true,null,46710,48533,1.03902804538643,"",null,19.600000000000001,19.100000000000001,0.97448979591836704,"",1,0,0,1,null,"NO","NO",0]
["Lafayette","Lafayette",14.04,22055001404,"FALSE",0,0,71420211129,"Louisiana",152900,181900,1.1896664486592501,true,null,46710,48533,1.03902804538643,"",null,19.600000000000001,19.100000000000001,0.97448979591836704,"",1,0,0,1,null,"NO","NO",0]
["Lafayette","Lafayette",14.05,22055001405,"FALSE",0,0,71420211130,"Louisiana",152900,181900,1.1896664486592501,true,null,46710,48533,1.03902804538643,"",null,19.600000000000001,19.100000000000001,0.97448979591836704,"",1,0,0,1,null,"NO","NO",0]
["Lafayette","Lafayette",14.06,22055001406,"FALSE",0,0,71420211131,"Louisiana",152900,181900,1.1896664486592501,true,null,46710,48533,1.03902804538643,"",null,19.600000000000001,19.100000000000001,0.97448979591836704,"",1,0,0,1,null,"NO","NO",0]
["Lafayette","Lafayette",14.06,22055001406,"FALSE",0,0,71420211132,"Louisiana",152900,181900,1.1896664486592501,true,null,46710,48533,1.03902804538643,"",null,19.600000000000001,19.100000000000001,0.97448979591836704,"",1,0,0,1,null,"NO","NO",0]
["Lafayette","Lafayette",14.07,22055001407,"FALSE",0,0,71420211133,"Louisiana",152900,181900,1.1896664486592501,true,null,46710,48533,1.03902804538643,"",null,19.600000000000001,19.100000000000001,0.97448979591836704,"",1,0,0,1,null,"NO","NO",0]
["Lafayette","Lafayette",14.09,22055001409,"FALSE",0,0,71420211134,"Louisiana",152900,181900,1.1896664486592501,true,null,46710,48533,1.03902804538643,"",null,19.600000000000001,19.100000000000001,0.97448979591836704,"",1,0,0,1,null,"NO","NO",0]
["Lafayette","Lafayette",14.11,22055001411,"FALSE",0,0,71420211135,"Louisiana",152900,181900,1.1896664486592501,true,null,46710,48533,1.03902804538643,"",null,19.600000000000001,19.100000000000001,0.97448979591836704,"",1,0,0,1,null,"NO","NO",0]
["Lafayette","Lafayette",15,22055001500,"FALSE",0,0,71420211136,"Louisiana",152900,181900,1.1896664486592501,true,null,46710,48533,1.03902804538643,"",null,19.600000000000001,19.100000000000001,0.97448979591836704,"",1,0,0,1,null,"NO","NO",0]
["Lafayette","Lafayette",15,22055001500,"FALSE",0,0,71420211137,"Louisiana",152900,181900,1.1896664486592501,true,null,46710,48533,1.03902804538643,"",null,19.600000000000001,19.100000000000001,0.97448979591836704,"",1,0,0,1,null,"NO","NO",0]
["Lafayette","Lafayette",16,22055001600,"FALSE",0,0,71420211138,"Louisiana",152900,181900,1.1896664486592501,true,null,46710,48533,1.03902804538643,"",null,19.600000000000001,19.100000000000001,0.97448979591836704,"",1,0,0,1,null,"NO","NO",0]
["Lafayette","Lafayette",17,22055001700,"FALSE",0,0,71420211139,"Louisiana",152900,181900,1.1896664486592501,true,null,46710,48533,1.03902804538643,"",null,19.600000000000001,19.100000000000001,0.97448979591836704,"",1,0,0,1,null,"NO","NO",0]
["Lafayette","Lafayette",18.010000000000002,22055001801,"FALSE",0,0,71420211140,"Louisiana",152900,181900,1.1896664486592501,true,null,46710,48533,1.03902804538643,"",null,19.600000000000001,19.100000000000001,0.97448979591836704,"",1,0,0,1,null,"NO","NO",0]
["Lafayette","Lafayette",18.010000000000002,22055001801,"FALSE",0,0,71420211141,"Louisiana",152900,181900,1.1896664486592501,true,null,46710,48533,1.03902804538643,"",null,19.600000000000001,19.100000000000001,0.97448979591836704,"",1,0,0,1,null,"NO","NO",0]
["Lafayette","Lafayette",18.02,22055001802,"FALSE",0,0,71420211142,"Louisiana",152900,181900,1.1896664486592501,true,null,46710,48533,1.03902804538643,"",null,19.600000000000001,19.100000000000001,0.97448979591836704,"",1,0,0,1,null,"NO","NO",0]
["Lafayette","Lafayette",18.02,22055001802,"FALSE",0,0,71420211143,"Louisiana",152900,181900,1.1896664486592501,true,null,46710,48533,1.03902804538643,"",null,19.600000000000001,19.100000000000001,0.97448979591836704,"",1,0,0,1,null,"NO","NO",0]
["Lafayette","Lafayette",19.02,22055001902,"FALSE",0,0,71420211144,"Louisiana",152900,181900,1.1896664486592501,true,null,46710,48533,1.03902804538643,"",null,19.600000000000001,19.100000000000001,0.97448979591836704,"",1,0,0,1,null,"NO","NO",0]
["Lafayette","Lafayette",19.03,22055001903,"FALSE",0,0,71420211145,"Louisiana",152900,181900,1.1896664486592501,true,null,46710,48533,1.03902804538643,"",null,19.600000000000001,19.100000000000001,0.97448979591836704,"",1,0,0,1,null,"NO","NO",0]
["Lafayette","Lafayette",19.04,22055001904,"FALSE",0,0,71420211146,"Louisiana",152900,181900,1.1896664486592501,true,null,46710,48533,1.03902804538643,"",null,19.600000000000001,19.100000000000001,0.97448979591836704,"",1,0,0,1,null,"NO","NO",0]
["Lafayette","Lafayette",19.05,22055001905,"FALSE",0,0,71420211147,"Louisiana",152900,181900,1.1896664486592501,true,null,46710,48533,1.03902804538643,"",null,19.600000000000001,19.100000000000001,0.97448979591836704,"",1,0,0,1,null,"NO","NO",0]
["Lafayette","Lafayette",19.05,22055001905,"FALSE",0,0,71420211148,"Louisiana",152900,181900,1.1896664486592501,true,null,46710,48533,1.03902804538643,"",null,19.600000000000001,19.100000000000001,0.97448979591836704,"",1,0,0,1,null,"NO","NO",0]
["Lafayette","Lafayette",20.010000000000002,22055002001,"FALSE",0,0,71420211149,"Louisiana",152900,181900,1.1896664486592501,true,null,46710,48533,1.03902804538643,"",null,19.600000000000001,19.100000000000001,0.97448979591836704,"",1,0,0,1,null,"NO","NO",0]
["Lafayette","Lafayette",20.02,22055002002,"FALSE",0,0,71420211150,"Louisiana",152900,181900,1.1896664486592501,true,null,46710,48533,1.03902804538643,"",null,19.600000000000001,19.100000000000001,0.97448979591836704,"",1,0,0,1,null,"NO","NO",0]
["Lafayette","Lafayette",21.03,22055002103,"FALSE",0,0,71420211151,"Louisiana",152900,181900,1.1896664486592501,true,null,46710,48533,1.03902804538643,"",null,19.600000000000001,19.100000000000001,0.97448979591836704,"",1,0,0,1,null,"NO","NO",0]
["Lafayette","Lafayette",21.04,22055002104,"FALSE",0,0,71420211152,"Louisiana",152900,181900,1.1896664486592501,true,null,46710,48533,1.03902804538643,"",null,19.600000000000001,19.100000000000001,0.97448979591836704,"",1,0,0,1,null,"NO","NO",0]
["Lafayette","Lafayette",22,22055002200,"TRUE",1,4,71420211153,"Louisiana",152900,181900,1.1896664486592501,true,null,46710,48533,1.03902804538643,"",null,19.600000000000001,19.100000000000001,0.97448979591836704,"",1,0,0,1,null,"NO","NO",4]
["Lafayette","Lafayette",22,22055002200,"TRUE",1,4,71420211154,"Louisiana",152900,181900,1.1896664486592501,true,null,46710,48533,1.03902804538643,"",null,19.600000000000001,19.100000000000001,0.97448979591836704,"",1,0,0,1,null,"NO","NO",4]
["Lafayette","Lafayette",22,22055002200,"TRUE",1,{"$f":"IF(E1155=\"TRUE\",4,0)","v":4},71420211155,"Louisiana",152900,181900,1.1896664486592501,{"$f":"IF(L1155>=50%,TRUE,\"\")","v":true},null,46710,48533,1.03902804538643,{"$f":"IF(Q1155<=65%,TRUE,\"\")","v":""},null,19.600000000000001,19.100000000000001,0.97448979591836704,{"$f":"IF(V1155>=1.5,TRUE,\"\")","v":""},{"$f":"IF(M1155=TRUE,1,0)","v":1},{"$f":"IF(R1155=TRUE,1,0)","v":0},{"$f":"IF(W1155=TRUE,1,0)","v":0},{"$f":"SUM(X1155:Z1155)","v":1},null,{"$f":"IF(AND(E1155=\"TRUE\",AA1155>1),\"YES\",\"NO\")","v":"NO"},{"$f":"IF(AND(F1155=1,AA1155>1), \"YES\",\"NO\")","v":"NO"},{"$f":"+G1155+N1155+S1155+AB1155","v":4}]
["Lafayette","Lafayette",22,22055002200,"TRUE",1,4,71420211156,"Louisiana",152900,181900,1.1896664486592501,true,null,46710,48533,1.03902804538643,"",null,19.600000000000001,19.100000000000001,0.97448979591836704,"",1,0,0,1,null,"NO","NO",4]
["Lafayette","Lafayette",9800,22055980000,"FALSE",0,0,71420211157,"Louisiana",152900,181900,1.1896664486592501,true,null,46710,48533,1.03902804538643,"",null,19.600000000000001,19.100000000000001,0.97448979591836704,"",1,0,0,1,null,"NO","NO",0]
["Lafayette","Milton",14.02,22055001402,"FALSE",0,0,71420211158,"Louisiana",152900,178100,1.1648136036625201,true,{"$f":"IF(M1158=TRUE,4,0)","v":4},46710,84183,1.8022479126525399,"",{"$f":"IF(R1158=TRUE, 4,0)","v":0},19.600000000000001,7.6,0.38775510204081598,"",1,0,0,1,{"$f":"IF(W1158=TRUE, 4,0)","v":0},"NO","NO",4]
["Lafayette","Scott",9605,22001960500,"FALSE",0,0,71420211159,"Louisiana",152900,145700,0.952910398953564,true,4,46710,48170,1.0312566902162299,"",0,19.600000000000001,7.7,0.39285714285714302,"",1,0,0,1,0,"NO","NO",4]
["Lafayette","Scott",9606,22001960600,"FALSE",0,0,71420211160,"Louisiana",152900,145700,0.952910398953564,true,4,46710,48170,1.0312566902162299,"",0,19.600000000000001,7.7,0.39285714285714302,"",1,0,0,1,0,"NO","NO",4]
["Lafayette","Scott",7,22055000700,"FALSE",0,0,71420211161,"Louisiana",152900,145700,0.952910398953564,true,4,46710,48170,1.0312566902162299,"",0,19.600000000000001,7.7,0.39285714285714302,"",1,0,0,1,0,"NO","NO",4]
["Lafayette","Scott",10.01,22055001001,"FALSE",0,0,71420211162,"Louisiana",152900,145700,0.952910398953564,true,4,46710,48170,1.0312566902162299,"",0,19.600000000000001,7.7,0.39285714285714302,"",1,0,0,1,0,"NO","NO",4]
["Lafayette","Scott",19.02,22055001902,"FALSE",0,0,71420211163,"Louisiana",152900,145700,0.952910398953564,true,4,46710,48170,1.0312566902162299,"",0,19.600000000000001,7.7,0.39285714285714302,"",1,0,0,1,0,"NO","NO",4]
["Lafayette","Scott",20.010000000000002,22055002001,"FALSE",0,0,71420211164,"Louisiana",152900,145700,0.952910398953564,true,4,46710,48170,1.0312566902162299,"",0,19.600000000000001,7.7,0.39285714285714302,"",1,0,0,1,0,"NO","NO",4]
["Lafayette","Scott",20.02,22055002002,"FALSE",0,0,71420211165,"Louisiana",152900,145700,0.952910398953564,true,4,46710,48170,1.0312566902162299,"",0,19.600000000000001,7.7,0.39285714285714302,"",1,0,0,1,0,"NO","NO",4]
["Lafayette","Youngsville",303.02,22045030302,"FALSE",0,0,71420211166,"Louisiana",152900,220800,1.44408109875736,true,4,46710,85208,1.82419182187968,"",0,19.600000000000001,6.7,0.34183673469387799,"",1,0,0,1,0,"NO","NO",4]
["Lafayette","Youngsville",14.02,22055001402,"FALSE",0,0,71420211167,"Louisiana",152900,220800,1.44408109875736,true,4,46710,85208,1.82419182187968,"",0,19.600000000000001,6.7,0.34183673469387799,"",1,0,0,1,0,"NO","NO",4]
["Lafayette","Youngsville",14.04,22055001404,"FALSE",0,0,71420211168,"Louisiana",152900,220800,1.44408109875736,true,4,46710,85208,1.82419182187968,"",0,19.600000000000001,6.7,0.34183673469387799,"",1,0,0,1,0,"NO","NO",4]
["Lafayette","Youngsville",14.05,22055001405,"FALSE",0,0,71420211169,"Louisiana",152900,220800,1.44408109875736,true,4,46710,85208,1.82419182187968,"",0,19.600000000000001,6.7,0.34183673469387799,"",1,0,0,1,0,"NO","NO",4]
["Lafayette","Youngsville",14.09,22055001409,"FALSE",0,0,71420211170,"Louisiana",152900,220800,1.44408109875736,true,4,46710,85208,1.82419182187968,"",0,19.600000000000001,6.7,0.34183673469387799,"",1,0,0,1,0,"NO","NO",4]
["Lafayette","Youngsville",14.1,22055001410,"FALSE",0,0,71420211171,"Louisiana",152900,220800,1.44408109875736,true,4,46710,85208,1.82419182187968,"",0,19.600000000000001,6.7,0.34183673469387799,"",1,0,0,1,0,"NO","NO",4]
["Lafayette","Youngsville",9509.02,22113950902,"FALSE",0,0,71420211172,"Louisiana",152900,220800,1.44408109875736,true,4,46710,85208,1.82419182187968,"",0,19.600000000000001,6.7,0.34183673469387799,"",1,0,0,1,0,"NO","NO",4]
["Lafourche","Cut Off",211,22057021100,"FALSE",0,0,71420211173,"Louisiana",152900,129100,0.84434270765205999,true,4,46710,58517,1.2527724256048001,"",0,19.600000000000001,10,0.51020408163265296,"",1,0,0,1,0,"NO","NO",4]
["Lafourche","Cut Off",212,22057021200,"FALSE",0,0,71420211174,"Louisiana",152900,129100,0.84434270765205999,true,4,46710,58517,1.2527724256048001,"",0,19.600000000000001,10,0.51020408163265296,"",1,0,0,1,0,"NO","NO",4]
["Lafourche","Cut Off",214,22057021400,"FALSE",0,0,71420211175,"Louisiana",152900,129100,0.84434270765205999,true,4,46710,58517,1.2527724256048001,"",0,19.600000000000001,10,0.51020408163265296,"",1,0,0,1,0,"NO","NO",4]
["Lafourche","Des Allemands",210,22057021000,"FALSE",0,0,71420211176,"Louisiana",152900,115300,0.75408763897972497,true,4,46710,41176,0.88152429886533901,"",0,19.600000000000001,6,0.30612244897959201,"",1,0,0,1,0,"NO","NO",4]
["Lafourche","Des Allemands",632,22089063200,"FALSE",0,0,71420211177,"Louisiana",152900,115300,0.75408763897972497,true,4,46710,41176,0.88152429886533901,"",0,19.600000000000001,6,0.30612244897959201,"",1,0,0,1,0,"NO","NO",4]
["Lafourche","Galliano",211,22057021100,"FALSE",0,0,71420211178,"Louisiana",152900,115500,0.75539568345323704,true,4,46710,56392,1.2072789552558301,"",0,19.600000000000001,14.4,0.73469387755102,"",1,0,0,1,0,"NO","NO",4]
["Lafourche","Galliano",212,22057021200,"FALSE",0,0,71420211179,"Louisiana",152900,115500,0.75539568345323704,true,4,46710,56392,1.2072789552558301,"",0,19.600000000000001,14.4,0.73469387755102,"",1,0,0,1,0,"NO","NO",4]
["Lafourche","Galliano",213,22057021300,"FALSE",0,0,71420211180,"Louisiana",152900,115500,0.75539568345323704,true,4,46710,56392,1.2072789552558301,"",0,19.600000000000001,14.4,0.73469387755102,"",1,0,0,1,0,"NO","NO",4]
["Lafourche","Gheens",210,22057021000,"FALSE",0,0,71420211181,"Louisiana",152900,0,0,"",0,46710,0,0,true,4,19.600000000000001,0,0,"",0,1,0,1,0,"NO","NO",4]
["Lafourche","Golden Meadow",211,22057021100,"FALSE",0,0,71420211182,"Louisiana",152900,90800,0.59385219097449304,true,4,46710,53466,1.1446371226718,"",0,19.600000000000001,17.5,0.89285714285714302,"",1,0,0,1,0,"NO","NO",4]
["Lafourche","Golden Meadow",212,22057021200,"FALSE",0,0,71420211183,"Louisiana",152900,90800,0.59385219097449304,true,4,46710,53466,1.1446371226718,"",0,19.600000000000001,17.5,0.89285714285714302,"",1,0,0,1,0,"NO","NO",4]
["Lafourche","Golden Meadow",213,22057021300,"FALSE",0,0,71420211184,"Louisiana",152900,90800,0.59385219097449304,true,4,46710,53466,1.1446371226718,"",0,19.600000000000001,17.5,0.89285714285714302,"",1,0,0,1,0,"NO","NO",4]
["Lafourche","Kraemer",208,22057020800,"FALSE",0,0,71420211185,"Louisiana",152900,107400,0.70241988227599705,true,4,46710,47917,1.0258402911582101,"",0,19.600000000000001,27.4,1.3979591836734699,"",1,0,0,1,0,"NO","NO",4]
["Lafourche","Larose",210,22057021000,"FALSE",0,0,71420211186,"Louisiana",152900,134100,0.87704381948986299,true,4,46710,51048,1.09287090558767,"",0,19.600000000000001,14.6,0.74489795918367396,"",1,0,0,1,0,"NO","NO",4]
["Lafourche","Larose",211,22057021100,"FALSE",0,0,71420211187,"Louisiana",152900,134100,0.87704381948986299,true,4,46710,51048,1.09287090558767,"",0,19.600000000000001,14.6,0.74489795918367396,"",1,0,0,1,0,"NO","NO",4]
["Lafourche","Larose",214,22057021400,"FALSE",0,0,71420211188,"Louisiana",152900,134100,0.87704381948986299,true,4,46710,51048,1.09287090558767,"",0,19.600000000000001,14.6,0.74489795918367396,"",1,0,0,1,0,"NO","NO",4]
["Lafourche","Larose",215,22057021500,"FALSE",0,0,71420211189,"Louisiana",152900,134100,0.87704381948986299,true,4,46710,51048,1.09287090558767,"",0,19.600000000000001,14.6,0.74489795918367396,"",1,0,0,1,0,"NO","NO",4]
["Lafourche","Larose",216.02,22057021602,"FALSE",0,0,71420211190,"Louisiana",152900,134100,0.87704381948986299,true,4,46710,51048,1.09287090558767,"",0,19.600000000000001,14.6,0.74489795918367396,"",1,0,0,1,0,"NO","NO",4]
["Lafourche","Lockport",210,22057021000,"FALSE",0,0,71420211191,"Louisiana",152900,104300,0.68214519293655995,true,4,46710,54583,1.16855063155641,"",0,19.600000000000001,19.3,0.98469387755102,"",1,0,0,1,0,"NO","NO",4]
["Lafourche","Lockport",215,22057021500,"FALSE",0,0,71420211192,"Louisiana",152900,104300,0.68214519293655995,true,4,46710,54583,1.16855063155641,"",0,19.600000000000001,19.3,0.98469387755102,"",1,0,0,1,0,"NO","NO",4]
["Lafourche","Lockport",216.01,22057021601,"FALSE",0,0,71420211193,"Louisiana",152900,104300,0.68214519293655995,true,4,46710,54583,1.16855063155641,"",0,19.600000000000001,19.3,0.98469387755102,"",1,0,0,1,0,"NO","NO",4]
["Lafourche","Lockport",216.02,22057021602,"FALSE",0,0,71420211194,"Louisiana",152900,104300,0.68214519293655995,true,4,46710,54583,1.16855063155641,"",0,19.600000000000001,19.3,0.98469387755102,"",1,0,0,1,0,"NO","NO",4]
["Lafourche","Lockport",217,22057021700,"FALSE",0,0,71420211195,"Louisiana",152900,104300,0.68214519293655995,true,4,46710,54583,1.16855063155641,"",0,19.600000000000001,19.3,0.98469387755102,"",1,0,0,1,0,"NO","NO",4]
["Lafourche","Mathews",210,22057021000,"FALSE",0,0,71420211196,"Louisiana",152900,183200,1.19816873773708,true,4,46710,68077,1.4574395204452999,"",0,19.600000000000001,4.7,0.23979591836734701,"",1,0,0,1,0,"NO","NO",4]
["Lafourche","Mathews",216.01,22057021601,"FALSE",0,0,71420211197,"Louisiana",152900,183200,1.19816873773708,true,4,46710,68077,1.4574395204452999,"",0,19.600000000000001,4.7,0.23979591836734701,"",1,0,0,1,0,"NO","NO",4]
["Lafourche","Raceland",209,22057020900,"FALSE",0,0,71420211198,"Louisiana",152900,117900,0.77109221713538301,true,4,46710,40774,0.87291800470991199,"",0,19.600000000000001,20.7,1.05612244897959,"",1,0,0,1,0,"NO","NO",4]
["Lafourche","Raceland",210,22057021000,"FALSE",0,0,71420211199,"Louisiana",152900,117900,0.77109221713538301,true,4,46710,40774,0.87291800470991199,"",0,19.600000000000001,20.7,1.05612244897959,"",1,0,0,1,0,"NO","NO",4]
["Lafourche","Raceland",216.01,22057021601,"FALSE",0,0,71420211200,"Louisiana",152900,117900,0.77109221713538301,true,4,46710,40774,0.87291800470991199,"",0,19.600000000000001,20.7,1.05612244897959,"",1,0,0,1,0,"NO","NO",4]
["Lafourche","Raceland",218,22057021800,"FALSE",0,0,71420211201,"Louisiana",152900,117900,0.77109221713538301,true,4,46710,40774,0.87291800470991199,"",0,19.600000000000001,20.7,1.05612244897959,"",1,0,0,1,0,"NO","NO",4]
["Lafourche","Raceland",219.02,22057021902,"FALSE",0,0,71420211202,"Louisiana",152900,117900,0.77109221713538301,true,4,46710,40774,0.87291800470991199,"",0,19.600000000000001,20.7,1.05612244897959,"",1,0,0,1,0,"NO","NO",4]
["Lafourche","Thibodaux",505,22007050500,"FALSE",0,0,71420211203,"Louisiana",152900,148500,0.97122302158273399,true,4,46710,35146,0.75242988653393295,"",0,19.600000000000001,19.3,0.98469387755102,"",1,0,0,1,0,"NO","NO",4]
["Lafourche","Thibodaux",506,22007050600,"FALSE",0,0,71420211204,"Louisiana",152900,148500,0.97122302158273399,true,4,46710,35146,0.75242988653393295,"",0,19.600000000000001,19.3,0.98469387755102,"",1,0,0,1,0,"NO","NO",4]
["Lafourche","Thibodaux",201,22057020100,"FALSE",0,0,71420211205,"Louisiana",152900,148500,0.97122302158273399,true,4,46710,35146,0.75242988653393295,"",0,19.600000000000001,19.3,0.98469387755102,"",1,0,0,1,0,"NO","NO",4]
["Lafourche","Thibodaux",202.02,22057020202,"FALSE",0,0,71420211206,"Louisiana",152900,148500,0.97122302158273399,true,4,46710,35146,0.75242988653393295,"",0,19.600000000000001,19.3,0.98469387755102,"",1,0,0,1,0,"NO","NO",4]
["Lafourche","Thibodaux",204,22057020400,"TRUE",1,4,71420211207,"Louisiana",152900,148500,0.97122302158273399,true,4,46710,35146,0.75242988653393295,"",0,19.600000000000001,19.3,0.98469387755102,"",1,0,0,1,0,"NO","NO",8]
["Lafourche","Thibodaux",205,22057020500,"FALSE",0,0,71420211208,"Louisiana",152900,148500,0.97122302158273399,true,4,46710,35146,0.75242988653393295,"",0,19.600000000000001,19.3,0.98469387755102,"",1,0,0,1,0,"NO","NO",4]
["Lafourche","Thibodaux",206,22057020600,"FALSE",0,0,71420211209,"Louisiana",152900,148500,0.97122302158273399,true,4,46710,35146,0.75242988653393295,"",0,19.600000000000001,19.3,0.98469387755102,"",1,0,0,1,0,"NO","NO",4]
["Lafourche","Thibodaux",207.02,22057020702,"TRUE",1,4,71420211210,"Louisiana",152900,148500,0.97122302158273399,true,4,46710,35146,0.75242988653393295,"",0,19.600000000000001,19.3,0.98469387755102,"",1,0,0,1,0,"NO","NO",8]
["Lafourche","Thibodaux",207.03,22057020703,"FALSE",0,0,71420211211,"Louisiana",152900,148500,0.97122302158273399,true,4,46710,35146,0.75242988653393295,"",0,19.600000000000001,19.3,0.98469387755102,"",1,0,0,1,0,"NO","NO",4]
["Lafourche","Thibodaux",207.04,22057020704,"FALSE",0,0,71420211212,"Louisiana",152900,148500,0.97122302158273399,true,4,46710,35146,0.75242988653393295,"",0,19.600000000000001,19.3,0.98469387755102,"",1,0,0,1,0,"NO","NO",4]
["Lafourche","Thibodaux",208,22057020800,"FALSE",0,0,71420211213,"Louisiana",152900,148500,0.97122302158273399,true,4,46710,35146,0.75242988653393295,"",0,19.600000000000001,19.3,0.98469387755102,"",1,0,0,1,0,"NO","NO",4]
["Lafourche","Thibodaux",209,22057020900,"FALSE",0,0,71420211214,"Louisiana",152900,148500,0.97122302158273399,true,4,46710,35146,0.75242988653393295,"",0,19.600000000000001,19.3,0.98469387755102,"",1,0,0,1,0,"NO","NO",4]
["Lafourche","Thibodaux",210,22057021000,"FALSE",0,0,71420211215,"Louisiana",152900,148500,0.97122302158273399,true,4,46710,35146,0.75242988653393295,"",0,19.600000000000001,19.3,0.98469387755102,"",1,0,0,1,0,"NO","NO",4]
["Lafourche","Thibodaux",219.01,22057021901,"FALSE",0,0,71420211216,"Louisiana",152900,148500,0.97122302158273399,true,4,46710,35146,0.75242988653393295,"",0,19.600000000000001,19.3,0.98469387755102,"",1,0,0,1,0,"NO","NO",4]
["Lafourche","Thibodaux",219.02,22057021902,"FALSE",0,0,71420211217,"Louisiana",152900,148500,0.97122302158273399,true,4,46710,35146,0.75242988653393295,"",0,19.600000000000001,19.3,0.98469387755102,"",1,0,0,1,0,"NO","NO",4]
["Lafourche","Thibodaux",220,22057022000,"FALSE",0,0,71420211218,"Louisiana",152900,148500,0.97122302158273399,true,4,46710,35146,0.75242988653393295,"",0,19.600000000000001,19.3,0.98469387755102,"",1,0,0,1,0,"NO","NO",4]
["Lafourche","Thibodaux",1.01,22109000101,"FALSE",0,{"$f":"IF(E1219=\"TRUE\",4,0)","v":0},71420211219,"Louisiana",152900,148500,0.97122302158273399,{"$f":"IF(L1219>=50%,TRUE,\"\")","v":true},4,46710,35146,0.75242988653393295,{"$f":"IF(Q1219<=65%,TRUE,\"\")","v":""},0,19.600000000000001,19.3,0.98469387755102,{"$f":"IF(V1219>=1.5,TRUE,\"\")","v":""},{"$f":"IF(M1219=TRUE,1,0)","v":1},{"$f":"IF(R1219=TRUE,1,0)","v":0},{"$f":"IF(W1219=TRUE,1,0)","v":0},{"$f":"SUM(X1219:Z1219)","v":1},0,{"$f":"IF(AND(E1219=\"TRUE\",AA1219>1),\"YES\",\"NO\")","v":"NO"},{"$f":"IF(AND(F1219=1,AA1219>1), \"YES\",\"NO\")","v":"NO"},{"$f":"+G1219+N1219+S1219+AB1219","v":4}]
["LaSalle","Jena",9702,22059970200,"FALSE",0,0,71420211220,"Louisiana",152900,0,0,"",0,46710,0,0,true,4,19.600000000000001,0,0,"",0,1,0,1,0,"NO","NO",4]
["LaSalle","Jena",9702,22059970200,"FALSE",0,0,71420211221,"Louisiana",152900,96400,0.63047743623283203,true,4,46710,29351,0.62836651680582301,true,4,19.600000000000001,28.8,1.46938775510204,"",1,1,0,2,0,"NO","NO",8]
["LaSalle","Jena",9703,22059970300,"FALSE",0,0,71420211222,"Louisiana",152900,0,0,"",{"$f":"IF(M1222=TRUE,4,0)","v":0},46710,0,0,true,{"$f":"IF(R1222=TRUE, 4,0)","v":4},19.600000000000001,0,0,"",0,1,0,1,{"$f":"IF(W1222=TRUE, 4,0)","v":0},"NO","NO",4]
["LaSalle","Jena",9703,22059970300,"FALSE",0,0,71420211223,"Louisiana",152900,96400,0.63047743623283203,true,4,46710,29351,0.62836651680582301,true,4,19.600000000000001,28.8,1.46938775510204,"",1,1,0,2,0,"NO","NO",8]
["LaSalle","Olla",2,22021000200,"FALSE",0,0,71420211224,"Louisiana",152900,0,0,"",0,46710,0,0,true,4,19.600000000000001,0,0,"",0,1,0,1,0,"NO","NO",4]
["LaSalle","Olla",2,22021000200,"FALSE",0,0,71420211225,"Louisiana",152900,61300,0.40091563113145801,"",0,46710,34375,0.73592378505673295,"",0,19.600000000000001,26.9,1.37244897959184,"",0,0,0,0,0,"NO","NO",0]
["LaSalle","Olla",1,22025000100,"FALSE",0,0,71420211226,"Louisiana",152900,61300,0.40091563113145801,"",0,46710,34375,0.73592378505673295,"",0,19.600000000000001,26.9,1.37244897959184,"",0,0,0,0,0,"NO","NO",0]
["LaSalle","Olla",1,22025000100,"FALSE",0,0,71420211227,"Louisiana",152900,0,0,"",0,46710,0,0,true,4,19.600000000000001,0,0,"",0,1,0,1,0,"NO","NO",4]
["LaSalle","Olla",9701,22059970100,"FALSE",0,0,71420211228,"Louisiana",152900,61300,0.40091563113145801,"",0,46710,34375,0.73592378505673295,"",0,19.600000000000001,26.9,1.37244897959184,"",0,0,0,0,0,"NO","NO",0]
["LaSalle","Olla",9701,22059970100,"FALSE",0,0,71420211229,"Louisiana",152900,0,0,"",0,46710,0,0,true,4,19.600000000000001,0,0,"",0,1,0,1,0,"NO","NO",4]
["LaSalle","Olla",9702,22059970200,"FALSE",0,0,71420211230,"Louisiana",152900,61300,0.40091563113145801,"",0,46710,34375,0.73592378505673295,"",0,19.600000000000001,26.9,1.37244897959184,"",0,0,0,0,0,"NO","NO",0]
["LaSalle","Olla",9702,22059970200,"FALSE",0,0,71420211231,"Louisiana",152900,0,0,"",0,46710,0,0,true,4,19.600000000000001,0,0,"",0,1,0,1,0,"NO","NO",4]
["LaSalle","Olla",9703,22059970300,"FALSE",0,0,71420211232,"Louisiana",152900,0,0,"",0,46710,0,0,true,4,19.600000000000001,0,0,"",0,1,0,1,0,"NO","NO",4]
["LaSalle","Olla",9703,22059970300,"FALSE",0,0,71420211233,"Louisiana",152900,61300,0.40091563113145801,"",0,46710,34375,0.73592378505673295,"",0,19.600000000000001,26.9,1.37244897959184,"",0,0,0,0,0,"NO","NO",0]
["LaSalle","Olla",9601,22127960100,"TRUE",1,4,71420211234,"Louisiana",152900,61300,0.40091563113145801,"",0,46710,34375,0.73592378505673295,"",0,19.600000000000001,26.9,1.37244897959184,"",0,0,0,0,0,"NO","NO",4]
["LaSalle","Olla",9601,22127960100,"FALSE",0,0,71420211235,"Louisiana",152900,0,0,"",0,46710,0,0,true,4,19.600000000000001,0,0,"",0,1,0,1,0,"NO","NO",4]
["LaSalle","Trout",9702,22059970200,"FALSE",0,0,71420211236,"Louisiana",152900,0,0,"",0,46710,0,0,true,4,19.600000000000001,0,0,"",0,1,0,1,0,"NO","NO",4]
["LaSalle","Trout",9703,22059970300,"FALSE",0,0,71420211237,"Louisiana",152900,0,0,"",0,46710,0,0,true,4,19.600000000000001,0,0,"",0,1,0,1,0,"NO","NO",4]
["LaSalle","Tullos",9701,22059970100,"TRUE",1,4,71420211238,"Louisiana",152900,0,0,"",0,46710,0,0,true,4,19.600000000000001,0,0,"",0,1,0,1,0,"NO","NO",8]
["LaSalle","Tullos",9701,22059970100,"TRUE",1,4,71420211239,"Louisiana",152900,34900,0.22825376062786101,"",0,46710,29318,0.62766002997216896,true,4,19.600000000000001,35.9,1.8316326530612199,true,0,1,1,2,4,"YES","YES",12]
["LaSalle","Tullos",9703,22059970300,"TRUE",1,4,71420211240,"Louisiana",152900,0,0,"",0,46710,0,0,true,4,19.600000000000001,0,0,"",0,1,0,1,0,"NO","NO",8]
["LaSalle","Tullos",9703,22059970300,"FALSE",0,0,71420211241,"Louisiana",152900,34900,0.22825376062786101,"",0,46710,29318,0.62766002997216896,true,4,19.600000000000001,35.9,1.8316326530612199,true,0,1,1,2,4,"NO","NO",8]
["LaSalle","Tullos",9601,22127960100,"TRUE",1,4,71420211242,"Louisiana",152900,0,0,"",0,46710,0,0,true,4,19.600000000000001,0,0,"",0,1,0,1,0,"NO","NO",8]
["LaSalle","Tullos",9601,22127960100,"FALSE",0,0,71420211243,"Louisiana",152900,34900,0.22825376062786101,"",0,46710,29318,0.62766002997216896,true,4,19.600000000000001,35.9,1.8316326530612199,true,0,1,1,2,4,"NO","NO",8]
["LaSalle","Urania",9701,22059970100,"TRUE",1,4,71420211244,"Louisiana",152900,0,0,"",0,46710,0,0,true,4,19.600000000000001,0,0,"",0,1,0,1,0,"NO","NO",8]
["LaSalle","Urania",9701,22059970100,"FALSE",0,0,71420211245,"Louisiana",152900,59200,0.38718116415958098,"",0,46710,37292,0.79837293941340204,"",0,19.600000000000001,30,1.53061224489796,true,0,0,1,1,4,"NO","NO",4]
["Lincoln","Choudrant",9701,22049970100,"FALSE",0,0,71420211246,"Louisiana",152900,164600,1.07652060170046,true,4,46710,58309,1.2483194176835799,"",0,19.600000000000001,11.2,0.57142857142857195,"",1,0,0,1,0,"NO","NO",4]
["Lincoln","Choudrant",9606,22061960600,"FALSE",0,0,71420211247,"Louisiana",152900,164600,1.07652060170046,true,4,46710,58309,1.2483194176835799,"",0,19.600000000000001,11.2,0.57142857142857195,"",1,0,0,1,0,"NO","NO",4]
["Lincoln","Choudrant",9607,22061960700,"FALSE",0,0,71420211248,"Louisiana",152900,164600,1.07652060170046,true,4,46710,58309,1.2483194176835799,"",0,19.600000000000001,11.2,0.57142857142857195,"",1,0,0,1,0,"NO","NO",4]
["Lincoln","Choudrant",9608,22061960800,"FALSE",0,0,71420211249,"Louisiana",152900,164600,1.07652060170046,true,4,46710,58309,1.2483194176835799,"",0,19.600000000000001,11.2,0.57142857142857195,"",1,0,0,1,0,"NO","NO",4]
["Lincoln","Choudrant",104,22073010400,"FALSE",0,0,71420211250,"Louisiana",152900,164600,1.07652060170046,true,4,46710,58309,1.2483194176835799,"",0,19.600000000000001,11.2,0.57142857142857195,"",1,0,0,1,0,"NO","NO",4]
["Lincoln","Choudrant",9606,22111960600,"FALSE",0,0,71420211251,"Louisiana",152900,164600,1.07652060170046,true,4,46710,58309,1.2483194176835799,"",0,19.600000000000001,11.2,0.57142857142857195,"",1,0,0,1,0,"NO","NO",4]
["Lincoln","Downsville",9607,22061960700,"FALSE",0,0,71420211252,"Louisiana",152900,120500,0.78809679529104004,true,4,46710,38750,0.82958681224577202,"",0,19.600000000000001,18.5,0.94387755102040805,"",1,0,0,1,0,"NO","NO",4]
["Lincoln","Downsville",104,22073010400,"FALSE",0,0,71420211253,"Louisiana",152900,120500,0.78809679529104004,true,4,46710,38750,0.82958681224577202,"",0,19.600000000000001,18.5,0.94387755102040805,"",1,0,0,1,0,"NO","NO",4]
["Lincoln","Downsville",9605,22111960500,"FALSE",0,0,71420211254,"Louisiana",152900,120500,0.78809679529104004,true,4,46710,38750,0.82958681224577202,"",0,19.600000000000001,18.5,0.94387755102040805,"",1,0,0,1,0,"NO","NO",4]
["Lincoln","Downsville",9606,22111960600,"FALSE",0,0,71420211255,"Louisiana",152900,120500,0.78809679529104004,true,4,46710,38750,0.82958681224577202,"",0,19.600000000000001,18.5,0.94387755102040805,"",1,0,0,1,0,"NO","NO",4]
["Lincoln","Dubach",9501,22027950100,"FALSE",0,0,71420211256,"Louisiana",152900,107700,0.70438194898626505,true,4,46710,31118,0.66619567544422997,"",0,19.600000000000001,22.7,1.15816326530612,"",1,0,0,1,0,"NO","NO",4]
["Lincoln","Dubach",9601,22061960100,"FALSE",0,0,71420211257,"Louisiana",152900,107700,0.70438194898626505,true,4,46710,31118,0.66619567544422997,"",0,19.600000000000001,22.7,1.15816326530612,"",1,0,0,1,0,"NO","NO",4]
["Lincoln","Dubach",9602,22061960200,"FALSE",0,0,71420211258,"Louisiana",152900,107700,0.70438194898626505,true,4,46710,31118,0.66619567544422997,"",0,19.600000000000001,22.7,1.15816326530612,"",1,0,0,1,0,"NO","NO",4]
["Lincoln","Dubach",9607,22061960700,"FALSE",0,0,71420211259,"Louisiana",152900,107700,0.70438194898626505,true,4,46710,31118,0.66619567544422997,"",0,19.600000000000001,22.7,1.15816326530612,"",1,0,0,1,0,"NO","NO",4]
["Lincoln","Dubach",9603,22111960300,"FALSE",0,0,71420211260,"Louisiana",152900,107700,0.70438194898626505,true,4,46710,31118,0.66619567544422997,"",0,19.600000000000001,22.7,1.15816326530612,"",1,0,0,1,0,"NO","NO",4]
["Lincoln","Grambling",9602,22061960200,"FALSE",0,0,71420211261,"Louisiana",152900,90200,0.58992805755395705,true,4,46710,22129,0.47375294369513998,true,4,19.600000000000001,41.9,2.1377551020408201,true,1,1,1,3,4,"NO","NO",12]
["Lincoln","Grambling",9603,22061960300,"TRUE",1,4,71420211262,"Louisiana",152900,90200,0.58992805755395705,true,4,46710,22129,0.47375294369513998,true,4,19.600000000000001,41.9,2.1377551020408201,true,1,1,1,3,4,"YES","YES",16]
["Lincoln","Ruston",9701,22049970100,"FALSE",0,0,71420211263,"Louisiana",152900,169400,1.10791366906475,true,4,46710,27411,0.58683365446371205,true,4,19.600000000000001,43.4,2.21428571428571,true,1,1,1,3,4,"NO","NO",12]
["Lincoln","Ruston",9702,22049970200,"FALSE",0,0,71420211264,"Louisiana",152900,169400,1.10791366906475,true,4,46710,27411,0.58683365446371205,true,4,19.600000000000001,43.4,2.21428571428571,true,1,1,1,3,4,"NO","NO",12]
["Lincoln","Ruston",9601,22061960100,"FALSE",0,0,71420211265,"Louisiana",152900,169400,1.10791366906475,true,4,46710,27411,0.58683365446371205,true,4,19.600000000000001,43.4,2.21428571428571,true,1,1,1,3,4,"NO","NO",12]
["Lincoln","Ruston",9602,22061960200,"FALSE",0,0,71420211266,"Louisiana",152900,169400,1.10791366906475,true,4,46710,27411,0.58683365446371205,true,4,19.600000000000001,43.4,2.21428571428571,true,1,1,1,3,4,"NO","NO",12]
["Lincoln","Ruston",9603,22061960300,"TRUE",1,4,71420211267,"Louisiana",152900,169400,1.10791366906475,true,4,46710,27411,0.58683365446371205,true,4,19.600000000000001,43.4,2.21428571428571,true,1,1,1,3,4,"YES","YES",16]
["Lincoln","Ruston",9604,22061960400,"FALSE",0,0,71420211268,"Louisiana",152900,169400,1.10791366906475,true,4,46710,27411,0.58683365446371205,true,4,19.600000000000001,43.4,2.21428571428571,true,1,1,1,3,4,"NO","NO",12]
["Lincoln","Ruston",9605,22061960500,"FALSE",0,0,71420211269,"Louisiana",152900,169400,1.10791366906475,true,4,46710,27411,0.58683365446371205,true,4,19.600000000000001,43.4,2.21428571428571,true,1,1,1,3,4,"NO","NO",12]
["Lincoln","Ruston",9606,22061960600,"FALSE",0,0,71420211270,"Louisiana",152900,169400,1.10791366906475,true,4,46710,27411,0.58683365446371205,true,4,19.600000000000001,43.4,2.21428571428571,true,1,1,1,3,4,"NO","NO",12]
["Lincoln","Ruston",9606,22061960600,"FALSE",0,0,71420211271,"Louisiana",152900,169400,1.10791366906475,true,4,46710,27411,0.58683365446371205,true,4,19.600000000000001,43.4,2.21428571428571,true,1,1,1,3,4,"NO","NO",12]
["Lincoln","Ruston",9607,22061960700,"FALSE",0,0,71420211272,"Louisiana",152900,169400,1.10791366906475,true,4,46710,27411,0.58683365446371205,true,4,19.600000000000001,43.4,2.21428571428571,true,1,1,1,3,4,"NO","NO",12]
["Lincoln","Ruston",9608,22061960800,"TRUE",1,4,71420211273,"Louisiana",152900,169400,1.10791366906475,true,4,46710,27411,0.58683365446371205,true,4,19.600000000000001,43.4,2.21428571428571,true,1,1,1,3,4,"YES","YES",16]
["Lincoln","Ruston",9609,22061960900,"TRUE",1,4,71420211274,"Louisiana",152900,169400,1.10791366906475,true,4,46710,27411,0.58683365446371205,true,4,19.600000000000001,43.4,2.21428571428571,true,1,1,1,3,4,"YES","YES",16]
["Lincoln","Ruston",9610,22061961000,"TRUE",1,4,71420211275,"Louisiana",152900,169400,1.10791366906475,true,4,46710,27411,0.58683365446371205,true,4,19.600000000000001,43.4,2.21428571428571,true,1,1,1,3,4,"YES","YES",16]
["Lincoln","Ruston",9610,22061961000,"FALSE",0,0,71420211276,"Louisiana",152900,169400,1.10791366906475,true,4,46710,27411,0.58683365446371205,true,4,19.600000000000001,43.4,2.21428571428571,true,1,1,1,3,4,"NO","NO",12]
["Lincoln","Ruston",9606,22111960600,"FALSE",0,0,71420211277,"Louisiana",152900,169400,1.10791366906475,true,4,46710,27411,0.58683365446371205,true,4,19.600000000000001,43.4,2.21428571428571,true,1,1,1,3,4,"NO","NO",12]
["Lincoln","Simsboro",9701,22013970100,"FALSE",0,0,71420211278,"Louisiana",152900,75900,0.49640287769784203,"",0,46710,42500,0.90986940697923402,"",0,19.600000000000001,14.4,0.73469387755102,"",0,0,0,0,0,"NO","NO",0]
["Lincoln","Simsboro",9705,22013970500,"FALSE",0,0,71420211279,"Louisiana",152900,75900,0.49640287769784203,"",0,46710,42500,0.90986940697923402,"",0,19.600000000000001,14.4,0.73469387755102,"",0,0,0,0,0,"NO","NO",0]
["Lincoln","Simsboro",9602,22061960200,"FALSE",0,0,71420211280,"Louisiana",152900,75900,0.49640287769784203,"",0,46710,42500,0.90986940697923402,"",0,19.600000000000001,14.4,0.73469387755102,"",0,0,0,0,0,"NO","NO",0]
["Lincoln","Simsboro",9603,22061960300,"TRUE",1,4,71420211281,"Louisiana",152900,75900,0.49640287769784203,"",0,46710,42500,0.90986940697923402,"",0,19.600000000000001,14.4,0.73469387755102,"",0,0,0,0,0,"NO","NO",4]
["Livingston","Albany",401,22063040100,"FALSE",0,0,71420211282,"Louisiana",152900,150600,0.98495748855461096,true,4,46710,46528,0.99610361806893599,"",0,19.600000000000001,12.2,0.62244897959183698,"",1,0,0,1,0,"NO","NO",4]
["Livingston","Denham Springs",403.01,22063040301,"FALSE",0,{"$f":"IF(E1283=\"TRUE\",4,0)","v":0},71420211283,"Louisiana",152900,145000,0.94833224329627197,{"$f":"IF(L1283>=50%,TRUE,\"\")","v":true},4,46710,52649,1.1271462213658701,{"$f":"IF(Q1283<=65%,TRUE,\"\")","v":""},0,19.600000000000001,14.2,0.72448979591836704,{"$f":"IF(V1283>=1.5,TRUE,\"\")","v":""},{"$f":"IF(M1283=TRUE,1,0)","v":1},{"$f":"IF(R1283=TRUE,1,0)","v":0},{"$f":"IF(W1283=TRUE,1,0)","v":0},{"$f":"SUM(X1283:Z1283)","v":1},0,{"$f":"IF(AND(E1283=\"TRUE\",AA1283>1),\"YES\",\"NO\")","v":"NO"},{"$f":"IF(AND(F1283=1,AA1283>1), \"YES\",\"NO\")","v":"NO"},{"$f":"+G1283+N1283+S1283+AB1283","v":4}]
["Livingston","Denham Springs",403.03,22063040303,"FALSE",0,0,71420211284,"Louisiana",152900,145000,0.94833224329627197,true,4,46710,52649,1.1271462213658701,"",0,19.600000000000001,14.2,0.72448979591836704,"",1,0,0,1,0,"NO","NO",4]
["Livingston","Denham Springs",403.03,22063040303,"FALSE",0,0,71420211285,"Louisiana",152900,145000,0.94833224329627197,true,4,46710,52649,1.1271462213658701,"",0,19.600000000000001,14.2,0.72448979591836704,"",1,0,0,1,0,"NO","NO",4]
["Livingston","Denham Springs",403.04,22063040304,"FALSE",0,0,71420211286,"Louisiana",152900,145000,0.94833224329627197,true,{"$f":"IF(M1286=TRUE,4,0)","v":4},46710,52649,1.1271462213658701,"",{"$f":"IF(R1286=TRUE, 4,0)","v":0},19.600000000000001,14.2,0.72448979591836704,"",1,0,0,1,{"$f":"IF(W1286=TRUE, 4,0)","v":0},"NO","NO",4]
["Livingston","Denham Springs",403.04,22063040304,"FALSE",0,0,71420211287,"Louisiana",152900,145000,0.94833224329627197,true,4,46710,52649,1.1271462213658701,"",0,19.600000000000001,14.2,0.72448979591836704,"",1,0,0,1,0,"NO","NO",4]
["Livingston","Denham Springs",404.01,22063040401,"FALSE",0,0,71420211288,"Louisiana",152900,145000,0.94833224329627197,true,4,46710,52649,1.1271462213658701,"",0,19.600000000000001,14.2,0.72448979591836704,"",1,0,0,1,0,"NO","NO",4]
["Livingston","Denham Springs",404.01,22063040401,"FALSE",0,0,71420211289,"Louisiana",152900,145000,0.94833224329627197,true,4,46710,52649,1.1271462213658701,"",0,19.600000000000001,14.2,0.72448979591836704,"",1,0,0,1,0,"NO","NO",4]
["Livingston","Denham Springs",405,22063040500,"FALSE",0,0,71420211290,"Louisiana",152900,145000,0.94833224329627197,true,4,46710,52649,1.1271462213658701,"",0,19.600000000000001,14.2,0.72448979591836704,"",1,0,0,1,0,"NO","NO",4]
["Livingston","Denham Springs",405,22063040500,"FALSE",0,0,71420211291,"Louisiana",152900,145000,0.94833224329627197,true,4,46710,52649,1.1271462213658701,"",0,19.600000000000001,14.2,0.72448979591836704,"",1,0,0,1,0,"NO","NO",4]
["Livingston","Denham Springs",406,22063040600,"FALSE",0,0,71420211292,"Louisiana",152900,145000,0.94833224329627197,true,4,46710,52649,1.1271462213658701,"",0,19.600000000000001,14.2,0.72448979591836704,"",1,0,0,1,0,"NO","NO",4]
["Livingston","Denham Springs",406,22063040600,"FALSE",0,0,71420211293,"Louisiana",152900,145000,0.94833224329627197,true,4,46710,52649,1.1271462213658701,"",0,19.600000000000001,14.2,0.72448979591836704,"",1,0,0,1,0,"NO","NO",4]
["Livingston","Denham Springs",407,22063040700,"TRUE",1,4,71420211294,"Louisiana",152900,145000,0.94833224329627197,true,4,46710,52649,1.1271462213658701,"",0,19.600000000000001,14.2,0.72448979591836704,"",1,0,0,1,0,"NO","NO",8]
["Livingston","Denham Springs",408.02,22063040802,"FALSE",0,0,71420211295,"Louisiana",152900,145000,0.94833224329627197,true,4,46710,52649,1.1271462213658701,"",0,19.600000000000001,14.2,0.72448979591836704,"",1,0,0,1,0,"NO","NO",4]
["Livingston","Denham Springs",408.04,22063040804,"FALSE",0,0,71420211296,"Louisiana",152900,145000,0.94833224329627197,true,4,46710,52649,1.1271462213658701,"",0,19.600000000000001,14.2,0.72448979591836704,"",1,0,0,1,0,"NO","NO",4]
["Livingston","Denham Springs",408.05,22063040805,"FALSE",0,0,71420211297,"Louisiana",152900,145000,0.94833224329627197,true,4,46710,52649,1.1271462213658701,"",0,19.600000000000001,14.2,0.72448979591836704,"",1,0,0,1,0,"NO","NO",4]
["Livingston","Denham Springs",408.06,22063040806,"FALSE",0,0,71420211298,"Louisiana",152900,145000,0.94833224329627197,true,4,46710,52649,1.1271462213658701,"",0,19.600000000000001,14.2,0.72448979591836704,"",1,0,0,1,0,"NO","NO",4]
["Livingston","Denham Springs",9512,22091951200,"FALSE",0,0,71420211299,"Louisiana",152900,145000,0.94833224329627197,true,4,46710,52649,1.1271462213658701,"",0,19.600000000000001,14.2,0.72448979591836704,"",1,0,0,1,0,"NO","NO",4]
["Livingston","French Settlement",408.02,22063040802,"TRUE",1,4,71420211300,"Louisiana",152900,153000,1.0006540222367599,true,4,46710,55446,1.1870263326910699,"",0,19.600000000000001,23.9,1.21938775510204,"",1,0,0,1,0,"NO","NO",8]
["Livingston","Holden",401,22063040100,"FALSE",0,0,71420211301,"Louisiana",152900,0,0,"",0,46710,0,0,true,4,19.600000000000001,0,0,"",0,1,0,1,0,"NO","NO",4]
["Livingston","Holden",402.02,22063040202,"FALSE",0,0,71420211302,"Louisiana",152900,0,0,"",0,46710,0,0,true,4,19.600000000000001,0,0,"",0,1,0,1,0,"NO","NO",4]
["Livingston","Holden",409.01,22063040901,"FALSE",0,0,71420211303,"Louisiana",152900,0,0,"",0,46710,0,0,true,4,19.600000000000001,0,0,"",0,1,0,1,0,"NO","NO",4]
["Livingston","Holden",9512,22091951200,"FALSE",0,0,71420211304,"Louisiana",152900,0,0,"",0,46710,0,0,true,4,19.600000000000001,0,0,"",0,1,0,1,0,"NO","NO",4]
["Livingston","Livingston",402.01,22063040201,"FALSE",0,0,71420211305,"Louisiana",152900,149500,0.97776324395029401,true,4,46710,56576,1.2112181545707601,"",0,19.600000000000001,8.6,0.43877551020408201,"",1,0,0,1,0,"NO","NO",4]
["Livingston","Livingston",402.02,22063040202,"FALSE",0,0,71420211306,"Louisiana",152900,149500,0.97776324395029401,true,4,46710,56576,1.2112181545707601,"",0,19.600000000000001,8.6,0.43877551020408201,"",1,0,0,1,0,"NO","NO",4]
["Livingston","Livingston",404.02,22063040402,"FALSE",0,0,71420211307,"Louisiana",152900,149500,0.97776324395029401,true,4,46710,56576,1.2112181545707601,"",0,19.600000000000001,8.6,0.43877551020408201,"",1,0,0,1,0,"NO","NO",4]
["Livingston","Livingston",408.02,22063040802,"FALSE",0,0,71420211308,"Louisiana",152900,149500,0.97776324395029401,true,4,46710,56576,1.2112181545707601,"",0,19.600000000000001,8.6,0.43877551020408201,"",1,0,0,1,0,"NO","NO",4]
["Livingston","Livingston",408.04,22063040804,"FALSE",0,0,71420211309,"Louisiana",152900,149500,0.97776324395029401,true,4,46710,56576,1.2112181545707601,"",0,19.600000000000001,8.6,0.43877551020408201,"",1,0,0,1,0,"NO","NO",4]
["Livingston","Livingston",409.01,22063040901,"FALSE",0,0,71420211310,"Louisiana",152900,149500,0.97776324395029401,true,4,46710,56576,1.2112181545707601,"",0,19.600000000000001,8.6,0.43877551020408201,"",1,0,0,1,0,"NO","NO",4]
["Livingston","Livingston",409.02,22063040902,"TRUE",0,4,71420211311,"Louisiana",152900,149500,0.97776324395029401,true,4,46710,56576,1.2112181545707601,"",0,19.600000000000001,8.6,0.43877551020408201,"",1,0,0,1,0,"NO","NO",8]
["Livingston","Maurepas",305,22005030500,"FALSE",0,0,71420211312,"Louisiana",152900,0,0,"",0,46710,0,0,true,4,19.600000000000001,0,0,"",0,1,0,1,0,"NO","NO",4]
["Livingston","Maurepas",408.02,22063040802,"FALSE",0,0,71420211313,"Louisiana",152900,0,0,"",0,46710,0,0,true,4,19.600000000000001,0,0,"",0,1,0,1,0,"NO","NO",4]
["Livingston","Maurepas",409.02,22063040902,"TRUE",0,4,71420211314,"Louisiana",152900,0,0,"",0,46710,0,0,true,4,19.600000000000001,0,0,"",0,1,0,1,0,"NO","NO",8]
["Livingston","Springfield",409.01,22063040901,"FALSE",0,0,71420211315,"Louisiana",152900,118300,0.77370830608240704,true,4,46710,38750,0.82958681224577202,"",0,19.600000000000001,25.7,1.31122448979592,"",1,0,0,1,0,"NO","NO",4]
["Livingston","Springfield",409.02,22063040902,"TRUE",0,4,71420211316,"Louisiana",152900,118300,0.77370830608240704,true,4,46710,38750,0.82958681224577202,"",0,19.600000000000001,25.7,1.31122448979592,"",1,0,0,1,0,"NO","NO",8]
["Livingston","Springfield",9547,22105954700,"FALSE",0,0,71420211317,"Louisiana",152900,118300,0.77370830608240704,true,4,46710,38750,0.82958681224577202,"",0,19.600000000000001,25.7,1.31122448979592,"",1,0,0,1,0,"NO","NO",4]
["Livingston","Walker",402.01,22063040201,"FALSE",0,0,71420211318,"Louisiana",152900,159300,1.04185742315239,true,4,46710,55833,1.19531149646757,"",0,19.600000000000001,13.7,0.69897959183673497,"",1,0,0,1,0,"NO","NO",4]
["Livingston","Walker",402.02,22063040202,"FALSE",0,0,71420211319,"Louisiana",152900,159300,1.04185742315239,true,4,46710,55833,1.19531149646757,"",0,19.600000000000001,13.7,0.69897959183673497,"",1,0,0,1,0,"NO","NO",4]
["Livingston","Walker",403.01,22063040301,"FALSE",0,0,71420211320,"Louisiana",152900,159300,1.04185742315239,true,4,46710,55833,1.19531149646757,"",0,19.600000000000001,13.7,0.69897959183673497,"",1,0,0,1,0,"NO","NO",4]
["Livingston","Walker",403.04,22063040304,"FALSE",0,0,71420211321,"Louisiana",152900,159300,1.04185742315239,true,4,46710,55833,1.19531149646757,"",0,19.600000000000001,13.7,0.69897959183673497,"",1,0,0,1,0,"NO","NO",4]
["Livingston","Walker",404.01,22063040401,"FALSE",0,0,71420211322,"Louisiana",152900,159300,1.04185742315239,true,4,46710,55833,1.19531149646757,"",0,19.600000000000001,13.7,0.69897959183673497,"",1,0,0,1,0,"NO","NO",4]
["Livingston","Walker",404.02,22063040402,"FALSE",0,0,71420211323,"Louisiana",152900,159300,1.04185742315239,true,4,46710,55833,1.19531149646757,"",0,19.600000000000001,13.7,0.69897959183673497,"",1,0,0,1,0,"NO","NO",4]
["Livingston","Walker",405,22063040500,"FALSE",0,0,71420211324,"Louisiana",152900,159300,1.04185742315239,true,4,46710,55833,1.19531149646757,"",0,19.600000000000001,13.7,0.69897959183673497,"",1,0,0,1,0,"NO","NO",4]
["Livingston","Walker",408.04,22063040804,"FALSE",0,0,71420211325,"Louisiana",152900,159300,1.04185742315239,true,4,46710,55833,1.19531149646757,"",0,19.600000000000001,13.7,0.69897959183673497,"",1,0,0,1,0,"NO","NO",4]
["Livingston","Watson",403.01,22063040301,"FALSE",0,0,71420211326,"Louisiana",152900,169800,1.1105297580117699,true,4,46710,53950,1.1549989295654,"",0,19.600000000000001,6.5,0.33163265306122502,"",1,0,0,1,0,"NO","NO",4]
["Madison","Delta",9601,22065960100,"FALSE",0,0,71420211327,"Louisiana",152900,46300,0.30281229561805101,"",0,46710,24063,0.51515735388567796,true,4,19.600000000000001,38.299999999999997,1.9540816326530599,true,0,1,1,2,4,"NO","NO",8]
["Madison","Tallulah",9601,22065960100,"FALSE",0,0,71420211328,"Louisiana",152900,58900,0.38521909744931299,"",0,46710,27592,0.59070862770284704,true,4,19.600000000000001,40.5,2.06632653061224,true,0,1,1,2,4,"NO","NO",8]
["Madison","Tallulah",9602,22065960200,"TRUE",1,4,71420211329,"Louisiana",152900,58900,0.38521909744931299,"",0,46710,27592,0.59070862770284704,true,4,19.600000000000001,40.5,2.06632653061224,true,0,1,1,2,4,"YES","YES",12]
["Madison","Tallulah",9603,22065960300,"TRUE",1,4,71420211330,"Louisiana",152900,58900,0.38521909744931299,"",0,46710,27592,0.59070862770284704,true,4,19.600000000000001,40.5,2.06632653061224,true,0,1,1,2,4,"YES","YES",12]
["Madison","Tallulah",9604,22065960400,"TRUE",1,4,71420211331,"Louisiana",152900,58900,0.38521909744931299,"",0,46710,27592,0.59070862770284704,true,4,19.600000000000001,40.5,2.06632653061224,true,0,1,1,2,4,"YES","YES",12]
["Madison","Tallulah",9605,22065960500,"FALSE",0,0,71420211332,"Louisiana",152900,58900,0.38521909744931299,"",0,46710,27592,0.59070862770284704,true,4,19.600000000000001,40.5,2.06632653061224,true,0,1,1,2,4,"NO","NO",8]
["Madison","Tallulah",1,22107000100,"FALSE",0,0,71420211333,"Louisiana",152900,58900,0.38521909744931299,"",0,46710,27592,0.59070862770284704,true,4,19.600000000000001,40.5,2.06632653061224,true,0,1,1,2,4,"NO","NO",8]
["Morehouse","Bastrop",9501,22067950100,"FALSE",0,0,71420211334,"Louisiana",152900,73000,0.477436232831916,"",0,46710,21364,0.45737529436951402,true,4,19.600000000000001,43.5,2.2193877551020398,true,0,1,1,2,4,"NO","NO",8]
["Morehouse","Bastrop",9502,22067950200,"FALSE",0,0,71420211335,"Louisiana",152900,73000,0.477436232831916,"",0,46710,21364,0.45737529436951402,true,4,19.600000000000001,43.5,2.2193877551020398,true,0,1,1,2,4,"NO","NO",8]
["Morehouse","Bastrop",9503,22067950300,"FALSE",0,0,71420211336,"Louisiana",152900,73000,0.477436232831916,"",0,46710,21364,0.45737529436951402,true,4,19.600000000000001,43.5,2.2193877551020398,true,0,1,1,2,4,"NO","NO",8]
["Morehouse","Bastrop",9504,22067950400,"TRUE",1,4,71420211337,"Louisiana",152900,73000,0.477436232831916,"",0,46710,21364,0.45737529436951402,true,4,19.600000000000001,43.5,2.2193877551020398,true,0,1,1,2,4,"YES","YES",12]
["Morehouse","Bastrop",9505,22067950500,"TRUE",1,4,71420211338,"Louisiana",152900,73000,0.477436232831916,"",0,46710,21364,0.45737529436951402,true,4,19.600000000000001,43.5,2.2193877551020398,true,0,1,1,2,4,"YES","YES",12]
["Morehouse","Bastrop",9506,22067950600,"FALSE",0,0,71420211339,"Louisiana",152900,73000,0.477436232831916,"",0,46710,21364,0.45737529436951402,true,4,19.600000000000001,43.5,2.2193877551020398,true,0,1,1,2,4,"NO","NO",8]
["Morehouse","Bastrop",9507,22067950700,"FALSE",0,0,71420211340,"Louisiana",152900,73000,0.477436232831916,"",0,46710,21364,0.45737529436951402,true,4,19.600000000000001,43.5,2.2193877551020398,true,0,1,1,2,4,"NO","NO",8]
["Morehouse","Bastrop",9508,22067950800,"TRUE",1,4,71420211341,"Louisiana",152900,73000,0.477436232831916,"",0,46710,21364,0.45737529436951402,true,4,19.600000000000001,43.5,2.2193877551020398,true,0,1,1,2,4,"YES","YES",12]
["Morehouse","Bonita",9501,22067950100,"FALSE",0,0,71420211342,"Louisiana",152900,44200,0.28907782864617398,"",0,46710,31563,0.67572254335260096,"",0,19.600000000000001,17.100000000000001,0.87244897959183698,"",0,0,0,0,0,"NO","NO",0]
["Morehouse","Collinston",9507,22067950700,"FALSE",0,0,71420211343,"Louisiana",152900,53100,0.34728580771746198,"",0,46710,20417,0.43710126311282399,true,4,19.600000000000001,33.4,1.7040816326530599,true,0,1,1,2,4,"NO","NO",8]
["Morehouse","Collinston",101.01,22073010101,"FALSE",0,0,71420211344,"Louisiana",152900,53100,0.34728580771746198,"",0,46710,20417,0.43710126311282399,true,4,19.600000000000001,33.4,1.7040816326530599,true,0,1,1,2,4,"NO","NO",8]
["Morehouse","Jones",9501,22067950100,"FALSE",0,0,71420211345,"Louisiana",152900,0,0,"",0,46710,0,0,true,4,19.600000000000001,0,0,"",0,1,0,1,0,"NO","NO",4]
["Morehouse","Mer Rouge",9501,22067950100,"FALSE",0,0,71420211346,"Louisiana",152900,94700,0.61935905820797899,true,4,46710,36000,0.77071290944123305,"",0,19.600000000000001,13.5,0.68877551020408201,"",1,0,0,1,0,"NO","NO",4]
["Morehouse","Mer Rouge",9506,22067950600,"TRUE",1,{"$f":"IF(E1347=\"TRUE\",4,0)","v":4},71420211347,"Louisiana",152900,94700,0.61935905820797899,{"$f":"IF(L1347>=50%,TRUE,\"\")","v":true},4,46710,36000,0.77071290944123305,{"$f":"IF(Q1347<=65%,TRUE,\"\")","v":""},0,19.600000000000001,13.5,0.68877551020408201,{"$f":"IF(V1347>=1.5,TRUE,\"\")","v":""},{"$f":"IF(M1347=TRUE,1,0)","v":1},{"$f":"IF(R1347=TRUE,1,0)","v":0},{"$f":"IF(W1347=TRUE,1,0)","v":0},{"$f":"SUM(X1347:Z1347)","v":1},0,{"$f":"IF(AND(E1347=\"TRUE\",AA1347>1),\"YES\",\"NO\")","v":"NO"},{"$f":"IF(AND(F1347=1,AA1347>1), \"YES\",\"NO\")","v":"NO"},{"$f":"+G1347+N1347+S1347+AB1347","v":8}]
["Morehouse","Oak Ridge",9506,22067950600,"TRUE",1,4,71420211348,"Louisiana",152900,160700,1.0510137344669701,true,4,46710,null,null,true,4,19.600000000000001,4.2,0.214285714285714,"",1,1,0,2,0,"YES","YES",12]
["Morehouse","Oak Ridge",9704,22083970400,"FALSE",0,0,71420211349,"Louisiana",152900,160700,1.0510137344669701,true,4,46710,null,null,true,4,19.600000000000001,4.2,0.214285714285714,"",1,1,0,2,0,"NO","NO",8]
["Natchitoches","Ashland",1,22069000100,"FALSE",0,0,71420211350,"Louisiana",152900,75000,0.49051667756703698,"",{"$f":"IF(M1350=TRUE,4,0)","v":0},46710,28125,0.60211946050096299,true,{"$f":"IF(R1350=TRUE, 4,0)","v":4},19.600000000000001,33.700000000000003,1.71938775510204,true,0,1,1,2,{"$f":"IF(W1350=TRUE, 4,0)","v":4},"NO","NO",8]
["Natchitoches","Campti",1,22069000100,"FALSE",0,0,71420211351,"Louisiana",152900,87500,0.57226945716154398,true,4,46710,19938,0.42684649967887001,true,4,19.600000000000001,43.8,2.2346938775510199,true,1,1,1,3,4,"NO","NO",12]
["Natchitoches","Campti",2,22069000200,"FALSE",0,0,71420211352,"Louisiana",152900,87500,0.57226945716154398,true,4,46710,19938,0.42684649967887001,true,4,19.600000000000001,43.8,2.2346938775510199,true,1,1,1,3,4,"NO","NO",12]
["Natchitoches","Clarence",1,22069000100,"FALSE",0,0,71420211353,"Louisiana",152900,81400,0.53237410071942404,true,4,46710,18750,0.40141297366730899,true,4,19.600000000000001,53.7,2.7397959183673501,true,1,1,1,3,4,"NO","NO",12]
["Natchitoches","Cloutierville",9,22069000900,"FALSE",0,0,71420211354,"Louisiana",152900,0,0,"",0,46710,0,0,true,4,19.600000000000001,0,0,"",0,1,0,1,0,"NO","NO",4]
["Natchitoches","Flora",8,22069000800,"FALSE",0,0,71420211355,"Louisiana",152900,0,0,"",0,46710,0,0,true,4,19.600000000000001,0,0,"",0,1,0,1,0,"NO","NO",4]
["Natchitoches","Goldonna",1,22069000100,"FALSE",0,0,71420211356,"Louisiana",152900,85000,0.55591890124264198,true,4,46710,42188,0.90318989509740999,"",0,19.600000000000001,15.7,0.80102040816326503,"",1,0,0,1,0,"NO","NO",4]
["Natchitoches","Goldonna",9602,22127960200,"FALSE",0,0,71420211357,"Louisiana",152900,85000,0.55591890124264198,true,4,46710,42188,0.90318989509740999,"",0,19.600000000000001,15.7,0.80102040816326503,"",1,0,0,1,0,"NO","NO",4]
["Natchitoches","Gorum",9,22069000900,"FALSE",0,0,71420211358,"Louisiana",152900,0,0,"",0,46710,0,0,true,4,19.600000000000001,0,0,"",0,1,0,1,0,"NO","NO",4]
["Natchitoches","Marthaville",3,22069000300,"FALSE",0,0,71420211359,"Louisiana",152900,0,0,"",0,46710,0,0,true,4,19.600000000000001,0,0,"",0,1,0,1,0,"NO","NO",4]
["Natchitoches","Marthaville",4,22085000400,"FALSE",0,0,71420211360,"Louisiana",152900,0,0,"",0,46710,0,0,true,4,19.600000000000001,0,0,"",0,1,0,1,0,"NO","NO",4]
["Natchitoches","Melrose",9,22069000900,"FALSE",0,0,71420211361,"Louisiana",152900,0,0,"",0,46710,0,0,true,4,19.600000000000001,0,0,"",0,1,0,1,0,"NO","NO",4]
["Natchitoches","Natchez",9,22069000900,"FALSE",0,0,71420211362,"Louisiana",152900,46700,0.30542838456507498,"",0,46710,17500,0.37465210875615501,true,4,19.600000000000001,49.4,2.5204081632653099,true,0,1,1,2,4,"NO","NO",8]
["Natchitoches","Natchitoches",1,22069000100,"FALSE",0,0,71420211363,"Louisiana",152900,150800,0.98626553302812303,true,4,46710,21579,0.46197816313423301,true,4,19.600000000000001,44.7,2.2806122448979602,true,1,1,1,3,4,"NO","NO",12]
["Natchitoches","Natchitoches",2,22069000200,"FALSE",0,0,71420211364,"Louisiana",152900,150800,0.98626553302812303,true,4,46710,21579,0.46197816313423301,true,4,19.600000000000001,44.7,2.2806122448979602,true,1,1,1,3,4,"NO","NO",12]
["Natchitoches","Natchitoches",3,22069000300,"FALSE",0,0,71420211365,"Louisiana",152900,150800,0.98626553302812303,true,4,46710,21579,0.46197816313423301,true,4,19.600000000000001,44.7,2.2806122448979602,true,1,1,1,3,4,"NO","NO",12]
["Natchitoches","Natchitoches",4,22069000400,"TRUE",1,4,71420211366,"Louisiana",152900,150800,0.98626553302812303,true,4,46710,21579,0.46197816313423301,true,4,19.600000000000001,44.7,2.2806122448979602,true,1,1,1,3,4,"YES","YES",16]
["Natchitoches","Natchitoches",5,22069000500,"FALSE",0,0,71420211367,"Louisiana",152900,150800,0.98626553302812303,true,4,46710,21579,0.46197816313423301,true,4,19.600000000000001,44.7,2.2806122448979602,true,1,1,1,3,4,"NO","NO",12]
["Natchitoches","Natchitoches",6,22069000600,"TRUE",1,4,71420211368,"Louisiana",152900,150800,0.98626553302812303,true,4,46710,21579,0.46197816313423301,true,4,19.600000000000001,44.7,2.2806122448979602,true,1,1,1,3,4,"YES","YES",16]
["Natchitoches","Natchitoches",7,22069000700,"TRUE",1,4,71420211369,"Louisiana",152900,150800,0.98626553302812303,true,4,46710,21579,0.46197816313423301,true,4,19.600000000000001,44.7,2.2806122448979602,true,1,1,1,3,4,"YES","YES",16]
["Natchitoches","Natchitoches",7,22069000700,"TRUE",1,4,71420211370,"Louisiana",152900,150800,0.98626553302812303,true,4,46710,21579,0.46197816313423301,true,4,19.600000000000001,44.7,2.2806122448979602,true,1,1,1,3,4,"YES","YES",16]
["Natchitoches","Natchitoches",7,22069000700,"TRUE",1,4,71420211371,"Louisiana",152900,150800,0.98626553302812303,true,4,46710,21579,0.46197816313423301,true,4,19.600000000000001,44.7,2.2806122448979602,true,1,1,1,3,4,"YES","YES",16]
["Natchitoches","Natchitoches",8,22069000800,"FALSE",0,0,71420211372,"Louisiana",152900,150800,0.98626553302812303,true,4,46710,21579,0.46197816313423301,true,4,19.600000000000001,44.7,2.2806122448979602,true,1,1,1,3,4,"NO","NO",12]
["Natchitoches","Natchitoches",9,22069000900,"FALSE",0,0,71420211373,"Louisiana",152900,150800,0.98626553302812303,true,4,46710,21579,0.46197816313423301,true,4,19.600000000000001,44.7,2.2806122448979602,true,1,1,1,3,4,"NO","NO",12]
["Natchitoches","Natchitoches",9602,22127960200,"FALSE",0,0,71420211374,"Louisiana",152900,150800,0.98626553302812303,true,4,46710,21579,0.46197816313423301,true,4,19.600000000000001,44.7,2.2806122448979602,true,1,1,1,3,4,"NO","NO",12]
["Natchitoches","Powhatan",3,22069000300,"FALSE",0,0,71420211375,"Louisiana",152900,56400,0.36886854153041199,"",0,46710,13864,0.29681010490259002,true,4,19.600000000000001,67.2,3.4285714285714302,true,0,1,1,2,4,"NO","NO",8]
["Natchitoches","Provencal",8,22069000800,"FALSE",0,0,71420211376,"Louisiana",152900,87500,0.57226945716154398,true,4,46710,31042,0.66456861485763197,"",0,19.600000000000001,23.7,1.2091836734693899,"",1,0,0,1,0,"NO","NO",4]
["Natchitoches","Provencal",9,22069000900,"FALSE",0,0,71420211377,"Louisiana",152900,87500,0.57226945716154398,true,4,46710,31042,0.66456861485763197,"",0,19.600000000000001,23.7,1.2091836734693899,"",1,0,0,1,0,"NO","NO",4]
["Natchitoches","Provencal",6,22085000600,"FALSE",0,0,71420211378,"Louisiana",152900,87500,0.57226945716154398,true,4,46710,31042,0.66456861485763197,"",0,19.600000000000001,23.7,1.2091836734693899,"",1,0,0,1,0,"NO","NO",4]
["Natchitoches","Robeline",3,22069000300,"FALSE",0,0,71420211379,"Louisiana",152900,null,null,"",0,46710,30833,0.66009419824448701,"",0,19.600000000000001,18.600000000000001,0.94897959183673497,"",0,0,0,0,0,"NO","NO",0]
["Natchitoches","Robeline",8,22069000800,"FALSE",0,0,71420211380,"Louisiana",152900,null,null,"",0,46710,30833,0.66009419824448701,"",0,19.600000000000001,18.600000000000001,0.94897959183673497,"",0,0,0,0,0,"NO","NO",0]
["Natchitoches","Robeline",4,22085000400,"FALSE",0,0,71420211381,"Louisiana",152900,null,null,"",0,46710,30833,0.66009419824448701,"",0,19.600000000000001,18.600000000000001,0.94897959183673497,"",0,0,0,0,0,"NO","NO",0]
["Orleans","New Orleans",238,22051023800,"TRUE",1,4,71420211382,"Louisiana",152900,205000,1.3407455853499,true,null,46710,38721,0.82896596017983304,"",null,19.600000000000001,25.4,1.2959183673469401,"",1,0,0,1,null,"NO","NO",4]
["Orleans","New Orleans",239.01,22051023901,"FALSE",0,0,71420211383,"Louisiana",152900,205000,1.3407455853499,true,null,46710,38721,0.82896596017983304,"",null,19.600000000000001,25.4,1.2959183673469401,"",1,0,0,1,null,"NO","NO",0]
["Orleans","New Orleans",239.02,22051023902,"FALSE",0,0,71420211384,"Louisiana",152900,205000,1.3407455853499,true,null,46710,38721,0.82896596017983304,"",null,19.600000000000001,25.4,1.2959183673469401,"",1,0,0,1,null,"NO","NO",0]
["Orleans","New Orleans",239.03,22051023903,"FALSE",0,0,71420211385,"Louisiana",152900,205000,1.3407455853499,true,null,46710,38721,0.82896596017983304,"",null,19.600000000000001,25.4,1.2959183673469401,"",1,0,0,1,null,"NO","NO",0]
["Orleans","New Orleans",239.04,22051023904,"FALSE",0,0,71420211386,"Louisiana",152900,205000,1.3407455853499,true,null,46710,38721,0.82896596017983304,"",null,19.600000000000001,25.4,1.2959183673469401,"",1,0,0,1,null,"NO","NO",0]
["Orleans","New Orleans",240.01,22051024001,"TRUE",1,4,71420211387,"Louisiana",152900,205000,1.3407455853499,true,null,46710,38721,0.82896596017983304,"",null,19.600000000000001,25.4,1.2959183673469401,"",1,0,0,1,null,"NO","NO",4]
["Orleans","New Orleans",240.02,22051024002,"FALSE",0,0,71420211388,"Louisiana",152900,205000,1.3407455853499,true,null,46710,38721,0.82896596017983304,"",null,19.600000000000001,25.4,1.2959183673469401,"",1,0,0,1,null,"NO","NO",0]
["Orleans","New Orleans",241,22051024100,"FALSE",0,0,71420211389,"Louisiana",152900,205000,1.3407455853499,true,null,46710,38721,0.82896596017983304,"",null,19.600000000000001,25.4,1.2959183673469401,"",1,0,0,1,null,"NO","NO",0]
["Orleans","New Orleans",241,22051024100,"TRUE",1,4,71420211390,"Louisiana",152900,205000,1.3407455853499,true,null,46710,38721,0.82896596017983304,"",null,19.600000000000001,25.4,1.2959183673469401,"",1,0,0,1,null,"NO","NO",4]
["Orleans","New Orleans",242.01,22051024201,"TRUE",1,4,71420211391,"Louisiana",152900,205000,1.3407455853499,true,null,46710,38721,0.82896596017983304,"",null,19.600000000000001,25.4,1.2959183673469401,"",1,0,0,1,null,"NO","NO",4]
["Orleans","New Orleans",242.01,22051024201,"TRUE",1,4,71420211392,"Louisiana",152900,205000,1.3407455853499,true,null,46710,38721,0.82896596017983304,"",null,19.600000000000001,25.4,1.2959183673469401,"",1,0,0,1,null,"NO","NO",4]
["Orleans","New Orleans",242.02,22051024202,"TRUE",1,4,71420211393,"Louisiana",152900,205000,1.3407455853499,true,null,46710,38721,0.82896596017983304,"",null,19.600000000000001,25.4,1.2959183673469401,"",1,0,0,1,null,"NO","NO",4]
["Orleans","New Orleans",242.02,22051024202,"TRUE",1,4,71420211394,"Louisiana",152900,205000,1.3407455853499,true,null,46710,38721,0.82896596017983304,"",null,19.600000000000001,25.4,1.2959183673469401,"",1,0,0,1,null,"NO","NO",4]
["Orleans","New Orleans",242.02,22051024202,"TRUE",1,4,71420211395,"Louisiana",152900,205000,1.3407455853499,true,null,46710,38721,0.82896596017983304,"",null,19.600000000000001,25.4,1.2959183673469401,"",1,0,0,1,null,"NO","NO",4]
["Orleans","New Orleans",242.02,22051024202,"TRUE",1,4,71420211396,"Louisiana",152900,205000,1.3407455853499,true,null,46710,38721,0.82896596017983304,"",null,19.600000000000001,25.4,1.2959183673469401,"",1,0,0,1,null,"NO","NO",4]
["Orleans","New Orleans",243,22051024300,"TRUE",1,4,71420211397,"Louisiana",152900,205000,1.3407455853499,true,null,46710,38721,0.82896596017983304,"",null,19.600000000000001,25.4,1.2959183673469401,"",1,0,0,1,null,"NO","NO",4]
["Orleans","New Orleans",244,22051024400,"FALSE",0,0,71420211398,"Louisiana",152900,205000,1.3407455853499,true,null,46710,38721,0.82896596017983304,"",null,19.600000000000001,25.4,1.2959183673469401,"",1,0,0,1,null,"NO","NO",0]
["Orleans","New Orleans",245,22051024500,"FALSE",0,0,71420211399,"Louisiana",152900,205000,1.3407455853499,true,null,46710,38721,0.82896596017983304,"",null,19.600000000000001,25.4,1.2959183673469401,"",1,0,0,1,null,"NO","NO",0]
["Orleans","New Orleans",246,22051024600,"FALSE",0,0,71420211400,"Louisiana",152900,205000,1.3407455853499,true,null,46710,38721,0.82896596017983304,"",null,19.600000000000001,25.4,1.2959183673469401,"",1,0,0,1,null,"NO","NO",0]
["Orleans","New Orleans",247,22051024700,"FALSE",0,0,71420211401,"Louisiana",152900,205000,1.3407455853499,true,null,46710,38721,0.82896596017983304,"",null,19.600000000000001,25.4,1.2959183673469401,"",1,0,0,1,null,"NO","NO",0]
["Orleans","New Orleans",249,22051024900,"FALSE",0,0,71420211402,"Louisiana",152900,205000,1.3407455853499,true,null,46710,38721,0.82896596017983304,"",null,19.600000000000001,25.4,1.2959183673469401,"",1,0,0,1,null,"NO","NO",0]
["Orleans","New Orleans",256,22051025600,"TRUE",1,4,71420211403,"Louisiana",152900,205000,1.3407455853499,true,null,46710,38721,0.82896596017983304,"",null,19.600000000000001,25.4,1.2959183673469401,"",1,0,0,1,null,"NO","NO",4]
["Orleans","New Orleans",1,22071000100,"TRUE",1,4,71420211404,"Louisiana",152900,205000,1.3407455853499,true,null,46710,38721,0.82896596017983304,"",null,19.600000000000001,25.4,1.2959183673469401,"",1,0,0,1,null,"NO","NO",4]
["Orleans","New Orleans",2,22071000200,"TRUE",0,4,71420211405,"Louisiana",152900,205000,1.3407455853499,true,null,46710,38721,0.82896596017983304,"",null,19.600000000000001,25.4,1.2959183673469401,"",1,0,0,1,null,"NO","NO",4]
["Orleans","New Orleans",3,22071000300,"TRUE",1,4,71420211406,"Louisiana",152900,205000,1.3407455853499,true,null,46710,38721,0.82896596017983304,"",null,19.600000000000001,25.4,1.2959183673469401,"",1,0,0,1,null,"NO","NO",4]
["Orleans","New Orleans",4,22071000400,"TRUE",1,4,71420211407,"Louisiana",152900,205000,1.3407455853499,true,null,46710,38721,0.82896596017983304,"",null,19.600000000000001,25.4,1.2959183673469401,"",1,0,0,1,null,"NO","NO",4]
["Orleans","New Orleans",6.01,22071000601,"TRUE",1,4,71420211408,"Louisiana",152900,205000,1.3407455853499,true,null,46710,38721,0.82896596017983304,"",null,19.600000000000001,25.4,1.2959183673469401,"",1,0,0,1,null,"NO","NO",4]
["Orleans","New Orleans",6.02,22071000602,"TRUE",1,4,71420211409,"Louisiana",152900,205000,1.3407455853499,true,null,46710,38721,0.82896596017983304,"",null,19.600000000000001,25.4,1.2959183673469401,"",1,0,0,1,null,"NO","NO",4]
["Orleans","New Orleans",6.03,22071000603,"TRUE",1,4,71420211410,"Louisiana",152900,205000,1.3407455853499,true,null,46710,38721,0.82896596017983304,"",null,19.600000000000001,25.4,1.2959183673469401,"",1,0,0,1,null,"NO","NO",4]
["Orleans","New Orleans",6.04,22071000604,"FALSE",0,{"$f":"IF(E1411=\"TRUE\",4,0)","v":0},71420211411,"Louisiana",152900,205000,1.3407455853499,{"$f":"IF(L1411>=50%,TRUE,\"\")","v":true},null,46710,38721,0.82896596017983304,{"$f":"IF(Q1411<=65%,TRUE,\"\")","v":""},null,19.600000000000001,25.4,1.2959183673469401,{"$f":"IF(V1411>=1.5,TRUE,\"\")","v":""},{"$f":"IF(M1411=TRUE,1,0)","v":1},{"$f":"IF(R1411=TRUE,1,0)","v":0},{"$f":"IF(W1411=TRUE,1,0)","v":0},{"$f":"SUM(X1411:Z1411)","v":1},null,{"$f":"IF(AND(E1411=\"TRUE\",AA1411>1),\"YES\",\"NO\")","v":"NO"},{"$f":"IF(AND(F1411=1,AA1411>1), \"YES\",\"NO\")","v":"NO"},{"$f":"+G1411+N1411+S1411+AB1411","v":0}]
["Orleans","New Orleans",6.04,22071000604,"TRUE",1,4,71420211412,"Louisiana",152900,205000,1.3407455853499,true,null,46710,38721,0.82896596017983304,"",null,19.600000000000001,25.4,1.2959183673469401,"",1,0,0,1,null,"NO","NO",4]
["Orleans","New Orleans",6.05,22071000605,"FALSE",0,0,71420211413,"Louisiana",152900,205000,1.3407455853499,true,null,46710,38721,0.82896596017983304,"",null,19.600000000000001,25.4,1.2959183673469401,"",1,0,0,1,null,"NO","NO",0]
["Orleans","New Orleans",6.06,22071000606,"FALSE",0,0,71420211414,"Louisiana",152900,205000,1.3407455853499,true,null,46710,38721,0.82896596017983304,"",null,19.600000000000001,25.4,1.2959183673469401,"",1,0,0,1,null,"NO","NO",0]
["Orleans","New Orleans",6.06,22071000606,"TRUE",1,4,71420211415,"Louisiana",152900,205000,1.3407455853499,true,null,46710,38721,0.82896596017983304,"",null,19.600000000000001,25.4,1.2959183673469401,"",1,0,0,1,null,"NO","NO",4]
["Orleans","New Orleans",6.07,22071000607,"TRUE",1,4,71420211416,"Louisiana",152900,205000,1.3407455853499,true,null,46710,38721,0.82896596017983304,"",null,19.600000000000001,25.4,1.2959183673469401,"",1,0,0,1,null,"NO","NO",4]
["Orleans","New Orleans",6.11,22071000611,"FALSE",0,0,71420211417,"Louisiana",152900,205000,1.3407455853499,true,null,46710,38721,0.82896596017983304,"",null,19.600000000000001,25.4,1.2959183673469401,"",1,0,0,1,null,"NO","NO",0]
["Orleans","New Orleans",6.12,22071000612,"FALSE",0,0,71420211418,"Louisiana",152900,205000,1.3407455853499,true,null,46710,38721,0.82896596017983304,"",null,19.600000000000001,25.4,1.2959183673469401,"",1,0,0,1,null,"NO","NO",0]
["Orleans","New Orleans",6.13,22071000613,"TRUE",1,4,71420211419,"Louisiana",152900,205000,1.3407455853499,true,null,46710,38721,0.82896596017983304,"",null,19.600000000000001,25.4,1.2959183673469401,"",1,0,0,1,null,"NO","NO",4]
["Orleans","New Orleans",6.15,22071000615,"TRUE",1,4,71420211420,"Louisiana",152900,205000,1.3407455853499,true,null,46710,38721,0.82896596017983304,"",null,19.600000000000001,25.4,1.2959183673469401,"",1,0,0,1,null,"NO","NO",4]
["Orleans","New Orleans",6.15,22071000615,"TRUE",1,4,71420211421,"Louisiana",152900,205000,1.3407455853499,true,null,46710,38721,0.82896596017983304,"",null,19.600000000000001,25.4,1.2959183673469401,"",1,0,0,1,null,"NO","NO",4]
["Orleans","New Orleans",6.16,22071000616,"TRUE",1,4,71420211422,"Louisiana",152900,205000,1.3407455853499,true,null,46710,38721,0.82896596017983304,"",null,19.600000000000001,25.4,1.2959183673469401,"",1,0,0,1,null,"NO","NO",4]
["Orleans","New Orleans",6.17,22071000617,"FALSE",0,0,71420211423,"Louisiana",152900,205000,1.3407455853499,true,null,46710,38721,0.82896596017983304,"",null,19.600000000000001,25.4,1.2959183673469401,"",1,0,0,1,null,"NO","NO",0]
["Orleans","New Orleans",6.18,22071000618,"FALSE",0,0,71420211424,"Louisiana",152900,205000,1.3407455853499,true,null,46710,38721,0.82896596017983304,"",null,19.600000000000001,25.4,1.2959183673469401,"",1,0,0,1,null,"NO","NO",0]
["Orleans","New Orleans",6.18,22071000618,"TRUE",1,4,71420211425,"Louisiana",152900,205000,1.3407455853499,true,null,46710,38721,0.82896596017983304,"",null,19.600000000000001,25.4,1.2959183673469401,"",1,0,0,1,null,"NO","NO",4]
["Orleans","New Orleans",7.01,22071000701,"TRUE",0,4,71420211426,"Louisiana",152900,205000,1.3407455853499,true,null,46710,38721,0.82896596017983304,"",null,19.600000000000001,25.4,1.2959183673469401,"",1,0,0,1,null,"NO","NO",4]
["Orleans","New Orleans",7.02,22071000702,"TRUE",0,4,71420211427,"Louisiana",152900,205000,1.3407455853499,true,null,46710,38721,0.82896596017983304,"",null,19.600000000000001,25.4,1.2959183673469401,"",1,0,0,1,null,"NO","NO",4]
["Orleans","New Orleans",8,22071000800,"TRUE",0,4,71420211428,"Louisiana",152900,205000,1.3407455853499,true,null,46710,38721,0.82896596017983304,"",null,19.600000000000001,25.4,1.2959183673469401,"",1,0,0,1,null,"NO","NO",4]
["Orleans","New Orleans",9.01,22071000901,"TRUE",0,4,71420211429,"Louisiana",152900,205000,1.3407455853499,true,null,46710,38721,0.82896596017983304,"",null,19.600000000000001,25.4,1.2959183673469401,"",1,0,0,1,null,"NO","NO",4]
["Orleans","New Orleans",9.02,22071000902,"TRUE",1,4,71420211430,"Louisiana",152900,205000,1.3407455853499,true,null,46710,38721,0.82896596017983304,"",null,19.600000000000001,25.4,1.2959183673469401,"",1,0,0,1,null,"NO","NO",4]
["Orleans","New Orleans",9.0299999999999994,22071000903,"TRUE",1,4,71420211431,"Louisiana",152900,205000,1.3407455853499,true,null,46710,38721,0.82896596017983304,"",null,19.600000000000001,25.4,1.2959183673469401,"",1,0,0,1,null,"NO","NO",4]
["Orleans","New Orleans",9.0399999999999991,22071000904,"TRUE",0,4,71420211432,"Louisiana",152900,205000,1.3407455853499,true,null,46710,38721,0.82896596017983304,"",null,19.600000000000001,25.4,1.2959183673469401,"",1,0,0,1,null,"NO","NO",4]
["Orleans","New Orleans",11,22071001100,"TRUE",1,4,71420211433,"Louisiana",152900,205000,1.3407455853499,true,null,46710,38721,0.82896596017983304,"",null,19.600000000000001,25.4,1.2959183673469401,"",1,0,0,1,null,"NO","NO",4]
["Orleans","New Orleans",11,22071001100,"TRUE",1,4,71420211434,"Louisiana",152900,205000,1.3407455853499,true,null,46710,38721,0.82896596017983304,"",null,19.600000000000001,25.4,1.2959183673469401,"",1,0,0,1,null,"NO","NO",4]
["Orleans","New Orleans",11,22071001100,"TRUE",1,4,71420211435,"Louisiana",152900,205000,1.3407455853499,true,null,46710,38721,0.82896596017983304,"",null,19.600000000000001,25.4,1.2959183673469401,"",1,0,0,1,null,"NO","NO",4]
["Orleans","New Orleans",12,22071001200,"TRUE",1,4,71420211436,"Louisiana",152900,205000,1.3407455853499,true,null,46710,38721,0.82896596017983304,"",null,19.600000000000001,25.4,1.2959183673469401,"",1,0,0,1,null,"NO","NO",4]
["Orleans","New Orleans",13.01,22071001301,"TRUE",1,4,71420211437,"Louisiana",152900,205000,1.3407455853499,true,null,46710,38721,0.82896596017983304,"",null,19.600000000000001,25.4,1.2959183673469401,"",1,0,0,1,null,"NO","NO",4]
["Orleans","New Orleans",13.02,22071001302,"FALSE",0,0,71420211438,"Louisiana",152900,205000,1.3407455853499,true,null,46710,38721,0.82896596017983304,"",null,19.600000000000001,25.4,1.2959183673469401,"",1,0,0,1,null,"NO","NO",0]
["Orleans","New Orleans",14.01,22071001401,"TRUE",0,4,71420211439,"Louisiana",152900,205000,1.3407455853499,true,null,46710,38721,0.82896596017983304,"",null,19.600000000000001,25.4,1.2959183673469401,"",1,0,0,1,null,"NO","NO",4]
["Orleans","New Orleans",14.02,22071001402,"TRUE",0,4,71420211440,"Louisiana",152900,205000,1.3407455853499,true,null,46710,38721,0.82896596017983304,"",null,19.600000000000001,25.4,1.2959183673469401,"",1,0,0,1,null,"NO","NO",4]
["Orleans","New Orleans",15,22071001500,"TRUE",0,4,71420211441,"Louisiana",152900,205000,1.3407455853499,true,null,46710,38721,0.82896596017983304,"",null,19.600000000000001,25.4,1.2959183673469401,"",1,0,0,1,null,"NO","NO",4]
["Orleans","New Orleans",16,22071001600,"TRUE",1,4,71420211442,"Louisiana",152900,205000,1.3407455853499,true,null,46710,38721,0.82896596017983304,"",null,19.600000000000001,25.4,1.2959183673469401,"",1,0,0,1,null,"NO","NO",4]
["Orleans","New Orleans",17.010000000000002,22071001701,"TRUE",1,4,71420211443,"Louisiana",152900,205000,1.3407455853499,true,null,46710,38721,0.82896596017983304,"",null,19.600000000000001,25.4,1.2959183673469401,"",1,0,0,1,null,"NO","NO",4]
["Orleans","New Orleans",17.02,22071001702,"TRUE",1,4,71420211444,"Louisiana",152900,205000,1.3407455853499,true,null,46710,38721,0.82896596017983304,"",null,19.600000000000001,25.4,1.2959183673469401,"",1,0,0,1,null,"NO","NO",4]
["Orleans","New Orleans",17.2,22071001720,"TRUE",1,4,71420211445,"Louisiana",152900,205000,1.3407455853499,true,null,46710,38721,0.82896596017983304,"",null,19.600000000000001,25.4,1.2959183673469401,"",1,0,0,1,null,"NO","NO",4]
["Orleans","New Orleans",17.2,22071001720,"TRUE",1,4,71420211446,"Louisiana",152900,205000,1.3407455853499,true,null,46710,38721,0.82896596017983304,"",null,19.600000000000001,25.4,1.2959183673469401,"",1,0,0,1,null,"NO","NO",4]
["Orleans","New Orleans",17.22,22071001722,"TRUE",1,4,71420211447,"Louisiana",152900,205000,1.3407455853499,true,null,46710,38721,0.82896596017983304,"",null,19.600000000000001,25.4,1.2959183673469401,"",1,0,0,1,null,"NO","NO",4]
["Orleans","New Orleans",17.22,22071001722,"TRUE",1,4,71420211448,"Louisiana",152900,205000,1.3407455853499,true,null,46710,38721,0.82896596017983304,"",null,19.600000000000001,25.4,1.2959183673469401,"",1,0,0,1,null,"NO","NO",4]
["Orleans","New Orleans",17.23,22071001723,"TRUE",1,4,71420211449,"Louisiana",152900,205000,1.3407455853499,true,null,46710,38721,0.82896596017983304,"",null,19.600000000000001,25.4,1.2959183673469401,"",1,0,0,1,null,"NO","NO",4]
["Orleans","New Orleans",17.239999999999998,22071001724,"TRUE",0,4,71420211450,"Louisiana",152900,205000,1.3407455853499,true,null,46710,38721,0.82896596017983304,"",null,19.600000000000001,25.4,1.2959183673469401,"",1,0,0,1,null,"NO","NO",4]
["Orleans","New Orleans",17.239999999999998,22071001724,"TRUE",1,4,71420211451,"Louisiana",152900,205000,1.3407455853499,true,null,46710,38721,0.82896596017983304,"",null,19.600000000000001,25.4,1.2959183673469401,"",1,0,0,1,null,"NO","NO",4]
["Orleans","New Orleans",17.25,22071001725,"TRUE",1,4,71420211452,"Louisiana",152900,205000,1.3407455853499,true,null,46710,38721,0.82896596017983304,"",null,19.600000000000001,25.4,1.2959183673469401,"",1,0,0,1,null,"NO","NO",4]
["Orleans","New Orleans",17.25,22071001725,"TRUE",1,4,71420211453,"Louisiana",152900,205000,1.3407455853499,true,null,46710,38721,0.82896596017983304,"",null,19.600000000000001,25.4,1.2959183673469401,"",1,0,0,1,null,"NO","NO",4]
["Orleans","New Orleans",17.3,22071001730,"TRUE",0,4,71420211454,"Louisiana",152900,205000,1.3407455853499,true,null,46710,38721,0.82896596017983304,"",null,19.600000000000001,25.4,1.2959183673469401,"",1,0,0,1,null,"NO","NO",4]
["Orleans","New Orleans",17.3,22071001730,"TRUE",0,4,71420211455,"Louisiana",152900,205000,1.3407455853499,true,null,46710,38721,0.82896596017983304,"",null,19.600000000000001,25.4,1.2959183673469401,"",1,0,0,1,null,"NO","NO",4]
["Orleans","New Orleans",17.34,22071001734,"FALSE",0,0,71420211456,"Louisiana",152900,205000,1.3407455853499,true,null,46710,38721,0.82896596017983304,"",null,19.600000000000001,25.4,1.2959183673469401,"",1,0,0,1,null,"NO","NO",0]
["Orleans","New Orleans",17.350000000000001,22071001735,"TRUE",0,4,71420211457,"Louisiana",152900,205000,1.3407455853499,true,null,46710,38721,0.82896596017983304,"",null,19.600000000000001,25.4,1.2959183673469401,"",1,0,0,1,null,"NO","NO",4]
["Orleans","New Orleans",17.350000000000001,22071001735,"TRUE",0,4,71420211458,"Louisiana",152900,205000,1.3407455853499,true,null,46710,38721,0.82896596017983304,"",null,19.600000000000001,25.4,1.2959183673469401,"",1,0,0,1,null,"NO","NO",4]
["Orleans","New Orleans",17.36,22071001736,"TRUE",1,4,71420211459,"Louisiana",152900,205000,1.3407455853499,true,null,46710,38721,0.82896596017983304,"",null,19.600000000000001,25.4,1.2959183673469401,"",1,0,0,1,null,"NO","NO",4]
["Orleans","New Orleans",17.37,22071001737,"TRUE",1,4,71420211460,"Louisiana",152900,205000,1.3407455853499,true,null,46710,38721,0.82896596017983304,"",null,19.600000000000001,25.4,1.2959183673469401,"",1,0,0,1,null,"NO","NO",4]
["Orleans","New Orleans",17.37,22071001737,"TRUE",1,4,71420211461,"Louisiana",152900,205000,1.3407455853499,true,null,46710,38721,0.82896596017983304,"",null,19.600000000000001,25.4,1.2959183673469401,"",1,0,0,1,null,"NO","NO",4]
["Orleans","New Orleans",17.39,22071001739,"FALSE",0,0,71420211462,"Louisiana",152900,205000,1.3407455853499,true,null,46710,38721,0.82896596017983304,"",null,19.600000000000001,25.4,1.2959183673469401,"",1,0,0,1,null,"NO","NO",0]
["Orleans","New Orleans",17.39,22071001739,"FALSE",0,0,71420211463,"Louisiana",152900,205000,1.3407455853499,true,null,46710,38721,0.82896596017983304,"",null,19.600000000000001,25.4,1.2959183673469401,"",1,0,0,1,null,"NO","NO",0]
["Orleans","New Orleans",17.399999999999999,22071001740,"TRUE",1,4,71420211464,"Louisiana",152900,205000,1.3407455853499,true,null,46710,38721,0.82896596017983304,"",null,19.600000000000001,25.4,1.2959183673469401,"",1,0,0,1,null,"NO","NO",4]
["Orleans","New Orleans",17.41,22071001741,"TRUE",1,4,71420211465,"Louisiana",152900,205000,1.3407455853499,true,null,46710,38721,0.82896596017983304,"",null,19.600000000000001,25.4,1.2959183673469401,"",1,0,0,1,null,"NO","NO",4]
["Orleans","New Orleans",17.43,22071001743,"TRUE",1,4,71420211466,"Louisiana",152900,205000,1.3407455853499,true,null,46710,38721,0.82896596017983304,"",null,19.600000000000001,25.4,1.2959183673469401,"",1,0,0,1,null,"NO","NO",4]
["Orleans","New Orleans",17.43,22071001743,"TRUE",0,4,71420211467,"Louisiana",152900,205000,1.3407455853499,true,null,46710,38721,0.82896596017983304,"",null,19.600000000000001,25.4,1.2959183673469401,"",1,0,0,1,null,"NO","NO",4]
["Orleans","New Orleans",17.440000000000001,22071001744,"TRUE",1,4,71420211468,"Louisiana",152900,205000,1.3407455853499,true,null,46710,38721,0.82896596017983304,"",null,19.600000000000001,25.4,1.2959183673469401,"",1,0,0,1,null,"NO","NO",4]
["Orleans","New Orleans",17.45,22071001745,"TRUE",1,4,71420211469,"Louisiana",152900,205000,1.3407455853499,true,null,46710,38721,0.82896596017983304,"",null,19.600000000000001,25.4,1.2959183673469401,"",1,0,0,1,null,"NO","NO",4]
["Orleans","New Orleans",17.46,22071001746,"FALSE",0,0,71420211470,"Louisiana",152900,205000,1.3407455853499,true,null,46710,38721,0.82896596017983304,"",null,19.600000000000001,25.4,1.2959183673469401,"",1,0,0,1,null,"NO","NO",0]
["Orleans","New Orleans",17.46,22071001746,"TRUE",1,4,71420211471,"Louisiana",152900,205000,1.3407455853499,true,null,46710,38721,0.82896596017983304,"",null,19.600000000000001,25.4,1.2959183673469401,"",1,0,0,1,null,"NO","NO",4]
["Orleans","New Orleans",17.47,22071001747,"FALSE",0,0,71420211472,"Louisiana",152900,205000,1.3407455853499,true,null,46710,38721,0.82896596017983304,"",null,19.600000000000001,25.4,1.2959183673469401,"",1,0,0,1,null,"NO","NO",0]
["Orleans","New Orleans",17.47,22071001747,"TRUE",1,4,71420211473,"Louisiana",152900,205000,1.3407455853499,true,null,46710,38721,0.82896596017983304,"",null,19.600000000000001,25.4,1.2959183673469401,"",1,0,0,1,null,"NO","NO",4]
["Orleans","New Orleans",17.48,22071001748,"TRUE",1,4,71420211474,"Louisiana",152900,205000,1.3407455853499,true,null,46710,38721,0.82896596017983304,"",null,19.600000000000001,25.4,1.2959183673469401,"",1,0,0,1,null,"NO","NO",4]
["Orleans","New Orleans",17.48,22071001748,"TRUE",1,{"$f":"IF(E1475=\"TRUE\",4,0)","v":4},71420211475,"Louisiana",152900,205000,1.3407455853499,{"$f":"IF(L1475>=50%,TRUE,\"\")","v":true},null,46710,38721,0.82896596017983304,{"$f":"IF(Q1475<=65%,TRUE,\"\")","v":""},null,19.600000000000001,25.4,1.2959183673469401,{"$f":"IF(V1475>=1.5,TRUE,\"\")","v":""},{"$f":"IF(M1475=TRUE,1,0)","v":1},{"$f":"IF(R1475=TRUE,1,0)","v":0},{"$f":"IF(W1475=TRUE,1,0)","v":0},{"$f":"SUM(X1475:Z1475)","v":1},null,{"$f":"IF(AND(E1475=\"TRUE\",AA1475>1),\"YES\",\"NO\")","v":"NO"},{"$f":"IF(AND(F1475=1,AA1475>1), \"YES\",\"NO\")","v":"NO"},{"$f":"+G1475+N1475+S1475+AB1475","v":4}]
["Orleans","New Orleans",17.48,22071001748,"TRUE",1,4,71420211476,"Louisiana",152900,205000,1.3407455853499,true,null,46710,38721,0.82896596017983304,"",null,19.600000000000001,25.4,1.2959183673469401,"",1,0,0,1,null,"NO","NO",4]
["Orleans","New Orleans",17.489999999999998,22071001749,"TRUE",0,4,71420211477,"Louisiana",152900,205000,1.3407455853499,true,null,46710,38721,0.82896596017983304,"",null,19.600000000000001,25.4,1.2959183673469401,"",1,0,0,1,null,"NO","NO",4]
["Orleans","New Orleans",17.5,22071001750,"TRUE",0,4,71420211478,"Louisiana",152900,205000,1.3407455853499,true,null,46710,38721,0.82896596017983304,"",null,19.600000000000001,25.4,1.2959183673469401,"",1,0,0,1,null,"NO","NO",4]
["Orleans","New Orleans",17.510000000000002,22071001751,"TRUE",1,4,71420211479,"Louisiana",152900,205000,1.3407455853499,true,null,46710,38721,0.82896596017983304,"",null,19.600000000000001,25.4,1.2959183673469401,"",1,0,0,1,null,"NO","NO",4]
["Orleans","New Orleans",17.510000000000002,22071001751,"TRUE",1,4,71420211480,"Louisiana",152900,205000,1.3407455853499,true,null,46710,38721,0.82896596017983304,"",null,19.600000000000001,25.4,1.2959183673469401,"",1,0,0,1,null,"NO","NO",4]
["Orleans","New Orleans",17.510000000000002,22071001751,"TRUE",0,4,71420211481,"Louisiana",152900,205000,1.3407455853499,true,null,46710,38721,0.82896596017983304,"",null,19.600000000000001,25.4,1.2959183673469401,"",1,0,0,1,null,"NO","NO",4]
["Orleans","New Orleans",18,22071001800,"FALSE",0,0,71420211482,"Louisiana",152900,205000,1.3407455853499,true,null,46710,38721,0.82896596017983304,"",null,19.600000000000001,25.4,1.2959183673469401,"",1,0,0,1,null,"NO","NO",0]
["Orleans","New Orleans",18,22071001800,"FALSE",0,0,71420211483,"Louisiana",152900,205000,1.3407455853499,true,null,46710,38721,0.82896596017983304,"",null,19.600000000000001,25.4,1.2959183673469401,"",1,0,0,1,null,"NO","NO",0]
["Orleans","New Orleans",19,22071001900,"TRUE",1,4,71420211484,"Louisiana",152900,205000,1.3407455853499,true,null,46710,38721,0.82896596017983304,"",null,19.600000000000001,25.4,1.2959183673469401,"",1,0,0,1,null,"NO","NO",4]
["Orleans","New Orleans",20,22071002000,"TRUE",1,4,71420211485,"Louisiana",152900,205000,1.3407455853499,true,null,46710,38721,0.82896596017983304,"",null,19.600000000000001,25.4,1.2959183673469401,"",1,0,0,1,null,"NO","NO",4]
["Orleans","New Orleans",21,22071002100,"TRUE",0,4,71420211486,"Louisiana",152900,205000,1.3407455853499,true,null,46710,38721,0.82896596017983304,"",null,19.600000000000001,25.4,1.2959183673469401,"",1,0,0,1,null,"NO","NO",4]
["Orleans","New Orleans",22,22071002200,"TRUE",1,4,71420211487,"Louisiana",152900,205000,1.3407455853499,true,null,46710,38721,0.82896596017983304,"",null,19.600000000000001,25.4,1.2959183673469401,"",1,0,0,1,null,"NO","NO",4]
["Orleans","New Orleans",23,22071002300,"TRUE",0,4,71420211488,"Louisiana",152900,205000,1.3407455853499,true,null,46710,38721,0.82896596017983304,"",null,19.600000000000001,25.4,1.2959183673469401,"",1,0,0,1,null,"NO","NO",4]
["Orleans","New Orleans",23,22071002300,"TRUE",1,4,71420211489,"Louisiana",152900,205000,1.3407455853499,true,null,46710,38721,0.82896596017983304,"",null,19.600000000000001,25.4,1.2959183673469401,"",1,0,0,1,null,"NO","NO",4]
["Orleans","New Orleans",23,22071002300,"TRUE",1,4,71420211490,"Louisiana",152900,205000,1.3407455853499,true,null,46710,38721,0.82896596017983304,"",null,19.600000000000001,25.4,1.2959183673469401,"",1,0,0,1,null,"NO","NO",4]
["Orleans","New Orleans",24.01,22071002401,"TRUE",1,4,71420211491,"Louisiana",152900,205000,1.3407455853499,true,null,46710,38721,0.82896596017983304,"",null,19.600000000000001,25.4,1.2959183673469401,"",1,0,0,1,null,"NO","NO",4]
["Orleans","New Orleans",24.02,22071002402,"TRUE",1,4,71420211492,"Louisiana",152900,205000,1.3407455853499,true,null,46710,38721,0.82896596017983304,"",null,19.600000000000001,25.4,1.2959183673469401,"",1,0,0,1,null,"NO","NO",4]
["Orleans","New Orleans",25.01,22071002501,"TRUE",1,4,71420211493,"Louisiana",152900,205000,1.3407455853499,true,null,46710,38721,0.82896596017983304,"",null,19.600000000000001,25.4,1.2959183673469401,"",1,0,0,1,null,"NO","NO",4]
["Orleans","New Orleans",25.02,22071002502,"TRUE",1,4,71420211494,"Louisiana",152900,205000,1.3407455853499,true,null,46710,38721,0.82896596017983304,"",null,19.600000000000001,25.4,1.2959183673469401,"",1,0,0,1,null,"NO","NO",4]
["Orleans","New Orleans",25.03,22071002503,"TRUE",1,4,71420211495,"Louisiana",152900,205000,1.3407455853499,true,null,46710,38721,0.82896596017983304,"",null,19.600000000000001,25.4,1.2959183673469401,"",1,0,0,1,null,"NO","NO",4]
["Orleans","New Orleans",25.04,22071002504,"TRUE",1,4,71420211496,"Louisiana",152900,205000,1.3407455853499,true,null,46710,38721,0.82896596017983304,"",null,19.600000000000001,25.4,1.2959183673469401,"",1,0,0,1,null,"NO","NO",4]
["Orleans","New Orleans",26,22071002600,"FALSE",0,0,71420211497,"Louisiana",152900,205000,1.3407455853499,true,null,46710,38721,0.82896596017983304,"",null,19.600000000000001,25.4,1.2959183673469401,"",1,0,0,1,null,"NO","NO",0]
["Orleans","New Orleans",26,22071002600,"TRUE",1,4,71420211498,"Louisiana",152900,205000,1.3407455853499,true,null,46710,38721,0.82896596017983304,"",null,19.600000000000001,25.4,1.2959183673469401,"",1,0,0,1,null,"NO","NO",4]
["Orleans","New Orleans",27,22071002700,"TRUE",1,4,71420211499,"Louisiana",152900,205000,1.3407455853499,true,null,46710,38721,0.82896596017983304,"",null,19.600000000000001,25.4,1.2959183673469401,"",1,0,0,1,null,"NO","NO",4]
["Orleans","New Orleans",27,22071002700,"TRUE",1,4,71420211500,"Louisiana",152900,205000,1.3407455853499,true,null,46710,38721,0.82896596017983304,"",null,19.600000000000001,25.4,1.2959183673469401,"",1,0,0,1,null,"NO","NO",4]
["Orleans","New Orleans",28,22071002800,"TRUE",1,4,71420211501,"Louisiana",152900,205000,1.3407455853499,true,null,46710,38721,0.82896596017983304,"",null,19.600000000000001,25.4,1.2959183673469401,"",1,0,0,1,null,"NO","NO",4]
["Orleans","New Orleans",28,22071002800,"TRUE",1,4,71420211502,"Louisiana",152900,205000,1.3407455853499,true,null,46710,38721,0.82896596017983304,"",null,19.600000000000001,25.4,1.2959183673469401,"",1,0,0,1,null,"NO","NO",4]
["Orleans","New Orleans",29,22071002900,"TRUE",1,4,71420211503,"Louisiana",152900,205000,1.3407455853499,true,null,46710,38721,0.82896596017983304,"",null,19.600000000000001,25.4,1.2959183673469401,"",1,0,0,1,null,"NO","NO",4]
["Orleans","New Orleans",29,22071002900,"TRUE",1,4,71420211504,"Louisiana",152900,205000,1.3407455853499,true,null,46710,38721,0.82896596017983304,"",null,19.600000000000001,25.4,1.2959183673469401,"",1,0,0,1,null,"NO","NO",4]
["Orleans","New Orleans",29,22071002900,"TRUE",0,4,71420211505,"Louisiana",152900,205000,1.3407455853499,true,null,46710,38721,0.82896596017983304,"",null,19.600000000000001,25.4,1.2959183673469401,"",1,0,0,1,null,"NO","NO",4]
["Orleans","New Orleans",30,22071003000,"TRUE",0,4,71420211506,"Louisiana",152900,205000,1.3407455853499,true,null,46710,38721,0.82896596017983304,"",null,19.600000000000001,25.4,1.2959183673469401,"",1,0,0,1,null,"NO","NO",4]
["Orleans","New Orleans",30,22071003000,"TRUE",0,4,71420211507,"Louisiana",152900,205000,1.3407455853499,true,null,46710,38721,0.82896596017983304,"",null,19.600000000000001,25.4,1.2959183673469401,"",1,0,0,1,null,"NO","NO",4]
["Orleans","New Orleans",31,22071003100,"TRUE",1,4,71420211508,"Louisiana",152900,205000,1.3407455853499,true,null,46710,38721,0.82896596017983304,"",null,19.600000000000001,25.4,1.2959183673469401,"",1,0,0,1,null,"NO","NO",4]
["Orleans","New Orleans",31,22071003100,"TRUE",1,4,71420211509,"Louisiana",152900,205000,1.3407455853499,true,null,46710,38721,0.82896596017983304,"",null,19.600000000000001,25.4,1.2959183673469401,"",1,0,0,1,null,"NO","NO",4]
["Orleans","New Orleans",33.01,22071003301,"TRUE",1,4,71420211510,"Louisiana",152900,205000,1.3407455853499,true,null,46710,38721,0.82896596017983304,"",null,19.600000000000001,25.4,1.2959183673469401,"",1,0,0,1,null,"NO","NO",4]
["Orleans","New Orleans",33.020000000000003,22071003302,"TRUE",1,4,71420211511,"Louisiana",152900,205000,1.3407455853499,true,null,46710,38721,0.82896596017983304,"",null,19.600000000000001,25.4,1.2959183673469401,"",1,0,0,1,null,"NO","NO",4]
["Orleans","New Orleans",33.03,22071003303,"TRUE",1,4,71420211512,"Louisiana",152900,205000,1.3407455853499,true,null,46710,38721,0.82896596017983304,"",null,19.600000000000001,25.4,1.2959183673469401,"",1,0,0,1,null,"NO","NO",4]
["Orleans","New Orleans",33.04,22071003304,"TRUE",1,4,71420211513,"Louisiana",152900,205000,1.3407455853499,true,null,46710,38721,0.82896596017983304,"",null,19.600000000000001,25.4,1.2959183673469401,"",1,0,0,1,null,"NO","NO",4]
["Orleans","New Orleans",33.07,22071003307,"TRUE",1,4,71420211514,"Louisiana",152900,205000,1.3407455853499,true,null,46710,38721,0.82896596017983304,"",null,19.600000000000001,25.4,1.2959183673469401,"",1,0,0,1,null,"NO","NO",4]
["Orleans","New Orleans",33.08,22071003308,"FALSE",0,0,71420211515,"Louisiana",152900,205000,1.3407455853499,true,null,46710,38721,0.82896596017983304,"",null,19.600000000000001,25.4,1.2959183673469401,"",1,0,0,1,null,"NO","NO",0]
["Orleans","New Orleans",33.08,22071003308,"FALSE",0,0,71420211516,"Louisiana",152900,205000,1.3407455853499,true,null,46710,38721,0.82896596017983304,"",null,19.600000000000001,25.4,1.2959183673469401,"",1,0,0,1,null,"NO","NO",0]
["Orleans","New Orleans",34,22071003400,"TRUE",0,4,71420211517,"Louisiana",152900,205000,1.3407455853499,true,null,46710,38721,0.82896596017983304,"",null,19.600000000000001,25.4,1.2959183673469401,"",1,0,0,1,null,"NO","NO",4]
["Orleans","New Orleans",35,22071003500,"TRUE",0,4,71420211518,"Louisiana",152900,205000,1.3407455853499,true,null,46710,38721,0.82896596017983304,"",null,19.600000000000001,25.4,1.2959183673469401,"",1,0,0,1,null,"NO","NO",4]
["Orleans","New Orleans",35,22071003500,"TRUE",1,4,71420211519,"Louisiana",152900,205000,1.3407455853499,true,null,46710,38721,0.82896596017983304,"",null,19.600000000000001,25.4,1.2959183673469401,"",1,0,0,1,null,"NO","NO",4]
["Orleans","New Orleans",36,22071003600,"TRUE",1,4,71420211520,"Louisiana",152900,205000,1.3407455853499,true,null,46710,38721,0.82896596017983304,"",null,19.600000000000001,25.4,1.2959183673469401,"",1,0,0,1,null,"NO","NO",4]
["Orleans","New Orleans",37.01,22071003701,"TRUE",1,4,71420211521,"Louisiana",152900,205000,1.3407455853499,true,null,46710,38721,0.82896596017983304,"",null,19.600000000000001,25.4,1.2959183673469401,"",1,0,0,1,null,"NO","NO",4]
["Orleans","New Orleans",37.01,22071003701,"TRUE",1,4,71420211522,"Louisiana",152900,205000,1.3407455853499,true,null,46710,38721,0.82896596017983304,"",null,19.600000000000001,25.4,1.2959183673469401,"",1,0,0,1,null,"NO","NO",4]
["Orleans","New Orleans",37.020000000000003,22071003702,"TRUE",0,4,71420211523,"Louisiana",152900,205000,1.3407455853499,true,null,46710,38721,0.82896596017983304,"",null,19.600000000000001,25.4,1.2959183673469401,"",1,0,0,1,null,"NO","NO",4]
["Orleans","New Orleans",38,22071003800,"FALSE",0,0,71420211524,"Louisiana",152900,205000,1.3407455853499,true,null,46710,38721,0.82896596017983304,"",null,19.600000000000001,25.4,1.2959183673469401,"",1,0,0,1,null,"NO","NO",0]
["Orleans","New Orleans",39,22071003900,"TRUE",0,4,71420211525,"Louisiana",152900,205000,1.3407455853499,true,null,46710,38721,0.82896596017983304,"",null,19.600000000000001,25.4,1.2959183673469401,"",1,0,0,1,null,"NO","NO",4]
["Orleans","New Orleans",39,22071003900,"TRUE",0,4,71420211526,"Louisiana",152900,205000,1.3407455853499,true,null,46710,38721,0.82896596017983304,"",null,19.600000000000001,25.4,1.2959183673469401,"",1,0,0,1,null,"NO","NO",4]
["Orleans","New Orleans",40,22071004000,"TRUE",0,4,71420211527,"Louisiana",152900,205000,1.3407455853499,true,null,46710,38721,0.82896596017983304,"",null,19.600000000000001,25.4,1.2959183673469401,"",1,0,0,1,null,"NO","NO",4]
["Orleans","New Orleans",40,22071004000,"TRUE",0,4,71420211528,"Louisiana",152900,205000,1.3407455853499,true,null,46710,38721,0.82896596017983304,"",null,19.600000000000001,25.4,1.2959183673469401,"",1,0,0,1,null,"NO","NO",4]
["Orleans","New Orleans",41,22071004100,"TRUE",1,4,71420211529,"Louisiana",152900,205000,1.3407455853499,true,null,46710,38721,0.82896596017983304,"",null,19.600000000000001,25.4,1.2959183673469401,"",1,0,0,1,null,"NO","NO",4]
["Orleans","New Orleans",44.01,22071004401,"TRUE",0,4,71420211530,"Louisiana",152900,205000,1.3407455853499,true,null,46710,38721,0.82896596017983304,"",null,19.600000000000001,25.4,1.2959183673469401,"",1,0,0,1,null,"NO","NO",4]
["Orleans","New Orleans",44.01,22071004401,"TRUE",1,4,71420211531,"Louisiana",152900,205000,1.3407455853499,true,null,46710,38721,0.82896596017983304,"",null,19.600000000000001,25.4,1.2959183673469401,"",1,0,0,1,null,"NO","NO",4]
["Orleans","New Orleans",44.01,22071004401,"TRUE",1,4,71420211532,"Louisiana",152900,205000,1.3407455853499,true,null,46710,38721,0.82896596017983304,"",null,19.600000000000001,25.4,1.2959183673469401,"",1,0,0,1,null,"NO","NO",4]
["Orleans","New Orleans",44.02,22071004402,"FALSE",0,0,71420211533,"Louisiana",152900,205000,1.3407455853499,true,null,46710,38721,0.82896596017983304,"",null,19.600000000000001,25.4,1.2959183673469401,"",1,0,0,1,null,"NO","NO",0]
["Orleans","New Orleans",44.02,22071004402,"FALSE",0,0,71420211534,"Louisiana",152900,205000,1.3407455853499,true,null,46710,38721,0.82896596017983304,"",null,19.600000000000001,25.4,1.2959183673469401,"",1,0,0,1,null,"NO","NO",0]
["Orleans","New Orleans",44.02,22071004402,"FALSE",0,0,71420211535,"Louisiana",152900,205000,1.3407455853499,true,null,46710,38721,0.82896596017983304,"",null,19.600000000000001,25.4,1.2959183673469401,"",1,0,0,1,null,"NO","NO",0]
["Orleans","New Orleans",45,22071004500,"TRUE",0,4,71420211536,"Louisiana",152900,205000,1.3407455853499,true,null,46710,38721,0.82896596017983304,"",null,19.600000000000001,25.4,1.2959183673469401,"",1,0,0,1,null,"NO","NO",4]
["Orleans","New Orleans",46,22071004600,"FALSE",0,0,71420211537,"Louisiana",152900,205000,1.3407455853499,true,null,46710,38721,0.82896596017983304,"",null,19.600000000000001,25.4,1.2959183673469401,"",1,0,0,1,null,"NO","NO",0]
["Orleans","New Orleans",48,22071004800,"TRUE",0,4,71420211538,"Louisiana",152900,205000,1.3407455853499,true,null,46710,38721,0.82896596017983304,"",null,19.600000000000001,25.4,1.2959183673469401,"",1,0,0,1,null,"NO","NO",4]
["Orleans","New Orleans",49,22071004900,"TRUE",0,{"$f":"IF(E1539=\"TRUE\",4,0)","v":4},71420211539,"Louisiana",152900,205000,1.3407455853499,{"$f":"IF(L1539>=50%,TRUE,\"\")","v":true},null,46710,38721,0.82896596017983304,{"$f":"IF(Q1539<=65%,TRUE,\"\")","v":""},null,19.600000000000001,25.4,1.2959183673469401,{"$f":"IF(V1539>=1.5,TRUE,\"\")","v":""},{"$f":"IF(M1539=TRUE,1,0)","v":1},{"$f":"IF(R1539=TRUE,1,0)","v":0},{"$f":"IF(W1539=TRUE,1,0)","v":0},{"$f":"SUM(X1539:Z1539)","v":1},null,{"$f":"IF(AND(E1539=\"TRUE\",AA1539>1),\"YES\",\"NO\")","v":"NO"},{"$f":"IF(AND(F1539=1,AA1539>1), \"YES\",\"NO\")","v":"NO"},{"$f":"+G1539+N1539+S1539+AB1539","v":4}]
["Orleans","New Orleans",49,22071004900,"TRUE",0,4,71420211540,"Louisiana",152900,205000,1.3407455853499,true,null,46710,38721,0.82896596017983304,"",null,19.600000000000001,25.4,1.2959183673469401,"",1,0,0,1,null,"NO","NO",4]
["Orleans","New Orleans",50,22071005000,"TRUE",0,4,71420211541,"Louisiana",152900,205000,1.3407455853499,true,null,46710,38721,0.82896596017983304,"",null,19.600000000000001,25.4,1.2959183673469401,"",1,0,0,1,null,"NO","NO",4]
["Orleans","New Orleans",50,22071005000,"TRUE",0,4,71420211542,"Louisiana",152900,205000,1.3407455853499,true,null,46710,38721,0.82896596017983304,"",null,19.600000000000001,25.4,1.2959183673469401,"",1,0,0,1,null,"NO","NO",4]
["Orleans","New Orleans",54,22071005400,"FALSE",0,0,71420211543,"Louisiana",152900,205000,1.3407455853499,true,null,46710,38721,0.82896596017983304,"",null,19.600000000000001,25.4,1.2959183673469401,"",1,0,0,1,null,"NO","NO",0]
["Orleans","New Orleans",54,22071005400,"FALSE",0,0,71420211544,"Louisiana",152900,205000,1.3407455853499,true,null,46710,38721,0.82896596017983304,"",null,19.600000000000001,25.4,1.2959183673469401,"",1,0,0,1,null,"NO","NO",0]
["Orleans","New Orleans",55,22071005500,"FALSE",0,0,71420211545,"Louisiana",152900,205000,1.3407455853499,true,null,46710,38721,0.82896596017983304,"",null,19.600000000000001,25.4,1.2959183673469401,"",1,0,0,1,null,"NO","NO",0]
["Orleans","New Orleans",55,22071005500,"FALSE",0,0,71420211546,"Louisiana",152900,205000,1.3407455853499,true,null,46710,38721,0.82896596017983304,"",null,19.600000000000001,25.4,1.2959183673469401,"",1,0,0,1,null,"NO","NO",0]
["Orleans","New Orleans",56.01,22071005601,"FALSE",0,0,71420211547,"Louisiana",152900,205000,1.3407455853499,true,null,46710,38721,0.82896596017983304,"",null,19.600000000000001,25.4,1.2959183673469401,"",1,0,0,1,null,"NO","NO",0]
["Orleans","New Orleans",56.02,22071005602,"FALSE",0,0,71420211548,"Louisiana",152900,205000,1.3407455853499,true,null,46710,38721,0.82896596017983304,"",null,19.600000000000001,25.4,1.2959183673469401,"",1,0,0,1,null,"NO","NO",0]
["Orleans","New Orleans",56.03,22071005603,"FALSE",0,0,71420211549,"Louisiana",152900,205000,1.3407455853499,true,null,46710,38721,0.82896596017983304,"",null,19.600000000000001,25.4,1.2959183673469401,"",1,0,0,1,null,"NO","NO",0]
["Orleans","New Orleans",56.04,22071005604,"FALSE",0,0,71420211550,"Louisiana",152900,205000,1.3407455853499,true,null,46710,38721,0.82896596017983304,"",null,19.600000000000001,25.4,1.2959183673469401,"",1,0,0,1,null,"NO","NO",0]
["Orleans","New Orleans",60,22071006000,"TRUE",0,4,71420211551,"Louisiana",152900,205000,1.3407455853499,true,null,46710,38721,0.82896596017983304,"",null,19.600000000000001,25.4,1.2959183673469401,"",1,0,0,1,null,"NO","NO",4]
["Orleans","New Orleans",60,22071006000,"TRUE",1,4,71420211552,"Louisiana",152900,205000,1.3407455853499,true,null,46710,38721,0.82896596017983304,"",null,19.600000000000001,25.4,1.2959183673469401,"",1,0,0,1,null,"NO","NO",4]
["Orleans","New Orleans",60,22071006000,"TRUE",0,4,71420211553,"Louisiana",152900,205000,1.3407455853499,true,null,46710,38721,0.82896596017983304,"",null,19.600000000000001,25.4,1.2959183673469401,"",1,0,0,1,null,"NO","NO",4]
["Orleans","New Orleans",60,22071006000,"TRUE",0,4,71420211554,"Louisiana",152900,205000,1.3407455853499,true,null,46710,38721,0.82896596017983304,"",null,19.600000000000001,25.4,1.2959183673469401,"",1,0,0,1,null,"NO","NO",4]
["Orleans","New Orleans",63,22071006300,"TRUE",0,4,71420211555,"Louisiana",152900,205000,1.3407455853499,true,null,46710,38721,0.82896596017983304,"",null,19.600000000000001,25.4,1.2959183673469401,"",1,0,0,1,null,"NO","NO",4]
["Orleans","New Orleans",64,22071006400,"FALSE",0,0,71420211556,"Louisiana",152900,205000,1.3407455853499,true,null,46710,38721,0.82896596017983304,"",null,19.600000000000001,25.4,1.2959183673469401,"",1,0,0,1,null,"NO","NO",0]
["Orleans","New Orleans",65,22071006500,"FALSE",0,0,71420211557,"Louisiana",152900,205000,1.3407455853499,true,null,46710,38721,0.82896596017983304,"",null,19.600000000000001,25.4,1.2959183673469401,"",1,0,0,1,null,"NO","NO",0]
["Orleans","New Orleans",69,22071006900,"TRUE",1,4,71420211558,"Louisiana",152900,205000,1.3407455853499,true,null,46710,38721,0.82896596017983304,"",null,19.600000000000001,25.4,1.2959183673469401,"",1,0,0,1,null,"NO","NO",4]
["Orleans","New Orleans",69,22071006900,"TRUE",0,4,71420211559,"Louisiana",152900,205000,1.3407455853499,true,null,46710,38721,0.82896596017983304,"",null,19.600000000000001,25.4,1.2959183673469401,"",1,0,0,1,null,"NO","NO",4]
["Orleans","New Orleans",70,22071007000,"TRUE",0,4,71420211560,"Louisiana",152900,205000,1.3407455853499,true,null,46710,38721,0.82896596017983304,"",null,19.600000000000001,25.4,1.2959183673469401,"",1,0,0,1,null,"NO","NO",4]
["Orleans","New Orleans",71.010000000000005,22071007101,"TRUE",0,4,71420211561,"Louisiana",152900,205000,1.3407455853499,true,null,46710,38721,0.82896596017983304,"",null,19.600000000000001,25.4,1.2959183673469401,"",1,0,0,1,null,"NO","NO",4]
["Orleans","New Orleans",72,22071007200,"TRUE",0,4,71420211562,"Louisiana",152900,205000,1.3407455853499,true,null,46710,38721,0.82896596017983304,"",null,19.600000000000001,25.4,1.2959183673469401,"",1,0,0,1,null,"NO","NO",4]
["Orleans","New Orleans",72,22071007200,"TRUE",0,4,71420211563,"Louisiana",152900,205000,1.3407455853499,true,null,46710,38721,0.82896596017983304,"",null,19.600000000000001,25.4,1.2959183673469401,"",1,0,0,1,null,"NO","NO",4]
["Orleans","New Orleans",72,22071007200,"TRUE",0,4,71420211564,"Louisiana",152900,205000,1.3407455853499,true,null,46710,38721,0.82896596017983304,"",null,19.600000000000001,25.4,1.2959183673469401,"",1,0,0,1,null,"NO","NO",4]
["Orleans","New Orleans",72,22071007200,"TRUE",0,4,71420211565,"Louisiana",152900,205000,1.3407455853499,true,null,46710,38721,0.82896596017983304,"",null,19.600000000000001,25.4,1.2959183673469401,"",1,0,0,1,null,"NO","NO",4]
["Orleans","New Orleans",75.010000000000005,22071007501,"TRUE",0,4,71420211566,"Louisiana",152900,205000,1.3407455853499,true,null,46710,38721,0.82896596017983304,"",null,19.600000000000001,25.4,1.2959183673469401,"",1,0,0,1,null,"NO","NO",4]
["Orleans","New Orleans",75.02,22071007502,"TRUE",0,4,71420211567,"Louisiana",152900,205000,1.3407455853499,true,null,46710,38721,0.82896596017983304,"",null,19.600000000000001,25.4,1.2959183673469401,"",1,0,0,1,null,"NO","NO",4]
["Orleans","New Orleans",76.040000000000006,22071007604,"FALSE",0,0,71420211568,"Louisiana",152900,205000,1.3407455853499,true,null,46710,38721,0.82896596017983304,"",null,19.600000000000001,25.4,1.2959183673469401,"",1,0,0,1,null,"NO","NO",0]
["Orleans","New Orleans",76.040000000000006,22071007604,"FALSE",0,0,71420211569,"Louisiana",152900,205000,1.3407455853499,true,null,46710,38721,0.82896596017983304,"",null,19.600000000000001,25.4,1.2959183673469401,"",1,0,0,1,null,"NO","NO",0]
["Orleans","New Orleans",76.05,22071007605,"TRUE",0,4,71420211570,"Louisiana",152900,205000,1.3407455853499,true,null,46710,38721,0.82896596017983304,"",null,19.600000000000001,25.4,1.2959183673469401,"",1,0,0,1,null,"NO","NO",4]
["Orleans","New Orleans",76.06,22071007606,"FALSE",0,0,71420211571,"Louisiana",152900,205000,1.3407455853499,true,null,46710,38721,0.82896596017983304,"",null,19.600000000000001,25.4,1.2959183673469401,"",1,0,0,1,null,"NO","NO",0]
["Orleans","New Orleans",77,22071007700,"FALSE",0,0,71420211572,"Louisiana",152900,205000,1.3407455853499,true,null,46710,38721,0.82896596017983304,"",null,19.600000000000001,25.4,1.2959183673469401,"",1,0,0,1,null,"NO","NO",0]
["Orleans","New Orleans",78,22071007800,"FALSE",0,0,71420211573,"Louisiana",152900,205000,1.3407455853499,true,null,46710,38721,0.82896596017983304,"",null,19.600000000000001,25.4,1.2959183673469401,"",1,0,0,1,null,"NO","NO",0]
["Orleans","New Orleans",82,22071008200,"FALSE",0,0,71420211574,"Louisiana",152900,205000,1.3407455853499,true,null,46710,38721,0.82896596017983304,"",null,19.600000000000001,25.4,1.2959183673469401,"",1,0,0,1,null,"NO","NO",0]
["Orleans","New Orleans",83,22071008300,"TRUE",1,4,71420211575,"Louisiana",152900,205000,1.3407455853499,true,null,46710,38721,0.82896596017983304,"",null,19.600000000000001,25.4,1.2959183673469401,"",1,0,0,1,null,"NO","NO",4]
["Orleans","New Orleans",84,22071008400,"FALSE",0,0,71420211576,"Louisiana",152900,205000,1.3407455853499,true,null,46710,38721,0.82896596017983304,"",null,19.600000000000001,25.4,1.2959183673469401,"",1,0,0,1,null,"NO","NO",0]
["Orleans","New Orleans",84,22071008400,"FALSE",0,0,71420211577,"Louisiana",152900,205000,1.3407455853499,true,null,46710,38721,0.82896596017983304,"",null,19.600000000000001,25.4,1.2959183673469401,"",1,0,0,1,null,"NO","NO",0]
["Orleans","New Orleans",85,22071008500,"TRUE",0,4,71420211578,"Louisiana",152900,205000,1.3407455853499,true,null,46710,38721,0.82896596017983304,"",null,19.600000000000001,25.4,1.2959183673469401,"",1,0,0,1,null,"NO","NO",4]
["Orleans","New Orleans",86,22071008600,"TRUE",0,4,71420211579,"Louisiana",152900,205000,1.3407455853499,true,null,46710,38721,0.82896596017983304,"",null,19.600000000000001,25.4,1.2959183673469401,"",1,0,0,1,null,"NO","NO",4]
["Orleans","New Orleans",86,22071008600,"TRUE",0,4,71420211580,"Louisiana",152900,205000,1.3407455853499,true,null,46710,38721,0.82896596017983304,"",null,19.600000000000001,25.4,1.2959183673469401,"",1,0,0,1,null,"NO","NO",4]
["Orleans","New Orleans",88,22071008800,"FALSE",0,0,71420211581,"Louisiana",152900,205000,1.3407455853499,true,null,46710,38721,0.82896596017983304,"",null,19.600000000000001,25.4,1.2959183673469401,"",1,0,0,1,null,"NO","NO",0]
["Orleans","New Orleans",88,22071008800,"FALSE",0,0,71420211582,"Louisiana",152900,205000,1.3407455853499,true,null,46710,38721,0.82896596017983304,"",null,19.600000000000001,25.4,1.2959183673469401,"",1,0,0,1,null,"NO","NO",0]
["Orleans","New Orleans",90,22071009000,"FALSE",0,0,71420211583,"Louisiana",152900,205000,1.3407455853499,true,null,46710,38721,0.82896596017983304,"",null,19.600000000000001,25.4,1.2959183673469401,"",1,0,0,1,null,"NO","NO",0]
["Orleans","New Orleans",90,22071009000,"FALSE",0,0,71420211584,"Louisiana",152900,205000,1.3407455853499,true,null,46710,38721,0.82896596017983304,"",null,19.600000000000001,25.4,1.2959183673469401,"",1,0,0,1,null,"NO","NO",0]
["Orleans","New Orleans",91,22071009100,"FALSE",0,0,71420211585,"Louisiana",152900,205000,1.3407455853499,true,null,46710,38721,0.82896596017983304,"",null,19.600000000000001,25.4,1.2959183673469401,"",1,0,0,1,null,"NO","NO",0]
["Orleans","New Orleans",91,22071009100,"FALSE",0,0,71420211586,"Louisiana",152900,205000,1.3407455853499,true,null,46710,38721,0.82896596017983304,"",null,19.600000000000001,25.4,1.2959183673469401,"",1,0,0,1,null,"NO","NO",0]
["Orleans","New Orleans",91,22071009100,"FALSE",0,0,71420211587,"Louisiana",152900,205000,1.3407455853499,true,null,46710,38721,0.82896596017983304,"",null,19.600000000000001,25.4,1.2959183673469401,"",1,0,0,1,null,"NO","NO",0]
["Orleans","New Orleans",92,22071009200,"TRUE",0,4,71420211588,"Louisiana",152900,205000,1.3407455853499,true,null,46710,38721,0.82896596017983304,"",null,19.600000000000001,25.4,1.2959183673469401,"",1,0,0,1,null,"NO","NO",4]
["Orleans","New Orleans",92,22071009200,"TRUE",0,4,71420211589,"Louisiana",152900,205000,1.3407455853499,true,null,46710,38721,0.82896596017983304,"",null,19.600000000000001,25.4,1.2959183673469401,"",1,0,0,1,null,"NO","NO",4]
["Orleans","New Orleans",94,22071009400,"TRUE",0,4,71420211590,"Louisiana",152900,205000,1.3407455853499,true,null,46710,38721,0.82896596017983304,"",null,19.600000000000001,25.4,1.2959183673469401,"",1,0,0,1,null,"NO","NO",4]
["Orleans","New Orleans",96,22071009600,"FALSE",0,0,71420211591,"Louisiana",152900,205000,1.3407455853499,true,null,46710,38721,0.82896596017983304,"",null,19.600000000000001,25.4,1.2959183673469401,"",1,0,0,1,null,"NO","NO",0]
["Orleans","New Orleans",97,22071009700,"FALSE",0,0,71420211592,"Louisiana",152900,205000,1.3407455853499,true,null,46710,38721,0.82896596017983304,"",null,19.600000000000001,25.4,1.2959183673469401,"",1,0,0,1,null,"NO","NO",0]
["Orleans","New Orleans",99,22071009900,"FALSE",0,0,71420211593,"Louisiana",152900,205000,1.3407455853499,true,null,46710,38721,0.82896596017983304,"",null,19.600000000000001,25.4,1.2959183673469401,"",1,0,0,1,null,"NO","NO",0]
["Orleans","New Orleans",100,22071010000,"TRUE",0,4,71420211594,"Louisiana",152900,205000,1.3407455853499,true,null,46710,38721,0.82896596017983304,"",null,19.600000000000001,25.4,1.2959183673469401,"",1,0,0,1,null,"NO","NO",4]
["Orleans","New Orleans",100,22071010000,"TRUE",1,4,71420211595,"Louisiana",152900,205000,1.3407455853499,true,null,46710,38721,0.82896596017983304,"",null,19.600000000000001,25.4,1.2959183673469401,"",1,0,0,1,null,"NO","NO",4]
["Orleans","New Orleans",101,22071010100,"TRUE",1,4,71420211596,"Louisiana",152900,205000,1.3407455853499,true,null,46710,38721,0.82896596017983304,"",null,19.600000000000001,25.4,1.2959183673469401,"",1,0,0,1,null,"NO","NO",4]
["Orleans","New Orleans",102,22071010200,"TRUE",0,4,71420211597,"Louisiana",152900,205000,1.3407455853499,true,null,46710,38721,0.82896596017983304,"",null,19.600000000000001,25.4,1.2959183673469401,"",1,0,0,1,null,"NO","NO",4]
["Orleans","New Orleans",102,22071010200,"TRUE",1,4,71420211598,"Louisiana",152900,205000,1.3407455853499,true,null,46710,38721,0.82896596017983304,"",null,19.600000000000001,25.4,1.2959183673469401,"",1,0,0,1,null,"NO","NO",4]
["Orleans","New Orleans",103,22071010300,"TRUE",0,4,71420211599,"Louisiana",152900,205000,1.3407455853499,true,null,46710,38721,0.82896596017983304,"",null,19.600000000000001,25.4,1.2959183673469401,"",1,0,0,1,null,"NO","NO",4]
["Orleans","New Orleans",106,22071010600,"FALSE",0,0,71420211600,"Louisiana",152900,205000,1.3407455853499,true,null,46710,38721,0.82896596017983304,"",null,19.600000000000001,25.4,1.2959183673469401,"",1,0,0,1,null,"NO","NO",0]
["Orleans","New Orleans",107,22071010700,"FALSE",0,0,71420211601,"Louisiana",152900,205000,1.3407455853499,true,null,46710,38721,0.82896596017983304,"",null,19.600000000000001,25.4,1.2959183673469401,"",1,0,0,1,null,"NO","NO",0]
["Orleans","New Orleans",108,22071010800,"TRUE",1,4,71420211602,"Louisiana",152900,205000,1.3407455853499,true,null,46710,38721,0.82896596017983304,"",null,19.600000000000001,25.4,1.2959183673469401,"",1,0,0,1,null,"NO","NO",4]
["Orleans","New Orleans",109,22071010900,"FALSE",0,{"$f":"IF(E1603=\"TRUE\",4,0)","v":0},71420211603,"Louisiana",152900,205000,1.3407455853499,{"$f":"IF(L1603>=50%,TRUE,\"\")","v":true},null,46710,38721,0.82896596017983304,{"$f":"IF(Q1603<=65%,TRUE,\"\")","v":""},null,19.600000000000001,25.4,1.2959183673469401,{"$f":"IF(V1603>=1.5,TRUE,\"\")","v":""},{"$f":"IF(M1603=TRUE,1,0)","v":1},{"$f":"IF(R1603=TRUE,1,0)","v":0},{"$f":"IF(W1603=TRUE,1,0)","v":0},{"$f":"SUM(X1603:Z1603)","v":1},null,{"$f":"IF(AND(E1603=\"TRUE\",AA1603>1),\"YES\",\"NO\")","v":"NO"},{"$f":"IF(AND(F1603=1,AA1603>1), \"YES\",\"NO\")","v":"NO"},{"$f":"+G1603+N1603+S1603+AB1603","v":0}]
["Orleans","New Orleans",111,22071011100,"FALSE",0,0,71420211604,"Louisiana",152900,205000,1.3407455853499,true,null,46710,38721,0.82896596017983304,"",null,19.600000000000001,25.4,1.2959183673469401,"",1,0,0,1,null,"NO","NO",0]
["Orleans","New Orleans",111,22071011100,"FALSE",0,0,71420211605,"Louisiana",152900,205000,1.3407455853499,true,null,46710,38721,0.82896596017983304,"",null,19.600000000000001,25.4,1.2959183673469401,"",1,0,0,1,null,"NO","NO",0]
["Orleans","New Orleans",112,22071011200,"FALSE",0,0,71420211606,"Louisiana",152900,205000,1.3407455853499,true,null,46710,38721,0.82896596017983304,"",null,19.600000000000001,25.4,1.2959183673469401,"",1,0,0,1,null,"NO","NO",0]
["Orleans","New Orleans",114,22071011400,"FALSE",0,0,71420211607,"Louisiana",152900,205000,1.3407455853499,true,null,46710,38721,0.82896596017983304,"",null,19.600000000000001,25.4,1.2959183673469401,"",1,0,0,1,null,"NO","NO",0]
["Orleans","New Orleans",114,22071011400,"FALSE",0,0,71420211608,"Louisiana",152900,205000,1.3407455853499,true,null,46710,38721,0.82896596017983304,"",null,19.600000000000001,25.4,1.2959183673469401,"",1,0,0,1,null,"NO","NO",0]
["Orleans","New Orleans",115,22071011500,"FALSE",0,0,71420211609,"Louisiana",152900,205000,1.3407455853499,true,null,46710,38721,0.82896596017983304,"",null,19.600000000000001,25.4,1.2959183673469401,"",1,0,0,1,null,"NO","NO",0]
["Orleans","New Orleans",116,22071011600,"FALSE",0,0,71420211610,"Louisiana",152900,205000,1.3407455853499,true,null,46710,38721,0.82896596017983304,"",null,19.600000000000001,25.4,1.2959183673469401,"",1,0,0,1,null,"NO","NO",0]
["Orleans","New Orleans",116,22071011600,"FALSE",0,0,71420211611,"Louisiana",152900,205000,1.3407455853499,true,null,46710,38721,0.82896596017983304,"",null,19.600000000000001,25.4,1.2959183673469401,"",1,0,0,1,null,"NO","NO",0]
["Orleans","New Orleans",117,22071011700,"TRUE",1,4,71420211612,"Louisiana",152900,205000,1.3407455853499,true,null,46710,38721,0.82896596017983304,"",null,19.600000000000001,25.4,1.2959183673469401,"",1,0,0,1,null,"NO","NO",4]
["Orleans","New Orleans",117,22071011700,"FALSE",0,0,71420211613,"Louisiana",152900,205000,1.3407455853499,true,null,46710,38721,0.82896596017983304,"",null,19.600000000000001,25.4,1.2959183673469401,"",1,0,0,1,null,"NO","NO",0]
["Orleans","New Orleans",119,22071011900,"TRUE",1,4,71420211614,"Louisiana",152900,205000,1.3407455853499,true,null,46710,38721,0.82896596017983304,"",null,19.600000000000001,25.4,1.2959183673469401,"",1,0,0,1,null,"NO","NO",4]
["Orleans","New Orleans",119,22071011900,"TRUE",1,4,71420211615,"Louisiana",152900,205000,1.3407455853499,true,null,46710,38721,0.82896596017983304,"",null,19.600000000000001,25.4,1.2959183673469401,"",1,0,0,1,null,"NO","NO",4]
["Orleans","New Orleans",119,22071011900,"TRUE",1,4,71420211616,"Louisiana",152900,205000,1.3407455853499,true,null,46710,38721,0.82896596017983304,"",null,19.600000000000001,25.4,1.2959183673469401,"",1,0,0,1,null,"NO","NO",4]
["Orleans","New Orleans",120,22071012000,"FALSE",0,0,71420211617,"Louisiana",152900,205000,1.3407455853499,true,null,46710,38721,0.82896596017983304,"",null,19.600000000000001,25.4,1.2959183673469401,"",1,0,0,1,null,"NO","NO",0]
["Orleans","New Orleans",121.01,22071012101,"FALSE",0,0,71420211618,"Louisiana",152900,205000,1.3407455853499,true,null,46710,38721,0.82896596017983304,"",null,19.600000000000001,25.4,1.2959183673469401,"",1,0,0,1,null,"NO","NO",0]
["Orleans","New Orleans",121.01,22071012101,"FALSE",0,0,71420211619,"Louisiana",152900,205000,1.3407455853499,true,null,46710,38721,0.82896596017983304,"",null,19.600000000000001,25.4,1.2959183673469401,"",1,0,0,1,null,"NO","NO",0]
["Orleans","New Orleans",121.02,22071012102,"TRUE",1,4,71420211620,"Louisiana",152900,205000,1.3407455853499,true,null,46710,38721,0.82896596017983304,"",null,19.600000000000001,25.4,1.2959183673469401,"",1,0,0,1,null,"NO","NO",4]
["Orleans","New Orleans",122,22071012200,"FALSE",0,0,71420211621,"Louisiana",152900,205000,1.3407455853499,true,null,46710,38721,0.82896596017983304,"",null,19.600000000000001,25.4,1.2959183673469401,"",1,0,0,1,null,"NO","NO",0]
["Orleans","New Orleans",122,22071012200,"FALSE",0,0,71420211622,"Louisiana",152900,205000,1.3407455853499,true,null,46710,38721,0.82896596017983304,"",null,19.600000000000001,25.4,1.2959183673469401,"",1,0,0,1,null,"NO","NO",0]
["Orleans","New Orleans",123,22071012300,"TRUE",1,4,71420211623,"Louisiana",152900,205000,1.3407455853499,true,null,46710,38721,0.82896596017983304,"",null,19.600000000000001,25.4,1.2959183673469401,"",1,0,0,1,null,"NO","NO",4]
["Orleans","New Orleans",124,22071012400,"FALSE",0,0,71420211624,"Louisiana",152900,205000,1.3407455853499,true,null,46710,38721,0.82896596017983304,"",null,19.600000000000001,25.4,1.2959183673469401,"",1,0,0,1,null,"NO","NO",0]
["Orleans","New Orleans",125,22071012500,"FALSE",0,0,71420211625,"Louisiana",152900,205000,1.3407455853499,true,null,46710,38721,0.82896596017983304,"",null,19.600000000000001,25.4,1.2959183673469401,"",1,0,0,1,null,"NO","NO",0]
["Orleans","New Orleans",126,22071012600,"FALSE",0,0,71420211626,"Louisiana",152900,205000,1.3407455853499,true,null,46710,38721,0.82896596017983304,"",null,19.600000000000001,25.4,1.2959183673469401,"",1,0,0,1,null,"NO","NO",0]
["Orleans","New Orleans",127,22071012700,"FALSE",0,0,71420211627,"Louisiana",152900,205000,1.3407455853499,true,null,46710,38721,0.82896596017983304,"",null,19.600000000000001,25.4,1.2959183673469401,"",1,0,0,1,null,"NO","NO",0]
["Orleans","New Orleans",128,22071012800,"TRUE",1,4,71420211628,"Louisiana",152900,205000,1.3407455853499,true,null,46710,38721,0.82896596017983304,"",null,19.600000000000001,25.4,1.2959183673469401,"",1,0,0,1,null,"NO","NO",4]
["Orleans","New Orleans",128,22071012800,"FALSE",0,0,71420211629,"Louisiana",152900,205000,1.3407455853499,true,null,46710,38721,0.82896596017983304,"",null,19.600000000000001,25.4,1.2959183673469401,"",1,0,0,1,null,"NO","NO",0]
["Orleans","New Orleans",129,22071012900,"FALSE",0,0,71420211630,"Louisiana",152900,205000,1.3407455853499,true,null,46710,38721,0.82896596017983304,"",null,19.600000000000001,25.4,1.2959183673469401,"",1,0,0,1,null,"NO","NO",0]
["Orleans","New Orleans",129,22071012900,"FALSE",0,0,71420211631,"Louisiana",152900,205000,1.3407455853499,true,null,46710,38721,0.82896596017983304,"",null,19.600000000000001,25.4,1.2959183673469401,"",1,0,0,1,null,"NO","NO",0]
["Orleans","New Orleans",130,22071013000,"TRUE",1,4,71420211632,"Louisiana",152900,205000,1.3407455853499,true,null,46710,38721,0.82896596017983304,"",null,19.600000000000001,25.4,1.2959183673469401,"",1,0,0,1,null,"NO","NO",4]
["Orleans","New Orleans",131,22071013100,"TRUE",1,4,71420211633,"Louisiana",152900,205000,1.3407455853499,true,null,46710,38721,0.82896596017983304,"",null,19.600000000000001,25.4,1.2959183673469401,"",1,0,0,1,null,"NO","NO",4]
["Orleans","New Orleans",132,22071013200,"TRUE",1,4,71420211634,"Louisiana",152900,205000,1.3407455853499,true,null,46710,38721,0.82896596017983304,"",null,19.600000000000001,25.4,1.2959183673469401,"",1,0,0,1,null,"NO","NO",4]
["Orleans","New Orleans",133.01,22071013301,"FALSE",0,0,71420211635,"Louisiana",152900,205000,1.3407455853499,true,null,46710,38721,0.82896596017983304,"",null,19.600000000000001,25.4,1.2959183673469401,"",1,0,0,1,null,"NO","NO",0]
["Orleans","New Orleans",133.02000000000001,22071013302,"FALSE",0,0,71420211636,"Louisiana",152900,205000,1.3407455853499,true,null,46710,38721,0.82896596017983304,"",null,19.600000000000001,25.4,1.2959183673469401,"",1,0,0,1,null,"NO","NO",0]
["Orleans","New Orleans",133.02000000000001,22071013302,"FALSE",0,0,71420211637,"Louisiana",152900,205000,1.3407455853499,true,null,46710,38721,0.82896596017983304,"",null,19.600000000000001,25.4,1.2959183673469401,"",1,0,0,1,null,"NO","NO",0]
["Orleans","New Orleans",133.02000000000001,22071013302,"TRUE",1,4,71420211638,"Louisiana",152900,205000,1.3407455853499,true,null,46710,38721,0.82896596017983304,"",null,19.600000000000001,25.4,1.2959183673469401,"",1,0,0,1,null,"NO","NO",4]
["Orleans","New Orleans",134,22071013400,"FALSE",0,0,71420211639,"Louisiana",152900,205000,1.3407455853499,true,null,46710,38721,0.82896596017983304,"",null,19.600000000000001,25.4,1.2959183673469401,"",1,0,0,1,null,"NO","NO",0]
["Orleans","New Orleans",134,22071013400,"FALSE",0,0,71420211640,"Louisiana",152900,205000,1.3407455853499,true,null,46710,38721,0.82896596017983304,"",null,19.600000000000001,25.4,1.2959183673469401,"",1,0,0,1,null,"NO","NO",0]
["Orleans","New Orleans",134,22071013400,"TRUE",1,4,71420211641,"Louisiana",152900,205000,1.3407455853499,true,null,46710,38721,0.82896596017983304,"",null,19.600000000000001,25.4,1.2959183673469401,"",1,0,0,1,null,"NO","NO",4]
["Orleans","New Orleans",134,22071013400,"TRUE",1,4,71420211642,"Louisiana",152900,205000,1.3407455853499,true,null,46710,38721,0.82896596017983304,"",null,19.600000000000001,25.4,1.2959183673469401,"",1,0,0,1,null,"NO","NO",4]
["Orleans","New Orleans",134,22071013400,"FALSE",0,0,71420211643,"Louisiana",152900,205000,1.3407455853499,true,null,46710,38721,0.82896596017983304,"",null,19.600000000000001,25.4,1.2959183673469401,"",1,0,0,1,null,"NO","NO",0]
["Orleans","New Orleans",134,22071013400,"FALSE",0,0,71420211644,"Louisiana",152900,205000,1.3407455853499,true,null,46710,38721,0.82896596017983304,"",null,19.600000000000001,25.4,1.2959183673469401,"",1,0,0,1,null,"NO","NO",0]
["Orleans","New Orleans",134,22071013400,"FALSE",0,0,71420211645,"Louisiana",152900,205000,1.3407455853499,true,null,46710,38721,0.82896596017983304,"",null,19.600000000000001,25.4,1.2959183673469401,"",1,0,0,1,null,"NO","NO",0]
["Orleans","New Orleans",134,22071013400,"FALSE",0,0,71420211646,"Louisiana",152900,205000,1.3407455853499,true,null,46710,38721,0.82896596017983304,"",null,19.600000000000001,25.4,1.2959183673469401,"",1,0,0,1,null,"NO","NO",0]
["Orleans","New Orleans",134,22071013400,"FALSE",0,0,71420211647,"Louisiana",152900,205000,1.3407455853499,true,null,46710,38721,0.82896596017983304,"",null,19.600000000000001,25.4,1.2959183673469401,"",1,0,0,1,null,"NO","NO",0]
["Orleans","New Orleans",134,22071013400,"FALSE",0,0,71420211648,"Louisiana",152900,205000,1.3407455853499,true,null,46710,38721,0.82896596017983304,"",null,19.600000000000001,25.4,1.2959183673469401,"",1,0,0,1,null,"NO","NO",0]
["Orleans","New Orleans",134,22071013400,"FALSE",0,0,71420211649,"Louisiana",152900,205000,1.3407455853499,true,null,46710,38721,0.82896596017983304,"",null,19.600000000000001,25.4,1.2959183673469401,"",1,0,0,1,null,"NO","NO",0]
["Orleans","New Orleans",134,22071013400,"FALSE",0,0,71420211650,"Louisiana",152900,205000,1.3407455853499,true,null,46710,38721,0.82896596017983304,"",null,19.600000000000001,25.4,1.2959183673469401,"",1,0,0,1,null,"NO","NO",0]
["Orleans","New Orleans",134,22071013400,"FALSE",0,0,71420211651,"Louisiana",152900,205000,1.3407455853499,true,null,46710,38721,0.82896596017983304,"",null,19.600000000000001,25.4,1.2959183673469401,"",1,0,0,1,null,"NO","NO",0]
["Orleans","New Orleans",134,22071013400,"FALSE",0,0,71420211652,"Louisiana",152900,205000,1.3407455853499,true,null,46710,38721,0.82896596017983304,"",null,19.600000000000001,25.4,1.2959183673469401,"",1,0,0,1,null,"NO","NO",0]
["Orleans","New Orleans",134,22071013400,"FALSE",0,0,71420211653,"Louisiana",152900,205000,1.3407455853499,true,null,46710,38721,0.82896596017983304,"",null,19.600000000000001,25.4,1.2959183673469401,"",1,0,0,1,null,"NO","NO",0]
["Orleans","New Orleans",134,22071013400,"FALSE",0,0,71420211654,"Louisiana",152900,205000,1.3407455853499,true,null,46710,38721,0.82896596017983304,"",null,19.600000000000001,25.4,1.2959183673469401,"",1,0,0,1,null,"NO","NO",0]
["Orleans","New Orleans",134,22071013400,"FALSE",0,0,71420211655,"Louisiana",152900,205000,1.3407455853499,true,null,46710,38721,0.82896596017983304,"",null,19.600000000000001,25.4,1.2959183673469401,"",1,0,0,1,null,"NO","NO",0]
["Orleans","New Orleans",135,22071013500,"FALSE",0,0,71420211656,"Louisiana",152900,205000,1.3407455853499,true,null,46710,38721,0.82896596017983304,"",null,19.600000000000001,25.4,1.2959183673469401,"",1,0,0,1,null,"NO","NO",0]
["Orleans","New Orleans",135,22071013500,"FALSE",0,0,71420211657,"Louisiana",152900,205000,1.3407455853499,true,null,46710,38721,0.82896596017983304,"",null,19.600000000000001,25.4,1.2959183673469401,"",1,0,0,1,null,"NO","NO",0]
["Orleans","New Orleans",135,22071013500,"FALSE",0,0,71420211658,"Louisiana",152900,205000,1.3407455853499,true,null,46710,38721,0.82896596017983304,"",null,19.600000000000001,25.4,1.2959183673469401,"",1,0,0,1,null,"NO","NO",0]
["Orleans","New Orleans",136,22071013600,"FALSE",0,0,71420211659,"Louisiana",152900,205000,1.3407455853499,true,null,46710,38721,0.82896596017983304,"",null,19.600000000000001,25.4,1.2959183673469401,"",1,0,0,1,null,"NO","NO",0]
["Orleans","New Orleans",137,22071013700,"TRUE",0,4,71420211660,"Louisiana",152900,205000,1.3407455853499,true,null,46710,38721,0.82896596017983304,"",null,19.600000000000001,25.4,1.2959183673469401,"",1,0,0,1,null,"NO","NO",4]
["Orleans","New Orleans",137,22071013700,"TRUE",0,4,71420211661,"Louisiana",152900,205000,1.3407455853499,true,null,46710,38721,0.82896596017983304,"",null,19.600000000000001,25.4,1.2959183673469401,"",1,0,0,1,null,"NO","NO",4]
["Orleans","New Orleans",138,22071013800,"TRUE",0,4,71420211662,"Louisiana",152900,205000,1.3407455853499,true,null,46710,38721,0.82896596017983304,"",null,19.600000000000001,25.4,1.2959183673469401,"",1,0,0,1,null,"NO","NO",4]
["Orleans","New Orleans",139,22071013900,"FALSE",0,0,71420211663,"Louisiana",152900,205000,1.3407455853499,true,null,46710,38721,0.82896596017983304,"",null,19.600000000000001,25.4,1.2959183673469401,"",1,0,0,1,null,"NO","NO",0]
["Orleans","New Orleans",139,22071013900,"FALSE",0,0,71420211664,"Louisiana",152900,205000,1.3407455853499,true,null,46710,38721,0.82896596017983304,"",null,19.600000000000001,25.4,1.2959183673469401,"",1,0,0,1,null,"NO","NO",0]
["Orleans","New Orleans",140,22071014000,"TRUE",0,4,71420211665,"Louisiana",152900,205000,1.3407455853499,true,null,46710,38721,0.82896596017983304,"",null,19.600000000000001,25.4,1.2959183673469401,"",1,0,0,1,null,"NO","NO",4]
["Orleans","New Orleans",140,22071014000,"TRUE",1,4,71420211666,"Louisiana",152900,205000,1.3407455853499,true,null,46710,38721,0.82896596017983304,"",null,19.600000000000001,25.4,1.2959183673469401,"",1,0,0,1,null,"NO","NO",4]
["Orleans","New Orleans",141,22071014100,"TRUE",0,{"$f":"IF(E1667=\"TRUE\",4,0)","v":4},71420211667,"Louisiana",152900,205000,1.3407455853499,{"$f":"IF(L1667>=50%,TRUE,\"\")","v":true},null,46710,38721,0.82896596017983304,{"$f":"IF(Q1667<=65%,TRUE,\"\")","v":""},null,19.600000000000001,25.4,1.2959183673469401,{"$f":"IF(V1667>=1.5,TRUE,\"\")","v":""},{"$f":"IF(M1667=TRUE,1,0)","v":1},{"$f":"IF(R1667=TRUE,1,0)","v":0},{"$f":"IF(W1667=TRUE,1,0)","v":0},{"$f":"SUM(X1667:Z1667)","v":1},null,{"$f":"IF(AND(E1667=\"TRUE\",AA1667>1),\"YES\",\"NO\")","v":"NO"},{"$f":"IF(AND(F1667=1,AA1667>1), \"YES\",\"NO\")","v":"NO"},{"$f":"+G1667+N1667+S1667+AB1667","v":4}]
["Orleans","New Orleans",142,22071014200,"FALSE",0,0,71420211668,"Louisiana",152900,205000,1.3407455853499,true,null,46710,38721,0.82896596017983304,"",null,19.600000000000001,25.4,1.2959183673469401,"",1,0,0,1,null,"NO","NO",0]
["Orleans","New Orleans",142,22071014200,"FALSE",0,0,71420211669,"Louisiana",152900,205000,1.3407455853499,true,null,46710,38721,0.82896596017983304,"",null,19.600000000000001,25.4,1.2959183673469401,"",1,0,0,1,null,"NO","NO",0]
["Orleans","New Orleans",143,22071014300,"TRUE",0,4,71420211670,"Louisiana",152900,205000,1.3407455853499,true,null,46710,38721,0.82896596017983304,"",null,19.600000000000001,25.4,1.2959183673469401,"",1,0,0,1,null,"NO","NO",4]
["Orleans","New Orleans",143,22071014300,"TRUE",0,4,71420211671,"Louisiana",152900,205000,1.3407455853499,true,null,46710,38721,0.82896596017983304,"",null,19.600000000000001,25.4,1.2959183673469401,"",1,0,0,1,null,"NO","NO",4]
["Orleans","New Orleans",143,22071014300,"TRUE",0,4,71420211672,"Louisiana",152900,205000,1.3407455853499,true,null,46710,38721,0.82896596017983304,"",null,19.600000000000001,25.4,1.2959183673469401,"",1,0,0,1,null,"NO","NO",4]
["Orleans","New Orleans",144,22071014400,"FALSE",0,0,71420211673,"Louisiana",152900,205000,1.3407455853499,true,null,46710,38721,0.82896596017983304,"",null,19.600000000000001,25.4,1.2959183673469401,"",1,0,0,1,null,"NO","NO",0]
["Orleans","New Orleans",144,22071014400,"FALSE",0,0,71420211674,"Louisiana",152900,205000,1.3407455853499,true,null,46710,38721,0.82896596017983304,"",null,19.600000000000001,25.4,1.2959183673469401,"",1,0,0,1,null,"NO","NO",0]
["Orleans","New Orleans",145,22071014500,"FALSE",0,0,71420211675,"Louisiana",152900,205000,1.3407455853499,true,null,46710,38721,0.82896596017983304,"",null,19.600000000000001,25.4,1.2959183673469401,"",1,0,0,1,null,"NO","NO",0]
["Orleans","New Orleans",9800,22071980000,"FALSE",0,0,71420211676,"Louisiana",152900,205000,1.3407455853499,true,null,46710,38721,0.82896596017983304,"",null,19.600000000000001,25.4,1.2959183673469401,"",1,0,0,1,null,"NO","NO",0]
["Orleans","New Orleans",9800,22071980000,"FALSE",0,0,71420211677,"Louisiana",152900,205000,1.3407455853499,true,null,46710,38721,0.82896596017983304,"",null,19.600000000000001,25.4,1.2959183673469401,"",1,0,0,1,null,"NO","NO",0]
["Orleans","New Orleans",9801,22071980100,"FALSE",0,0,71420211678,"Louisiana",152900,205000,1.3407455853499,true,null,46710,38721,0.82896596017983304,"",null,19.600000000000001,25.4,1.2959183673469401,"",1,0,0,1,null,"NO","NO",0]
["Orleans","New Orleans",9801,22071980100,"FALSE",0,0,71420211679,"Louisiana",152900,205000,1.3407455853499,true,null,46710,38721,0.82896596017983304,"",null,19.600000000000001,25.4,1.2959183673469401,"",1,0,0,1,null,"NO","NO",0]
["Orleans","New Orleans",503,22075050300,"FALSE",0,0,71420211680,"Louisiana",152900,205000,1.3407455853499,true,null,46710,38721,0.82896596017983304,"",null,19.600000000000001,25.4,1.2959183673469401,"",1,0,0,1,null,"NO","NO",0]
["Ouachita","Calhoun",9701,22049970100,"FALSE",0,0,71420211681,"Louisiana",152900,234500,1.5336821451929401,true,{"$f":"IF(M1681=TRUE,4,0)","v":4},46710,142361,3.04776279169343,"",{"$f":"IF(R1681=TRUE, 4,0)","v":0},19.600000000000001,11.3,0.57653061224489799,"",1,0,0,1,{"$f":"IF(W1681=TRUE, 4,0)","v":0},"NO","NO",4]
["Ouachita","Calhoun",52.01,22073005201,"FALSE",0,0,71420211682,"Louisiana",152900,234500,1.5336821451929401,true,{"$f":"IF(M1682=TRUE,4,0)","v":4},46710,142361,3.04776279169343,"",{"$f":"IF(R1682=TRUE, 4,0)","v":0},19.600000000000001,11.3,0.57653061224489799,"",1,0,0,1,{"$f":"IF(W1682=TRUE, 4,0)","v":0},"NO","NO",4]
["Ouachita","Calhoun",104,22073010400,"FALSE",0,0,71420211683,"Louisiana",152900,234500,1.5336821451929401,true,{"$f":"IF(M1683=TRUE,4,0)","v":4},46710,142361,3.04776279169343,"",{"$f":"IF(R1683=TRUE, 4,0)","v":0},19.600000000000001,11.3,0.57653061224489799,"",1,0,0,1,{"$f":"IF(W1683=TRUE, 4,0)","v":0},"NO","NO",4]
["Ouachita","Fairbanks",108,22073010800,"TRUE",1,4,71420211684,"Louisiana",152900,0,0,"",{"$f":"IF(M1684=TRUE,4,0)","v":0},46710,0,0,true,{"$f":"IF(R1684=TRUE, 4,0)","v":4},19.600000000000001,0,0,"",0,1,0,1,{"$f":"IF(W1684=TRUE, 4,0)","v":0},"NO","NO",8]
["Ouachita","Monroe",1,22073000100,"FALSE",0,0,71420211685,"Louisiana",152900,143200,0.936559843034663,true,null,46710,29014,0.62115178762577605,true,null,19.600000000000001,34.799999999999997,1.77551020408163,true,1,1,1,3,null,"NO","NO",0]
["Ouachita","Monroe",1,22073000100,"FALSE",0,0,71420211686,"Louisiana",152900,143200,0.936559843034663,true,null,46710,29014,0.62115178762577605,true,null,19.600000000000001,34.799999999999997,1.77551020408163,true,1,1,1,3,null,"NO","NO",0]
["Ouachita","Monroe",2,22073000200,"FALSE",0,0,71420211687,"Louisiana",152900,143200,0.936559843034663,true,null,46710,29014,0.62115178762577605,true,null,19.600000000000001,34.799999999999997,1.77551020408163,true,1,1,1,3,null,"NO","NO",0]
["Ouachita","Monroe",4.01,22073000401,"FALSE",0,0,71420211688,"Louisiana",152900,143200,0.936559843034663,true,null,46710,29014,0.62115178762577605,true,null,19.600000000000001,34.799999999999997,1.77551020408163,true,1,1,1,3,null,"NO","NO",0]
["Ouachita","Monroe",4.0199999999999996,22073000402,"FALSE",0,0,71420211689,"Louisiana",152900,143200,0.936559843034663,true,null,46710,29014,0.62115178762577605,true,null,19.600000000000001,34.799999999999997,1.77551020408163,true,1,1,1,3,null,"NO","NO",0]
["Ouachita","Monroe",4.0199999999999996,22073000402,"FALSE",0,0,71420211690,"Louisiana",152900,143200,0.936559843034663,true,null,46710,29014,0.62115178762577605,true,null,19.600000000000001,34.799999999999997,1.77551020408163,true,1,1,1,3,null,"NO","NO",0]
["Ouachita","Monroe",4.0199999999999996,22073000402,"FALSE",0,0,71420211691,"Louisiana",152900,143200,0.936559843034663,true,null,46710,29014,0.62115178762577605,true,null,19.600000000000001,34.799999999999997,1.77551020408163,true,1,1,1,3,null,"NO","NO",0]
["Ouachita","Monroe",5,22073000500,"FALSE",0,0,71420211692,"Louisiana",152900,143200,0.936559843034663,true,null,46710,29014,0.62115178762577605,true,null,19.600000000000001,34.799999999999997,1.77551020408163,true,1,1,1,3,null,"NO","NO",0]
["Ouachita","Monroe",6,22073000600,"TRUE",1,4,71420211693,"Louisiana",152900,143200,0.936559843034663,true,null,46710,29014,0.62115178762577605,true,null,19.600000000000001,34.799999999999997,1.77551020408163,true,1,1,1,3,null,"No","No",4]
["Ouachita","Monroe",7,22073000700,"TRUE",1,4,71420211694,"Louisiana",152900,143200,0.936559843034663,true,null,46710,29014,0.62115178762577605,true,null,19.600000000000001,34.799999999999997,1.77551020408163,true,1,1,1,3,null,"No","No",4]
["Ouachita","Monroe",7,22073000700,"TRUE",1,4,71420211695,"Louisiana",152900,143200,0.936559843034663,true,null,46710,29014,0.62115178762577605,true,null,19.600000000000001,34.799999999999997,1.77551020408163,true,1,1,1,3,null,"No","No",4]
["Ouachita","Monroe",9,22073000900,"TRUE",1,4,71420211696,"Louisiana",152900,143200,0.936559843034663,true,null,46710,29014,0.62115178762577605,true,null,19.600000000000001,34.799999999999997,1.77551020408163,true,1,1,1,3,null,"No","No",4]
["Ouachita","Monroe",9,22073000900,"TRUE",1,4,71420211697,"Louisiana",152900,143200,0.936559843034663,true,null,46710,29014,0.62115178762577605,true,null,19.600000000000001,34.799999999999997,1.77551020408163,true,1,1,1,3,null,"No","No",4]
["Ouachita","Monroe",11,22073001100,"TRUE",1,4,71420211698,"Louisiana",152900,143200,0.936559843034663,true,null,46710,29014,0.62115178762577605,true,null,19.600000000000001,34.799999999999997,1.77551020408163,true,1,1,1,3,null,"No","No",4]
["Ouachita","Monroe",14,22073001400,"TRUE",1,4,71420211699,"Louisiana",152900,143200,0.936559843034663,true,null,46710,29014,0.62115178762577605,true,null,19.600000000000001,34.799999999999997,1.77551020408163,true,1,1,1,3,null,"No","No",4]
["Ouachita","Monroe",14,22073001400,"TRUE",1,4,71420211700,"Louisiana",152900,143200,0.936559843034663,true,null,46710,29014,0.62115178762577605,true,null,19.600000000000001,34.799999999999997,1.77551020408163,true,1,1,1,3,null,"No","No",4]
["Ouachita","Monroe",15,22073001500,"TRUE",1,4,71420211701,"Louisiana",152900,143200,0.936559843034663,true,null,46710,29014,0.62115178762577605,true,null,19.600000000000001,34.799999999999997,1.77551020408163,true,1,1,1,3,null,"No","No",4]
["Ouachita","Monroe",17,22073001700,"FALSE",0,0,71420211702,"Louisiana",152900,143200,0.936559843034663,true,null,46710,29014,0.62115178762577605,true,null,19.600000000000001,34.799999999999997,1.77551020408163,true,1,1,1,3,null,{"$f":"IF(AND(E1702=\"TRUE\",AA1702>1),\"YES\",\"NO\")","v":"NO"},{"$f":"IF(AND(F1702=1,AA1702>1), \"YES\",\"NO\")","v":"NO"},0]
["Ouachita","Monroe",17,22073001700,"FALSE",0,0,71420211703,"Louisiana",152900,143200,0.936559843034663,true,null,46710,29014,0.62115178762577605,true,null,19.600000000000001,34.799999999999997,1.77551020408163,true,1,1,1,3,null,"NO","NO",0]
["Ouachita","Monroe",101.01,22073010101,"FALSE",0,0,71420211704,"Louisiana",152900,143200,0.936559843034663,true,null,46710,29014,0.62115178762577605,true,null,19.600000000000001,34.799999999999997,1.77551020408163,true,1,1,1,3,null,"NO","NO",0]
["Ouachita","Monroe",101.02,22073010102,"FALSE",0,0,71420211705,"Louisiana",152900,143200,0.936559843034663,true,null,46710,29014,0.62115178762577605,true,null,19.600000000000001,34.799999999999997,1.77551020408163,true,1,1,1,3,null,"NO","NO",0]
["Ouachita","Monroe",102.01,22073010201,"FALSE",0,0,71420211706,"Louisiana",152900,143200,0.936559843034663,true,null,46710,29014,0.62115178762577605,true,null,19.600000000000001,34.799999999999997,1.77551020408163,true,1,1,1,3,null,"NO","NO",0]
["Ouachita","Monroe",102.02,22073010202,"FALSE",0,0,71420211707,"Louisiana",152900,143200,0.936559843034663,true,null,46710,29014,0.62115178762577605,true,null,19.600000000000001,34.799999999999997,1.77551020408163,true,1,1,1,3,null,"NO","NO",0]
["Ouachita","Monroe",103.01,22073010301,"FALSE",0,0,71420211708,"Louisiana",152900,143200,0.936559843034663,true,null,46710,29014,0.62115178762577605,true,null,19.600000000000001,34.799999999999997,1.77551020408163,true,1,1,1,3,null,"NO","NO",0]
["Ouachita","Monroe",103.01,22073010301,"FALSE",0,0,71420211709,"Louisiana",152900,143200,0.936559843034663,true,null,46710,29014,0.62115178762577605,true,null,19.600000000000001,34.799999999999997,1.77551020408163,true,1,1,1,3,null,"NO","NO",0]
["Ouachita","Monroe",103.02,22073010302,"FALSE",0,0,71420211710,"Louisiana",152900,143200,0.936559843034663,true,null,46710,29014,0.62115178762577605,true,null,19.600000000000001,34.799999999999997,1.77551020408163,true,1,1,1,3,null,"NO","NO",0]
["Ouachita","Monroe",103.02,22073010302,"FALSE",0,0,71420211711,"Louisiana",152900,143200,0.936559843034663,true,null,46710,29014,0.62115178762577605,true,null,19.600000000000001,34.799999999999997,1.77551020408163,true,1,1,1,3,null,"NO","NO",0]
["Ouachita","Monroe",106.03,22073010603,"FALSE",0,0,71420211712,"Louisiana",152900,143200,0.936559843034663,true,null,46710,29014,0.62115178762577605,true,null,19.600000000000001,34.799999999999997,1.77551020408163,true,1,1,1,3,null,"NO","NO",0]
["Ouachita","Monroe",106.03,22073010603,"FALSE",0,0,71420211713,"Louisiana",152900,143200,0.936559843034663,true,null,46710,29014,0.62115178762577605,true,null,19.600000000000001,34.799999999999997,1.77551020408163,true,1,1,1,3,null,"NO","NO",0]
["Ouachita","Monroe",106.04,22073010604,"FALSE",0,0,71420211714,"Louisiana",152900,143200,0.936559843034663,true,null,46710,29014,0.62115178762577605,true,null,19.600000000000001,34.799999999999997,1.77551020408163,true,1,1,1,3,null,"NO","NO",0]
["Ouachita","Monroe",107,22073010700,"TRUE",1,4,71420211715,"Louisiana",152900,143200,0.936559843034663,true,null,46710,29014,0.62115178762577605,true,null,19.600000000000001,34.799999999999997,1.77551020408163,true,1,1,1,3,null,"No","No",4]
["Ouachita","Monroe",108,22073010800,"TRUE",1,4,71420211716,"Louisiana",152900,143200,0.936559843034663,true,null,46710,29014,0.62115178762577605,true,null,19.600000000000001,34.799999999999997,1.77551020408163,true,1,1,1,3,null,"No","No",4]
["Ouachita","Monroe",108,22073010800,"TRUE",1,4,71420211717,"Louisiana",152900,143200,0.936559843034663,true,null,46710,29014,0.62115178762577605,true,null,19.600000000000001,34.799999999999997,1.77551020408163,true,1,1,1,3,null,"No","No",4]
["Ouachita","Monroe",108,22073010800,"TRUE",1,4,71420211718,"Louisiana",152900,143200,0.936559843034663,true,null,46710,29014,0.62115178762577605,true,null,19.600000000000001,34.799999999999997,1.77551020408163,true,1,1,1,3,null,"No","No",4]
["Ouachita","Monroe",108,22073010800,"TRUE",1,4,71420211719,"Louisiana",152900,143200,0.936559843034663,true,null,46710,29014,0.62115178762577605,true,null,19.600000000000001,34.799999999999997,1.77551020408163,true,1,1,1,3,null,"No","No",4]
["Ouachita","Monroe",108,22073010800,"TRUE",1,4,71420211720,"Louisiana",152900,143200,0.936559843034663,true,null,46710,29014,0.62115178762577605,true,null,19.600000000000001,34.799999999999997,1.77551020408163,true,1,1,1,3,null,"No","No",4]
["Ouachita","Monroe",109,22073010900,"FALSE",0,0,71420211721,"Louisiana",152900,143200,0.936559843034663,true,null,46710,29014,0.62115178762577605,true,null,19.600000000000001,34.799999999999997,1.77551020408163,true,1,1,1,3,null,{"$f":"IF(AND(E1721=\"TRUE\",AA1721>1),\"YES\",\"NO\")","v":"NO"},{"$f":"IF(AND(F1721=1,AA1721>1), \"YES\",\"NO\")","v":"NO"},0]
["Ouachita","Monroe",109,22073010900,"FALSE",0,0,71420211722,"Louisiana",152900,143200,0.936559843034663,true,null,46710,29014,0.62115178762577605,true,null,19.600000000000001,34.799999999999997,1.77551020408163,true,1,1,1,3,null,{"$f":"IF(AND(E1722=\"TRUE\",AA1722>1),\"YES\",\"NO\")","v":"NO"},{"$f":"IF(AND(F1722=1,AA1722>1), \"YES\",\"NO\")","v":"NO"},0]
["Ouachita","Monroe",110,22073011000,"TRUE",1,4,71420211723,"Louisiana",152900,143200,0.936559843034663,true,null,46710,29014,0.62115178762577605,true,null,19.600000000000001,34.799999999999997,1.77551020408163,true,1,1,1,3,null,"No","No",4]
["Ouachita","Monroe",9800,22073980000,"FALSE",0,0,71420211724,"Louisiana",152900,143200,0.936559843034663,true,null,46710,29014,0.62115178762577605,true,null,19.600000000000001,34.799999999999997,1.77551020408163,true,1,1,1,3,null,{"$f":"IF(AND(E1724=\"TRUE\",AA1724>1),\"YES\",\"NO\")","v":"NO"},{"$f":"IF(AND(F1724=1,AA1724>1), \"YES\",\"NO\")","v":"NO"},0]
["Ouachita","Sterlington",9503,22067950300,"FALSE",0,0,71420211725,"Louisiana",152900,106500,0.69653368214519296,true,{"$f":"IF(M1725=TRUE,4,0)","v":4},46710,40259,0.86189252836651697,"",{"$f":"IF(R1725=TRUE, 4,0)","v":0},19.600000000000001,26.7,1.3622448979591799,"",1,0,0,1,{"$f":"IF(W1725=TRUE, 4,0)","v":0},"NO","NO",4]
["Ouachita","Sterlington",102.02,22073010202,"FALSE",0,0,71420211726,"Louisiana",152900,106500,0.69653368214519296,true,4,46710,40259,0.86189252836651697,"",0,19.600000000000001,26.7,1.3622448979591799,"",1,0,0,1,0,"NO","NO",4]
["Ouachita","Sterlington",103.02,22073010302,"FALSE",0,0,71420211727,"Louisiana",152900,106500,0.69653368214519296,true,4,46710,40259,0.86189252836651697,"",0,19.600000000000001,26.7,1.3622448979591799,"",1,0,0,1,0,"NO","NO",4]
["Ouachita","Sterlington",9605,22111960500,"FALSE",0,0,71420211728,"Louisiana",152900,106500,0.69653368214519296,true,4,46710,40259,0.86189252836651697,"",0,19.600000000000001,26.7,1.3622448979591799,"",1,0,0,1,0,"NO","NO",4]
["Ouachita","Swartz",108,22073010800,"TRUE",1,4,71420211729,"Louisiana",152900,132900,0.86919555264879,true,4,46710,42083,0.900941982444873,"",0,19.600000000000001,19,0.969387755102041,"",1,0,0,1,0,"NO","NO",8]
["Ouachita","West Monroe",51,22073005100,"FALSE",0,0,71420211730,"Louisiana",152900,122800,0.80313930673642897,true,4,46710,32182,0.68897452365660505,"",0,19.600000000000001,28.5,1.4540816326530599,"",1,0,0,1,0,"NO","NO",4]
["Ouachita","West Monroe",52.01,22073005201,"FALSE",0,{"$f":"IF(E1731=\"TRUE\",4,0)","v":0},71420211731,"Louisiana",152900,122800,0.80313930673642897,{"$f":"IF(L1731>=50%,TRUE,\"\")","v":true},4,46710,32182,0.68897452365660505,{"$f":"IF(Q1731<=65%,TRUE,\"\")","v":""},0,19.600000000000001,28.5,1.4540816326530599,{"$f":"IF(V1731>=1.5,TRUE,\"\")","v":""},{"$f":"IF(M1731=TRUE,1,0)","v":1},{"$f":"IF(R1731=TRUE,1,0)","v":0},{"$f":"IF(W1731=TRUE,1,0)","v":0},{"$f":"SUM(X1731:Z1731)","v":1},0,"NO","NO",{"$f":"+G1731+N1731+S1731+AB1731","v":4}]
["Ouachita","West Monroe",52.03,22073005203,"FALSE",0,0,71420211732,"Louisiana",152900,122800,0.80313930673642897,true,4,46710,32182,0.68897452365660505,"",0,19.600000000000001,28.5,1.4540816326530599,"",1,0,0,1,0,"NO","NO",4]
["Ouachita","West Monroe",52.04,22073005204,"FALSE",0,0,71420211733,"Louisiana",152900,122800,0.80313930673642897,true,4,46710,32182,0.68897452365660505,"",0,19.600000000000001,28.5,1.4540816326530599,"",1,0,0,1,0,"NO","NO",4]
["Ouachita","West Monroe",53.01,22073005301,"FALSE",0,0,71420211734,"Louisiana",152900,122800,0.80313930673642897,true,4,46710,32182,0.68897452365660505,"",0,19.600000000000001,28.5,1.4540816326530599,"",1,0,0,1,0,"NO","NO",4]
["Ouachita","West Monroe",53.01,22073005301,"FALSE",0,0,71420211735,"Louisiana",152900,122800,0.80313930673642897,true,4,46710,32182,0.68897452365660505,"",0,19.600000000000001,28.5,1.4540816326530599,"",1,0,0,1,0,"NO","NO",4]
["Ouachita","West Monroe",53.02,22073005302,"FALSE",0,0,71420211736,"Louisiana",152900,122800,0.80313930673642897,true,4,46710,32182,0.68897452365660505,"",0,19.600000000000001,28.5,1.4540816326530599,"",1,0,0,1,0,"NO","NO",4]
["Ouachita","West Monroe",54,22073005400,"FALSE",0,0,71420211737,"Louisiana",152900,122800,0.80313930673642897,true,4,46710,32182,0.68897452365660505,"",0,19.600000000000001,28.5,1.4540816326530599,"",1,0,0,1,0,"NO","NO",4]
["Ouachita","West Monroe",55,22073005500,"FALSE",0,0,71420211738,"Louisiana",152900,122800,0.80313930673642897,true,4,46710,32182,0.68897452365660505,"",0,19.600000000000001,28.5,1.4540816326530599,"",1,0,0,1,0,"NO","NO",4]
["Ouachita","West Monroe",58,22073005800,"FALSE",0,0,71420211739,"Louisiana",152900,122800,0.80313930673642897,true,4,46710,32182,0.68897452365660505,"",0,19.600000000000001,28.5,1.4540816326530599,"",1,0,0,1,0,"NO","NO",4]
["Ouachita","West Monroe",59,22073005900,"TRUE",1,4,71420211740,"Louisiana",152900,122800,0.80313930673642897,true,4,46710,32182,0.68897452365660505,"",0,19.600000000000001,28.5,1.4540816326530599,"",1,0,0,1,0,"NO","NO",8]
["Ouachita","West Monroe",104,22073010400,"FALSE",0,0,71420211741,"Louisiana",152900,122800,0.80313930673642897,true,4,46710,32182,0.68897452365660505,"",0,19.600000000000001,28.5,1.4540816326530599,"",1,0,0,1,0,"NO","NO",4]
["Ouachita","West Monroe",104,22073010400,"FALSE",0,0,71420211742,"Louisiana",152900,122800,0.80313930673642897,true,4,46710,32182,0.68897452365660505,"",0,19.600000000000001,28.5,1.4540816326530599,"",1,0,0,1,0,"NO","NO",4]
["Ouachita","West Monroe",105.02,22073010502,"FALSE",0,0,71420211743,"Louisiana",152900,122800,0.80313930673642897,true,4,46710,32182,0.68897452365660505,"",0,19.600000000000001,28.5,1.4540816326530599,"",1,0,0,1,0,"NO","NO",4]
["Ouachita","West Monroe",105.02,22073010502,"FALSE",0,0,71420211744,"Louisiana",152900,122800,0.80313930673642897,true,4,46710,32182,0.68897452365660505,"",0,19.600000000000001,28.5,1.4540816326530599,"",1,0,0,1,0,"NO","NO",4]
["Ouachita","West Monroe",105.03,22073010503,"FALSE",0,0,71420211745,"Louisiana",152900,122800,0.80313930673642897,true,4,46710,32182,0.68897452365660505,"",0,19.600000000000001,28.5,1.4540816326530599,"",1,0,0,1,0,"NO","NO",4]
["Ouachita","West Monroe",105.04,22073010504,"FALSE",0,0,71420211746,"Louisiana",152900,122800,0.80313930673642897,true,4,46710,32182,0.68897452365660505,"",0,19.600000000000001,28.5,1.4540816326530599,"",1,0,0,1,0,"NO","NO",4]
["Ouachita","West Monroe",105.04,22073010504,"FALSE",0,0,71420211747,"Louisiana",152900,122800,0.80313930673642897,true,4,46710,32182,0.68897452365660505,"",0,19.600000000000001,28.5,1.4540816326530599,"",1,0,0,1,0,"NO","NO",4]
["Ouachita","West Monroe",111,22073011100,"TRUE",1,4,71420211748,"Louisiana",152900,122800,0.80313930673642897,true,4,46710,32182,0.68897452365660505,"",0,19.600000000000001,28.5,1.4540816326530599,"",1,0,0,1,0,"NO","NO",8]
["Ouachita","West Monroe",111,22073011100,"TRUE",1,4,71420211749,"Louisiana",152900,122800,0.80313930673642897,true,4,46710,32182,0.68897452365660505,"",0,19.600000000000001,28.5,1.4540816326530599,"",1,0,0,1,0,"NO","NO",8]
["Ouachita","West Monroe",111,22073011100,"TRUE",1,4,71420211750,"Louisiana",152900,122800,0.80313930673642897,true,4,46710,32182,0.68897452365660505,"",0,19.600000000000001,28.5,1.4540816326530599,"",1,0,0,1,0,"NO","NO",8]
["Plaquemines","Belle Chasse",502,22075050200,"FALSE",0,0,71420211751,"Louisiana",152900,257200,1.6821451929365601,true,4,46710,57831,1.23808606294155,"",0,19.600000000000001,12,0.61224489795918402,"",1,0,0,1,0,"NO","NO",4]
["Plaquemines","Belle Chasse",503,22075050300,"FALSE",0,0,71420211752,"Louisiana",152900,257200,1.6821451929365601,true,4,46710,57831,1.23808606294155,"",0,19.600000000000001,12,0.61224489795918402,"",1,0,0,1,0,"NO","NO",4]
["Plaquemines","Belle Chasse",504,22075050400,"FALSE",0,0,71420211753,"Louisiana",152900,257200,1.6821451929365601,true,4,46710,57831,1.23808606294155,"",0,19.600000000000001,12,0.61224489795918402,"",1,0,0,1,0,"NO","NO",4]
["Plaquemines","Braithwaite",501,22075050100,"FALSE",0,0,71420211754,"Louisiana",152900,0,0,"",0,46710,0,0,true,4,19.600000000000001,0,0,"",0,1,0,1,0,"NO","NO",4]
["Plaquemines","Braithwaite",301.02999999999997,22087030103,"FALSE",0,0,71420211755,"Louisiana",152900,0,0,"",0,46710,0,0,true,4,19.600000000000001,0,0,"",0,1,0,1,0,"NO","NO",4]
["Plaquemines","Buras",506,22075050600,"FALSE",0,0,71420211756,"Louisiana",152900,65000,0.42511445389143199,"",0,46710,50182,1.0743309783772199,"",0,19.600000000000001,13.6,0.69387755102040805,"",0,0,0,0,0,"NO","NO",0]
["Plaquemines","Buras",507,22075050700,"FALSE",0,0,71420211757,"Louisiana",152900,65000,0.42511445389143199,"",{"$f":"IF(M1757=TRUE,4,0)","v":0},46710,50182,1.0743309783772199,"",{"$f":"IF(R1757=TRUE, 4,0)","v":0},19.600000000000001,13.6,0.69387755102040805,"",0,0,0,0,{"$f":"IF(W1757=TRUE, 4,0)","v":0},"NO","NO",0]
["Plaquemines","Buras",508,22075050800,"TRUE",1,4,71420211758,"Louisiana",152900,65000,0.42511445389143199,"",0,46710,50182,1.0743309783772199,"",0,19.600000000000001,13.6,0.69387755102040805,"",0,0,0,0,0,"NO","NO",4]
["Plaquemines","Empire",506,22075050600,"FALSE",0,0,71420211759,"Louisiana",152900,59500,0.38914323086984998,"",0,46710,26897,0.57582958681224605,true,4,19.600000000000001,31.7,1.6173469387755099,true,0,1,1,2,4,"NO","NO",8]
["Plaquemines","Pointe a la Hache",501,22075050100,"FALSE",0,0,71420211760,"Louisiana",152900,75500,0.493786788750818,"",0,46710,null,null,true,4,19.600000000000001,50.6,2.5816326530612201,true,0,1,1,2,4,"NO","NO",8]
["Plaquemines","Port Sulphur",504,22075050400,"FALSE",0,0,71420211761,"Louisiana",152900,58400,0.38194898626553297,"",0,46710,32813,0.70248340826375499,"",0,19.600000000000001,50.5,2.5765306122449001,true,0,0,1,1,4,"NO","NO",4]
["Plaquemines","Port Sulphur",505,22075050500,"TRUE",1,4,71420211762,"Louisiana",152900,58400,0.38194898626553297,"",0,46710,32813,0.70248340826375499,"",0,19.600000000000001,50.5,2.5765306122449001,true,0,0,1,1,4,"NO","NO",8]
["Plaquemines","Port Sulphur",506,22075050600,"FALSE",0,0,71420211763,"Louisiana",152900,58400,0.38194898626553297,"",0,46710,32813,0.70248340826375499,"",0,19.600000000000001,50.5,2.5765306122449001,true,0,0,1,1,4,"NO","NO",4]
["Plaquemines","Venice",508,22075050800,"TRUE",1,4,71420211764,"Louisiana",152900,83900,0.54872465663832604,true,4,46710,52054,1.1144080496681701,"",0,19.600000000000001,18.600000000000001,0.94897959183673497,"",1,0,0,1,0,"NO","NO",8]
["Pointe Coupee","Batchelor",9520,22077952000,"FALSE",0,0,71420211765,"Louisiana",152900,0,0,"",0,46710,0,0,true,4,19.600000000000001,0,0,"",0,1,0,1,0,"NO","NO",4]
["Pointe Coupee","Fordoche",9521,22077952100,"FALSE",0,0,71420211766,"Louisiana",152900,92800,0.60693263570961398,true,4,46710,45347,0.97081995290087797,"",0,19.600000000000001,17.100000000000001,0.87244897959183698,"",1,0,0,1,0,"NO","NO",4]
["Pointe Coupee","Fordoche",9524,22077952400,"FALSE",0,0,71420211767,"Louisiana",152900,92800,0.60693263570961398,true,4,46710,45347,0.97081995290087797,"",0,19.600000000000001,17.100000000000001,0.87244897959183698,"",1,0,0,1,0,"NO","NO",4]
["Pointe Coupee","Glynn",9521,22077952100,"FALSE",0,0,71420211768,"Louisiana",152900,0,0,"",0,46710,0,0,true,4,19.600000000000001,0,0,"",0,1,0,1,0,"NO","NO",4]
["Pointe Coupee","Glynn",9522,22077952200,"FALSE",0,0,71420211769,"Louisiana",152900,0,0,"",0,46710,0,0,true,4,19.600000000000001,0,0,"",0,1,0,1,0,"NO","NO",4]
["Pointe Coupee","Glynn",203,22121020300,"FALSE",0,0,71420211770,"Louisiana",152900,0,0,"",0,46710,0,0,true,4,19.600000000000001,0,0,"",0,1,0,1,0,"NO","NO",4]
["Pointe Coupee","Innis",9520,22077952000,"FALSE",0,0,71420211771,"Louisiana",152900,0,0,"",0,46710,0,0,true,4,19.600000000000001,0,0,"",0,1,0,1,0,"NO","NO",4]
["Pointe Coupee","Jarreau",9522,22077952200,"FALSE",0,0,71420211772,"Louisiana",152900,0,0,"",0,46710,0,0,true,4,19.600000000000001,0,0,"",0,1,0,1,0,"NO","NO",4]
["Pointe Coupee","Lakeland",9521,22077952100,"FALSE",0,0,71420211773,"Louisiana",152900,0,0,"",0,46710,0,0,true,4,19.600000000000001,0,0,"",0,1,0,1,0,"NO","NO",4]
["Pointe Coupee","Lettsworth",9520,22077952000,"FALSE",0,0,71420211774,"Louisiana",152900,0,0,"",0,46710,0,0,true,4,19.600000000000001,0,0,"",0,1,0,1,0,"NO","NO",4]
["Pointe Coupee","Livonia",9521,22077952100,"FALSE",0,0,71420211775,"Louisiana",152900,132200,0.86461739699149798,true,4,46710,63651,1.36268464996789,"",0,19.600000000000001,15.3,0.780612244897959,"",1,0,0,1,0,"NO","NO",4]
["Pointe Coupee","Livonia",9524,22077952400,"FALSE",0,0,71420211776,"Louisiana",152900,132200,0.86461739699149798,true,4,46710,63651,1.36268464996789,"",0,19.600000000000001,15.3,0.780612244897959,"",1,0,0,1,0,"NO","NO",4]
["Pointe Coupee","Lottie",9524,22077952400,"TRUE",1,4,71420211777,"Louisiana",152900,0,0,"",0,46710,0,0,true,4,19.600000000000001,0,0,"",0,1,0,1,0,"NO","NO",8]
["Pointe Coupee","Morganza",9519,22077951900,"TRUE",1,4,71420211778,"Louisiana",152900,106300,0.695225637671681,true,4,46710,42898,0.91839006636694498,"",0,19.600000000000001,27.6,1.40816326530612,"",1,0,0,1,0,"NO","NO",8]
["Pointe Coupee","Morganza",9521,22077952100,"TRUE",1,4,71420211779,"Louisiana",152900,106300,0.695225637671681,true,4,46710,42898,0.91839006636694498,"",0,19.600000000000001,27.6,1.40816326530612,"",1,0,0,1,0,"NO","NO",8]
["Pointe Coupee","New Roads",9519,22077951900,"TRUE",1,4,71420211780,"Louisiana",152900,158300,1.0353172007848299,true,4,46710,35117,0.75180903446799396,"",0,19.600000000000001,17.7,0.90306122448979598,"",1,0,0,1,0,"NO","NO",8]
["Pointe Coupee","New Roads",9521,22077952100,"FALSE",0,0,71420211781,"Louisiana",152900,158300,1.0353172007848299,true,4,46710,35117,0.75180903446799396,"",0,19.600000000000001,17.7,0.90306122448979598,"",1,0,0,1,0,"NO","NO",4]
["Pointe Coupee","New Roads",9522,22077952200,"TRUE",1,4,71420211782,"Louisiana",152900,158300,1.0353172007848299,true,4,46710,35117,0.75180903446799396,"",0,19.600000000000001,17.7,0.90306122448979598,"",1,0,0,1,0,"NO","NO",8]
["Pointe Coupee","New Roads",9523,22077952300,"FALSE",0,0,71420211783,"Louisiana",152900,158300,1.0353172007848299,true,4,46710,35117,0.75180903446799396,"",0,19.600000000000001,17.7,0.90306122448979598,"",1,0,0,1,0,"NO","NO",4]
["Pointe Coupee","Oscar",9521,22077952100,"FALSE",0,0,71420211784,"Louisiana",152900,0,0,"",0,46710,0,0,true,4,19.600000000000001,0,0,"",0,1,0,1,0,"NO","NO",4]
["Pointe Coupee","Oscar",9522,22077952200,"FALSE",0,0,71420211785,"Louisiana",152900,0,0,"",0,46710,0,0,true,4,19.600000000000001,0,0,"",0,1,0,1,0,"NO","NO",4]
["Pointe Coupee","Oscar",9524,22077952400,"TRUE",1,4,71420211786,"Louisiana",152900,0,0,"",0,46710,0,0,true,4,19.600000000000001,0,0,"",0,1,0,1,0,"NO","NO",8]
["Pointe Coupee","Rougon",9521,22077952100,"TRUE",1,4,71420211787,"Louisiana",152900,0,0,"",0,46710,0,0,true,4,19.600000000000001,0,0,"",0,1,0,1,0,"NO","NO",8]
["Pointe Coupee","Rougon",9522,22077952200,"TRUE",1,4,71420211788,"Louisiana",152900,0,0,"",0,46710,0,0,true,4,19.600000000000001,0,0,"",0,1,0,1,0,{"$f":"IF(AND(E1788=\"TRUE\",AA1788>1),\"YES\",\"NO\")","v":"NO"},{"$f":"IF(AND(F1788=1,AA1788>1), \"YES\",\"NO\")","v":"NO"},8]
["Pointe Coupee","Rougon",203,22121020300,"TRUE",1,4,71420211789,"Louisiana",152900,0,0,"",{"$f":"IF(M1789=TRUE,4,0)","v":0},46710,0,0,true,{"$f":"IF(R1789=TRUE, 4,0)","v":4},19.600000000000001,0,0,"",0,1,0,1,0,"NO","NO",8]
["Pointe Coupee","Ventress",9519,22077951900,"FALSE",0,0,71420211790,"Louisiana",152900,119200,0.77959450621321102,true,4,46710,34479,0.73815028901734103,"",0,19.600000000000001,21.2,1.0816326530612199,"",1,0,0,1,0,"NO","NO",4]
["Pointe Coupee","Ventress",9522,22077952200,"FALSE",0,0,71420211791,"Louisiana",152900,119200,0.77959450621321102,true,4,46710,34479,0.73815028901734103,"",0,19.600000000000001,21.2,1.0816326530612199,"",1,0,0,1,0,"NO","NO",4]
["Rapides","Alexandria",105,22079010500,"TRUE",0,4,71420211792,"Louisiana",152900,137900,0.901896664486593,true,null,46710,36997,0.79205737529436904,"",null,19.600000000000001,22.1,1.12755102040816,"",1,0,0,1,null,"NO","NO",4]
["Rapides","Alexandria",105,22079010500,"TRUE",1,4,71420211793,"Louisiana",152900,137900,0.901896664486593,true,null,46710,36997,0.79205737529436904,"",null,19.600000000000001,22.1,1.12755102040816,"",1,0,0,1,null,"NO","NO",4]
["Rapides","Alexandria",107,22079010700,"FALSE",0,0,71420211794,"Louisiana",152900,137900,0.901896664486593,true,null,46710,36997,0.79205737529436904,"",null,19.600000000000001,22.1,1.12755102040816,"",1,0,0,1,null,"NO","NO",0]
["Rapides","Alexandria",110,22079011000,"TRUE",0,{"$f":"IF(E1795=\"TRUE\",4,0)","v":4},71420211795,"Louisiana",152900,137900,0.901896664486593,{"$f":"IF(L1795>=50%,TRUE,\"\")","v":true},null,46710,36997,0.79205737529436904,{"$f":"IF(Q1795<=65%,TRUE,\"\")","v":""},null,19.600000000000001,22.1,1.12755102040816,{"$f":"IF(V1795>=1.5,TRUE,\"\")","v":""},{"$f":"IF(M1795=TRUE,1,0)","v":1},{"$f":"IF(R1795=TRUE,1,0)","v":0},{"$f":"IF(W1795=TRUE,1,0)","v":0},{"$f":"SUM(X1795:Z1795)","v":1},null,"NO","NO",{"$f":"+G1795+N1795+S1795+AB1795","v":4}]
["Rapides","Alexandria",110,22079011000,"TRUE",1,4,71420211796,"Louisiana",152900,137900,0.901896664486593,true,null,46710,36997,0.79205737529436904,"",null,19.600000000000001,22.1,1.12755102040816,"",1,0,0,1,null,"NO","NO",4]
["Rapides","Alexandria",120,22079012000,"TRUE",1,4,71420211797,"Louisiana",152900,137900,0.901896664486593,true,null,46710,36997,0.79205737529436904,"",null,19.600000000000001,22.1,1.12755102040816,"",1,0,0,1,null,"NO","NO",4]
["Rapides","Alexandria",120,22079012000,"TRUE",1,4,71420211798,"Louisiana",152900,137900,0.901896664486593,true,null,46710,36997,0.79205737529436904,"",null,19.600000000000001,22.1,1.12755102040816,"",1,0,0,1,null,"NO","NO",4]
["Rapides","Alexandria",121,22079012100,"TRUE",1,4,71420211799,"Louisiana",152900,137900,0.901896664486593,true,null,46710,36997,0.79205737529436904,"",null,19.600000000000001,22.1,1.12755102040816,"",1,0,0,1,null,"NO","NO",4]
["Rapides","Alexandria",122,22079012200,"TRUE",1,4,71420211800,"Louisiana",152900,137900,0.901896664486593,true,null,46710,36997,0.79205737529436904,"",null,19.600000000000001,22.1,1.12755102040816,"",1,0,0,1,null,"NO","NO",4]
["Rapides","Alexandria",122,22079012200,"TRUE",1,4,71420211801,"Louisiana",152900,137900,0.901896664486593,true,null,46710,36997,0.79205737529436904,"",null,19.600000000000001,22.1,1.12755102040816,"",1,0,0,1,null,"NO","NO",4]
["Rapides","Alexandria",123.01,22079012301,"FALSE",0,0,71420211802,"Louisiana",152900,137900,0.901896664486593,true,null,46710,36997,0.79205737529436904,"",null,19.600000000000001,22.1,1.12755102040816,"",1,0,0,1,null,"NO","NO",0]
["Rapides","Alexandria",123.02,22079012302,"FALSE",0,0,71420211803,"Louisiana",152900,137900,0.901896664486593,true,null,46710,36997,0.79205737529436904,"",null,19.600000000000001,22.1,1.12755102040816,"",1,0,0,1,null,"NO","NO",0]
["Rapides","Alexandria",123.02,22079012302,"FALSE",0,0,71420211804,"Louisiana",152900,137900,0.901896664486593,true,null,46710,36997,0.79205737529436904,"",null,19.600000000000001,22.1,1.12755102040816,"",1,0,0,1,null,"NO","NO",0]
["Rapides","Alexandria",124,22079012400,"FALSE",0,0,71420211805,"Louisiana",152900,137900,0.901896664486593,true,null,46710,36997,0.79205737529436904,"",null,19.600000000000001,22.1,1.12755102040816,"",1,0,0,1,null,"NO","NO",0]
["Rapides","Alexandria",124,22079012400,"FALSE",0,0,71420211806,"Louisiana",152900,137900,0.901896664486593,true,null,46710,36997,0.79205737529436904,"",null,19.600000000000001,22.1,1.12755102040816,"",1,0,0,1,null,"NO","NO",0]
["Rapides","Alexandria",124,22079012400,"FALSE",0,0,71420211807,"Louisiana",152900,137900,0.901896664486593,true,null,46710,36997,0.79205737529436904,"",null,19.600000000000001,22.1,1.12755102040816,"",1,0,0,1,null,"NO","NO",0]
["Rapides","Alexandria",125,22079012500,"FALSE",0,0,71420211808,"Louisiana",152900,137900,0.901896664486593,true,null,46710,36997,0.79205737529436904,"",null,19.600000000000001,22.1,1.12755102040816,"",1,0,0,1,null,"NO","NO",0]
["Rapides","Alexandria",125,22079012500,"FALSE",0,0,71420211809,"Louisiana",152900,137900,0.901896664486593,true,null,46710,36997,0.79205737529436904,"",null,19.600000000000001,22.1,1.12755102040816,"",1,0,0,1,null,"NO","NO",0]
["Rapides","Alexandria",126,22079012600,"FALSE",0,0,71420211810,"Louisiana",152900,137900,0.901896664486593,true,null,46710,36997,0.79205737529436904,"",null,19.600000000000001,22.1,1.12755102040816,"",1,0,0,1,null,"NO","NO",0]
["Rapides","Alexandria",127,22079012700,"TRUE",1,4,71420211811,"Louisiana",152900,137900,0.901896664486593,true,null,46710,36997,0.79205737529436904,"",null,19.600000000000001,22.1,1.12755102040816,"",1,0,0,1,null,"NO","NO",4]
["Rapides","Alexandria",128,22079012800,"FALSE",0,0,71420211812,"Louisiana",152900,137900,0.901896664486593,true,null,46710,36997,0.79205737529436904,"",null,19.600000000000001,22.1,1.12755102040816,"",1,0,0,1,null,"NO","NO",0]
["Rapides","Alexandria",128,22079012800,"TRUE",1,4,71420211813,"Louisiana",152900,137900,0.901896664486593,true,null,46710,36997,0.79205737529436904,"",null,19.600000000000001,22.1,1.12755102040816,"",1,0,0,1,null,"NO","NO",4]
["Rapides","Alexandria",128,22079012800,"TRUE",1,4,71420211814,"Louisiana",152900,137900,0.901896664486593,true,null,46710,36997,0.79205737529436904,"",null,19.600000000000001,22.1,1.12755102040816,"",1,0,0,1,null,"NO","NO",4]
["Rapides","Alexandria",129,22079012900,"TRUE",1,4,71420211815,"Louisiana",152900,137900,0.901896664486593,true,null,46710,36997,0.79205737529436904,"",null,19.600000000000001,22.1,1.12755102040816,"",1,0,0,1,null,"NO","NO",4]
["Rapides","Alexandria",130,22079013000,"TRUE",1,4,71420211816,"Louisiana",152900,137900,0.901896664486593,true,null,46710,36997,0.79205737529436904,"",null,19.600000000000001,22.1,1.12755102040816,"",1,0,0,1,null,"NO","NO",4]
["Rapides","Alexandria",133,22079013300,"FALSE",0,0,71420211817,"Louisiana",152900,137900,0.901896664486593,true,null,46710,36997,0.79205737529436904,"",null,19.600000000000001,22.1,1.12755102040816,"",1,0,0,1,null,"NO","NO",0]
["Rapides","Alexandria",134,22079013400,"FALSE",0,0,71420211818,"Louisiana",152900,137900,0.901896664486593,true,null,46710,36997,0.79205737529436904,"",null,19.600000000000001,22.1,1.12755102040816,"",1,0,0,1,null,"NO","NO",0]
["Rapides","Alexandria",134,22079013400,"FALSE",0,0,71420211819,"Louisiana",152900,137900,0.901896664486593,true,null,46710,36997,0.79205737529436904,"",null,19.600000000000001,22.1,1.12755102040816,"",1,0,0,1,null,"NO","NO",0]
["Rapides","Alexandria",138,22079013800,"FALSE",0,0,71420211820,"Louisiana",152900,137900,0.901896664486593,true,null,46710,36997,0.79205737529436904,"",null,19.600000000000001,22.1,1.12755102040816,"",1,0,0,1,null,"NO","NO",0]
["Rapides","Alexandria",139,22079013900,"TRUE",1,4,71420211821,"Louisiana",152900,137900,0.901896664486593,true,null,46710,36997,0.79205737529436904,"",null,19.600000000000001,22.1,1.12755102040816,"",1,0,0,1,null,"NO","NO",4]
["Rapides","Alexandria",139,22079013900,"TRUE",1,4,71420211822,"Louisiana",152900,137900,0.901896664486593,true,null,46710,36997,0.79205737529436904,"",null,19.600000000000001,22.1,1.12755102040816,"",1,0,0,1,null,"NO","NO",4]
["Rapides","Alexandria",139,22079013900,"TRUE",1,4,71420211823,"Louisiana",152900,137900,0.901896664486593,true,null,46710,36997,0.79205737529436904,"",null,19.600000000000001,22.1,1.12755102040816,"",1,0,0,1,null,"NO","NO",4]
["Rapides","Alexandria",139,22079013900,"TRUE",1,4,71420211824,"Louisiana",152900,137900,0.901896664486593,true,null,46710,36997,0.79205737529436904,"",null,19.600000000000001,22.1,1.12755102040816,"",1,0,0,1,null,"NO","NO",4]
["Rapides","Alexandria",139,22079013900,"TRUE",1,4,71420211825,"Louisiana",152900,137900,0.901896664486593,true,null,46710,36997,0.79205737529436904,"",null,19.600000000000001,22.1,1.12755102040816,"",1,0,0,1,null,"NO","NO",4]
["Rapides","Alexandria",9800,22079980000,"FALSE",0,0,71420211826,"Louisiana",152900,137900,0.901896664486593,true,null,46710,36997,0.79205737529436904,"",null,19.600000000000001,22.1,1.12755102040816,"",1,0,0,1,null,"NO","NO",0]
["Rapides","Ball",103,22079010300,"FALSE",0,0,71420211827,"Louisiana",152900,137200,0.89731850882929998,true,{"$f":"IF(M1827=TRUE,4,0)","v":4},46710,42539,0.91070434596446204,"",{"$f":"IF(R1827=TRUE, 4,0)","v":0},19.600000000000001,12.2,0.62244897959183698,"",1,0,0,1,{"$f":"IF(W1827=TRUE, 4,0)","v":0},"NO","NO",4]
["Rapides","Ball",113,22079011300,"FALSE",0,0,71420211828,"Louisiana",152900,137200,0.89731850882929998,true,4,46710,42539,0.91070434596446204,"",0,19.600000000000001,12.2,0.62244897959183698,"",1,0,0,1,0,"NO","NO",4]
["Rapides","Ball",137,22079013700,"FALSE",0,0,71420211829,"Louisiana",152900,137200,0.89731850882929998,true,4,46710,42539,0.91070434596446204,"",0,19.600000000000001,12.2,0.62244897959183698,"",1,0,0,1,0,"NO","NO",4]
["Rapides","Boyce",105,22079010500,"TRUE",1,4,71420211830,"Louisiana",152900,73800,0.482668410725965,"",0,46710,27917,0.59766645257974704,true,4,19.600000000000001,28.7,1.46428571428571,"",0,1,0,1,0,"NO","NO",8]
["Rapides","Boyce",106,22079010600,"FALSE",0,0,71420211831,"Louisiana",152900,73800,0.482668410725965,"",0,46710,27917,0.59766645257974704,true,4,19.600000000000001,28.7,1.46428571428571,"",0,1,0,1,0,"NO","NO",4]
["Rapides","Boyce",107,22079010700,"FALSE",0,0,71420211832,"Louisiana",152900,73800,0.482668410725965,"",0,46710,27917,0.59766645257974704,true,4,19.600000000000001,28.7,1.46428571428571,"",0,1,0,1,0,"NO","NO",4]
["Rapides","Cheneyville",9501,22039950100,"FALSE",0,0,71420211833,"Louisiana",152900,95000,0.62132112491824698,true,4,46710,21080,0.45129522586170001,true,4,19.600000000000001,49.9,2.5459183673469399,true,1,1,1,3,4,"NO","NO",12]
["Rapides","Cheneyville",9502,22039950200,"FALSE",0,0,71420211834,"Louisiana",152900,95000,0.62132112491824698,true,4,46710,21080,0.45129522586170001,true,4,19.600000000000001,49.9,2.5459183673469399,true,1,1,1,3,4,"NO","NO",12]
["Rapides","Cheneyville",133,22079013300,"FALSE",0,0,71420211835,"Louisiana",152900,95000,0.62132112491824698,true,4,46710,21080,0.45129522586170001,true,4,19.600000000000001,49.9,2.5459183673469399,true,1,1,1,3,4,"NO","NO",12]
["Rapides","Cheneyville",135,22079013500,"FALSE",0,0,71420211836,"Louisiana",152900,95000,0.62132112491824698,true,4,46710,21080,0.45129522586170001,true,4,19.600000000000001,49.9,2.5459183673469399,true,1,1,1,3,4,"NO","NO",12]
["Rapides","Deville",302,22009030200,"FALSE",0,0,71420211837,"Louisiana",152900,92600,0.60562459123610202,true,4,46710,61635,1.3195247270391799,"",0,19.600000000000001,13.6,0.69387755102040805,"",1,0,0,1,0,"NO","NO",4]
["Rapides","Deville",101,22079010100,"FALSE",0,0,71420211838,"Louisiana",152900,92600,0.60562459123610202,true,4,46710,61635,1.3195247270391799,"",0,19.600000000000001,13.6,0.69387755102040805,"",1,0,0,1,0,"NO","NO",4]
["Rapides","Deville",132,22079013200,"FALSE",0,0,71420211839,"Louisiana",152900,92600,0.60562459123610202,true,4,46710,61635,1.3195247270391799,"",0,19.600000000000001,13.6,0.69387755102040805,"",1,0,0,1,0,"NO","NO",4]
["Rapides","Deville",137,22079013700,"FALSE",0,0,71420211840,"Louisiana",152900,92600,0.60562459123610202,true,4,46710,61635,1.3195247270391799,"",0,19.600000000000001,13.6,0.69387755102040805,"",1,0,0,1,0,"NO","NO",4]
["Rapides","Echo",133,22079013300,"FALSE",0,0,71420211841,"Louisiana",152900,0,0,"",0,46710,0,0,true,4,19.600000000000001,0,0,"",0,1,0,1,0,"NO","NO",4]
["Rapides","Elmer",106,22079010600,"FALSE",0,0,71420211842,"Louisiana",152900,0,0,"",0,46710,0,0,true,4,19.600000000000001,0,0,"",0,1,0,1,0,"NO","NO",4]
["Rapides","Elmer",107,22079010700,"FALSE",0,0,71420211843,"Louisiana",152900,0,0,"",0,46710,0,0,true,4,19.600000000000001,0,0,"",0,1,0,1,0,"NO","NO",4]
["Rapides","Elmer",134,22079013400,"FALSE",0,0,71420211844,"Louisiana",152900,0,0,"",0,46710,0,0,true,4,19.600000000000001,0,0,"",0,1,0,1,0,"NO","NO",4]
["Rapides","Elmer",135,22079013500,"FALSE",0,0,71420211845,"Louisiana",152900,0,0,"",0,46710,0,0,true,4,19.600000000000001,0,0,"",0,1,0,1,0,"NO","NO",4]
["Rapides","Elmer",136,22079013600,"FALSE",0,0,71420211846,"Louisiana",152900,0,0,"",0,46710,0,0,true,4,19.600000000000001,0,0,"",0,1,0,1,0,"NO","NO",4]
["Rapides","Flatwoods",9,22069000900,"FALSE",0,0,71420211847,"Louisiana",152900,0,0,"",0,46710,0,0,true,4,19.600000000000001,0,0,"",0,1,0,1,0,"NO","NO",4]
["Rapides","Flatwoods",106,22079010600,"FALSE",0,0,71420211848,"Louisiana",152900,0,0,"",0,46710,0,0,true,4,19.600000000000001,0,0,"",0,1,0,1,0,"NO","NO",4]
["Rapides","Forest Hill",134,22079013400,"FALSE",0,0,71420211849,"Louisiana",152900,81100,0.53041203400915604,true,4,46710,28068,0.60089916506101504,true,4,19.600000000000001,39.700000000000003,2.02551020408163,true,1,1,1,3,4,"NO","NO",12]
["Rapides","Forest Hill",135,22079013500,"FALSE",0,0,71420211850,"Louisiana",152900,81100,0.53041203400915604,true,4,46710,28068,0.60089916506101504,true,4,19.600000000000001,39.700000000000003,2.02551020408163,true,1,1,1,3,4,"NO","NO",12]
["Rapides","Glenmora",9502,22003950200,"FALSE",0,0,71420211851,"Louisiana",152900,79400,0.51929365598430299,true,4,46710,30938,0.66234211089702399,"",0,19.600000000000001,26.3,1.34183673469388,"",1,0,0,1,0,"NO","NO",4]
["Rapides","Glenmora",9502,22039950200,"FALSE",0,0,71420211852,"Louisiana",152900,79400,0.51929365598430299,true,4,46710,30938,0.66234211089702399,"",0,19.600000000000001,26.3,1.34183673469388,"",1,0,0,1,0,{"$f":"IF(AND(E1852=\"TRUE\",AA1852>1),\"YES\",\"NO\")","v":"NO"},{"$f":"IF(AND(F1852=1,AA1852>1), \"YES\",\"NO\")","v":"NO"},4]
["Rapides","Glenmora",134,22079013400,"FALSE",0,0,71420211853,"Louisiana",152900,79400,0.51929365598430299,true,4,46710,30938,0.66234211089702399,"",0,19.600000000000001,26.3,1.34183673469388,"",1,0,0,1,0,"NO","NO",4]
["Rapides","Glenmora",135,22079013500,"FALSE",0,0,71420211854,"Louisiana",152900,79400,0.51929365598430299,true,4,46710,30938,0.66234211089702399,"",0,19.600000000000001,26.3,1.34183673469388,"",1,0,0,1,0,"NO","NO",4]
["Rapides","Glenmora",136,22079013600,"FALSE",0,0,71420211855,"Louisiana",152900,79400,0.51929365598430299,true,4,46710,30938,0.66234211089702399,"",0,19.600000000000001,26.3,1.34183673469388,"",1,0,0,1,0,"NO","NO",4]
["Rapides","Hineston",106,22079010600,"FALSE",0,0,71420211856,"Louisiana",152900,0,0,"",0,46710,0,0,true,4,19.600000000000001,0,0,"",0,1,0,1,0,"NO","NO",4]
["Rapides","Hineston",136,22079013600,"FALSE",0,0,71420211857,"Louisiana",152900,0,0,"",0,46710,0,0,true,4,19.600000000000001,0,0,"",0,1,0,1,0,"NO","NO",4]
["Rapides","Hineston",9501,22115950100,"FALSE",0,0,71420211858,"Louisiana",152900,0,0,"",0,46710,0,0,true,4,19.600000000000001,0,0,"",0,1,0,1,0,"NO","NO",4]
["Rapides","Hineston",9507.01,22115950701,"FALSE",0,{"$f":"IF(E1859=\"TRUE\",4,0)","v":0},71420211859,"Louisiana",152900,0,0,{"$f":"IF(L1859>=50%,TRUE,\"\")","v":""},{"$f":"IF(M1859=TRUE,4,0)","v":0},46710,0,0,{"$f":"IF(Q1859<=65%,TRUE,\"\")","v":true},{"$f":"IF(R1859=TRUE, 4,0)","v":4},19.600000000000001,0,0,{"$f":"IF(V1859>=1.5,TRUE,\"\")","v":""},{"$f":"IF(M1859=TRUE,1,0)","v":0},{"$f":"IF(R1859=TRUE,1,0)","v":1},{"$f":"IF(W1859=TRUE,1,0)","v":0},{"$f":"SUM(X1859:Z1859)","v":1},{"$f":"IF(W1859=TRUE, 4,0)","v":0},"NO","NO",{"$f":"+G1859+N1859+S1859+AB1859","v":4}]
["Rapides","Hineston",9508,22115950800,"FALSE",0,0,71420211860,"Louisiana",152900,0,0,"",0,46710,0,0,true,4,19.600000000000001,0,0,"",0,1,0,1,0,"NO","NO",4]
["Rapides","Lecompte",133,22079013300,"FALSE",0,0,71420211861,"Louisiana",152900,83300,0.54480052321778905,true,4,46710,24583,0.52628987368871805,true,4,19.600000000000001,23,1.1734693877550999,"",1,1,0,2,0,"NO","NO",8]
["Rapides","Lecompte",134,22079013400,"FALSE",0,0,71420211862,"Louisiana",152900,83300,0.54480052321778905,true,4,46710,24583,0.52628987368871805,true,4,19.600000000000001,23,1.1734693877550999,"",1,1,0,2,0,"NO","NO",8]
["Rapides","Lecompte",135,22079013500,"FALSE",0,0,71420211863,"Louisiana",152900,83300,0.54480052321778905,true,4,46710,24583,0.52628987368871805,true,4,19.600000000000001,23,1.1734693877550999,"",1,1,0,2,0,"NO","NO",8]
["Rapides","Lena",9,22069000900,"FALSE",0,0,71420211864,"Louisiana",152900,0,0,"",0,46710,0,0,true,4,19.600000000000001,0,0,"",0,1,0,1,0,"NO","NO",4]
["Rapides","Lena",106,22079010600,"FALSE",0,0,71420211865,"Louisiana",152900,0,0,"",0,46710,0,0,true,4,19.600000000000001,0,0,"",0,1,0,1,0,"NO","NO",4]
["Rapides","Lena",9501,22115950100,"FALSE",0,0,71420211866,"Louisiana",152900,0,0,"",0,46710,0,0,true,4,19.600000000000001,0,0,"",0,1,0,1,0,"NO","NO",4]
["Rapides","Libuse",132,22079013200,"FALSE",0,0,71420211867,"Louisiana",152900,0,0,"",0,46710,0,0,true,4,19.600000000000001,0,0,"",0,1,0,1,0,"NO","NO",4]
["Rapides","Longleaf",135,22079013500,"FALSE",0,0,71420211868,"Louisiana",152900,0,0,"",0,46710,0,0,true,4,19.600000000000001,0,0,"",0,1,0,1,0,"NO","NO",4]
["Rapides","Mora",9,22069000900,"FALSE",0,0,71420211869,"Louisiana",152900,0,0,"",0,46710,0,0,true,4,19.600000000000001,0,0,"",0,1,0,1,0,"NO","NO",4]
["Rapides","Mora",106,22079010600,"FALSE",0,0,71420211870,"Louisiana",152900,0,0,"",0,46710,0,0,true,4,19.600000000000001,0,0,"",0,1,0,1,0,"NO","NO",4]
["Rapides","Otis",106,22079010600,"FALSE",0,0,71420211871,"Louisiana",152900,0,0,"",0,46710,0,0,true,4,19.600000000000001,0,0,"",0,1,0,1,0,"NO","NO",4]
["Rapides","Pineville",302,22009030200,"FALSE",0,0,71420211872,"Louisiana",152900,142600,0.93263570961412701,true,4,46710,42405,0.90783558124598596,"",0,19.600000000000001,21.1,1.0765306122449001,"",1,0,0,1,0,"NO","NO",4]
["Rapides","Pineville",204.02,22043020402,"FALSE",0,0,71420211873,"Louisiana",152900,142600,0.93263570961412701,true,4,46710,42405,0.90783558124598596,"",0,19.600000000000001,21.1,1.0765306122449001,"",1,0,0,1,0,"NO","NO",4]
["Rapides","Pineville",101,22079010100,"FALSE",0,0,71420211874,"Louisiana",152900,142600,0.93263570961412701,true,4,46710,42405,0.90783558124598596,"",0,19.600000000000001,21.1,1.0765306122449001,"",1,0,0,1,0,"NO","NO",4]
["Rapides","Pineville",103,22079010300,"FALSE",0,0,71420211875,"Louisiana",152900,142600,0.93263570961412701,true,4,46710,42405,0.90783558124598596,"",0,19.600000000000001,21.1,1.0765306122449001,"",1,0,0,1,0,"NO","NO",4]
["Rapides","Pineville",104,22079010400,"FALSE",0,0,71420211876,"Louisiana",152900,142600,0.93263570961412701,true,4,46710,42405,0.90783558124598596,"",0,19.600000000000001,21.1,1.0765306122449001,"",1,0,0,1,0,"NO","NO",4]
["Rapides","Pineville",113,22079011300,"FALSE",0,0,71420211877,"Louisiana",152900,142600,0.93263570961412701,true,4,46710,42405,0.90783558124598596,"",0,19.600000000000001,21.1,1.0765306122449001,"",1,0,0,1,0,"NO","NO",4]
["Rapides","Pineville",115,22079011500,"FALSE",0,0,71420211878,"Louisiana",152900,142600,0.93263570961412701,true,4,46710,42405,0.90783558124598596,"",0,19.600000000000001,21.1,1.0765306122449001,"",1,0,0,1,0,"NO","NO",4]
["Rapides","Pineville",116,22079011600,"FALSE",0,0,71420211879,"Louisiana",152900,142600,0.93263570961412701,true,4,46710,42405,0.90783558124598596,"",0,19.600000000000001,21.1,1.0765306122449001,"",1,0,0,1,0,"NO","NO",4]
["Rapides","Pineville",117,22079011700,"TRUE",1,4,71420211880,"Louisiana",152900,142600,0.93263570961412701,true,4,46710,42405,0.90783558124598596,"",0,19.600000000000001,21.1,1.0765306122449001,"",1,0,0,1,0,"NO","NO",8]
["Rapides","Pineville",117,22079011700,"TRUE",1,4,71420211881,"Louisiana",152900,142600,0.93263570961412701,true,4,46710,42405,0.90783558124598596,"",0,19.600000000000001,21.1,1.0765306122449001,"",1,0,0,1,0,"NO","NO",8]
["Rapides","Pineville",131,22079013100,"TRUE",0,4,71420211882,"Louisiana",152900,142600,0.93263570961412701,true,4,46710,42405,0.90783558124598596,"",0,19.600000000000001,21.1,1.0765306122449001,"",1,0,0,1,0,"NO","NO",8]
["Rapides","Pineville",132,22079013200,"FALSE",0,0,71420211883,"Louisiana",152900,142600,0.93263570961412701,true,4,46710,42405,0.90783558124598596,"",0,19.600000000000001,21.1,1.0765306122449001,"",1,0,0,1,0,"NO","NO",4]
["Rapides","Pineville",137,22079013700,"FALSE",0,0,71420211884,"Louisiana",152900,142600,0.93263570961412701,true,4,46710,42405,0.90783558124598596,"",0,19.600000000000001,21.1,1.0765306122449001,"",1,0,0,1,0,"NO","NO",4]
["Rapides","Ruby",132,22079013200,"FALSE",0,0,71420211885,"Louisiana",152900,0,0,"",0,46710,0,0,true,4,19.600000000000001,0,0,"",0,1,0,1,0,"NO","NO",4]
["Rapides","Sieper",106,22079010600,"FALSE",0,0,71420211886,"Louisiana",152900,0,0,"",0,46710,0,0,true,4,19.600000000000001,0,0,"",0,1,0,1,0,"NO","NO",4]
["Rapides","Sieper",136,22079013600,"FALSE",0,0,71420211887,"Louisiana",152900,0,0,"",0,46710,0,0,true,4,19.600000000000001,0,0,"",0,1,0,1,0,"NO","NO",4]
["Rapides","Tioga",103,22079010300,"FALSE",0,0,71420211888,"Louisiana",152900,0,0,"",0,46710,0,0,true,4,19.600000000000001,0,0,"",0,1,0,1,0,"NO","NO",4]
["Rapides","Woodworth",125,22079012500,"FALSE",0,0,71420211889,"Louisiana",152900,175500,1.14780902550687,true,4,46710,59464,1.2730464568614901,"",0,19.600000000000001,12.8,0.65306122448979598,"",1,0,0,1,0,"NO","NO",4]
["Rapides","Woodworth",134,22079013400,"FALSE",0,0,71420211890,"Louisiana",152900,175500,1.14780902550687,true,4,46710,59464,1.2730464568614901,"",0,19.600000000000001,12.8,0.65306122448979598,"",1,0,0,1,0,"NO","NO",4]
["Red River","Coushatta",2,22069000200,"FALSE",0,0,71420211891,"Louisiana",152900,71600,0.468279921517332,"",{"$f":"IF(M1891=TRUE,4,0)","v":0},46710,26000,0.55662599015200198,true,{"$f":"IF(R1891=TRUE, 4,0)","v":4},19.600000000000001,33.1,1.68877551020408,true,0,1,1,2,{"$f":"IF(W1891=TRUE, 4,0)","v":4},"NO","NO",8]
["Red River","Coushatta",3,22069000300,"FALSE",0,0,71420211892,"Louisiana",152900,71600,0.468279921517332,"",0,46710,26000,0.55662599015200198,true,4,19.600000000000001,33.1,1.68877551020408,true,0,1,1,2,4,"NO","NO",8]
["Red River","Coushatta",9601,22081960100,"FALSE",0,0,71420211893,"Louisiana",152900,71600,0.468279921517332,"",0,46710,26000,0.55662599015200198,true,4,19.600000000000001,33.1,1.68877551020408,true,0,1,1,2,4,"NO","NO",8]
["Red River","Coushatta",9602,22081960300,"FALSE",0,0,71420211894,"Louisiana",152900,71600,0.468279921517332,"",0,46710,26000,0.55662599015200198,true,4,19.600000000000001,33.1,1.68877551020408,true,0,1,1,2,4,"NO","NO",8]
["Red River","Hall Summit",9601,22081960100,"FALSE",0,0,71420211895,"Louisiana",152900,77500,0.50686723348593898,true,4,46710,58571,1.25392849496896,"",0,19.600000000000001,6.5,0.33163265306122502,"",1,0,0,1,0,"NO","NO",4]
["Richland","Archibald",9706,22083970600,"FALSE",0,0,71420211896,"Louisiana",152900,0,0,"",0,46710,0,0,true,4,19.600000000000001,0,0,"",0,1,0,1,0,"NO","NO",4]
["Richland","Delhi",9501,22041950100,"FALSE",0,0,71420211897,"Louisiana",152900,80200,0.52452583387835205,true,4,46710,32670,0.699421965317919,"",0,19.600000000000001,30.9,1.5765306122449001,true,1,0,1,2,4,"NO","NO",8]
["Richland","Delhi",9504,22041950400,"FALSE",0,0,71420211898,"Louisiana",152900,80200,0.52452583387835205,true,4,46710,32670,0.699421965317919,"",0,19.600000000000001,30.9,1.5765306122449001,true,1,0,1,2,4,"NO","NO",8]
["Richland","Delhi",9602,22065960200,"FALSE",0,0,71420211899,"Louisiana",152900,80200,0.52452583387835205,true,4,46710,32670,0.699421965317919,"",0,19.600000000000001,30.9,1.5765306122449001,true,1,0,1,2,4,"NO","NO",8]
["Richland","Delhi",9603,22083970100,"FALSE",0,0,71420211900,"Louisiana",152900,80200,0.52452583387835205,true,4,46710,32670,0.699421965317919,"",0,19.600000000000001,30.9,1.5765306122449001,true,1,0,1,2,4,"NO","NO",8]
["Richland","Delhi",9702,22083970200,"FALSE",0,0,71420211901,"Louisiana",152900,80200,0.52452583387835205,true,4,46710,32670,0.699421965317919,"",0,19.600000000000001,30.9,1.5765306122449001,true,1,0,1,2,4,"NO","NO",8]
["Richland","Mangham",9706,22083970600,"FALSE",0,0,71420211902,"Louisiana",152900,83300,0.54480052321778905,true,4,46710,27396,0.58651252408477805,true,4,19.600000000000001,43.2,2.2040816326530601,true,1,1,1,3,4,"NO","NO",12]
["Richland","Rayville",9506,22067950600,"FALSE",0,0,71420211903,"Louisiana",152900,68500,0.44800523217789401,"",0,46710,22833,0.488824662813102,true,4,19.600000000000001,47,2.3979591836734699,true,0,1,1,2,4,"NO","NO",8]
["Richland","Rayville",9702,22083970200,"FALSE",0,0,71420211904,"Louisiana",152900,68500,0.44800523217789401,"",0,46710,22833,0.488824662813102,true,4,19.600000000000001,47,2.3979591836734699,true,0,1,1,2,4,"NO","NO",8]
["Richland","Rayville",9703,22083970300,"FALSE",0,0,71420211905,"Louisiana",152900,68500,0.44800523217789401,"",0,46710,22833,0.488824662813102,true,4,19.600000000000001,47,2.3979591836734699,true,0,1,1,2,4,"NO","NO",8]
["Richland","Rayville",9704,22083970400,"FALSE",0,0,71420211906,"Louisiana",152900,68500,0.44800523217789401,"",0,46710,22833,0.488824662813102,true,4,19.600000000000001,47,2.3979591836734699,true,0,1,1,2,4,"NO","NO",8]
["Richland","Rayville",9705,22083970500,"TRUE",1,4,71420211907,"Louisiana",152900,68500,0.44800523217789401,"",0,46710,22833,0.488824662813102,true,4,19.600000000000001,47,2.3979591836734699,true,0,1,1,2,4,"YES","YES",12]
["Richland","Rayville",9706,22083970600,"FALSE",0,0,71420211908,"Louisiana",152900,68500,0.44800523217789401,"",0,46710,22833,0.488824662813102,true,4,19.600000000000001,47,2.3979591836734699,true,0,1,1,2,4,"NO","NO",8]
["Richland","Rayville",3,22123000300,"FALSE",0,0,71420211909,"Louisiana",152900,68500,0.44800523217789401,"",0,46710,22833,0.488824662813102,true,4,19.600000000000001,47,2.3979591836734699,true,0,1,1,2,4,"NO","NO",8]
["Richland","Start",9704,22083970400,"FALSE",0,0,71420211910,"Louisiana",152900,125900,0.82341399607586696,true,4,46710,73750,1.57889102975808,"",0,19.600000000000001,14.9,0.76020408163265296,"",1,0,0,1,0,"NO","NO",4]
["Sabine","Belmont",1,22085000100,"FALSE",0,0,71420211911,"Louisiana",152900,null,null,"",0,46710,null,null,true,4,19.600000000000001,2.8,0.14285714285714299,"",0,1,0,1,0,"NO","NO",4]
["Sabine","Belmont",4,22085000400,"FALSE",0,0,71420211912,"Louisiana",152900,null,null,"",0,46710,null,null,true,4,19.600000000000001,2.8,0.14285714285714299,"",0,1,0,1,0,"NO","NO",4]
["Sabine","Converse",9507,22031950700,"FALSE",0,0,71420211913,"Louisiana",152900,50800,0.332243296272073,"",0,46710,32500,0.69578248769000195,"",0,19.600000000000001,18.100000000000001,0.92346938775510201,"",0,0,0,0,0,"NO","NO",0]
["Sabine","Converse",1,22085000100,"FALSE",0,0,71420211914,"Louisiana",152900,50800,0.332243296272073,"",0,46710,32500,0.69578248769000195,"",0,19.600000000000001,18.100000000000001,0.92346938775510201,"",0,0,0,0,0,"NO","NO",0]
["Sabine","Converse",2,22085000200,"FALSE",0,0,71420211915,"Louisiana",152900,50800,0.332243296272073,"",0,46710,32500,0.69578248769000195,"",0,19.600000000000001,18.100000000000001,0.92346938775510201,"",0,0,0,0,0,"NO","NO",0]
["Sabine","Fisher",6,22085000600,"FALSE",0,0,71420211916,"Louisiana",152900,76000,0.49705689993459801,"",0,46710,48125,1.03029329907943,"",0,19.600000000000001,12.1,0.61734693877550995,"",0,0,0,0,0,{"$f":"IF(AND(E1916=\"TRUE\",AA1916>1),\"YES\",\"NO\")","v":"NO"},{"$f":"IF(AND(F1916=1,AA1916>1), \"YES\",\"NO\")","v":"NO"},0]
["Sabine","Florien",6,22085000600,"FALSE",0,0,71420211917,"Louisiana",152900,120800,0.79005886200130804,true,4,46710,37292,0.79837293941340204,"",0,19.600000000000001,22.7,1.15816326530612,"",1,0,0,1,0,"NO","NO",4]
["Sabine","Florien",7,22085000700,"FALSE",0,0,71420211918,"Louisiana",152900,120800,0.79005886200130804,true,4,46710,37292,0.79837293941340204,"",0,19.600000000000001,22.7,1.15816326530612,"",1,0,0,1,0,"NO","NO",4]
["Sabine","Florien",9502,22115950200,"FALSE",0,0,71420211919,"Louisiana",152900,120800,0.79005886200130804,true,4,46710,37292,0.79837293941340204,"",0,19.600000000000001,22.7,1.15816326530612,"",1,0,0,1,0,"NO","NO",4]
["Sabine","Many",2,22085000200,"FALSE",0,0,71420211920,"Louisiana",152900,97600,0.63832570307390402,true,4,46710,26458,0.56643117105544805,true,4,19.600000000000001,32.9,1.6785714285714299,true,1,1,1,3,4,"NO","NO",12]
["Sabine","Many",4,22085000400,"FALSE",0,0,71420211921,"Louisiana",152900,97600,0.63832570307390402,true,4,46710,26458,0.56643117105544805,true,4,19.600000000000001,32.9,1.6785714285714299,true,1,1,1,3,4,"NO","NO",12]
["Sabine","Many",5,22085000500,"TRUE",1,4,71420211922,"Louisiana",152900,97600,0.63832570307390402,true,4,46710,26458,0.56643117105544805,true,4,19.600000000000001,32.9,1.6785714285714299,true,1,1,1,3,4,"YES","YES",16]
["Sabine","Many",6,22085000600,"FALSE",0,{"$f":"IF(E1923=\"TRUE\",4,0)","v":0},71420211923,"Louisiana",152900,97600,0.63832570307390402,{"$f":"IF(L1923>=50%,TRUE,\"\")","v":true},{"$f":"IF(M1923=TRUE,4,0)","v":4},46710,26458,0.56643117105544805,{"$f":"IF(Q1923<=65%,TRUE,\"\")","v":true},{"$f":"IF(R1923=TRUE, 4,0)","v":4},19.600000000000001,32.9,1.6785714285714299,{"$f":"IF(V1923>=1.5,TRUE,\"\")","v":true},{"$f":"IF(M1923=TRUE,1,0)","v":1},{"$f":"IF(R1923=TRUE,1,0)","v":1},{"$f":"IF(W1923=TRUE,1,0)","v":1},{"$f":"SUM(X1923:Z1923)","v":3},{"$f":"IF(W1923=TRUE, 4,0)","v":4},"NO","NO",{"$f":"+G1923+N1923+S1923+AB1923","v":12}]
["Sabine","Many",7,22085000700,"FALSE",0,0,71420211924,"Louisiana",152900,97600,0.63832570307390402,true,4,46710,26458,0.56643117105544805,true,4,19.600000000000001,32.9,1.6785714285714299,true,1,1,1,3,4,"NO","NO",12]
["Sabine","Negreet",6,22085000600,"FALSE",0,0,71420211925,"Louisiana",152900,0,0,"",0,46710,0,0,true,4,19.600000000000001,0,0,"",0,1,0,1,0,"NO","NO",4]
["Sabine","Noble",1,22085000100,"FALSE",0,0,71420211926,"Louisiana",152900,70400,0.46043165467625902,"",0,46710,45000,0.96339113680154098,"",0,19.600000000000001,16.2,0.82653061224489799,"",0,0,0,0,0,"NO","NO",0]
["Sabine","Noble",2,22085000200,"FALSE",0,0,71420211927,"Louisiana",152900,70400,0.46043165467625902,"",0,46710,45000,0.96339113680154098,"",0,19.600000000000001,16.2,0.82653061224489799,"",0,0,0,0,0,"NO","NO",0]
["Sabine","Noble",3,22085000300,"FALSE",0,0,71420211928,"Louisiana",152900,70400,0.46043165467625902,"",0,46710,45000,0.96339113680154098,"",0,19.600000000000001,16.2,0.82653061224489799,"",0,0,0,0,0,"NO","NO",0]
["Sabine","Pleasant Hill",3,22069000300,"FALSE",0,0,71420211929,"Louisiana",152900,64200,0.41988227599738398,"",0,46710,22946,0.49124384500106999,true,4,19.600000000000001,40,2.0408163265306101,true,0,1,1,2,4,"NO","NO",8]
["Sabine","Pleasant Hill",1,22085000100,"FALSE",0,0,71420211930,"Louisiana",152900,64200,0.41988227599738398,"",0,46710,22946,0.49124384500106999,true,4,19.600000000000001,40,2.0408163265306101,true,0,1,1,2,4,"NO","NO",8]
["Sabine","Pleasant Hill",4,22085000400,"FALSE",0,0,71420211931,"Louisiana",152900,64200,0.41988227599738398,"",0,46710,22946,0.49124384500106999,true,4,19.600000000000001,40,2.0408163265306101,true,0,1,1,2,4,"NO","NO",8]
["Sabine","Zwolle",1,22085000100,"FALSE",0,0,71420211932,"Louisiana",152900,57000,0.37279267495094798,"",0,46710,23580,0.50481695568400797,true,4,19.600000000000001,34.700000000000003,1.7704081632653099,true,0,1,1,2,4,"NO","NO",8]
["Sabine","Zwolle",2,22085000200,"FALSE",0,0,71420211933,"Louisiana",152900,57000,0.37279267495094798,"",0,46710,23580,0.50481695568400797,true,4,19.600000000000001,34.700000000000003,1.7704081632653099,true,0,1,1,2,4,"NO","NO",8]
["Sabine","Zwolle",3,22085000300,"TRUE",1,4,71420211934,"Louisiana",152900,57000,0.37279267495094798,"",0,46710,23580,0.50481695568400797,true,4,19.600000000000001,34.700000000000003,1.7704081632653099,true,0,1,1,2,4,"YES","YES",12]
["Sabine","Zwolle",4,22085000400,"FALSE",0,0,71420211935,"Louisiana",152900,57000,0.37279267495094798,"",0,46710,23580,0.50481695568400797,true,4,19.600000000000001,34.700000000000003,1.7704081632653099,true,0,1,1,2,4,"NO","NO",8]
["St Bernard","Arabi",303,22087030300,"FALSE",0,0,71420211936,"Louisiana",152900,139600,0.91301504251144505,true,4,46710,44030,0.94262470563048595,"",0,19.600000000000001,19.5,0.99489795918367296,"",1,0,0,1,0,"NO","NO",4]
["St Bernard","Arabi",304,22087030400,"FALSE",0,0,71420211937,"Louisiana",152900,139600,0.91301504251144505,true,4,46710,44030,0.94262470563048595,"",0,19.600000000000001,19.5,0.99489795918367296,"",1,0,0,1,0,"NO","NO",4]
["St Bernard","Arabi",305,22087030500,"FALSE",0,0,71420211938,"Louisiana",152900,139600,0.91301504251144505,true,4,46710,44030,0.94262470563048595,"",0,19.600000000000001,19.5,0.99489795918367296,"",1,0,0,1,0,"NO","NO",4]
["St Bernard","Chalmette",302.02999999999997,22087030203,"FALSE",0,0,71420211939,"Louisiana",152900,141300,0.92413342053629799,true,4,46710,43590,0.93320488118176004,"",0,19.600000000000001,20.3,1.03571428571429,"",1,0,0,1,0,"NO","NO",4]
["St Bernard","Chalmette",302.04000000000002,22087030204,"FALSE",0,0,71420211940,"Louisiana",152900,141300,0.92413342053629799,true,4,46710,43590,0.93320488118176004,"",0,19.600000000000001,20.3,1.03571428571429,"",1,0,0,1,0,"NO","NO",4]
["St Bernard","Chalmette",302.06,22087030206,"FALSE",0,0,71420211941,"Louisiana",152900,141300,0.92413342053629799,true,4,46710,43590,0.93320488118176004,"",0,19.600000000000001,20.3,1.03571428571429,"",1,0,0,1,0,"NO","NO",4]
["St Bernard","Chalmette",302.07,22087030207,"FALSE",0,0,71420211942,"Louisiana",152900,141300,0.92413342053629799,true,4,46710,43590,0.93320488118176004,"",0,19.600000000000001,20.3,1.03571428571429,"",1,0,0,1,0,"NO","NO",4]
["St Bernard","Chalmette",304,22087030400,"FALSE",0,0,71420211943,"Louisiana",152900,141300,0.92413342053629799,true,4,46710,43590,0.93320488118176004,"",0,19.600000000000001,20.3,1.03571428571429,"",1,0,0,1,0,"NO","NO",4]
["St Bernard","Chalmette",305,22087030500,"FALSE",0,0,71420211944,"Louisiana",152900,141300,0.92413342053629799,true,4,46710,43590,0.93320488118176004,"",0,19.600000000000001,20.3,1.03571428571429,"",1,0,0,1,0,"NO","NO",4]
["St Bernard","Chalmette",306.01,22087030601,"FALSE",0,0,71420211945,"Louisiana",152900,141300,0.92413342053629799,true,4,46710,43590,0.93320488118176004,"",0,19.600000000000001,20.3,1.03571428571429,"",1,0,0,1,0,"NO","NO",4]
["St Bernard","Chalmette",306.02,22087030602,"FALSE",0,0,71420211946,"Louisiana",152900,141300,0.92413342053629799,true,4,46710,43590,0.93320488118176004,"",0,19.600000000000001,20.3,1.03571428571429,"",1,0,0,1,0,"NO","NO",4]
["St Bernard","Chalmette",306.02999999999997,22087030603,"TRUE",1,4,71420211947,"Louisiana",152900,141300,0.92413342053629799,true,4,46710,43590,0.93320488118176004,"",0,19.600000000000001,20.3,1.03571428571429,"",1,0,0,1,0,"NO","NO",8]
["St Bernard","Chalmette",307,22087030700,"FALSE",0,0,71420211948,"Louisiana",152900,141300,0.92413342053629799,true,4,46710,43590,0.93320488118176004,"",0,19.600000000000001,20.3,1.03571428571429,"",1,0,0,1,0,"NO","NO",4]
["St Bernard","Chalmette",308,22087030800,"FALSE",0,0,71420211949,"Louisiana",152900,141300,0.92413342053629799,true,4,46710,43590,0.93320488118176004,"",0,19.600000000000001,20.3,1.03571428571429,"",1,0,0,1,0,"NO","NO",4]
["St Bernard","Meraux",302.02999999999997,22087030203,"FALSE",0,0,71420211950,"Louisiana",152900,160400,1.0490516677566999,true,4,46710,70449,1.5082209377007101,"",0,19.600000000000001,9.1999999999999993,0.469387755102041,"",1,0,0,1,0,"NO","NO",4]
["St Bernard","Meraux",302.08,22087030208,"FALSE",0,0,71420211951,"Louisiana",152900,160400,1.0490516677566999,true,4,46710,70449,1.5082209377007101,"",0,19.600000000000001,9.1999999999999993,0.469387755102041,"",1,0,0,1,0,"NO","NO",4]
["St Bernard","Meraux",302.08999999999997,22087030209,"FALSE",0,0,71420211952,"Louisiana",152900,160400,1.0490516677566999,true,4,46710,70449,1.5082209377007101,"",0,19.600000000000001,9.1999999999999993,0.469387755102041,"",1,0,0,1,0,"NO","NO",4]
["St Bernard","Saint Bernard",301.02999999999997,22087030103,"FALSE",0,0,71420211953,"Louisiana",152900,0,0,"",0,46710,0,0,true,4,19.600000000000001,0,0,"",0,1,0,1,0,"NO","NO",4]
["St Bernard","Saint Bernard",301.04000000000002,22087030104,"FALSE",0,0,71420211954,"Louisiana",152900,0,0,"",0,46710,0,0,true,4,19.600000000000001,0,0,"",0,1,0,1,0,"NO","NO",4]
["St Bernard","Saint Bernard",301.05,22087030105,"FALSE",0,0,71420211955,"Louisiana",152900,0,0,"",{"$f":"IF(M1955=TRUE,4,0)","v":0},46710,0,0,true,{"$f":"IF(R1955=TRUE, 4,0)","v":4},19.600000000000001,0,0,"",0,1,0,1,0,"NO","NO",4]
["St Bernard","Violet",301.02999999999997,22087030103,"FALSE",0,0,71420211956,"Louisiana",152900,128800,0.84238064094179199,true,4,46710,36188,0.77473774352387104,"",0,19.600000000000001,23.4,1.19387755102041,"",1,0,0,1,0,"NO","NO",4]
["St Bernard","Violet",302.04000000000002,22087030204,"FALSE",0,0,71420211957,"Louisiana",152900,128800,0.84238064094179199,true,4,46710,36188,0.77473774352387104,"",0,19.600000000000001,23.4,1.19387755102041,"",1,0,0,1,0,"NO","NO",4]
["St Bernard","Violet",302.08,22087030208,"FALSE",0,0,71420211958,"Louisiana",152900,128800,0.84238064094179199,true,4,46710,36188,0.77473774352387104,"",0,19.600000000000001,23.4,1.19387755102041,"",1,0,0,1,0,"NO","NO",4]
["St Bernard","Violet",302.08999999999997,22087030209,"FALSE",0,0,71420211959,"Louisiana",152900,128800,0.84238064094179199,true,4,46710,36188,0.77473774352387104,"",0,19.600000000000001,23.4,1.19387755102041,"",1,0,0,1,0,"NO","NO",4]
["St Charles","Ama",275.01,22051027501,"FALSE",0,0,71420211960,"Louisiana",152900,154000,1.0071942446043201,true,null,46710,72955,1.56187111967459,"",null,19.600000000000001,9.4,0.47959183673469402,"",1,0,0,1,null,"NO","NO",0]
["St Charles","Ama",629,22089062900,"FALSE",0,0,71420211961,"Louisiana",152900,154000,1.0071942446043201,true,null,46710,72955,1.56187111967459,"",null,19.600000000000001,9.4,0.47959183673469402,"",1,0,0,1,null,"NO","NO",0]
["St Charles","Ama",630,22089063000,"FALSE",0,0,71420211962,"Louisiana",152900,154000,1.0071942446043201,true,null,46710,72955,1.56187111967459,"",null,19.600000000000001,9.4,0.47959183673469402,"",1,0,0,1,null,"NO","NO",0]
["St Charles","Boutte",628,22089062800,"FALSE",0,0,71420211963,"Louisiana",152900,153700,1.0052321778940501,true,null,46710,36250,0.77606508242346395,"",null,19.600000000000001,31.2,1.59183673469388,true,1,0,1,2,null,"NO","NO",0]
["St Charles","Boutte",632,22089063200,"FALSE",0,0,71420211964,"Louisiana",152900,153700,1.0052321778940501,true,null,46710,36250,0.77606508242346395,"",null,19.600000000000001,31.2,1.59183673469388,true,1,0,1,2,null,"NO","NO",0]
["St Charles","Destrehan",622,22089062200,"FALSE",0,0,71420211965,"Louisiana",152900,226600,1.4820143884892101,true,null,46710,88783,1.90072789552558,"",null,19.600000000000001,6.7,0.34183673469387799,"",1,0,0,1,null,"NO","NO",0]
["St Charles","Destrehan",623.01,22089062301,"FALSE",0,0,71420211966,"Louisiana",152900,226600,1.4820143884892101,true,null,46710,88783,1.90072789552558,"",null,19.600000000000001,6.7,0.34183673469387799,"",1,0,0,1,null,"NO","NO",0]
["St Charles","Destrehan",623.02,22089062302,"FALSE",0,0,71420211967,"Louisiana",152900,226600,1.4820143884892101,true,null,46710,88783,1.90072789552558,"",null,19.600000000000001,6.7,0.34183673469387799,"",1,0,0,1,null,"NO","NO",0]
["St Charles","Destrehan",624,22089062400,"FALSE",0,0,71420211968,"Louisiana",152900,226600,1.4820143884892101,true,null,46710,88783,1.90072789552558,"",null,19.600000000000001,6.7,0.34183673469387799,"",1,0,0,1,null,"NO","NO",0]
["St Charles","Hahnville",627,22089062700,"FALSE",0,0,71420211969,"Louisiana",152900,187000,1.22302158273381,true,null,46710,72630,1.55491329479769,"",null,19.600000000000001,8,0.40816326530612201,"",1,0,0,1,null,"NO","NO",0]
["St Charles","Luling",627,22089062700,"FALSE",0,0,71420211970,"Louisiana",152900,193800,1.26749509483322,true,null,46710,72632,1.5549561121815501,"",null,19.600000000000001,10.9,0.55612244897959195,"",1,0,0,1,null,"NO","NO",0]
["St Charles","Luling",628,22089062800,"FALSE",0,0,71420211971,"Louisiana",152900,193800,1.26749509483322,true,null,46710,72632,1.5549561121815501,"",null,19.600000000000001,10.9,0.55612244897959195,"",1,0,0,1,null,"NO","NO",0]
["St Charles","Luling",629,22089062900,"FALSE",0,0,71420211972,"Louisiana",152900,193800,1.26749509483322,true,null,46710,72632,1.5549561121815501,"",null,19.600000000000001,10.9,0.55612244897959195,"",1,0,0,1,null,"NO","NO",0]
["St Charles","Luling",631,22089063100,"FALSE",0,0,71420211973,"Louisiana",152900,193800,1.26749509483322,true,null,46710,72632,1.5549561121815501,"",null,19.600000000000001,10.9,0.55612244897959195,"",1,0,0,1,null,"NO","NO",0]
["St Charles","New Sarpy",624,22089062400,"FALSE",0,0,71420211974,"Louisiana",152900,108500,0.709614126880314,true,null,46710,27179,0.58186683793620197,true,null,19.600000000000001,29.8,1.5204081632653099,true,1,1,1,3,null,"NO","NO",0]
["St Charles","Norco",624,22089062400,"FALSE",0,0,71420211975,"Louisiana",152900,157500,1.0300850228907801,true,null,46710,66763,1.4293084992506999,"",null,19.600000000000001,7.7,0.39285714285714302,"",1,0,0,1,null,"NO","NO",0]
["St Charles","Norco",625,22089062500,"FALSE",0,0,71420211976,"Louisiana",152900,157500,1.0300850228907801,true,null,46710,66763,1.4293084992506999,"",null,19.600000000000001,7.7,0.39285714285714302,"",1,0,0,1,null,"NO","NO",0]
["St Charles","Paradis",632,22089063200,"FALSE",0,0,71420211977,"Louisiana",152900,155500,1.01700457815566,true,null,46710,75441,1.6150931278098899,"",null,19.600000000000001,7.1,0.36224489795918402,"",1,0,0,1,null,"NO","NO",0]
["St Charles","Saint Rose",621,22089062100,"FALSE",0,0,71420211978,"Louisiana",152900,0,0,"",null,46710,0,0,true,null,19.600000000000001,0,0,"",0,1,0,1,null,"NO","NO",0]
["St Charles","Saint Rose",622,22089062200,"FALSE",0,0,71420211979,"Louisiana",152900,0,0,"",null,46710,0,0,true,null,19.600000000000001,0,0,"",0,1,0,1,null,"NO","NO",0]
["St Charles","Saint Rose",624,22089062400,"FALSE",0,0,71420211980,"Louisiana",152900,0,0,"",null,46710,0,0,true,null,19.600000000000001,0,0,"",0,1,0,1,null,{"$f":"IF(AND(E1980=\"TRUE\",AA1980>1),\"YES\",\"NO\")","v":"NO"},{"$f":"IF(AND(F1980=1,AA1980>1), \"YES\",\"NO\")","v":"NO"},0]
["St Helena","Greensburg",9511,22091951100,"FALSE",0,0,71420211981,"Louisiana",152900,103600,0.67756703727926704,true,{"$f":"IF(M1981=TRUE,4,0)","v":4},46710,34792,0.74485120959109397,"",{"$f":"IF(R1981=TRUE, 4,0)","v":0},19.600000000000001,25.5,1.3010204081632699,"",1,0,0,1,{"$f":"IF(W1981=TRUE, 4,0)","v":0},"NO","NO",4]
["St Helena","Greensburg",9512,22091951200,"TRUE",1,4,71420211982,"Louisiana",152900,103600,0.67756703727926704,true,4,46710,34792,0.74485120959109397,"",0,19.600000000000001,25.5,1.3010204081632699,"",1,0,0,1,0,"NO","NO",8]
["St Helena","Pine Grove",402.02,22063040202,"FALSE",0,0,71420211983,"Louisiana",152900,0,0,"",0,46710,0,0,true,4,19.600000000000001,0,0,"",0,1,0,1,0,"NO","NO",4]
["St Helena","Pine Grove",9512,22091951200,"TRUE",1,4,71420211984,"Louisiana",152900,0,0,"",0,46710,0,0,true,4,19.600000000000001,0,0,"",0,1,0,1,0,"NO","NO",8]
["St James","Convent",404,22093040400,"FALSE",0,0,71420211985,"Louisiana",152900,133300,0.87181164159581404,true,4,46710,null,null,true,4,19.600000000000001,19.600000000000001,1,"",1,1,0,2,0,"NO","NO",8]
["St James","Gramercy",401,22093040100,"FALSE",0,0,71420211986,"Louisiana",152900,144800,0.94702419882276001,true,4,46710,48871,1.0462641832584001,"",0,19.600000000000001,22.3,1.1377551020408201,"",1,0,0,1,0,"NO","NO",4]
["St James","Gramercy",402,22093040200,"FALSE",0,{"$f":"IF(E1987=\"TRUE\",4,0)","v":0},71420211987,"Louisiana",152900,144800,0.94702419882276001,{"$f":"IF(L1987>=50%,TRUE,\"\")","v":true},4,46710,48871,1.0462641832584001,{"$f":"IF(Q1987<=65%,TRUE,\"\")","v":""},0,19.600000000000001,22.3,1.1377551020408201,{"$f":"IF(V1987>=1.5,TRUE,\"\")","v":""},{"$f":"IF(M1987=TRUE,1,0)","v":1},{"$f":"IF(R1987=TRUE,1,0)","v":0},{"$f":"IF(W1987=TRUE,1,0)","v":0},{"$f":"SUM(X1987:Z1987)","v":1},0,"NO","NO",{"$f":"+G1987+N1987+S1987+AB1987","v":4}]
["St James","Hester",404,22093040400,"FALSE",0,0,71420211988,"Louisiana",152900,304100,1.9888816219751499,true,4,46710,92143,1.97266110040677,"",0,19.600000000000001,0,0,"",1,0,0,1,0,"NO","NO",4]
["St James","Lutcher",401,22093040100,"FALSE",0,0,71420211989,"Louisiana",152900,126000,0.824068018312623,true,4,46710,49926,1.0688503532434199,"",0,19.600000000000001,10.1,0.51530612244898,"",1,0,0,1,0,"NO","NO",4]
["St James","Lutcher",402,22093040200,"FALSE",0,0,71420211990,"Louisiana",152900,126000,0.824068018312623,true,4,46710,49926,1.0688503532434199,"",0,19.600000000000001,10.1,0.51530612244898,"",1,0,0,1,0,"NO","NO",4]
["St James","Lutcher",403,22093040300,"FALSE",0,0,71420211991,"Louisiana",152900,126000,0.824068018312623,true,4,46710,49926,1.0688503532434199,"",0,19.600000000000001,10.1,0.51530612244898,"",1,0,0,1,0,"NO","NO",4]
["St James","Paulina",403,22093040300,"FALSE",0,0,71420211992,"Louisiana",152900,213200,1.3943754087639,true,4,46710,72721,1.5568614857632199,"",0,19.600000000000001,3,0.15306122448979601,"",1,0,0,1,0,"NO","NO",4]
["St James","Paulina",404,22093040400,"FALSE",0,0,71420211993,"Louisiana",152900,213200,1.3943754087639,true,4,46710,72721,1.5568614857632199,"",0,19.600000000000001,3,0.15306122448979601,"",1,0,0,1,0,"NO","NO",4]
["St James","Saint James",405,22093040500,"TRUE",0,4,71420211994,"Louisiana",152900,0,0,"",0,46710,0,0,true,4,19.600000000000001,0,0,"",0,1,0,1,0,"NO","NO",8]
["St James","Uncle Sam",404,22093040400,"FALSE",0,0,71420211995,"Louisiana",152900,0,0,"",0,46710,0,0,true,4,19.600000000000001,0,0,"",0,1,0,1,0,"NO","NO",4]
["St James","Vacherie",405,22093040500,"TRUE",0,4,71420211996,"Louisiana",152900,0,0,"",0,46710,0,0,true,4,19.600000000000001,0,0,"",0,1,0,1,0,"NO","NO",8]
["St James","Vacherie",406,22093040600,"FALSE",0,0,71420211997,"Louisiana",152900,0,0,"",0,46710,0,0,true,4,19.600000000000001,0,0,"",0,1,0,1,0,"NO","NO",4]
["St James","Vacherie",407,22093040700,"FALSE",0,0,71420211998,"Louisiana",152900,0,0,"",0,46710,0,0,true,4,19.600000000000001,0,0,"",0,1,0,1,0,"NO","NO",4]
["St James","Vacherie",711,22095071100,"FALSE",0,0,71420211999,"Louisiana",152900,0,0,"",0,46710,0,0,true,4,19.600000000000001,0,0,"",0,1,0,1,0,"NO","NO",4]
["St John the Baptist","Edgard",711,22095071100,"FALSE",0,0,71420212000,"Louisiana",152900,99900,0.65336821451929405,true,4,46710,45558,0.97533718689788096,"",0,19.600000000000001,29.4,1.5,true,1,0,1,2,4,"NO","NO",8]
["St John the Baptist","Garyville",706,22095070600,"TRUE",1,4,71420212001,"Louisiana",152900,121200,0.79267495094833196,true,4,46710,44469,0.95202312138728296,"",0,19.600000000000001,31.9,1.62755102040816,true,1,0,1,2,4,"YES","YES",12]
["St John the Baptist","Garyville",707,22095070700,"FALSE",0,0,71420212002,"Louisiana",152900,121200,0.79267495094833196,true,4,46710,44469,0.95202312138728296,"",0,19.600000000000001,31.9,1.62755102040816,true,1,0,1,2,4,"NO","NO",8]
["St John the Baptist","La Place",601,22089060100,"FALSE",0,0,71420212003,"Louisiana",152900,0,0,"",0,46710,0,0,true,4,19.600000000000001,0,0,"",0,1,0,1,0,"NO","NO",4]
["St John the Baptist","La Place",601,22089060100,"FALSE",0,0,71420212004,"Louisiana",152900,0,0,"",0,46710,0,0,true,4,19.600000000000001,0,0,"",0,1,0,1,0,"NO","NO",4]
["St John the Baptist","La Place",601,22089060100,"FALSE",0,0,71420212005,"Louisiana",152900,0,0,"",0,46710,0,0,true,4,19.600000000000001,0,0,"",0,1,0,1,0,"NO","NO",4]
["St John the Baptist","La Place",601,22089060100,"FALSE",0,0,71420212006,"Louisiana",152900,0,0,"",0,46710,0,0,true,4,19.600000000000001,0,0,"",0,1,0,1,0,"NO","NO",4]
["St John the Baptist","La Place",701,22095070100,"FALSE",0,0,71420212007,"Louisiana",152900,0,0,"",0,46710,0,0,true,4,19.600000000000001,0,0,"",0,1,0,1,0,"NO","NO",4]
["St John the Baptist","La Place",701,22095070100,"FALSE",0,0,71420212008,"Louisiana",152900,0,0,"",0,46710,0,0,true,4,19.600000000000001,0,0,"",0,1,0,1,0,"NO","NO",4]
["St John the Baptist","La Place",701,22095070100,"FALSE",0,0,71420212009,"Louisiana",152900,0,0,"",0,46710,0,0,true,4,19.600000000000001,0,0,"",0,1,0,1,0,"NO","NO",4]
["St John the Baptist","La Place",701,22095070100,"FALSE",0,0,71420212010,"Louisiana",152900,0,0,"",0,46710,0,0,true,4,19.600000000000001,0,0,"",0,1,0,1,0,"NO","NO",4]
["St John the Baptist","La Place",702,22095070200,"FALSE",0,0,71420212011,"Louisiana",152900,0,0,"",0,46710,0,0,true,4,19.600000000000001,0,0,"",0,1,0,1,0,"NO","NO",4]
["St John the Baptist","La Place",702,22095070200,"FALSE",0,0,71420212012,"Louisiana",152900,0,0,"",0,46710,0,0,true,4,19.600000000000001,0,0,"",0,1,0,1,0,"NO","NO",4]
["St John the Baptist","La Place",702,22095070200,"FALSE",0,0,71420212013,"Louisiana",152900,0,0,"",0,46710,0,0,true,4,19.600000000000001,0,0,"",0,1,0,1,0,"NO","NO",4]
["St John the Baptist","La Place",702,22095070200,"FALSE",0,0,71420212014,"Louisiana",152900,0,0,"",0,46710,0,0,true,4,19.600000000000001,0,0,"",0,1,0,1,0,"NO","NO",4]
["St John the Baptist","La Place",703,22095070300,"FALSE",0,0,71420212015,"Louisiana",152900,0,0,"",0,46710,0,0,true,4,19.600000000000001,0,0,"",0,1,0,1,0,"NO","NO",4]
["St John the Baptist","La Place",703,22095070300,"FALSE",0,0,71420212016,"Louisiana",152900,0,0,"",0,46710,0,0,true,4,19.600000000000001,0,0,"",0,1,0,1,0,"NO","NO",4]
["St John the Baptist","La Place",703,22095070300,"FALSE",0,0,71420212017,"Louisiana",152900,0,0,"",0,46710,0,0,true,4,19.600000000000001,0,0,"",0,1,0,1,0,"NO","NO",4]
["St John the Baptist","La Place",703,22095070300,"FALSE",0,0,71420212018,"Louisiana",152900,0,0,"",0,46710,0,0,true,4,19.600000000000001,0,0,"",0,1,0,1,0,"NO","NO",4]
["St John the Baptist","La Place",703,22095070300,"FALSE",0,0,71420212019,"Louisiana",152900,0,0,"",0,46710,0,0,true,4,19.600000000000001,0,0,"",0,1,0,1,0,"NO","NO",4]
["St John the Baptist","La Place",703,22095070300,"FALSE",0,0,71420212020,"Louisiana",152900,0,0,"",0,46710,0,0,true,4,19.600000000000001,0,0,"",0,1,0,1,0,"NO","NO",4]
["St John the Baptist","La Place",703,22095070300,"FALSE",0,0,71420212021,"Louisiana",152900,0,0,"",0,46710,0,0,true,4,19.600000000000001,0,0,"",0,1,0,1,0,"NO","NO",4]
["St John the Baptist","La Place",703,22095070300,"FALSE",0,0,71420212022,"Louisiana",152900,0,0,"",0,46710,0,0,true,4,19.600000000000001,0,0,"",0,1,0,1,0,"NO","NO",4]
["St John the Baptist","La Place",704,22095070400,"FALSE",0,0,71420212023,"Louisiana",152900,0,0,"",0,46710,0,0,true,4,19.600000000000001,0,0,"",0,1,0,1,0,"NO","NO",4]
["St John the Baptist","La Place",704,22095070400,"FALSE",0,0,71420212024,"Louisiana",152900,0,0,"",0,46710,0,0,true,4,19.600000000000001,0,0,"",0,1,0,1,0,"NO","NO",4]
["St John the Baptist","La Place",704,22095070400,"FALSE",0,0,71420212025,"Louisiana",152900,0,0,"",0,46710,0,0,true,4,19.600000000000001,0,0,"",0,1,0,1,0,"NO","NO",4]
["St John the Baptist","La Place",704,22095070400,"FALSE",0,0,71420212026,"Louisiana",152900,0,0,"",0,46710,0,0,true,4,19.600000000000001,0,0,"",0,1,0,1,0,"NO","NO",4]
["St John the Baptist","La Place",705,22095070500,"FALSE",0,0,71420212027,"Louisiana",152900,0,0,"",0,46710,0,0,true,4,19.600000000000001,0,0,"",0,1,0,1,0,"NO","NO",4]
["St John the Baptist","La Place",705,22095070500,"FALSE",0,0,71420212028,"Louisiana",152900,0,0,"",0,46710,0,0,true,4,19.600000000000001,0,0,"",0,1,0,1,0,"NO","NO",4]
["St John the Baptist","La Place",705,22095070500,"FALSE",0,0,71420212029,"Louisiana",152900,0,0,"",0,46710,0,0,true,4,19.600000000000001,0,0,"",0,1,0,1,0,"NO","NO",4]
["St John the Baptist","La Place",705,22095070500,"FALSE",0,0,71420212030,"Louisiana",152900,0,0,"",0,46710,0,0,true,4,19.600000000000001,0,0,"",0,1,0,1,0,"NO","NO",4]
["St John the Baptist","La Place",709,22095070900,"FALSE",0,0,71420212031,"Louisiana",152900,0,0,"",0,46710,0,0,true,4,19.600000000000001,0,0,"",0,1,0,1,0,"NO","NO",4]
["St John the Baptist","La Place",709,22095070900,"FALSE",0,0,71420212032,"Louisiana",152900,0,0,"",0,46710,0,0,true,4,19.600000000000001,0,0,"",0,1,0,1,0,"NO","NO",4]
["St John the Baptist","La Place",709,22095070900,"FALSE",0,0,71420212033,"Louisiana",152900,0,0,"",0,46710,0,0,true,4,19.600000000000001,0,0,"",0,1,0,1,0,"NO","NO",4]
["St John the Baptist","La Place",709,22095070900,"FALSE",0,0,71420212034,"Louisiana",152900,0,0,"",0,46710,0,0,true,4,19.600000000000001,0,0,"",0,1,0,1,0,"NO","NO",4]
["St John the Baptist","La Place",710,22095071000,"FALSE",0,0,71420212035,"Louisiana",152900,0,0,"",0,46710,0,0,true,4,19.600000000000001,0,0,"",0,1,0,1,0,"NO","NO",4]
["St John the Baptist","La Place",710,22095071000,"FALSE",0,0,71420212036,"Louisiana",152900,0,0,"",0,46710,0,0,true,4,19.600000000000001,0,0,"",0,1,0,1,0,"NO","NO",4]
["St John the Baptist","La Place",710,22095071000,"FALSE",0,0,71420212037,"Louisiana",152900,0,0,"",0,46710,0,0,true,4,19.600000000000001,0,0,"",0,1,0,1,0,"NO","NO",4]
["St John the Baptist","La Place",710,22095071000,"FALSE",0,0,71420212038,"Louisiana",152900,0,0,"",0,46710,0,0,true,4,19.600000000000001,0,0,"",0,1,0,1,0,"NO","NO",4]
["St John the Baptist","Mount Airy",706,22095070600,"TRUE",1,4,71420212039,"Louisiana",152900,0,0,"",0,46710,0,0,true,4,19.600000000000001,0,0,"",0,1,0,1,0,"NO","NO",8]
["St John the Baptist","Reserve",705,22095070500,"FALSE",0,0,71420212040,"Louisiana",152900,121000,0.79136690647482,true,4,46710,48300,1.03403982016699,"",0,19.600000000000001,20.100000000000001,1.02551020408163,"",1,0,0,1,0,"NO","NO",4]
["St John the Baptist","Reserve",706,22095070600,"FALSE",0,0,71420212041,"Louisiana",152900,121000,0.79136690647482,true,4,46710,48300,1.03403982016699,"",0,19.600000000000001,20.100000000000001,1.02551020408163,"",1,0,0,1,0,"NO","NO",4]
["St John the Baptist","Reserve",707,22095070700,"FALSE",0,0,71420212042,"Louisiana",152900,121000,0.79136690647482,true,4,46710,48300,1.03403982016699,"",0,19.600000000000001,20.100000000000001,1.02551020408163,"",1,0,0,1,0,"NO","NO",4]
["St John the Baptist","Reserve",708,22095070800,"FALSE",0,0,71420212043,"Louisiana",152900,121000,0.79136690647482,true,4,46710,48300,1.03403982016699,"",0,19.600000000000001,20.100000000000001,1.02551020408163,"",1,0,0,1,0,"NO","NO",4]
["St John the Baptist","Reserve",709,22095070900,"FALSE",0,0,71420212044,"Louisiana",152900,121000,0.79136690647482,true,4,46710,48300,1.03403982016699,"",0,19.600000000000001,20.100000000000001,1.02551020408163,"",1,0,0,1,0,{"$f":"IF(AND(E2044=\"TRUE\",AA2044>1),\"YES\",\"NO\")","v":"NO"},{"$f":"IF(AND(F2044=1,AA2044>1), \"YES\",\"NO\")","v":"NO"},4]
["St Landry","Arnaudville",9605,22097960500,"FALSE",0,0,71420212045,"Louisiana",152900,85500,0.55918901242642205,true,{"$f":"IF(M2045=TRUE,4,0)","v":4},46710,36731,0.78636266324127602,"",{"$f":"IF(R2045=TRUE, 4,0)","v":0},19.600000000000001,22.5,1.1479591836734699,"",1,0,0,1,{"$f":"IF(W2045=TRUE, 4,0)","v":0},"NO","NO",4]
["St Landry","Arnaudville",9617,22097961700,"FALSE",0,0,71420212046,"Louisiana",152900,85500,0.55918901242642205,true,4,46710,36731,0.78636266324127602,"",0,19.600000000000001,22.5,1.1479591836734699,"",1,0,0,1,0,"NO","NO",4]
["St Landry","Arnaudville",9618,22097961800,"FALSE",0,0,71420212047,"Louisiana",152900,85500,0.55918901242642205,true,4,46710,36731,0.78636266324127602,"",0,19.600000000000001,22.5,1.1479591836734699,"",1,0,0,1,0,"NO","NO",4]
["St Landry","Arnaudville",9619,22097961900,"FALSE",0,0,71420212048,"Louisiana",152900,85500,0.55918901242642205,true,4,46710,36731,0.78636266324127602,"",0,19.600000000000001,22.5,1.1479591836734699,"",1,0,0,1,0,"NO","NO",4]
["St Landry","Arnaudville",202,22099020200,"FALSE",0,0,71420212049,"Louisiana",152900,85500,0.55918901242642205,true,4,46710,36731,0.78636266324127602,"",0,19.600000000000001,22.5,1.1479591836734699,"",1,0,0,1,0,"NO","NO",4]
["St Landry","Grand Coteau",9614,22097961400,"FALSE",0,0,71420212050,"Louisiana",152900,88200,0.57684761281883601,true,4,46710,23125,0.49507600085634801,true,4,19.600000000000001,27.8,1.4183673469387801,"",1,1,0,2,0,"NO","NO",8]
["St Landry","Krotz Springs",9604,22097960400,"FALSE",0,{"$f":"IF(E2051=\"TRUE\",4,0)","v":0},71420212051,"Louisiana",152900,64100,0.419228253760628,{"$f":"IF(L2051>=50%,TRUE,\"\")","v":""},0,46710,17076,0.365574823378292,{"$f":"IF(Q2051<=65%,TRUE,\"\")","v":true},4,19.600000000000001,41.2,2.1020408163265301,{"$f":"IF(V2051>=1.5,TRUE,\"\")","v":true},{"$f":"IF(M2051=TRUE,1,0)","v":0},{"$f":"IF(R2051=TRUE,1,0)","v":1},{"$f":"IF(W2051=TRUE,1,0)","v":1},{"$f":"SUM(X2051:Z2051)","v":2},4,"NO","NO",{"$f":"+G2051+N2051+S2051+AB2051","v":8}]
["St Landry","Lawtell",9607,22097960700,"FALSE",0,0,71420212052,"Louisiana",152900,101300,0.662524525833878,true,4,46710,42500,0.90986940697923402,"",0,19.600000000000001,16.600000000000001,0.84693877551020402,"",1,0,0,1,0,"NO","NO",4]
["St Landry","Lebeau",9603,22097960300,"FALSE",0,0,71420212053,"Louisiana",152900,0,0,"",0,46710,0,0,true,4,19.600000000000001,0,0,"",0,1,0,1,0,"NO","NO",4]
["St Landry","Leonville",9614,22097961400,"FALSE",0,0,71420212054,"Louisiana",152900,80000,0.52321778940483998,true,4,46710,35938,0.76938557054164003,"",0,19.600000000000001,19.600000000000001,1,"",1,0,0,1,0,"NO","NO",4]
["St Landry","Melville",309,22009030900,"FALSE",0,0,71420212055,"Louisiana",152900,59100,0.386527141922825,"",0,46710,22500,0.48169556840077099,true,4,19.600000000000001,37,1.8877551020408201,true,0,1,1,2,4,"NO","NO",8]
["St Landry","Melville",9601,22097960100,"TRUE",1,4,71420212056,"Louisiana",152900,59100,0.386527141922825,"",0,46710,22500,0.48169556840077099,true,4,19.600000000000001,37,1.8877551020408201,true,0,1,1,2,4,"YES","YES",12]
["St Landry","Melville",9604,22097960400,"FALSE",0,0,71420212057,"Louisiana",152900,59100,0.386527141922825,"",0,46710,22500,0.48169556840077099,true,4,19.600000000000001,37,1.8877551020408201,true,0,1,1,2,4,"NO","NO",8]
["St Landry","Morrow",308,22009030800,"FALSE",0,0,71420212058,"Louisiana",152900,0,0,"",0,46710,0,0,true,4,19.600000000000001,0,0,"",0,1,0,1,0,"NO","NO",4]
["St Landry","Morrow",9601,22097960100,"TRUE",1,4,71420212059,"Louisiana",152900,0,0,"",0,46710,0,0,true,4,19.600000000000001,0,0,"",0,1,0,1,0,"NO","NO",8]
["St Landry","Opelousas",9508,22039950800,"FALSE",0,0,71420212060,"Louisiana",152900,94100,0.61543492478744299,true,4,46710,20005,0.42828088203810699,true,4,19.600000000000001,45.3,2.31122448979592,true,1,1,1,3,4,"NO","NO",12]
["St Landry","Opelousas",9602,22097960200,"FALSE",0,0,71420212061,"Louisiana",152900,94100,0.61543492478744299,true,4,46710,20005,0.42828088203810699,true,4,19.600000000000001,45.3,2.31122448979592,true,1,1,1,3,4,"NO","NO",12]
["St Landry","Opelousas",9605,22097960500,"FALSE",0,0,71420212062,"Louisiana",152900,94100,0.61543492478744299,true,4,46710,20005,0.42828088203810699,true,4,19.600000000000001,45.3,2.31122448979592,true,1,1,1,3,4,"NO","NO",12]
["St Landry","Opelousas",9606,22097960600,"TRUE",1,4,71420212063,"Louisiana",152900,94100,0.61543492478744299,true,4,46710,20005,0.42828088203810699,true,4,19.600000000000001,45.3,2.31122448979592,true,1,1,1,3,4,"YES","YES",16]
["St Landry","Opelousas",9607,22097960700,"FALSE",0,0,71420212064,"Louisiana",152900,94100,0.61543492478744299,true,4,46710,20005,0.42828088203810699,true,4,19.600000000000001,45.3,2.31122448979592,true,1,1,1,3,4,"NO","NO",12]
["St Landry","Opelousas",9612,22097961200,"FALSE",0,0,71420212065,"Louisiana",152900,94100,0.61543492478744299,true,4,46710,20005,0.42828088203810699,true,4,19.600000000000001,45.3,2.31122448979592,true,1,1,1,3,4,"NO","NO",12]
["St Landry","Opelousas",9613,22097961300,"TRUE",1,4,71420212066,"Louisiana",152900,94100,0.61543492478744299,true,4,46710,20005,0.42828088203810699,true,4,19.600000000000001,45.3,2.31122448979592,true,1,1,1,3,4,"YES","YES",16]
["St Landry","Opelousas",9614,22097961400,"TRUE",1,4,71420212067,"Louisiana",152900,94100,0.61543492478744299,true,4,46710,20005,0.42828088203810699,true,4,19.600000000000001,45.3,2.31122448979592,true,1,1,1,3,4,"YES","YES",16]
["St Landry","Opelousas",9614,22097961400,"TRUE",1,4,71420212068,"Louisiana",152900,94100,0.61543492478744299,true,4,46710,20005,0.42828088203810699,true,4,19.600000000000001,45.3,2.31122448979592,true,1,1,1,3,4,"YES","YES",16]
["St Landry","Opelousas",9615,22097961500,"FALSE",0,0,71420212069,"Louisiana",152900,94100,0.61543492478744299,true,4,46710,20005,0.42828088203810699,true,4,19.600000000000001,45.3,2.31122448979592,true,1,1,1,3,4,"NO","NO",12]
["St Landry","Opelousas",9616,22097961600,"TRUE",1,4,71420212070,"Louisiana",152900,94100,0.61543492478744299,true,4,46710,20005,0.42828088203810699,true,4,19.600000000000001,45.3,2.31122448979592,true,1,1,1,3,4,"YES","YES",16]
["St Landry","Opelousas",9617,22097961700,"FALSE",0,0,71420212071,"Louisiana",152900,94100,0.61543492478744299,true,4,46710,20005,0.42828088203810699,true,4,19.600000000000001,45.3,2.31122448979592,true,1,1,1,3,4,"NO","NO",12]
["St Landry","Opelousas",9619,22097961900,"FALSE",0,0,71420212072,"Louisiana",152900,94100,0.61543492478744299,true,4,46710,20005,0.42828088203810699,true,4,19.600000000000001,45.3,2.31122448979592,true,1,1,1,3,4,"NO","NO",12]
["St Landry","Palmetto",9601,22097960100,"TRUE",1,4,71420212073,"Louisiana",152900,75000,0.49051667756703698,"",0,46710,30938,0.66234211089702399,"",0,19.600000000000001,5.7,0.29081632653061201,"",0,0,0,0,0,"NO","NO",4]
["St Landry","Palmetto",9603,22097960300,"FALSE",0,0,71420212074,"Louisiana",152900,75000,0.49051667756703698,"",0,46710,30938,0.66234211089702399,"",0,19.600000000000001,5.7,0.29081632653061201,"",0,0,0,0,0,"NO","NO",0]
["St Landry","Palmetto",9604,22097960400,"FALSE",0,0,71420212075,"Louisiana",152900,75000,0.49051667756703698,"",0,46710,30938,0.66234211089702399,"",0,19.600000000000001,5.7,0.29081632653061201,"",0,0,0,0,0,"NO","NO",0]
["St Landry","Port Barre",9603,22097960300,"FALSE",0,0,71420212076,"Louisiana",152900,77800,0.50882930019620698,true,4,46710,23938,0.51248126739456201,true,4,19.600000000000001,42.2,2.1530612244898002,true,1,1,1,3,4,"NO","NO",12]
["St Landry","Port Barre",9604,22097960400,"FALSE",0,0,71420212077,"Louisiana",152900,77800,0.50882930019620698,true,4,46710,23938,0.51248126739456201,true,4,19.600000000000001,42.2,2.1530612244898002,true,1,1,1,3,4,"NO","NO",12]
["St Landry","Port Barre",9605,22097960500,"FALSE",0,0,71420212078,"Louisiana",152900,77800,0.50882930019620698,true,4,46710,23938,0.51248126739456201,true,4,19.600000000000001,42.2,2.1530612244898002,true,1,1,1,3,4,"NO","NO",12]
["St Landry","Port Barre",9606,22097960600,"TRUE",1,4,71420212079,"Louisiana",152900,77800,0.50882930019620698,true,4,46710,23938,0.51248126739456201,true,4,19.600000000000001,42.2,2.1530612244898002,true,1,1,1,3,4,"YES","YES",16]
["St Landry","Port Barre",9617,22097961700,"FALSE",0,0,71420212080,"Louisiana",152900,77800,0.50882930019620698,true,4,46710,23938,0.51248126739456201,true,4,19.600000000000001,42.2,2.1530612244898002,true,1,1,1,3,4,"NO","NO",12]
["St Landry","Sunset",9612,22097961200,"FALSE",0,0,71420212081,"Louisiana",152900,147600,0.96533682145192901,true,4,46710,34722,0.74335260115606905,"",0,19.600000000000001,30.1,1.53571428571429,true,1,0,1,2,4,"NO","NO",8]
["St Landry","Sunset",9617,22097961700,"FALSE",0,0,71420212082,"Louisiana",152900,147600,0.96533682145192901,true,4,46710,34722,0.74335260115606905,"",0,19.600000000000001,30.1,1.53571428571429,true,1,0,1,2,4,"NO","NO",8]
["St Landry","Sunset",9618,22097961800,"FALSE",0,0,71420212083,"Louisiana",152900,147600,0.96533682145192901,true,4,46710,34722,0.74335260115606905,"",0,19.600000000000001,30.1,1.53571428571429,true,1,0,1,2,4,"NO","NO",8]
["St Landry","Sunset",9619,22097961900,"FALSE",0,0,71420212084,"Louisiana",152900,147600,0.96533682145192901,true,4,46710,34722,0.74335260115606905,"",0,19.600000000000001,30.1,1.53571428571429,true,1,0,1,2,4,"NO","NO",8]
["St Landry","Washington",9507,22039950700,"FALSE",0,0,71420212085,"Louisiana",152900,110900,0.72531066056245896,true,4,46710,21250,0.45493470348961701,true,4,19.600000000000001,44.7,2.2806122448979602,true,1,1,1,3,4,"NO","NO",12]
["St Landry","Washington",9601,22097960100,"FALSE",0,0,71420212086,"Louisiana",152900,110900,0.72531066056245896,true,4,46710,21250,0.45493470348961701,true,4,19.600000000000001,44.7,2.2806122448979602,true,1,1,1,3,4,"NO","NO",12]
["St Landry","Washington",9602,22097960200,"FALSE",0,0,71420212087,"Louisiana",152900,110900,0.72531066056245896,true,4,46710,21250,0.45493470348961701,true,4,19.600000000000001,44.7,2.2806122448979602,true,1,1,1,3,4,"NO","NO",12]
["St Landry","Washington",9603,22097960300,"FALSE",0,0,71420212088,"Louisiana",152900,110900,0.72531066056245896,true,4,46710,21250,0.45493470348961701,true,4,19.600000000000001,44.7,2.2806122448979602,true,1,1,1,3,4,"NO","NO",12]
["St Landry","Washington",9606,22097960600,"TRUE",1,4,71420212089,"Louisiana",152900,110900,0.72531066056245896,true,4,46710,21250,0.45493470348961701,true,4,19.600000000000001,44.7,2.2806122448979602,true,1,1,1,3,4,"YES","YES",16]
["St Martin","Breaux Bridge",12,22055001200,"FALSE",0,0,71420212090,"Louisiana",152900,169300,1.1072596468279901,true,4,46710,36743,0.78661956754442297,"",0,19.600000000000001,25.3,1.2908163265306101,"",1,0,0,1,0,"NO","NO",4]
["St Martin","Breaux Bridge",21.04,22055002104,"FALSE",0,0,71420212091,"Louisiana",152900,169300,1.1072596468279901,true,4,46710,36743,0.78661956754442297,"",0,19.600000000000001,25.3,1.2908163265306101,"",1,0,0,1,0,"NO","NO",4]
["St Martin","Breaux Bridge",201,22099020100,"FALSE",0,0,71420212092,"Louisiana",152900,169300,1.1072596468279901,true,4,46710,36743,0.78661956754442297,"",0,19.600000000000001,25.3,1.2908163265306101,"",1,0,0,1,0,"NO","NO",4]
["St Martin","Breaux Bridge",202,22099020200,"FALSE",0,0,71420212093,"Louisiana",152900,169300,1.1072596468279901,true,4,46710,36743,0.78661956754442297,"",0,19.600000000000001,25.3,1.2908163265306101,"",1,0,0,1,0,"NO","NO",4]
["St Martin","Breaux Bridge",203.01,22099020301,"FALSE",0,0,71420212094,"Louisiana",152900,169300,1.1072596468279901,true,4,46710,36743,0.78661956754442297,"",0,19.600000000000001,25.3,1.2908163265306101,"",1,0,0,1,0,"NO","NO",4]
["St Martin","Breaux Bridge",203.02,22099020302,"FALSE",0,0,71420212095,"Louisiana",152900,169300,1.1072596468279901,true,4,46710,36743,0.78661956754442297,"",0,19.600000000000001,25.3,1.2908163265306101,"",1,0,0,1,0,"NO","NO",4]
["St Martin","Breaux Bridge",204,22099020400,"FALSE",0,0,71420212096,"Louisiana",152900,169300,1.1072596468279901,true,4,46710,36743,0.78661956754442297,"",0,19.600000000000001,25.3,1.2908163265306101,"",1,0,0,1,0,"NO","NO",4]
["St Martin","Breaux Bridge",205.01,22099020501,"TRUE",0,4,71420212097,"Louisiana",152900,169300,1.1072596468279901,true,4,46710,36743,0.78661956754442297,"",0,19.600000000000001,25.3,1.2908163265306101,"",1,0,0,1,0,"NO","NO",8]
["St Martin","Breaux Bridge",205.02,22099020502,"FALSE",0,0,71420212098,"Louisiana",152900,169300,1.1072596468279901,true,4,46710,36743,0.78661956754442297,"",0,19.600000000000001,25.3,1.2908163265306101,"",1,0,0,1,0,"NO","NO",4]
["St Martin","Cade",209,22099020900,"FALSE",0,0,71420212099,"Louisiana",152900,56100,0.36690647482014399,"",0,46710,42241,0.90432455576964199,"",0,19.600000000000001,12.9,0.65816326530612201,"",0,0,0,0,0,"NO","NO",0]
["St Martin","Cecilia",202,22099020200,"FALSE",0,0,71420212100,"Louisiana",152900,102100,0.66775670372792695,true,4,46710,51350,1.0993363305502,"",0,19.600000000000001,13.3,0.67857142857142905,"",1,0,0,1,0,"NO","NO",4]
["St Martin","Saint Martinville",302,22045030200,"FALSE",0,0,71420212101,"Louisiana",152900,0,0,"",0,46710,0,0,true,4,19.600000000000001,0,0,"",0,1,0,1,0,"NO","NO",4]
["St Martin","Saint Martinville",201,22099020100,"FALSE",0,0,71420212102,"Louisiana",152900,0,0,"",0,46710,0,0,true,4,19.600000000000001,0,0,"",0,1,0,1,0,"NO","NO",4]
["St Martin","Saint Martinville",203.02,22099020302,"FALSE",0,0,71420212103,"Louisiana",152900,0,0,"",0,46710,0,0,true,4,19.600000000000001,0,0,"",0,1,0,1,0,"NO","NO",4]
["St Martin","Saint Martinville",204,22099020400,"FALSE",0,0,71420212104,"Louisiana",152900,0,0,"",0,46710,0,0,true,4,19.600000000000001,0,0,"",0,1,0,1,0,"NO","NO",4]
["St Martin","Saint Martinville",205.01,22099020501,"TRUE",0,4,71420212105,"Louisiana",152900,0,0,"",0,46710,0,0,true,4,19.600000000000001,0,0,"",0,1,0,1,0,"NO","NO",8]
["St Martin","Saint Martinville",206,22099020600,"FALSE",0,0,71420212106,"Louisiana",152900,0,0,"",0,46710,0,0,true,4,19.600000000000001,0,0,"",0,1,0,1,0,"NO","NO",4]
["St Martin","Saint Martinville",208,22099020800,"FALSE",0,0,71420212107,"Louisiana",152900,0,0,"",0,46710,0,0,true,4,19.600000000000001,0,0,"",0,1,0,1,0,"NO","NO",4]
["St Martin","Saint Martinville",209,22099020900,"FALSE",0,0,71420212108,"Louisiana",152900,0,0,"",0,46710,0,0,true,4,19.600000000000001,0,0,"",0,1,0,1,0,{"$f":"IF(AND(E2108=\"TRUE\",AA2108>1),\"YES\",\"NO\")","v":"NO"},{"$f":"IF(AND(F2108=1,AA2108>1), \"YES\",\"NO\")","v":"NO"},4]
["St Mary","Amelia",401,22101040100,"FALSE",0,0,71420212109,"Louisiana",152900,36200,0.23675604970569,"",{"$f":"IF(M2109=TRUE,4,0)","v":0},46710,29638,0.634510811389424,true,{"$f":"IF(R2109=TRUE, 4,0)","v":4},19.600000000000001,27.5,1.4030612244898,"",0,1,0,1,{"$f":"IF(W2109=TRUE, 4,0)","v":0},"NO","NO",4]
["St Mary","Baldwin",410,22101041000,"FALSE",0,0,71420212110,"Louisiana",152900,58800,0.38456507521255701,"",0,46710,38333,0.820659387711411,"",0,19.600000000000001,22.1,1.12755102040816,"",0,0,0,0,0,"NO","NO",0]
["St Mary","Baldwin",412,22101041200,"FALSE",0,0,71420212111,"Louisiana",152900,58800,0.38456507521255701,"",0,46710,38333,0.820659387711411,"",0,19.600000000000001,22.1,1.12755102040816,"",0,0,0,0,0,"NO","NO",0]
["St Mary","Berwick",405,22101040500,"FALSE",0,0,71420212112,"Louisiana",152900,108700,0.71092217135382596,true,4,46710,42378,0.907257546563905,"",0,19.600000000000001,21.3,1.08673469387755,"",1,0,0,1,0,"NO","NO",4]
["St Mary","Centerville",415,22101041500,"FALSE",0,0,71420212113,"Louisiana",152900,0,0,"",0,46710,0,0,true,4,19.600000000000001,0,0,"",0,1,0,1,0,"NO","NO",4]
["St Mary","Charenton",410,22101041000,"FALSE",0,0,71420212114,"Louisiana",152900,90000,0.58862001308044498,true,4,46710,37470,0.80218368657674999,"",0,19.600000000000001,11.5,0.58673469387755095,"",1,0,0,1,0,"NO","NO",4]
["St Mary","Franklin",409,22101040900,"FALSE",0,{"$f":"IF(E2115=\"TRUE\",4,0)","v":0},71420212115,"Louisiana",152900,77000,0.50359712230215803,{"$f":"IF(L2115>=50%,TRUE,\"\")","v":true},4,46710,37850,0.81031898950974102,{"$f":"IF(Q2115<=65%,TRUE,\"\")","v":""},0,19.600000000000001,24.4,1.24489795918367,{"$f":"IF(V2115>=1.5,TRUE,\"\")","v":""},{"$f":"IF(M2115=TRUE,1,0)","v":1},{"$f":"IF(R2115=TRUE,1,0)","v":0},{"$f":"IF(W2115=TRUE,1,0)","v":0},{"$f":"SUM(X2115:Z2115)","v":1},0,"NO","NO",{"$f":"+G2115+N2115+S2115+AB2115","v":4}]
["St Mary","Franklin",410,22101041000,"FALSE",0,0,71420212116,"Louisiana",152900,77000,0.50359712230215803,true,4,46710,37850,0.81031898950974102,"",0,19.600000000000001,24.4,1.24489795918367,"",1,0,0,1,0,"NO","NO",4]
["St Mary","Franklin",411,22101041100,"FALSE",0,0,71420212117,"Louisiana",152900,77000,0.50359712230215803,true,4,46710,37850,0.81031898950974102,"",0,19.600000000000001,24.4,1.24489795918367,"",1,0,0,1,0,"NO","NO",4]
["St Mary","Franklin",412,22101041200,"FALSE",0,0,71420212118,"Louisiana",152900,77000,0.50359712230215803,true,4,46710,37850,0.81031898950974102,"",0,19.600000000000001,24.4,1.24489795918367,"",1,0,0,1,0,"NO","NO",4]
["St Mary","Franklin",413,22101041300,"FALSE",0,0,71420212119,"Louisiana",152900,77000,0.50359712230215803,true,4,46710,37850,0.81031898950974102,"",0,19.600000000000001,24.4,1.24489795918367,"",1,0,0,1,0,"NO","NO",4]
["St Mary","Franklin",414,22101041400,"FALSE",0,0,71420212120,"Louisiana",152900,77000,0.50359712230215803,true,4,46710,37850,0.81031898950974102,"",0,19.600000000000001,24.4,1.24489795918367,"",1,0,0,1,0,"NO","NO",4]
["St Mary","Franklin",415,22101041500,"FALSE",0,0,71420212121,"Louisiana",152900,77000,0.50359712230215803,true,4,46710,37850,0.81031898950974102,"",0,19.600000000000001,24.4,1.24489795918367,"",1,0,0,1,0,"NO","NO",4]
["St Mary","Franklin",416,22101041600,"TRUE",1,4,71420212122,"Louisiana",152900,77000,0.50359712230215803,true,4,46710,37850,0.81031898950974102,"",0,19.600000000000001,24.4,1.24489795918367,"",1,0,0,1,0,"NO","NO",8]
["St Mary","Garden City",409,22101040900,"FALSE",0,0,71420212123,"Louisiana",152900,0,0,"",0,46710,0,0,true,4,19.600000000000001,0,0,"",0,1,0,1,0,"NO","NO",4]
["St Mary","Morgan City",506,22007050600,"FALSE",0,0,71420212124,"Louisiana",152900,131400,0.85938521909744903,true,4,46710,42483,0.90950545921644199,"",0,19.600000000000001,16.7,0.85204081632653095,"",1,0,0,1,0,"NO","NO",4]
["St Mary","Morgan City",210,22099021000,"FALSE",0,0,71420212125,"Louisiana",152900,131400,0.85938521909744903,true,4,46710,42483,0.90950545921644199,"",0,19.600000000000001,16.7,0.85204081632653095,"",1,0,0,1,0,"NO","NO",4]
["St Mary","Morgan City",401,22101040100,"FALSE",0,0,71420212126,"Louisiana",152900,131400,0.85938521909744903,true,4,46710,42483,0.90950545921644199,"",0,19.600000000000001,16.7,0.85204081632653095,"",1,0,0,1,0,"NO","NO",4]
["St Mary","Morgan City",402,22101040200,"FALSE",0,0,71420212127,"Louisiana",152900,131400,0.85938521909744903,true,4,46710,42483,0.90950545921644199,"",0,19.600000000000001,16.7,0.85204081632653095,"",1,0,0,1,0,"NO","NO",4]
["St Mary","Morgan City",402,22101040200,"FALSE",0,0,71420212128,"Louisiana",152900,131400,0.85938521909744903,true,4,46710,42483,0.90950545921644199,"",0,19.600000000000001,16.7,0.85204081632653095,"",1,0,0,1,0,"NO","NO",4]
["St Mary","Morgan City",403,22101040300,"FALSE",0,0,71420212129,"Louisiana",152900,131400,0.85938521909744903,true,4,46710,42483,0.90950545921644199,"",0,19.600000000000001,16.7,0.85204081632653095,"",1,0,0,1,0,"NO","NO",4]
["St Mary","Morgan City",403,22101040300,"FALSE",0,0,71420212130,"Louisiana",152900,131400,0.85938521909744903,true,4,46710,42483,0.90950545921644199,"",0,19.600000000000001,16.7,0.85204081632653095,"",1,0,0,1,0,"NO","NO",4]
["St Mary","Morgan City",404,22101040400,"FALSE",0,0,71420212131,"Louisiana",152900,131400,0.85938521909744903,true,4,46710,42483,0.90950545921644199,"",0,19.600000000000001,16.7,0.85204081632653095,"",1,0,0,1,0,"NO","NO",4]
["St Mary","Morgan City",405,22101040500,"FALSE",0,0,71420212132,"Louisiana",152900,131400,0.85938521909744903,true,4,46710,42483,0.90950545921644199,"",0,19.600000000000001,16.7,0.85204081632653095,"",1,0,0,1,0,"NO","NO",4]
["St Mary","Morgan City",406,22101040600,"FALSE",0,0,71420212133,"Louisiana",152900,131400,0.85938521909744903,true,4,46710,42483,0.90950545921644199,"",0,19.600000000000001,16.7,0.85204081632653095,"",1,0,0,1,0,"NO","NO",4]
["St Mary","Patterson",406,22101040600,"FALSE",0,0,71420212134,"Louisiana",152900,100500,0.65729234793983005,true,4,46710,45676,0.97786341254549303,"",0,19.600000000000001,17.100000000000001,0.87244897959183698,"",1,0,0,1,0,"NO","NO",4]
["St Mary","Patterson",407,22101040700,"FALSE",0,0,71420212135,"Louisiana",152900,100500,0.65729234793983005,true,4,46710,45676,0.97786341254549303,"",0,19.600000000000001,17.100000000000001,0.87244897959183698,"",1,0,0,1,0,"NO","NO",4]
["St Mary","Patterson",408,22101040800,"FALSE",0,0,71420212136,"Louisiana",152900,100500,0.65729234793983005,true,4,46710,45676,0.97786341254549303,"",0,19.600000000000001,17.100000000000001,0.87244897959183698,"",1,0,0,1,0,"NO","NO",4]
["St Tammany","Abita Springs",401.02,22103040102,"FALSE",0,0,71420212137,"Louisiana",152900,193800,1.26749509483322,true,4,46710,58264,1.24735602654678,"",0,19.600000000000001,8.1,0.41326530612244899,"",1,0,0,1,0,"NO","NO",4]
["St Tammany","Abita Springs",401.04,22103040104,"FALSE",0,0,71420212138,"Louisiana",152900,193800,1.26749509483322,true,4,46710,58264,1.24735602654678,"",0,19.600000000000001,8.1,0.41326530612244899,"",1,0,0,1,0,"NO","NO",4]
["St Tammany","Abita Springs",405.02,22103040502,"FALSE",0,0,71420212139,"Louisiana",152900,193800,1.26749509483322,true,4,46710,58264,1.24735602654678,"",0,19.600000000000001,8.1,0.41326530612244899,"",1,0,0,1,0,"NO","NO",4]
["St Tammany","Abita Springs",406.04,22103040604,"FALSE",0,0,71420212140,"Louisiana",152900,193800,1.26749509483322,true,4,46710,58264,1.24735602654678,"",0,19.600000000000001,8.1,0.41326530612244899,"",1,0,0,1,0,"NO","NO",4]
["St Tammany","Abita Springs",406.05,22103040605,"FALSE",0,0,71420212141,"Louisiana",152900,193800,1.26749509483322,true,4,46710,58264,1.24735602654678,"",0,19.600000000000001,8.1,0.41326530612244899,"",1,0,0,1,0,"NO","NO",4]
["St Tammany","Abita Springs",407.01,22103040701,"FALSE",0,0,71420212142,"Louisiana",152900,193800,1.26749509483322,true,4,46710,58264,1.24735602654678,"",0,19.600000000000001,8.1,0.41326530612244899,"",1,0,0,1,0,"NO","NO",4]
["St Tammany","Bush",401.02,22103040102,"FALSE",0,0,71420212143,"Louisiana",152900,0,0,"",0,46710,0,0,true,4,19.600000000000001,0,0,"",0,1,0,1,0,"NO","NO",4]
["St Tammany","Bush",401.03,22103040103,"FALSE",0,0,71420212144,"Louisiana",152900,0,0,"",0,46710,0,0,true,4,19.600000000000001,0,0,"",0,1,0,1,0,"NO","NO",4]
["St Tammany","Bush",401.04,22103040104,"FALSE",0,0,71420212145,"Louisiana",152900,0,0,"",0,46710,0,0,true,4,19.600000000000001,0,0,"",0,1,0,1,0,"NO","NO",4]
["St Tammany","Covington",401.02,22103040102,"FALSE",0,0,71420212146,"Louisiana",152900,210300,1.37540876389797,true,4,46710,57438,1.2296724470134901,"",0,19.600000000000001,13,0.66326530612244905,"",1,0,0,1,0,"NO","NO",4]
["St Tammany","Covington",401.03,22103040103,"FALSE",0,0,71420212147,"Louisiana",152900,210300,1.37540876389797,true,4,46710,57438,1.2296724470134901,"",0,19.600000000000001,13,0.66326530612244905,"",1,0,0,1,0,"NO","NO",4]
["St Tammany","Covington",401.04,22103040104,"FALSE",0,0,71420212148,"Louisiana",152900,210300,1.37540876389797,true,4,46710,57438,1.2296724470134901,"",0,19.600000000000001,13,0.66326530612244905,"",1,0,0,1,0,"NO","NO",4]
["St Tammany","Covington",402.01,22103040201,"FALSE",0,0,71420212149,"Louisiana",152900,210300,1.37540876389797,true,4,46710,57438,1.2296724470134901,"",0,19.600000000000001,13,0.66326530612244905,"",1,0,0,1,0,"NO","NO",4]
["St Tammany","Covington",402.01,22103040201,"FALSE",0,0,71420212150,"Louisiana",152900,210300,1.37540876389797,true,4,46710,57438,1.2296724470134901,"",0,19.600000000000001,13,0.66326530612244905,"",1,0,0,1,0,"NO","NO",4]
["St Tammany","Covington",402.02,22103040202,"FALSE",0,0,71420212151,"Louisiana",152900,210300,1.37540876389797,true,4,46710,57438,1.2296724470134901,"",0,19.600000000000001,13,0.66326530612244905,"",1,0,0,1,0,"NO","NO",4]
["St Tammany","Covington",402.02,22103040202,"FALSE",0,0,71420212152,"Louisiana",152900,210300,1.37540876389797,true,4,46710,57438,1.2296724470134901,"",0,19.600000000000001,13,0.66326530612244905,"",1,0,0,1,0,"NO","NO",4]
["St Tammany","Covington",403.04,22103040304,"FALSE",0,0,71420212153,"Louisiana",152900,210300,1.37540876389797,true,4,46710,57438,1.2296724470134901,"",0,19.600000000000001,13,0.66326530612244905,"",1,0,0,1,0,"NO","NO",4]
["St Tammany","Covington",403.05,22103040305,"FALSE",0,0,71420212154,"Louisiana",152900,210300,1.37540876389797,true,4,46710,57438,1.2296724470134901,"",0,19.600000000000001,13,0.66326530612244905,"",1,0,0,1,0,"NO","NO",4]
["St Tammany","Covington",403.05,22103040305,"FALSE",0,0,71420212155,"Louisiana",152900,210300,1.37540876389797,true,4,46710,57438,1.2296724470134901,"",0,19.600000000000001,13,0.66326530612244905,"",1,0,0,1,0,"NO","NO",4]
["St Tammany","Covington",404,22103040400,"FALSE",0,0,71420212156,"Louisiana",152900,210300,1.37540876389797,true,4,46710,57438,1.2296724470134901,"",0,19.600000000000001,13,0.66326530612244905,"",1,0,0,1,0,"NO","NO",4]
["St Tammany","Covington",404,22103040400,"FALSE",0,0,71420212157,"Louisiana",152900,210300,1.37540876389797,true,4,46710,57438,1.2296724470134901,"",0,19.600000000000001,13,0.66326530612244905,"",1,0,0,1,0,"NO","NO",4]
["St Tammany","Covington",405.01,22103040501,"FALSE",0,0,71420212158,"Louisiana",152900,210300,1.37540876389797,true,4,46710,57438,1.2296724470134901,"",0,19.600000000000001,13,0.66326530612244905,"",1,0,0,1,0,"NO","NO",4]
["St Tammany","Covington",405.01,22103040501,"FALSE",0,0,71420212159,"Louisiana",152900,210300,1.37540876389797,true,4,46710,57438,1.2296724470134901,"",0,19.600000000000001,13,0.66326530612244905,"",1,0,0,1,0,"NO","NO",4]
["St Tammany","Covington",405.01,22103040501,"FALSE",0,0,71420212160,"Louisiana",152900,210300,1.37540876389797,true,4,46710,57438,1.2296724470134901,"",0,19.600000000000001,13,0.66326530612244905,"",1,0,0,1,0,"NO","NO",4]
["St Tammany","Covington",405.02,22103040502,"FALSE",0,0,71420212161,"Louisiana",152900,210300,1.37540876389797,true,4,46710,57438,1.2296724470134901,"",0,19.600000000000001,13,0.66326530612244905,"",1,0,0,1,0,"NO","NO",4]
["St Tammany","Covington",405.02,22103040502,"FALSE",0,0,71420212162,"Louisiana",152900,210300,1.37540876389797,true,4,46710,57438,1.2296724470134901,"",0,19.600000000000001,13,0.66326530612244905,"",1,0,0,1,0,"NO","NO",4]
["St Tammany","Covington",406.01,22103040601,"FALSE",0,0,71420212163,"Louisiana",152900,210300,1.37540876389797,true,4,46710,57438,1.2296724470134901,"",0,19.600000000000001,13,0.66326530612244905,"",1,0,0,1,0,"NO","NO",4]
["St Tammany","Covington",406.02,22103040602,"FALSE",0,0,71420212164,"Louisiana",152900,210300,1.37540876389797,true,4,46710,57438,1.2296724470134901,"",0,19.600000000000001,13,0.66326530612244905,"",1,0,0,1,0,"NO","NO",4]
["St Tammany","Covington",406.04,22103040604,"FALSE",0,0,71420212165,"Louisiana",152900,210300,1.37540876389797,true,4,46710,57438,1.2296724470134901,"",0,19.600000000000001,13,0.66326530612244905,"",1,0,0,1,0,"NO","NO",4]
["St Tammany","Covington",406.05,22103040605,"FALSE",0,0,71420212166,"Louisiana",152900,210300,1.37540876389797,true,4,46710,57438,1.2296724470134901,"",0,19.600000000000001,13,0.66326530612244905,"",1,0,0,1,0,"NO","NO",4]
["St Tammany","Covington",407.01,22103040701,"FALSE",0,0,71420212167,"Louisiana",152900,210300,1.37540876389797,true,4,46710,57438,1.2296724470134901,"",0,19.600000000000001,13,0.66326530612244905,"",1,0,0,1,0,"NO","NO",4]
["St Tammany","Covington",412.07,22103041207,"FALSE",0,0,71420212168,"Louisiana",152900,210300,1.37540876389797,true,4,46710,57438,1.2296724470134901,"",0,19.600000000000001,13,0.66326530612244905,"",1,0,0,1,0,"NO","NO",4]
["St Tammany","Covington",9537,22105953700,"FALSE",0,0,71420212169,"Louisiana",152900,210300,1.37540876389797,true,4,46710,57438,1.2296724470134901,"",0,19.600000000000001,13,0.66326530612244905,"",1,0,0,1,0,"NO","NO",4]
["St Tammany","Covington",9505,22117950500,"FALSE",0,0,71420212170,"Louisiana",152900,210300,1.37540876389797,true,4,46710,57438,1.2296724470134901,"",0,19.600000000000001,13,0.66326530612244905,"",1,0,0,1,0,"NO","NO",4]
["St Tammany","Folsom",402.01,22103040201,"FALSE",0,0,71420212171,"Louisiana",152900,168400,1.1013734466971901,true,4,46710,48056,1.02881609933633,"",0,19.600000000000001,26.3,1.34183673469388,"",1,0,0,1,0,"NO","NO",4]
["St Tammany","Folsom",402.02,22103040202,"FALSE",0,0,71420212172,"Louisiana",152900,168400,1.1013734466971901,true,4,46710,48056,1.02881609933633,"",0,19.600000000000001,26.3,1.34183673469388,"",1,0,0,1,0,{"$f":"IF(AND(E2172=\"TRUE\",AA2172>1),\"YES\",\"NO\")","v":"NO"},{"$f":"IF(AND(F2172=1,AA2172>1), \"YES\",\"NO\")","v":"NO"},4]
["St Tammany","Folsom",403.05,22103040305,"FALSE",0,0,71420212173,"Louisiana",152900,168400,1.1013734466971901,true,{"$f":"IF(M2173=TRUE,4,0)","v":4},46710,48056,1.02881609933633,"",{"$f":"IF(R2173=TRUE, 4,0)","v":0},19.600000000000001,26.3,1.34183673469388,"",1,0,0,1,{"$f":"IF(W2173=TRUE, 4,0)","v":0},"NO","NO",4]
["St Tammany","Folsom",9535,22105953500,"FALSE",0,0,71420212174,"Louisiana",152900,168400,1.1013734466971901,true,4,46710,48056,1.02881609933633,"",0,19.600000000000001,26.3,1.34183673469388,"",1,0,0,1,0,"NO","NO",4]
["St Tammany","Folsom",9537,22105953700,"FALSE",0,0,71420212175,"Louisiana",152900,168400,1.1013734466971901,true,4,46710,48056,1.02881609933633,"",0,19.600000000000001,26.3,1.34183673469388,"",1,0,0,1,0,"NO","NO",4]
["St Tammany","Lacombe",401.02,22103040102,"FALSE",0,0,71420212176,"Louisiana",152900,157300,1.02877697841727,true,4,46710,50972,1.09124384500107,"",0,19.600000000000001,15.4,0.78571428571428603,"",1,0,0,1,0,"NO","NO",4]
["St Tammany","Lacombe",407.01,22103040701,"FALSE",0,0,71420212177,"Louisiana",152900,157300,1.02877697841727,true,4,46710,50972,1.09124384500107,"",0,19.600000000000001,15.4,0.78571428571428603,"",1,0,0,1,0,"NO","NO",4]
["St Tammany","Lacombe",412.02,22103041202,"FALSE",0,0,71420212178,"Louisiana",152900,157300,1.02877697841727,true,4,46710,50972,1.09124384500107,"",0,19.600000000000001,15.4,0.78571428571428603,"",1,0,0,1,0,"NO","NO",4]
["St Tammany","Lacombe",412.04,22103041204,"FALSE",0,{"$f":"IF(E2179=\"TRUE\",4,0)","v":0},71420212179,"Louisiana",152900,157300,1.02877697841727,{"$f":"IF(L2179>=50%,TRUE,\"\")","v":true},4,46710,50972,1.09124384500107,{"$f":"IF(Q2179<=65%,TRUE,\"\")","v":""},0,19.600000000000001,15.4,0.78571428571428603,{"$f":"IF(V2179>=1.5,TRUE,\"\")","v":""},{"$f":"IF(M2179=TRUE,1,0)","v":1},{"$f":"IF(R2179=TRUE,1,0)","v":0},{"$f":"IF(W2179=TRUE,1,0)","v":0},{"$f":"SUM(X2179:Z2179)","v":1},0,"NO","NO",{"$f":"+G2179+N2179+S2179+AB2179","v":4}]
["St Tammany","Madisonville",403.03,22103040303,"FALSE",0,0,71420212180,"Louisiana",152900,278400,1.82079790712884,true,4,46710,79000,1.6912866623849301,"",0,19.600000000000001,7.4,0.37755102040816302,"",1,0,0,1,0,"NO","NO",4]
["St Tammany","Madisonville",403.04,22103040304,"FALSE",0,0,71420212181,"Louisiana",152900,278400,1.82079790712884,true,4,46710,79000,1.6912866623849301,"",0,19.600000000000001,7.4,0.37755102040816302,"",1,0,0,1,0,"NO","NO",4]
["St Tammany","Madisonville",403.05,22103040305,"FALSE",0,0,71420212182,"Louisiana",152900,278400,1.82079790712884,true,4,46710,79000,1.6912866623849301,"",0,19.600000000000001,7.4,0.37755102040816302,"",1,0,0,1,0,"NO","NO",4]
["St Tammany","Madisonville",404,22103040400,"FALSE",0,0,71420212183,"Louisiana",152900,278400,1.82079790712884,true,4,46710,79000,1.6912866623849301,"",0,19.600000000000001,7.4,0.37755102040816302,"",1,0,0,1,0,"NO","NO",4]
["St Tammany","Madisonville",406.01,22103040601,"FALSE",0,0,71420212184,"Louisiana",152900,278400,1.82079790712884,true,4,46710,79000,1.6912866623849301,"",0,19.600000000000001,7.4,0.37755102040816302,"",1,0,0,1,0,"NO","NO",4]
["St Tammany","Mandeville",403.03,22103040303,"FALSE",0,0,71420212185,"Louisiana",152900,263100,1.72073250490517,true,4,46710,70609,1.51164632840933,"",0,19.600000000000001,7.6,0.38775510204081598,"",1,0,0,1,0,"NO","NO",4]
["St Tammany","Mandeville",403.03,22103040303,"FALSE",0,0,71420212186,"Louisiana",152900,263100,1.72073250490517,true,4,46710,70609,1.51164632840933,"",0,19.600000000000001,7.6,0.38775510204081598,"",1,0,0,1,0,"NO","NO",4]
["St Tammany","Mandeville",403.04,22103040304,"FALSE",0,0,71420212187,"Louisiana",152900,263100,1.72073250490517,true,4,46710,70609,1.51164632840933,"",0,19.600000000000001,7.6,0.38775510204081598,"",1,0,0,1,0,"NO","NO",4]
["St Tammany","Mandeville",406.04,22103040604,"FALSE",0,0,71420212188,"Louisiana",152900,263100,1.72073250490517,true,4,46710,70609,1.51164632840933,"",0,19.600000000000001,7.6,0.38775510204081598,"",1,0,0,1,0,"NO","NO",4]
["St Tammany","Mandeville",407.01,22103040701,"FALSE",0,0,71420212189,"Louisiana",152900,263100,1.72073250490517,true,4,46710,70609,1.51164632840933,"",0,19.600000000000001,7.6,0.38775510204081598,"",1,0,0,1,0,"NO","NO",4]
["St Tammany","Mandeville",412.07,22103041207,"FALSE",0,0,71420212190,"Louisiana",152900,263100,1.72073250490517,true,4,46710,70609,1.51164632840933,"",0,19.600000000000001,7.6,0.38775510204081598,"",1,0,0,1,0,"NO","NO",4]
["St Tammany","Mandeville",412.08,22103041208,"FALSE",0,0,71420212191,"Louisiana",152900,263100,1.72073250490517,true,4,46710,70609,1.51164632840933,"",0,19.600000000000001,7.6,0.38775510204081598,"",1,0,0,1,0,"NO","NO",4]
["St Tammany","Mandeville",412.08,22103041208,"FALSE",0,0,71420212192,"Louisiana",152900,263100,1.72073250490517,true,4,46710,70609,1.51164632840933,"",0,19.600000000000001,7.6,0.38775510204081598,"",1,0,0,1,0,"NO","NO",4]
["St Tammany","Mandeville",412.09,22103041209,"FALSE",0,0,71420212193,"Louisiana",152900,263100,1.72073250490517,true,4,46710,70609,1.51164632840933,"",0,19.600000000000001,7.6,0.38775510204081598,"",1,0,0,1,0,"NO","NO",4]
["St Tammany","Mandeville",412.1,22103041210,"FALSE",0,0,71420212194,"Louisiana",152900,263100,1.72073250490517,true,4,46710,70609,1.51164632840933,"",0,19.600000000000001,7.6,0.38775510204081598,"",1,0,0,1,0,"NO","NO",4]
["St Tammany","Mandeville",412.1,22103041210,"FALSE",0,0,71420212195,"Louisiana",152900,263100,1.72073250490517,true,4,46710,70609,1.51164632840933,"",0,19.600000000000001,7.6,0.38775510204081598,"",1,0,0,1,0,"NO","NO",4]
["St Tammany","Mandeville",412.11,22103041211,"FALSE",0,0,71420212196,"Louisiana",152900,263100,1.72073250490517,true,4,46710,70609,1.51164632840933,"",0,19.600000000000001,7.6,0.38775510204081598,"",1,0,0,1,0,"NO","NO",4]
["St Tammany","Mandeville",412.12,22103041212,"FALSE",0,0,71420212197,"Louisiana",152900,263100,1.72073250490517,true,4,46710,70609,1.51164632840933,"",0,19.600000000000001,7.6,0.38775510204081598,"",1,0,0,1,0,"NO","NO",4]
["St Tammany","Mandeville",413,22103041300,"FALSE",0,0,71420212198,"Louisiana",152900,263100,1.72073250490517,true,4,46710,70609,1.51164632840933,"",0,19.600000000000001,7.6,0.38775510204081598,"",1,0,0,1,0,"NO","NO",4]
["St Tammany","Mandeville",413,22103041300,"FALSE",0,0,71420212199,"Louisiana",152900,263100,1.72073250490517,true,4,46710,70609,1.51164632840933,"",0,19.600000000000001,7.6,0.38775510204081598,"",1,0,0,1,0,"NO","NO",4]
["St Tammany","Pearl River",401.02,22103040102,"FALSE",0,0,71420212200,"Louisiana",152900,153900,1.0065402223675599,true,4,46710,53359,1.14234639263541,"",0,19.600000000000001,19.899999999999999,1.0153061224489801,"",1,0,0,1,0,"NO","NO",4]
["St Tammany","Pearl River",407.04,22103040704,"TRUE",1,4,71420212201,"Louisiana",152900,153900,1.0065402223675599,true,4,46710,53359,1.14234639263541,"",0,19.600000000000001,19.899999999999999,1.0153061224489801,"",1,0,0,1,0,"NO","NO",8]
["St Tammany","Pearl River",407.05,22103040705,"FALSE",0,0,71420212202,"Louisiana",152900,153900,1.0065402223675599,true,4,46710,53359,1.14234639263541,"",0,19.600000000000001,19.899999999999999,1.0153061224489801,"",1,0,0,1,0,"NO","NO",4]
["St Tammany","Pearl River",407.06,22103040706,"FALSE",0,0,71420212203,"Louisiana",152900,153900,1.0065402223675599,true,4,46710,53359,1.14234639263541,"",0,19.600000000000001,19.899999999999999,1.0153061224489801,"",1,0,0,1,0,"NO","NO",4]
["St Tammany","Saint Benedict",402.02,22103040202,"FALSE",0,0,71420212204,"Louisiana",152900,0,0,"",0,46710,0,0,true,4,19.600000000000001,0,0,"",0,1,0,1,0,"NO","NO",4]
["St Tammany","Slidell",407.01,22103040701,"FALSE",0,0,71420212205,"Louisiana",152900,157000,1.026814911707,true,4,46710,55168,1.1810747163348301,"",0,19.600000000000001,14.5,0.73979591836734704,"",1,0,0,1,0,"NO","NO",4]
["St Tammany","Slidell",407.01,22103040701,"FALSE",0,0,71420212206,"Louisiana",152900,157000,1.026814911707,true,4,46710,55168,1.1810747163348301,"",0,19.600000000000001,14.5,0.73979591836734704,"",1,0,0,1,0,"NO","NO",4]
["St Tammany","Slidell",407.04,22103040704,"TRUE",1,4,71420212207,"Louisiana",152900,157000,1.026814911707,true,4,46710,55168,1.1810747163348301,"",0,19.600000000000001,14.5,0.73979591836734704,"",1,0,0,1,0,"NO","NO",8]
["St Tammany","Slidell",407.04,22103040704,"TRUE",1,4,71420212208,"Louisiana",152900,157000,1.026814911707,true,4,46710,55168,1.1810747163348301,"",0,19.600000000000001,14.5,0.73979591836734704,"",1,0,0,1,0,"NO","NO",8]
["St Tammany","Slidell",407.05,22103040705,"FALSE",0,0,71420212209,"Louisiana",152900,157000,1.026814911707,true,4,46710,55168,1.1810747163348301,"",0,19.600000000000001,14.5,0.73979591836734704,"",1,0,0,1,0,"NO","NO",4]
["St Tammany","Slidell",407.06,22103040706,"FALSE",0,0,71420212210,"Louisiana",152900,157000,1.026814911707,true,4,46710,55168,1.1810747163348301,"",0,19.600000000000001,14.5,0.73979591836734704,"",1,0,0,1,0,"NO","NO",4]
["St Tammany","Slidell",407.08,22103040708,"FALSE",0,0,71420212211,"Louisiana",152900,157000,1.026814911707,true,4,46710,55168,1.1810747163348301,"",0,19.600000000000001,14.5,0.73979591836734704,"",1,0,0,1,0,"NO","NO",4]
["St Tammany","Slidell",407.09,22103040709,"FALSE",0,0,71420212212,"Louisiana",152900,157000,1.026814911707,true,4,46710,55168,1.1810747163348301,"",0,19.600000000000001,14.5,0.73979591836734704,"",1,0,0,1,0,"NO","NO",4]
["St Tammany","Slidell",407.1,22103040710,"FALSE",0,0,71420212213,"Louisiana",152900,157000,1.026814911707,true,4,46710,55168,1.1810747163348301,"",0,19.600000000000001,14.5,0.73979591836734704,"",1,0,0,1,0,"NO","NO",4]
["St Tammany","Slidell",408.01,22103040801,"FALSE",0,0,71420212214,"Louisiana",152900,157000,1.026814911707,true,4,46710,55168,1.1810747163348301,"",0,19.600000000000001,14.5,0.73979591836734704,"",1,0,0,1,0,"NO","NO",4]
["St Tammany","Slidell",408.01,22103040801,"FALSE",0,0,71420212215,"Louisiana",152900,157000,1.026814911707,true,4,46710,55168,1.1810747163348301,"",0,19.600000000000001,14.5,0.73979591836734704,"",1,0,0,1,0,"NO","NO",4]
["St Tammany","Slidell",408.02,22103040802,"FALSE",0,0,71420212216,"Louisiana",152900,157000,1.026814911707,true,4,46710,55168,1.1810747163348301,"",0,19.600000000000001,14.5,0.73979591836734704,"",1,0,0,1,0,"NO","NO",4]
["St Tammany","Slidell",408.03,22103040803,"FALSE",0,0,71420212217,"Louisiana",152900,157000,1.026814911707,true,4,46710,55168,1.1810747163348301,"",0,19.600000000000001,14.5,0.73979591836734704,"",1,0,0,1,0,"NO","NO",4]
["St Tammany","Slidell",409,22103040900,"FALSE",0,0,71420212218,"Louisiana",152900,157000,1.026814911707,true,4,46710,55168,1.1810747163348301,"",0,19.600000000000001,14.5,0.73979591836734704,"",1,0,0,1,0,"NO","NO",4]
["St Tammany","Slidell",409,22103040900,"FALSE",0,0,71420212219,"Louisiana",152900,157000,1.026814911707,true,4,46710,55168,1.1810747163348301,"",0,19.600000000000001,14.5,0.73979591836734704,"",1,0,0,1,0,"NO","NO",4]
["St Tammany","Slidell",410.02,22103041002,"FALSE",0,0,71420212220,"Louisiana",152900,157000,1.026814911707,true,4,46710,55168,1.1810747163348301,"",0,19.600000000000001,14.5,0.73979591836734704,"",1,0,0,1,0,"NO","NO",4]
["St Tammany","Slidell",410.02,22103041002,"FALSE",0,0,71420212221,"Louisiana",152900,157000,1.026814911707,true,4,46710,55168,1.1810747163348301,"",0,19.600000000000001,14.5,0.73979591836734704,"",1,0,0,1,0,"NO","NO",4]
["St Tammany","Slidell",410.03,22103041003,"FALSE",0,0,71420212222,"Louisiana",152900,157000,1.026814911707,true,4,46710,55168,1.1810747163348301,"",0,19.600000000000001,14.5,0.73979591836734704,"",1,0,0,1,0,"NO","NO",4]
["St Tammany","Slidell",410.04,22103041004,"FALSE",0,0,71420212223,"Louisiana",152900,157000,1.026814911707,true,4,46710,55168,1.1810747163348301,"",0,19.600000000000001,14.5,0.73979591836734704,"",1,0,0,1,0,"NO","NO",4]
["St Tammany","Slidell",411.01,22103041101,"FALSE",0,0,71420212224,"Louisiana",152900,157000,1.026814911707,true,4,46710,55168,1.1810747163348301,"",0,19.600000000000001,14.5,0.73979591836734704,"",1,0,0,1,0,"NO","NO",4]
["St Tammany","Slidell",411.02,22103041102,"FALSE",0,0,71420212225,"Louisiana",152900,157000,1.026814911707,true,4,46710,55168,1.1810747163348301,"",0,19.600000000000001,14.5,0.73979591836734704,"",1,0,0,1,0,"NO","NO",4]
["St Tammany","Slidell",411.02,22103041102,"FALSE",0,0,71420212226,"Louisiana",152900,157000,1.026814911707,true,4,46710,55168,1.1810747163348301,"",0,19.600000000000001,14.5,0.73979591836734704,"",1,0,0,1,0,"NO","NO",4]
["St Tammany","Slidell",411.03,22103041103,"TRUE",1,4,71420212227,"Louisiana",152900,157000,1.026814911707,true,4,46710,55168,1.1810747163348301,"",0,19.600000000000001,14.5,0.73979591836734704,"",1,0,0,1,0,"NO","NO",8]
["St Tammany","Slidell",411.03,22103041103,"TRUE",1,4,71420212228,"Louisiana",152900,157000,1.026814911707,true,4,46710,55168,1.1810747163348301,"",0,19.600000000000001,14.5,0.73979591836734704,"",1,0,0,1,0,"NO","NO",8]
["St Tammany","Slidell",411.03,22103041103,"TRUE",1,4,71420212229,"Louisiana",152900,157000,1.026814911707,true,4,46710,55168,1.1810747163348301,"",0,19.600000000000001,14.5,0.73979591836734704,"",1,0,0,1,0,"NO","NO",8]
["St Tammany","Slidell",411.04,22103041104,"FALSE",0,0,71420212230,"Louisiana",152900,157000,1.026814911707,true,4,46710,55168,1.1810747163348301,"",0,19.600000000000001,14.5,0.73979591836734704,"",1,0,0,1,0,"NO","NO",4]
["St Tammany","Slidell",412.02,22103041202,"FALSE",0,0,71420212231,"Louisiana",152900,157000,1.026814911707,true,4,46710,55168,1.1810747163348301,"",0,19.600000000000001,14.5,0.73979591836734704,"",1,0,0,1,0,"NO","NO",4]
["St Tammany","Slidell",412.04,22103041204,"FALSE",0,0,71420212232,"Louisiana",152900,157000,1.026814911707,true,4,46710,55168,1.1810747163348301,"",0,19.600000000000001,14.5,0.73979591836734704,"",1,0,0,1,0,"NO","NO",4]
["St Tammany","Sun",401.04,22103040104,"FALSE",0,0,71420212233,"Louisiana",152900,130000,0.85022890778286497,true,4,46710,38594,0.82624705630485995,"",0,19.600000000000001,16.8,0.85714285714285698,"",1,0,0,1,0,"NO","NO",4]
["St Tammany","Talisheek",401.04,22103040104,"FALSE",0,0,71420212234,"Louisiana",152900,0,0,"",0,46710,0,0,true,4,19.600000000000001,0,0,"",0,1,0,1,0,"NO","NO",4]
["Tangipahoa","Akers",9545.01,22105954501,"FALSE",0,0,71420212235,"Louisiana",152900,0,0,"",0,46710,0,0,true,4,19.600000000000001,0,0,"",0,1,0,1,0,"NO","NO",4]
["Tangipahoa","Amite",402.02,22063040202,"FALSE",0,0,71420212236,"Louisiana",152900,0,0,"",0,46710,0,0,true,4,19.600000000000001,0,0,"",0,1,0,1,0,{"$f":"IF(AND(E2236=\"TRUE\",AA2236>1),\"YES\",\"NO\")","v":"NO"},{"$f":"IF(AND(F2236=1,AA2236>1), \"YES\",\"NO\")","v":"NO"},4]
["Tangipahoa","Amite",9512,22091951200,"FALSE",0,0,71420212237,"Louisiana",152900,0,0,"",{"$f":"IF(M2237=TRUE,4,0)","v":0},46710,0,0,true,{"$f":"IF(R2237=TRUE, 4,0)","v":4},19.600000000000001,0,0,"",0,1,0,1,{"$f":"IF(W2237=TRUE, 4,0)","v":0},"NO","NO",4]
["Tangipahoa","Amite",9534,22105953400,"FALSE",0,0,71420212238,"Louisiana",152900,0,0,"",0,46710,0,0,true,4,19.600000000000001,0,0,"",0,1,0,1,0,"NO","NO",4]
["Tangipahoa","Amite",9535,22105953500,"FALSE",0,0,71420212239,"Louisiana",152900,0,0,"",0,46710,0,0,true,4,19.600000000000001,0,0,"",0,1,0,1,0,"NO","NO",4]
["Tangipahoa","Amite",9536,22105953600,"TRUE",0,4,71420212240,"Louisiana",152900,0,0,"",0,46710,0,0,true,4,19.600000000000001,0,0,"",0,1,0,1,0,"NO","NO",8]
["Tangipahoa","Amite",9537,22105953700,"FALSE",0,0,71420212241,"Louisiana",152900,0,0,"",0,46710,0,0,true,4,19.600000000000001,0,0,"",0,1,0,1,0,"NO","NO",4]
["Tangipahoa","Fluker",9512,22091951200,"FALSE",0,0,71420212242,"Louisiana",152900,0,0,"",0,46710,0,0,true,4,19.600000000000001,0,0,"",0,1,0,1,0,"NO","NO",4]
["Tangipahoa","Fluker",9533,22105953300,"TRUE",1,{"$f":"IF(E2243=\"TRUE\",4,0)","v":4},71420212243,"Louisiana",152900,0,0,{"$f":"IF(L2243>=50%,TRUE,\"\")","v":""},0,46710,0,0,{"$f":"IF(Q2243<=65%,TRUE,\"\")","v":true},4,19.600000000000001,0,0,{"$f":"IF(V2243>=1.5,TRUE,\"\")","v":""},{"$f":"IF(M2243=TRUE,1,0)","v":0},{"$f":"IF(R2243=TRUE,1,0)","v":1},{"$f":"IF(W2243=TRUE,1,0)","v":0},{"$f":"SUM(X2243:Z2243)","v":1},0,"NO","NO",{"$f":"+G2243+N2243+S2243+AB2243","v":8}]
["Tangipahoa","Fluker",9534,22105953400,"FALSE",0,0,71420212244,"Louisiana",152900,0,0,"",0,46710,0,0,true,4,19.600000000000001,0,0,"",0,1,0,1,0,"NO","NO",4]
["Tangipahoa","Hammond",401,22063040100,"FALSE",0,0,71420212245,"Louisiana",152900,149400,0.97710922171353798,true,4,46710,37059,0.79338471419396295,"",0,19.600000000000001,34.1,1.7397959183673499,true,1,0,1,2,4,"NO","NO",8]
["Tangipahoa","Hammond",409.01,22063040901,"FALSE",0,0,71420212246,"Louisiana",152900,149400,0.97710922171353798,true,4,46710,37059,0.79338471419396295,"",0,19.600000000000001,34.1,1.7397959183673499,true,1,0,1,2,4,"NO","NO",8]
["Tangipahoa","Hammond",9539,22105953900,"FALSE",0,0,71420212247,"Louisiana",152900,149400,0.97710922171353798,true,4,46710,37059,0.79338471419396295,"",0,19.600000000000001,34.1,1.7397959183673499,true,1,0,1,2,4,"NO","NO",8]
["Tangipahoa","Hammond",9540.01,22105954001,"TRUE",1,4,71420212248,"Louisiana",152900,149400,0.97710922171353798,true,4,46710,37059,0.79338471419396295,"",0,19.600000000000001,34.1,1.7397959183673499,true,1,0,1,2,4,"YES","YES",12]
["Tangipahoa","Hammond",9540.02,22105954002,"FALSE",0,0,71420212249,"Louisiana",152900,149400,0.97710922171353798,true,4,46710,37059,0.79338471419396295,"",0,19.600000000000001,34.1,1.7397959183673499,true,1,0,1,2,4,"NO","NO",8]
["Tangipahoa","Hammond",9541.01,22105954101,"FALSE",0,0,71420212250,"Louisiana",152900,149400,0.97710922171353798,true,4,46710,37059,0.79338471419396295,"",0,19.600000000000001,34.1,1.7397959183673499,true,1,0,1,2,4,"NO","NO",8]
["Tangipahoa","Hammond",9541.01,22105954101,"FALSE",0,0,71420212251,"Louisiana",152900,149400,0.97710922171353798,true,4,46710,37059,0.79338471419396295,"",0,19.600000000000001,34.1,1.7397959183673499,true,1,0,1,2,4,"NO","NO",8]
["Tangipahoa","Hammond",9541.02,22105954102,"FALSE",0,0,71420212252,"Louisiana",152900,149400,0.97710922171353798,true,4,46710,37059,0.79338471419396295,"",0,19.600000000000001,34.1,1.7397959183673499,true,1,0,1,2,4,"NO","NO",8]
["Tangipahoa","Hammond",9542,22105954200,"FALSE",0,0,71420212253,"Louisiana",152900,149400,0.97710922171353798,true,4,46710,37059,0.79338471419396295,"",0,19.600000000000001,34.1,1.7397959183673499,true,1,0,1,2,4,"NO","NO",8]
["Tangipahoa","Hammond",9542,22105954200,"FALSE",0,0,71420212254,"Louisiana",152900,149400,0.97710922171353798,true,4,46710,37059,0.79338471419396295,"",0,19.600000000000001,34.1,1.7397959183673499,true,1,0,1,2,4,"NO","NO",8]
["Tangipahoa","Hammond",9542,22105954200,"FALSE",0,0,71420212255,"Louisiana",152900,149400,0.97710922171353798,true,4,46710,37059,0.79338471419396295,"",0,19.600000000000001,34.1,1.7397959183673499,true,1,0,1,2,4,"NO","NO",8]
["Tangipahoa","Hammond",9543,22105954300,"TRUE",1,4,71420212256,"Louisiana",152900,149400,0.97710922171353798,true,4,46710,37059,0.79338471419396295,"",0,19.600000000000001,34.1,1.7397959183673499,true,1,0,1,2,4,"YES","YES",12]
["Tangipahoa","Hammond",9543,22105954300,"TRUE",1,4,71420212257,"Louisiana",152900,149400,0.97710922171353798,true,4,46710,37059,0.79338471419396295,"",0,19.600000000000001,34.1,1.7397959183673499,true,1,0,1,2,4,"YES","YES",12]
["Tangipahoa","Hammond",9544,22105954400,"TRUE",1,4,71420212258,"Louisiana",152900,149400,0.97710922171353798,true,4,46710,37059,0.79338471419396295,"",0,19.600000000000001,34.1,1.7397959183673499,true,1,0,1,2,4,"YES","YES",12]
["Tangipahoa","Hammond",9544,22105954400,"TRUE",1,4,71420212259,"Louisiana",152900,149400,0.97710922171353798,true,4,46710,37059,0.79338471419396295,"",0,19.600000000000001,34.1,1.7397959183673499,true,1,0,1,2,4,"YES","YES",12]
["Tangipahoa","Hammond",9545.01,22105954501,"FALSE",0,0,71420212260,"Louisiana",152900,149400,0.97710922171353798,true,4,46710,37059,0.79338471419396295,"",0,19.600000000000001,34.1,1.7397959183673499,true,1,0,1,2,4,"NO","NO",8]
["Tangipahoa","Hammond",9545.02,22105954502,"FALSE",0,0,71420212261,"Louisiana",152900,149400,0.97710922171353798,true,4,46710,37059,0.79338471419396295,"",0,19.600000000000001,34.1,1.7397959183673499,true,1,0,1,2,4,"NO","NO",8]
["Tangipahoa","Hammond",9545.02,22105954502,"FALSE",0,0,71420212262,"Louisiana",152900,149400,0.97710922171353798,true,4,46710,37059,0.79338471419396295,"",0,19.600000000000001,34.1,1.7397959183673499,true,1,0,1,2,4,"NO","NO",8]
["Tangipahoa","Hammond",9546,22105954600,"FALSE",0,0,71420212263,"Louisiana",152900,149400,0.97710922171353798,true,4,46710,37059,0.79338471419396295,"",0,19.600000000000001,34.1,1.7397959183673499,true,1,0,1,2,4,"NO","NO",8]
["Tangipahoa","Hammond",9546,22105954600,"FALSE",0,0,71420212264,"Louisiana",152900,149400,0.97710922171353798,true,4,46710,37059,0.79338471419396295,"",0,19.600000000000001,34.1,1.7397959183673499,true,1,0,1,2,4,"NO","NO",8]
["Tangipahoa","Husser",9535,22105953500,"FALSE",0,0,71420212265,"Louisiana",152900,0,0,"",0,46710,0,0,true,4,19.600000000000001,0,0,"",0,1,0,1,0,"NO","NO",4]
["Tangipahoa","Husser",9537,22105953700,"FALSE",0,0,71420212266,"Louisiana",152900,0,0,"",0,46710,0,0,true,4,19.600000000000001,0,0,"",0,1,0,1,0,"NO","NO",4]
["Tangipahoa","Independence",401,22063040100,"FALSE",0,0,71420212267,"Louisiana",152900,96600,0.63178548070634399,true,4,46710,35679,0.763840719332049,"",0,19.600000000000001,41,2.0918367346938802,true,1,0,1,2,4,"NO","NO",8]
["Tangipahoa","Independence",9512,22091951200,"FALSE",0,0,71420212268,"Louisiana",152900,96600,0.63178548070634399,true,4,46710,35679,0.763840719332049,"",0,19.600000000000001,41,2.0918367346938802,true,1,0,1,2,4,"NO","NO",8]
["Tangipahoa","Independence",9536,22105953600,"TRUE",1,4,71420212269,"Louisiana",152900,96600,0.63178548070634399,true,4,46710,35679,0.763840719332049,"",0,19.600000000000001,41,2.0918367346938802,true,1,0,1,2,4,"YES","YES",12]
["Tangipahoa","Independence",9537,22105953700,"FALSE",0,0,71420212270,"Louisiana",152900,96600,0.63178548070634399,true,4,46710,35679,0.763840719332049,"",0,19.600000000000001,41,2.0918367346938802,true,1,0,1,2,4,"NO","NO",8]
["Tangipahoa","Independence",9538,22105953800,"FALSE",0,0,71420212271,"Louisiana",152900,96600,0.63178548070634399,true,4,46710,35679,0.763840719332049,"",0,19.600000000000001,41,2.0918367346938802,true,1,0,1,2,4,"NO","NO",8]
["Tangipahoa","Independence",9540.02,22105954002,"FALSE",0,0,71420212272,"Louisiana",152900,96600,0.63178548070634399,true,4,46710,35679,0.763840719332049,"",0,19.600000000000001,41,2.0918367346938802,true,1,0,1,2,4,"NO","NO",8]
["Tangipahoa","Kentwood",9511,22091951100,"FALSE",0,0,71420212273,"Louisiana",152900,77400,0.50621321124918295,true,4,46710,22891,0.49006636694498001,true,4,19.600000000000001,50,2.5510204081632701,true,1,1,1,3,4,"NO","NO",12]
["Tangipahoa","Kentwood",9532,22105953200,"FALSE",0,0,71420212274,"Louisiana",152900,77400,0.50621321124918295,true,4,46710,22891,0.49006636694498001,true,4,19.600000000000001,50,2.5510204081632701,true,1,1,1,3,4,"NO","NO",12]
["Tangipahoa","Kentwood",9533,22105953300,"TRUE",1,4,71420212275,"Louisiana",152900,77400,0.50621321124918295,true,4,46710,22891,0.49006636694498001,true,4,19.600000000000001,50,2.5510204081632701,true,1,1,1,3,4,"YES","YES",16]
["Tangipahoa","Kentwood",9535,22105953500,"FALSE",0,0,71420212276,"Louisiana",152900,77400,0.50621321124918295,true,4,46710,22891,0.49006636694498001,true,4,19.600000000000001,50,2.5510204081632701,true,1,1,1,3,4,"NO","NO",12]
["Tangipahoa","Kentwood",9504,22117950400,"FALSE",0,0,71420212277,"Louisiana",152900,77400,0.50621321124918295,true,4,46710,22891,0.49006636694498001,true,4,19.600000000000001,50,2.5510204081632701,true,1,1,1,3,4,"NO","NO",12]
["Tangipahoa","Loranger",9535,22105953500,"FALSE",0,0,71420212278,"Louisiana",152900,0,0,"",0,46710,0,0,true,4,19.600000000000001,0,0,"",0,1,0,1,0,"NO","NO",4]
["Tangipahoa","Loranger",9537,22105953700,"FALSE",0,0,71420212279,"Louisiana",152900,0,0,"",0,46710,0,0,true,4,19.600000000000001,0,0,"",0,1,0,1,0,"NO","NO",4]
["Tangipahoa","Natalbany",9540.01,22105954001,"TRUE",1,4,71420212280,"Louisiana",152900,null,null,"",0,46710,34807,0.74517233997002796,"",0,19.600000000000001,24.1,1.2295918367346901,"",0,0,0,0,0,"NO","NO",4]
["Tangipahoa","Ponchatoula",9541.02,22105954102,"FALSE",0,0,71420212281,"Louisiana",152900,144100,0.94244604316546798,true,4,46710,43681,0.93515307214729204,"",0,19.600000000000001,20.2,1.03061224489796,"",1,0,0,1,0,"NO","NO",4]
["Tangipahoa","Ponchatoula",9545.01,22105954501,"FALSE",0,0,71420212282,"Louisiana",152900,144100,0.94244604316546798,true,4,46710,43681,0.93515307214729204,"",0,19.600000000000001,20.2,1.03061224489796,"",1,0,0,1,0,"NO","NO",4]
["Tangipahoa","Ponchatoula",9545.02,22105954502,"FALSE",0,0,71420212283,"Louisiana",152900,144100,0.94244604316546798,true,4,46710,43681,0.93515307214729204,"",0,19.600000000000001,20.2,1.03061224489796,"",1,0,0,1,0,"NO","NO",4]
["Tangipahoa","Ponchatoula",9546,22105954600,"FALSE",0,0,71420212284,"Louisiana",152900,144100,0.94244604316546798,true,4,46710,43681,0.93515307214729204,"",0,19.600000000000001,20.2,1.03061224489796,"",1,0,0,1,0,"NO","NO",4]
["Tangipahoa","Ponchatoula",9547,22105954700,"FALSE",0,0,71420212285,"Louisiana",152900,144100,0.94244604316546798,true,4,46710,43681,0.93515307214729204,"",0,19.600000000000001,20.2,1.03061224489796,"",1,0,0,1,0,"NO","NO",4]
["Tangipahoa","Ponchatoula",9548,22105954800,"FALSE",0,0,71420212286,"Louisiana",152900,144100,0.94244604316546798,true,4,46710,43681,0.93515307214729204,"",0,19.600000000000001,20.2,1.03061224489796,"",1,0,0,1,0,"NO","NO",4]
["Tangipahoa","Robert",9537,22105953700,"FALSE",0,0,71420212287,"Louisiana",152900,0,0,"",0,46710,0,0,true,4,19.600000000000001,0,0,"",0,1,0,1,0,"NO","NO",4]
["Tangipahoa","Robert",9546,22105954600,"FALSE",0,0,71420212288,"Louisiana",152900,0,0,"",0,46710,0,0,true,4,19.600000000000001,0,0,"",0,1,0,1,0,"NO","NO",4]
["Tangipahoa","Roseland",9534,22105953400,"FALSE",0,0,71420212289,"Louisiana",152900,65200,0.426422498364944,"",0,46710,25714,0.55050310426033,true,4,19.600000000000001,33.1,1.68877551020408,true,0,1,1,2,4,"NO","NO",8]
["Tangipahoa","Roseland",9535,22105953500,"FALSE",0,0,71420212290,"Louisiana",152900,65200,0.426422498364944,"",0,46710,25714,0.55050310426033,true,4,19.600000000000001,33.1,1.68877551020408,true,0,1,1,2,4,"NO","NO",8]
["Tangipahoa","Tangipahoa",9533,22105953300,"TRUE",1,4,71420212291,"Louisiana",152900,31300,0.20470896010464401,"",0,46710,29135,0.62374223934917605,true,4,19.600000000000001,33.299999999999997,1.6989795918367301,true,0,1,1,2,4,"YES","YES",12]
["Tangipahoa","Tickfaw",401,22063040100,"FALSE",0,0,71420212292,"Louisiana",152900,136600,0.89339437540876399,true,4,46710,47083,1.00798544208949,"",0,19.600000000000001,10.8,0.55102040816326503,"",1,0,0,1,0,"NO","NO",4]
["Tangipahoa","Tickfaw",9538,22105953800,"FALSE",0,0,71420212293,"Louisiana",152900,136600,0.89339437540876399,true,4,46710,47083,1.00798544208949,"",0,19.600000000000001,10.8,0.55102040816326503,"",1,0,0,1,0,"NO","NO",4]
["Tangipahoa","Tickfaw",9539,22105953900,"FALSE",0,0,71420212294,"Louisiana",152900,136600,0.89339437540876399,true,4,46710,47083,1.00798544208949,"",0,19.600000000000001,10.8,0.55102040816326503,"",1,0,0,1,0,"NO","NO",4]
["Tangipahoa","Tickfaw",9540.01,22105954001,"TRUE",1,4,71420212295,"Louisiana",152900,136600,0.89339437540876399,true,4,46710,47083,1.00798544208949,"",0,19.600000000000001,10.8,0.55102040816326503,"",1,0,0,1,0,"NO","NO",8]
["Tangipahoa","Tickfaw",9540.02,22105954002,"FALSE",0,0,71420212296,"Louisiana",152900,136600,0.89339437540876399,true,4,46710,47083,1.00798544208949,"",0,19.600000000000001,10.8,0.55102040816326503,"",1,0,0,1,0,"NO","NO",4]
["Tangipahoa","Tickfaw",9541.01,22105954101,"FALSE",0,0,71420212297,"Louisiana",152900,136600,0.89339437540876399,true,4,46710,47083,1.00798544208949,"",0,19.600000000000001,10.8,0.55102040816326503,"",1,0,0,1,0,"NO","NO",4]
["Tensas","Newellton",1,22107000100,"FALSE",0,0,71420212298,"Louisiana",152900,60000,0.39241334205362999,"",0,46710,17182,0.367844144722757,true,4,19.600000000000001,48.9,2.4948979591836702,true,0,1,1,2,4,"NO","NO",8]
["Tensas","Newellton",2,22107000200,"FALSE",0,0,71420212299,"Louisiana",152900,60000,0.39241334205362999,"",0,46710,17182,0.367844144722757,true,4,19.600000000000001,48.9,2.4948979591836702,true,0,1,1,2,4,"NO","NO",8]
["Tensas","Saint Joseph",1,22107000100,"FALSE",0,0,71420212300,"Louisiana",152900,0,0,"",0,46710,0,0,true,4,19.600000000000001,0,0,"",0,1,0,1,0,{"$f":"IF(AND(E2300=\"TRUE\",AA2300>1),\"YES\",\"NO\")","v":"NO"},{"$f":"IF(AND(F2300=1,AA2300>1), \"YES\",\"NO\")","v":"NO"},4]
["Tensas","Saint Joseph",2,22107000200,"FALSE",0,0,71420212301,"Louisiana",152900,0,0,"",{"$f":"IF(M2301=TRUE,4,0)","v":0},46710,0,0,true,{"$f":"IF(R2301=TRUE, 4,0)","v":4},19.600000000000001,0,0,"",0,1,0,1,{"$f":"IF(W2301=TRUE, 4,0)","v":0},"NO","NO",4]
["Tensas","Saint Joseph",3,22107000300,"TRUE",1,4,71420212302,"Louisiana",152900,0,0,"",0,46710,0,0,true,4,19.600000000000001,0,0,"",0,1,0,1,0,"NO","NO",8]
["Tensas","Waterproof",2,22107000200,"FALSE",0,0,71420212303,"Louisiana",152900,44200,0.28907782864617398,"",0,46710,14669,0.31404410190537402,true,4,19.600000000000001,51.2,2.6122448979591799,true,0,1,1,2,4,"NO","NO",8]
["Tensas","Waterproof",3,22107000300,"TRUE",1,4,71420212304,"Louisiana",152900,44200,0.28907782864617398,"",0,46710,14669,0.31404410190537402,true,4,19.600000000000001,51.2,2.6122448979591799,true,0,1,1,2,4,"YES","YES",12]
["Terrebonne","Bourg",216.01,22057021601,"FALSE",0,0,71420212305,"Louisiana",152900,161800,1.0582079790712899,true,4,46710,61563,1.3179833012202999,"",0,19.600000000000001,17.2,0.87755102040816302,"",1,0,0,1,0,"NO","NO",4]
["Terrebonne","Bourg",216.02,22057021602,"FALSE",0,0,71420212306,"Louisiana",152900,161800,1.0582079790712899,true,4,46710,61563,1.3179833012202999,"",0,19.600000000000001,17.2,0.87755102040816302,"",1,0,0,1,0,"NO","NO",4]
["Terrebonne","Bourg",10,22109001000,"FALSE",0,{"$f":"IF(E2307=\"TRUE\",4,0)","v":0},71420212307,"Louisiana",152900,161800,1.0582079790712899,{"$f":"IF(L2307>=50%,TRUE,\"\")","v":true},4,46710,61563,1.3179833012202999,{"$f":"IF(Q2307<=65%,TRUE,\"\")","v":""},0,19.600000000000001,17.2,0.87755102040816302,{"$f":"IF(V2307>=1.5,TRUE,\"\")","v":""},{"$f":"IF(M2307=TRUE,1,0)","v":1},{"$f":"IF(R2307=TRUE,1,0)","v":0},{"$f":"IF(W2307=TRUE,1,0)","v":0},{"$f":"SUM(X2307:Z2307)","v":1},0,"NO","NO",{"$f":"+G2307+N2307+S2307+AB2307","v":4}]
["Terrebonne","Bourg",12.01,22109001201,"FALSE",0,0,71420212308,"Louisiana",152900,161800,1.0582079790712899,true,4,46710,61563,1.3179833012202999,"",0,19.600000000000001,17.2,0.87755102040816302,"",1,0,0,1,0,"NO","NO",4]
["Terrebonne","Chauvin",12.01,22109001201,"FALSE",0,0,71420212309,"Louisiana",152900,85300,0.55788096795290998,true,4,46710,40938,0.87642903018625595,"",0,19.600000000000001,23.2,1.18367346938776,"",1,0,0,1,0,"NO","NO",4]
["Terrebonne","Chauvin",12.02,22109001202,"TRUE",1,4,71420212310,"Louisiana",152900,85300,0.55788096795290998,true,4,46710,40938,0.87642903018625595,"",0,19.600000000000001,23.2,1.18367346938776,"",1,0,0,1,0,"NO","NO",8]
["Terrebonne","Donner",16,22109001600,"TRUE",0,4,71420212311,"Louisiana",152900,0,0,"",0,46710,0,0,true,4,19.600000000000001,0,0,"",0,1,0,1,0,"NO","NO",8]
["Terrebonne","Dulac",13,22109001300,"TRUE",1,4,71420212312,"Louisiana",152900,67200,0.43950294310006499,"",0,46710,34888,0.74690644401627104,"",0,19.600000000000001,20.399999999999999,1.0408163265306101,"",0,0,0,0,0,"NO","NO",4]
["Terrebonne","Gibson",15,22109001500,"FALSE",0,0,71420212313,"Louisiana",152900,0,0,"",0,46710,0,0,true,4,19.600000000000001,0,0,"",0,1,0,1,0,"NO","NO",4]
["Terrebonne","Gibson",16,22109001600,"TRUE",0,4,71420212314,"Louisiana",152900,0,0,"",0,46710,0,0,true,4,19.600000000000001,0,0,"",0,1,0,1,0,"NO","NO",8]
["Terrebonne","Gray",219.01,22057021901,"FALSE",0,0,71420212315,"Louisiana",152900,113700,0.74362328319162896,true,4,46710,45708,0.97854849068721905,"",0,19.600000000000001,16.3,0.83163265306122502,"",1,0,0,1,0,"NO","NO",4]
["Terrebonne","Gray",1.02,22109000102,"FALSE",0,0,71420212316,"Louisiana",152900,113700,0.74362328319162896,true,4,46710,45708,0.97854849068721905,"",0,19.600000000000001,16.3,0.83163265306122502,"",1,0,0,1,0,"NO","NO",4]
["Terrebonne","Gray",2.0099999999999998,22109000201,"TRUE",0,4,71420212317,"Louisiana",152900,113700,0.74362328319162896,true,4,46710,45708,0.97854849068721905,"",0,19.600000000000001,16.3,0.83163265306122502,"",1,0,0,1,0,"NO","NO",8]
["Terrebonne","Gray",2.02,22109000202,"FALSE",0,0,71420212318,"Louisiana",152900,113700,0.74362328319162896,true,4,46710,45708,0.97854849068721905,"",0,19.600000000000001,16.3,0.83163265306122502,"",1,0,0,1,0,"NO","NO",4]
["Terrebonne","Houma",216.01,22057021601,"FALSE",0,0,71420212319,"Louisiana",152900,153000,1.0006540222367599,true,null,46710,43178,0.92438450010704298,"",null,19.600000000000001,24.8,1.2653061224489801,"",1,0,0,1,null,"NO","NO",0]
["Terrebonne","Houma",219.01,22057021901,"TRUE",1,4,71420212320,"Louisiana",152900,153000,1.0006540222367599,true,null,46710,43178,0.92438450010704298,"",null,19.600000000000001,24.8,1.2653061224489801,"",1,0,0,1,null,"NO","NO",4]
["Terrebonne","Houma",219.02,22057021902,"FALSE",0,0,71420212321,"Louisiana",152900,153000,1.0006540222367599,true,null,46710,43178,0.92438450010704298,"",null,19.600000000000001,24.8,1.2653061224489801,"",1,0,0,1,null,"NO","NO",0]
["Terrebonne","Houma",2.0099999999999998,22109000201,"TRUE",0,4,71420212322,"Louisiana",152900,153000,1.0006540222367599,true,null,46710,43178,0.92438450010704298,"",null,19.600000000000001,24.8,1.2653061224489801,"",1,0,0,1,null,"NO","NO",4]
["Terrebonne","Houma",2.0099999999999998,22109000201,"TRUE",0,4,71420212323,"Louisiana",152900,153000,1.0006540222367599,true,null,46710,43178,0.92438450010704298,"",null,19.600000000000001,24.8,1.2653061224489801,"",1,0,0,1,null,"NO","NO",4]
["Terrebonne","Houma",2.02,22109000202,"FALSE",0,0,71420212324,"Louisiana",152900,153000,1.0006540222367599,true,null,46710,43178,0.92438450010704298,"",null,19.600000000000001,24.8,1.2653061224489801,"",1,0,0,1,null,"NO","NO",0]
["Terrebonne","Houma",3,22109000300,"FALSE",0,0,71420212325,"Louisiana",152900,153000,1.0006540222367599,true,null,46710,43178,0.92438450010704298,"",null,19.600000000000001,24.8,1.2653061224489801,"",1,0,0,1,null,"NO","NO",0]
["Terrebonne","Houma",4.01,22109000401,"FALSE",0,0,71420212326,"Louisiana",152900,153000,1.0006540222367599,true,null,46710,43178,0.92438450010704298,"",null,19.600000000000001,24.8,1.2653061224489801,"",1,0,0,1,null,"NO","NO",0]
["Terrebonne","Houma",4.0199999999999996,22109000402,"FALSE",0,0,71420212327,"Louisiana",152900,153000,1.0006540222367599,true,null,46710,43178,0.92438450010704298,"",null,19.600000000000001,24.8,1.2653061224489801,"",1,0,0,1,null,"NO","NO",0]
["Terrebonne","Houma",5,22109000500,"TRUE",1,4,71420212328,"Louisiana",152900,153000,1.0006540222367599,true,null,46710,43178,0.92438450010704298,"",null,19.600000000000001,24.8,1.2653061224489801,"",1,0,0,1,null,"NO","NO",4]
["Terrebonne","Houma",5,22109000500,"TRUE",0,4,71420212329,"Louisiana",152900,153000,1.0006540222367599,true,null,46710,43178,0.92438450010704298,"",null,19.600000000000001,24.8,1.2653061224489801,"",1,0,0,1,null,"NO","NO",4]
["Terrebonne","Houma",6,22109000600,"FALSE",0,0,71420212330,"Louisiana",152900,153000,1.0006540222367599,true,null,46710,43178,0.92438450010704298,"",null,19.600000000000001,24.8,1.2653061224489801,"",1,0,0,1,null,"NO","NO",0]
["Terrebonne","Houma",6,22109000600,"FALSE",0,0,71420212331,"Louisiana",152900,153000,1.0006540222367599,true,null,46710,43178,0.92438450010704298,"",null,19.600000000000001,24.8,1.2653061224489801,"",1,0,0,1,null,"NO","NO",0]
["Terrebonne","Houma",7,22109000700,"TRUE",0,4,71420212332,"Louisiana",152900,153000,1.0006540222367599,true,null,46710,43178,0.92438450010704298,"",null,19.600000000000001,24.8,1.2653061224489801,"",1,0,0,1,null,"NO","NO",4]
["Terrebonne","Houma",8,22109000800,"FALSE",0,0,71420212333,"Louisiana",152900,153000,1.0006540222367599,true,null,46710,43178,0.92438450010704298,"",null,19.600000000000001,24.8,1.2653061224489801,"",1,0,0,1,null,"NO","NO",0]
["Terrebonne","Houma",9,22109000900,"FALSE",0,0,71420212334,"Louisiana",152900,153000,1.0006540222367599,true,null,46710,43178,0.92438450010704298,"",null,19.600000000000001,24.8,1.2653061224489801,"",1,0,0,1,null,"NO","NO",0]
["Terrebonne","Houma",9,22109000900,"FALSE",0,0,71420212335,"Louisiana",152900,153000,1.0006540222367599,true,null,46710,43178,0.92438450010704298,"",null,19.600000000000001,24.8,1.2653061224489801,"",1,0,0,1,null,"NO","NO",0]
["Terrebonne","Houma",9,22109000900,"FALSE",0,0,71420212336,"Louisiana",152900,153000,1.0006540222367599,true,null,46710,43178,0.92438450010704298,"",null,19.600000000000001,24.8,1.2653061224489801,"",1,0,0,1,null,"NO","NO",0]
["Terrebonne","Houma",10,22109001000,"FALSE",0,0,71420212337,"Louisiana",152900,153000,1.0006540222367599,true,null,46710,43178,0.92438450010704298,"",null,19.600000000000001,24.8,1.2653061224489801,"",1,0,0,1,null,"NO","NO",0]
["Terrebonne","Houma",10,22109001000,"FALSE",0,0,71420212338,"Louisiana",152900,153000,1.0006540222367599,true,null,46710,43178,0.92438450010704298,"",null,19.600000000000001,24.8,1.2653061224489801,"",1,0,0,1,null,"NO","NO",0]
["Terrebonne","Houma",12.01,22109001201,"FALSE",0,0,71420212339,"Louisiana",152900,153000,1.0006540222367599,true,null,46710,43178,0.92438450010704298,"",null,19.600000000000001,24.8,1.2653061224489801,"",1,0,0,1,null,"NO","NO",0]
["Terrebonne","Houma",13,22109001300,"TRUE",0,4,71420212340,"Louisiana",152900,153000,1.0006540222367599,true,null,46710,43178,0.92438450010704298,"",null,19.600000000000001,24.8,1.2653061224489801,"",1,0,0,1,null,"NO","NO",4]
["Terrebonne","Houma",14,22109001400,"FALSE",0,0,71420212341,"Louisiana",152900,153000,1.0006540222367599,true,null,46710,43178,0.92438450010704298,"",null,19.600000000000001,24.8,1.2653061224489801,"",1,0,0,1,null,"NO","NO",0]
["Terrebonne","Houma",15,22109001500,"FALSE",0,0,71420212342,"Louisiana",152900,153000,1.0006540222367599,true,null,46710,43178,0.92438450010704298,"",null,19.600000000000001,24.8,1.2653061224489801,"",1,0,0,1,null,"NO","NO",0]
["Terrebonne","Houma",15,22109001500,"FALSE",0,0,71420212343,"Louisiana",152900,153000,1.0006540222367599,true,null,46710,43178,0.92438450010704298,"",null,19.600000000000001,24.8,1.2653061224489801,"",1,0,0,1,null,"NO","NO",0]
["Terrebonne","Houma",17,22109001700,"FALSE",0,0,71420212344,"Louisiana",152900,153000,1.0006540222367599,true,null,46710,43178,0.92438450010704298,"",null,19.600000000000001,24.8,1.2653061224489801,"",1,0,0,1,null,"NO","NO",0]
["Terrebonne","Montegut",216.02,22057021602,"TRUE",1,4,71420212345,"Louisiana",152900,82100,0.53695225637671695,true,{"$f":"IF(M2345=TRUE,4,0)","v":4},46710,38413,0.82237208306572496,"",{"$f":"IF(R2345=TRUE, 4,0)","v":0},19.600000000000001,35.1,1.7908163265306101,true,1,0,1,2,{"$f":"IF(W2345=TRUE, 4,0)","v":4},"YES","YES",12]
["Terrebonne","Montegut",10,22109001000,"FALSE",0,0,71420212346,"Louisiana",152900,82100,0.53695225637671695,true,4,46710,38413,0.82237208306572496,"",0,19.600000000000001,35.1,1.7908163265306101,true,1,0,1,2,4,"NO","NO",8]
["Terrebonne","Montegut",11,22109001100,"FALSE",0,0,71420212347,"Louisiana",152900,82100,0.53695225637671695,true,4,46710,38413,0.82237208306572496,"",0,19.600000000000001,35.1,1.7908163265306101,true,1,0,1,2,4,"NO","NO",8]
["Terrebonne","Schriever",1.01,22109000101,"FALSE",0,0,71420212348,"Louisiana",152900,101800,0.66579463701765895,true,4,46710,47429,1.0153928494969,"",0,19.600000000000001,15.8,0.80612244897959195,"",1,0,0,1,0,"NO","NO",4]
["Terrebonne","Schriever",1.02,22109000102,"FALSE",0,0,71420212349,"Louisiana",152900,101800,0.66579463701765895,true,4,46710,47429,1.0153928494969,"",0,19.600000000000001,15.8,0.80612244897959195,"",1,0,0,1,0,"NO","NO",4]
["Terrebonne","Schriever",16,22109001600,"TRUE",0,4,71420212350,"Louisiana",152900,101800,0.66579463701765895,true,4,46710,47429,1.0153928494969,"",0,19.600000000000001,15.8,0.80612244897959195,"",1,0,0,1,0,"NO","NO",8]
["Terrebonne","Schriever",17,22109001700,"FALSE",0,0,71420212351,"Louisiana",152900,101800,0.66579463701765895,true,4,46710,47429,1.0153928494969,"",0,19.600000000000001,15.8,0.80612244897959195,"",1,0,0,1,0,"NO","NO",4]
["Terrebonne","Theriot",14,22109001400,"FALSE",0,0,71420212352,"Louisiana",152900,0,0,"",0,46710,0,0,true,4,19.600000000000001,0,0,"",0,1,0,1,0,"NO","NO",4]
["Union","Bernice",9501,22027950100,"FALSE",0,0,71420212353,"Louisiana",152900,46800,0.30608240680183102,"",0,46710,19623,0.42010276172125899,true,4,19.600000000000001,41.4,2.1122448979591799,true,0,1,1,2,4,"NO","NO",8]
["Union","Bernice",9602,22111960200,"FALSE",0,0,71420212354,"Louisiana",152900,46800,0.30608240680183102,"",0,46710,19623,0.42010276172125899,true,4,19.600000000000001,41.4,2.1122448979591799,true,0,1,1,2,4,"NO","NO",8]
["Union","Bernice",9603,22111960300,"FALSE",0,0,71420212355,"Louisiana",152900,46800,0.30608240680183102,"",0,46710,19623,0.42010276172125899,true,4,19.600000000000001,41.4,2.1122448979591799,true,0,1,1,2,4,"NO","NO",8]
["Union","Farmerville",9607,22061960700,"FALSE",0,0,71420212356,"Louisiana",152900,72700,0.475474166121648,"",0,46710,26442,0.56608863198458603,true,4,19.600000000000001,39.799999999999997,2.0306122448979602,true,0,1,1,2,4,"NO","NO",8]
["Union","Farmerville",9601,22111960100,"FALSE",0,0,71420212357,"Louisiana",152900,72700,0.475474166121648,"",0,46710,26442,0.56608863198458603,true,4,19.600000000000001,39.799999999999997,2.0306122448979602,true,0,1,1,2,4,"NO","NO",8]
["Union","Farmerville",9602,22111960200,"FALSE",0,0,71420212358,"Louisiana",152900,72700,0.475474166121648,"",0,46710,26442,0.56608863198458603,true,4,19.600000000000001,39.799999999999997,2.0306122448979602,true,0,1,1,2,4,"NO","NO",8]
["Union","Farmerville",9603,22111960300,"FALSE",0,0,71420212359,"Louisiana",152900,72700,0.475474166121648,"",0,46710,26442,0.56608863198458603,true,4,19.600000000000001,39.799999999999997,2.0306122448979602,true,0,1,1,2,4,"NO","NO",8]
["Union","Farmerville",9604,22111960400,"TRUE",1,4,71420212360,"Louisiana",152900,72700,0.475474166121648,"",0,46710,26442,0.56608863198458603,true,4,19.600000000000001,39.799999999999997,2.0306122448979602,true,0,1,1,2,4,"YES","YES",12]
["Union","Farmerville",9605,22111960500,"FALSE",0,0,71420212361,"Louisiana",152900,72700,0.475474166121648,"",0,46710,26442,0.56608863198458603,true,4,19.600000000000001,39.799999999999997,2.0306122448979602,true,0,1,1,2,4,"NO","NO",8]
["Union","Farmerville",9606,22111960600,"FALSE",0,0,71420212362,"Louisiana",152900,72700,0.475474166121648,"",0,46710,26442,0.56608863198458603,true,4,19.600000000000001,39.799999999999997,2.0306122448979602,true,0,1,1,2,4,"NO","NO",8]
["Union","Lillie",9501,22027950100,"FALSE",0,0,71420212363,"Louisiana",152900,null,null,"",0,46710,null,null,true,4,19.600000000000001,4.7,0.23979591836734701,"",0,1,0,1,0,"NO","NO",4]
["Union","Lillie",9602,22111960200,"FALSE",0,0,71420212364,"Louisiana",152900,null,null,"",0,46710,null,null,true,4,19.600000000000001,4.7,0.23979591836734701,"",0,1,0,1,0,{"$f":"IF(AND(E2364=\"TRUE\",AA2364>1),\"YES\",\"NO\")","v":"NO"},{"$f":"IF(AND(F2364=1,AA2364>1), \"YES\",\"NO\")","v":"NO"},4]
["Union","Marion",9601,22111960100,"FALSE",0,0,71420212365,"Louisiana",152900,75700,0.49509483322433001,"",0,46710,30469,0.65230143438235899,"",0,19.600000000000001,32.700000000000003,1.6683673469387801,true,0,0,1,1,4,"NO","NO",4]
["Union","Marion",9605,22111960500,"FALSE",0,0,71420212366,"Louisiana",152900,75700,0.49509483322433001,"",0,46710,30469,0.65230143438235899,"",0,19.600000000000001,32.700000000000003,1.6683673469387801,true,0,0,1,1,4,"NO","NO",4]
["Union","Spearsville",9601,22111960100,"FALSE",0,0,71420212367,"Louisiana",152900,55000,0.35971223021582699,"",0,46710,null,null,true,4,19.600000000000001,27.9,1.4234693877550999,"",0,1,0,1,0,"NO","NO",4]
["Union","Spearsville",9602,22111960200,"FALSE",0,0,71420212368,"Louisiana",152900,55000,0.35971223021582699,"",0,46710,null,null,true,4,19.600000000000001,27.9,1.4234693877550999,"",0,1,0,1,0,"NO","NO",4]
["Vermilion","Abbeville",9501,22113950100,"FALSE",0,0,71420212369,"Louisiana",152900,85100,0.55657292347939802,true,4,46710,34137,0.73082851637764901,"",0,19.600000000000001,31.5,1.6071428571428601,true,1,0,1,2,4,"NO","NO",8]
["Vermilion","Abbeville",9502,22113950200,"FALSE",0,0,71420212370,"Louisiana",152900,85100,0.55657292347939802,true,4,46710,34137,0.73082851637764901,"",0,19.600000000000001,31.5,1.6071428571428601,true,1,0,1,2,4,"NO","NO",8]
["Vermilion","Abbeville",9505,22113950500,"FALSE",0,{"$f":"IF(E2371=\"TRUE\",4,0)","v":0},71420212371,"Louisiana",152900,85100,0.55657292347939802,{"$f":"IF(L2371>=50%,TRUE,\"\")","v":true},4,46710,34137,0.73082851637764901,{"$f":"IF(Q2371<=65%,TRUE,\"\")","v":""},0,19.600000000000001,31.5,1.6071428571428601,{"$f":"IF(V2371>=1.5,TRUE,\"\")","v":true},{"$f":"IF(M2371=TRUE,1,0)","v":1},{"$f":"IF(R2371=TRUE,1,0)","v":0},{"$f":"IF(W2371=TRUE,1,0)","v":1},{"$f":"SUM(X2371:Z2371)","v":2},4,"NO","NO",{"$f":"+G2371+N2371+S2371+AB2371","v":8}]
["Vermilion","Abbeville",9506,22113950600,"FALSE",0,0,71420212372,"Louisiana",152900,85100,0.55657292347939802,true,4,46710,34137,0.73082851637764901,"",0,19.600000000000001,31.5,1.6071428571428601,true,1,0,1,2,4,"NO","NO",8]
["Vermilion","Abbeville",9507,22113950700,"TRUE",1,4,71420212373,"Louisiana",152900,85100,0.55657292347939802,true,4,46710,34137,0.73082851637764901,"",0,19.600000000000001,31.5,1.6071428571428601,true,1,0,1,2,4,"YES","YES",12]
["Vermilion","Abbeville",9508,22113950800,"TRUE",1,4,71420212374,"Louisiana",152900,85100,0.55657292347939802,true,4,46710,34137,0.73082851637764901,"",0,19.600000000000001,31.5,1.6071428571428601,true,1,0,1,2,4,"YES","YES",12]
["Vermilion","Abbeville",9509.01,22113950901,"FALSE",0,0,71420212375,"Louisiana",152900,85100,0.55657292347939802,true,4,46710,34137,0.73082851637764901,"",0,19.600000000000001,31.5,1.6071428571428601,true,1,0,1,2,4,"NO","NO",8]
["Vermilion","Abbeville",9509.02,22113950902,"FALSE",0,0,71420212376,"Louisiana",152900,85100,0.55657292347939802,true,4,46710,34137,0.73082851637764901,"",0,19.600000000000001,31.5,1.6071428571428601,true,1,0,1,2,4,"NO","NO",8]
["Vermilion","Abbeville",9510.01,22113951001,"FALSE",0,0,71420212377,"Louisiana",152900,85100,0.55657292347939802,true,{"$f":"IF(M2377=TRUE,4,0)","v":4},46710,34137,0.73082851637764901,"",{"$f":"IF(R2377=TRUE, 4,0)","v":0},19.600000000000001,31.5,1.6071428571428601,true,1,0,1,2,{"$f":"IF(W2377=TRUE, 4,0)","v":4},"NO","NO",8]
["Vermilion","Abbeville",9510.02,22113951002,"FALSE",0,0,71420212378,"Louisiana",152900,85100,0.55657292347939802,true,4,46710,34137,0.73082851637764901,"",0,19.600000000000001,31.5,1.6071428571428601,true,1,0,1,2,4,"NO","NO",8]
["Vermilion","Abbeville",9511,22113951100,"FALSE",0,0,71420212379,"Louisiana",152900,85100,0.55657292347939802,true,4,46710,34137,0.73082851637764901,"",0,19.600000000000001,31.5,1.6071428571428601,true,1,0,1,2,4,"NO","NO",8]
["Vermilion","Erath",303.02,22045030302,"FALSE",0,0,71420212380,"Louisiana",152900,82000,0.53629823413996103,true,4,46710,37400,0.80068507814172596,"",0,19.600000000000001,14.6,0.74489795918367396,"",1,0,0,1,0,"NO","NO",4]
["Vermilion","Erath",9509.01,22113950901,"FALSE",0,0,71420212381,"Louisiana",152900,82000,0.53629823413996103,true,4,46710,37400,0.80068507814172596,"",0,19.600000000000001,14.6,0.74489795918367396,"",1,0,0,1,0,"NO","NO",4]
["Vermilion","Erath",9509.02,22113950902,"FALSE",0,0,71420212382,"Louisiana",152900,82000,0.53629823413996103,true,4,46710,37400,0.80068507814172596,"",0,19.600000000000001,14.6,0.74489795918367396,"",1,0,0,1,0,"NO","NO",4]
["Vermilion","Erath",9510.01,22113951001,"FALSE",0,0,71420212383,"Louisiana",152900,82000,0.53629823413996103,true,4,46710,37400,0.80068507814172596,"",0,19.600000000000001,14.6,0.74489795918367396,"",1,0,0,1,0,"NO","NO",4]
["Vermilion","Erath",9510.02,22113951002,"FALSE",0,0,71420212384,"Louisiana",152900,82000,0.53629823413996103,true,4,46710,37400,0.80068507814172596,"",0,19.600000000000001,14.6,0.74489795918367396,"",1,0,0,1,0,"NO","NO",4]
["Vermilion","Gueydan",9701,22023970100,"FALSE",0,0,71420212385,"Louisiana",152900,78300,0.51209941137998705,true,4,46710,38277,0.81946050096339096,"",0,19.600000000000001,16.399999999999999,0.83673469387755095,"",1,0,0,1,0,"NO","NO",4]
["Vermilion","Gueydan",9502,22113950200,"FALSE",0,0,71420212386,"Louisiana",152900,78300,0.51209941137998705,true,4,46710,38277,0.81946050096339096,"",0,19.600000000000001,16.399999999999999,0.83673469387755095,"",1,0,0,1,0,"NO","NO",4]
["Vermilion","Kaplan",9501,22113950100,"FALSE",0,0,71420212387,"Louisiana",152900,90200,0.58992805755395705,true,4,46710,35677,0.76379790194819097,"",0,19.600000000000001,16.600000000000001,0.84693877551020402,"",1,0,0,1,0,"NO","NO",4]
["Vermilion","Kaplan",9502,22113950200,"FALSE",0,0,71420212388,"Louisiana",152900,90200,0.58992805755395705,true,4,46710,35677,0.76379790194819097,"",0,19.600000000000001,16.600000000000001,0.84693877551020402,"",1,0,0,1,0,"NO","NO",4]
["Vermilion","Kaplan",9504,22113950400,"TRUE",1,4,71420212389,"Louisiana",152900,90200,0.58992805755395705,true,4,46710,35677,0.76379790194819097,"",0,19.600000000000001,16.600000000000001,0.84693877551020402,"",1,0,0,1,0,"NO","NO",8]
["Vermilion","Kaplan",9505,22113950500,"FALSE",0,0,71420212390,"Louisiana",152900,90200,0.58992805755395705,true,4,46710,35677,0.76379790194819097,"",0,19.600000000000001,16.600000000000001,0.84693877551020402,"",1,0,0,1,0,"NO","NO",4]
["Vermilion","Kaplan",9511,22113951100,"TRUE",1,4,71420212391,"Louisiana",152900,90200,0.58992805755395705,true,4,46710,35677,0.76379790194819097,"",0,19.600000000000001,16.600000000000001,0.84693877551020402,"",1,0,0,1,0,"NO","NO",8]
["Vermilion","Maurice",14.01,22055001401,"FALSE",0,0,71420212392,"Louisiana",152900,162500,1.0627861347285801,true,4,46710,73529,1.57415970884179,"",0,19.600000000000001,6.4,0.32653061224489799,"",1,0,0,1,0,"NO","NO",4]
["Vermilion","Maurice",19.05,22055001905,"FALSE",0,0,71420212393,"Louisiana",152900,162500,1.0627861347285801,true,4,46710,73529,1.57415970884179,"",0,19.600000000000001,6.4,0.32653061224489799,"",1,0,0,1,0,"NO","NO",4]
["Vermilion","Maurice",9501,22113950100,"FALSE",0,0,71420212394,"Louisiana",152900,162500,1.0627861347285801,true,4,46710,73529,1.57415970884179,"",0,19.600000000000001,6.4,0.32653061224489799,"",1,0,0,1,0,"NO","NO",4]
["Vermilion","Maurice",9505,22113950500,"FALSE",0,0,71420212395,"Louisiana",152900,162500,1.0627861347285801,true,4,46710,73529,1.57415970884179,"",0,19.600000000000001,6.4,0.32653061224489799,"",1,0,0,1,0,"NO","NO",4]
["Vermilion","Maurice",9506,22113950600,"FALSE",0,0,71420212396,"Louisiana",152900,162500,1.0627861347285801,true,4,46710,73529,1.57415970884179,"",0,19.600000000000001,6.4,0.32653061224489799,"",1,0,0,1,0,"NO","NO",4]
["Vermilion","Perry",9505,22113950500,"FALSE",0,0,71420212397,"Louisiana",152900,0,0,"",0,46710,0,0,true,4,19.600000000000001,0,0,"",0,1,0,1,0,"NO","NO",4]
["Vernon","Anacoco",7,22085000700,"FALSE",0,0,71420212398,"Louisiana",152900,127700,0.83518639633747505,true,4,46710,61000,1.30593020766431,"",0,19.600000000000001,15.1,0.77040816326530603,"",1,0,0,1,0,"NO","NO",4]
["Vernon","Anacoco",9502,22115950200,"FALSE",0,0,71420212399,"Louisiana",152900,127700,0.83518639633747505,true,4,46710,61000,1.30593020766431,"",0,19.600000000000001,15.1,0.77040816326530603,"",1,0,0,1,0,"NO","NO",4]
["Vernon","Anacoco",9503,22115950300,"FALSE",0,0,71420212400,"Louisiana",152900,127700,0.83518639633747505,true,4,46710,61000,1.30593020766431,"",0,19.600000000000001,15.1,0.77040816326530603,"",1,0,0,1,0,"NO","NO",4]
["Vernon","Evans",9503,22115950300,"FALSE",0,0,71420212401,"Louisiana",152900,0,0,"",0,46710,0,0,true,4,19.600000000000001,0,0,"",0,1,0,1,0,"NO","NO",4]
["Vernon","Fort Polk",9506,22115950600,"FALSE",0,0,71420212402,"Louisiana",152900,0,0,"",0,46710,0,0,true,4,19.600000000000001,0,0,"",0,1,0,1,0,"NO","NO",4]
["Vernon","Fort Polk",9507.01,22115950701,"FALSE",0,0,71420212403,"Louisiana",152900,0,0,"",0,46710,0,0,true,4,19.600000000000001,0,0,"",0,1,0,1,0,"NO","NO",4]
["Vernon","Fort Polk",9507.02,22115950702,"FALSE",0,0,71420212404,"Louisiana",152900,0,0,"",0,46710,0,0,true,4,19.600000000000001,0,0,"",0,1,0,1,0,"NO","NO",4]
["Vernon","Fort Polk",9507.0300000000007,22115950703,"FALSE",0,0,71420212405,"Louisiana",152900,0,0,"",0,46710,0,0,true,4,19.600000000000001,0,0,"",0,1,0,1,0,"NO","NO",4]
["Vernon","Fort Polk",9507.0400000000009,22115950704,"FALSE",0,0,71420212406,"Louisiana",152900,0,0,"",0,46710,0,0,true,4,19.600000000000001,0,0,"",0,1,0,1,0,"NO","NO",4]
["Vernon","Hornbeck",6,22085000600,"FALSE",0,0,71420212407,"Louisiana",152900,87100,0.56965336821451895,true,4,46710,36786,0.78754014129736705,"",0,19.600000000000001,18.600000000000001,0.94897959183673497,"",1,0,0,1,0,"NO","NO",4]
["Vernon","Hornbeck",9502,22115950200,"FALSE",0,0,71420212408,"Louisiana",152900,87100,0.56965336821451895,true,4,46710,36786,0.78754014129736705,"",0,19.600000000000001,18.600000000000001,0.94897959183673497,"",1,0,0,1,0,"NO","NO",4]
["Vernon","Kurthwood",9505,22115950500,"FALSE",0,0,71420212409,"Louisiana",152900,0,0,"",{"$f":"IF(M2409=TRUE,4,0)","v":0},46710,0,0,true,{"$f":"IF(R2409=TRUE, 4,0)","v":4},19.600000000000001,0,0,"",0,1,0,1,{"$f":"IF(W2409=TRUE, 4,0)","v":0},"NO","NO",4]
["Vernon","Leesville",9501,22115950100,"FALSE",0,0,71420212410,"Louisiana",152900,95700,0.62589928057554001,true,4,46710,34668,0.74219653179190703,"",0,19.600000000000001,28.7,1.46428571428571,"",1,0,0,1,0,"NO","NO",4]
["Vernon","Leesville",9502,22115950200,"FALSE",0,0,71420212411,"Louisiana",152900,95700,0.62589928057554001,true,4,46710,34668,0.74219653179190703,"",0,19.600000000000001,28.7,1.46428571428571,"",1,0,0,1,0,"NO","NO",4]
["Vernon","Leesville",9503,22115950300,"FALSE",0,0,71420212412,"Louisiana",152900,95700,0.62589928057554001,true,4,46710,34668,0.74219653179190703,"",0,19.600000000000001,28.7,1.46428571428571,"",1,0,0,1,0,"NO","NO",4]
["Vernon","Leesville",9504,22115950400,"FALSE",0,0,71420212413,"Louisiana",152900,95700,0.62589928057554001,true,4,46710,34668,0.74219653179190703,"",0,19.600000000000001,28.7,1.46428571428571,"",1,0,0,1,0,"NO","NO",4]
["Vernon","Leesville",9505,22115950500,"FALSE",0,0,71420212414,"Louisiana",152900,95700,0.62589928057554001,true,4,46710,34668,0.74219653179190703,"",0,19.600000000000001,28.7,1.46428571428571,"",1,0,0,1,0,"NO","NO",4]
["Vernon","Leesville",9505,22115950500,"FALSE",0,0,71420212415,"Louisiana",152900,95700,0.62589928057554001,true,4,46710,34668,0.74219653179190703,"",0,19.600000000000001,28.7,1.46428571428571,"",1,0,0,1,0,"NO","NO",4]
["Vernon","Leesville",9506,22115950600,"FALSE",0,0,71420212416,"Louisiana",152900,95700,0.62589928057554001,true,4,46710,34668,0.74219653179190703,"",0,19.600000000000001,28.7,1.46428571428571,"",1,0,0,1,0,"NO","NO",4]
["Vernon","Leesville",9507.01,22115950701,"FALSE",0,0,71420212417,"Louisiana",152900,95700,0.62589928057554001,true,4,46710,34668,0.74219653179190703,"",0,19.600000000000001,28.7,1.46428571428571,"",1,0,0,1,0,"NO","NO",4]
["Vernon","Leesville",9507.0400000000009,22115950704,"FALSE",0,0,71420212418,"Louisiana",152900,95700,0.62589928057554001,true,4,46710,34668,0.74219653179190703,"",0,19.600000000000001,28.7,1.46428571428571,"",1,0,0,1,0,"NO","NO",4]
["Vernon","Leesville",9508,22115950800,"FALSE",0,0,71420212419,"Louisiana",152900,95700,0.62589928057554001,true,4,46710,34668,0.74219653179190703,"",0,19.600000000000001,28.7,1.46428571428571,"",1,0,0,1,0,"NO","NO",4]
["Vernon","Leesville",9509,22115950900,"FALSE",0,0,71420212420,"Louisiana",152900,95700,0.62589928057554001,true,4,46710,34668,0.74219653179190703,"",0,19.600000000000001,28.7,1.46428571428571,"",1,0,0,1,0,"NO","NO",4]
["Vernon","Newllano",9505,22115950500,"FALSE",0,0,71420212421,"Louisiana",152900,0,0,"",0,46710,0,0,true,4,19.600000000000001,0,0,"",0,1,0,1,0,"NO","NO",4]
["Vernon","Pitkin",9501,22003950100,"FALSE",0,0,71420212422,"Louisiana",152900,70500,0.461085676913015,"",0,46710,46467,0.99479768786127198,"",0,19.600000000000001,31.7,1.6173469387755099,true,0,0,1,1,4,"NO","NO",4]
["Vernon","Pitkin",136,22079013600,"FALSE",0,0,71420212423,"Louisiana",152900,70500,0.461085676913015,"",0,46710,46467,0.99479768786127198,"",0,19.600000000000001,31.7,1.6173469387755099,true,0,0,1,1,4,"NO","NO",4]
["Vernon","Pitkin",9507.01,22115950701,"FALSE",0,0,71420212424,"Louisiana",152900,70500,0.461085676913015,"",0,46710,46467,0.99479768786127198,"",0,19.600000000000001,31.7,1.6173469387755099,true,0,0,1,1,4,"NO","NO",4]
["Vernon","Pitkin",9508,22115950800,"FALSE",0,0,71420212425,"Louisiana",152900,70500,0.461085676913015,"",0,46710,46467,0.99479768786127198,"",0,19.600000000000001,31.7,1.6173469387755099,true,0,0,1,1,4,"NO","NO",4]
["Vernon","Rosepine",9509,22115950900,"FALSE",0,0,71420212426,"Louisiana",152900,141100,0.92282537606278603,true,4,46710,46319,0.99162920145579103,"",0,19.600000000000001,25,1.27551020408163,"",1,0,0,1,0,"NO","NO",4]
["Vernon","Simpson",9501,22115950100,"FALSE",0,0,71420212427,"Louisiana",152900,140400,0.918247220405494,true,4,46710,67500,1.44508670520231,"",0,19.600000000000001,17.600000000000001,0.89795918367346905,"",1,0,0,1,0,"NO","NO",4]
["Vernon","Slagle",9501,22115950100,"FALSE",0,0,71420212428,"Louisiana",152900,0,0,"",0,46710,0,0,true,4,19.600000000000001,0,0,"",0,1,0,1,0,{"$f":"IF(AND(E2428=\"TRUE\",AA2428>1),\"YES\",\"NO\")","v":"NO"},{"$f":"IF(AND(F2428=1,AA2428>1), \"YES\",\"NO\")","v":"NO"},4]
["Washington","Angie",9501.01,22117950101,"FALSE",0,0,71420212429,"Louisiana",152900,77000,0.50359712230215803,true,4,46710,51250,1.0971954613573101,"",0,19.600000000000001,17.100000000000001,0.87244897959183698,"",1,0,0,1,0,"NO","NO",4]
["Washington","Angie",9501.02,22117950102,"FALSE",0,0,71420212430,"Louisiana",152900,77000,0.50359712230215803,true,4,46710,51250,1.0971954613573101,"",0,19.600000000000001,17.100000000000001,0.87244897959183698,"",1,0,0,1,0,"NO","NO",4]
["Washington","Angie",9502,22117950200,"FALSE",0,0,71420212431,"Louisiana",152900,77000,0.50359712230215803,true,4,46710,51250,1.0971954613573101,"",0,19.600000000000001,17.100000000000001,0.87244897959183698,"",1,0,0,1,0,"NO","NO",4]
["Washington","Bogalusa",401.04,22103040104,"FALSE",0,0,71420212432,"Louisiana",152900,68800,0.449967298888162,"",0,46710,24600,0.52665382145150896,true,4,19.600000000000001,36.299999999999997,1.8520408163265301,true,0,1,1,2,4,"NO","NO",8]
["Washington","Bogalusa",9501.01,22117950101,"FALSE",0,0,71420212433,"Louisiana",152900,68800,0.449967298888162,"",0,46710,24600,0.52665382145150896,true,4,19.600000000000001,36.299999999999997,1.8520408163265301,true,0,1,1,2,4,"NO","NO",8]
["Washington","Bogalusa",9501.02,22117950102,"FALSE",0,0,71420212434,"Louisiana",152900,68800,0.449967298888162,"",0,46710,24600,0.52665382145150896,true,4,19.600000000000001,36.299999999999997,1.8520408163265301,true,0,1,1,2,4,"NO","NO",8]
["Washington","Bogalusa",9505,22117950500,"FALSE",0,{"$f":"IF(E2435=\"TRUE\",4,0)","v":0},71420212435,"Louisiana",152900,68800,0.449967298888162,{"$f":"IF(L2435>=50%,TRUE,\"\")","v":""},0,46710,24600,0.52665382145150896,{"$f":"IF(Q2435<=65%,TRUE,\"\")","v":true},4,19.600000000000001,36.299999999999997,1.8520408163265301,{"$f":"IF(V2435>=1.5,TRUE,\"\")","v":true},{"$f":"IF(M2435=TRUE,1,0)","v":0},{"$f":"IF(R2435=TRUE,1,0)","v":1},{"$f":"IF(W2435=TRUE,1,0)","v":1},{"$f":"SUM(X2435:Z2435)","v":2},4,"NO","NO",{"$f":"+G2435+N2435+S2435+AB2435","v":8}]
["Washington","Bogalusa",9506,22117950600,"FALSE",0,0,71420212436,"Louisiana",152900,68800,0.449967298888162,"",0,46710,24600,0.52665382145150896,true,4,19.600000000000001,36.299999999999997,1.8520408163265301,true,0,1,1,2,4,"NO","NO",8]
["Washington","Bogalusa",9507,22117950700,"FALSE",0,0,71420212437,"Louisiana",152900,68800,0.449967298888162,"",0,46710,24600,0.52665382145150896,true,4,19.600000000000001,36.299999999999997,1.8520408163265301,true,0,1,1,2,4,"NO","NO",8]
["Washington","Bogalusa",9508,22117950800,"TRUE",1,4,71420212438,"Louisiana",152900,68800,0.449967298888162,"",0,46710,24600,0.52665382145150896,true,4,19.600000000000001,36.299999999999997,1.8520408163265301,true,0,1,1,2,4,"YES","YES",12]
["Washington","Bogalusa",9509,22117950900,"TRUE",1,4,71420212439,"Louisiana",152900,68800,0.449967298888162,"",0,46710,24600,0.52665382145150896,true,4,19.600000000000001,36.299999999999997,1.8520408163265301,true,0,1,1,2,4,"YES","YES",12]
["Washington","Bogalusa",9510,22117951000,"FALSE",0,0,71420212440,"Louisiana",152900,68800,0.449967298888162,"",0,46710,24600,0.52665382145150896,true,4,19.600000000000001,36.299999999999997,1.8520408163265301,true,0,1,1,2,4,"NO","NO",8]
["Washington","Franklinton",402.01,22103040201,"FALSE",0,0,71420212441,"Louisiana",152900,114600,0.74950948332243295,true,{"$f":"IF(M2441=TRUE,4,0)","v":4},46710,27000,0.57803468208092501,true,{"$f":"IF(R2441=TRUE, 4,0)","v":4},19.600000000000001,17.5,0.89285714285714302,"",1,1,0,2,{"$f":"IF(W2441=TRUE, 4,0)","v":0},"NO","NO",8]
["Washington","Franklinton",402.02,22103040202,"FALSE",0,0,71420212442,"Louisiana",152900,114600,0.74950948332243295,true,4,46710,27000,0.57803468208092501,true,4,19.600000000000001,17.5,0.89285714285714302,"",1,1,0,2,0,"NO","NO",8]
["Washington","Franklinton",9535,22105953500,"FALSE",0,0,71420212443,"Louisiana",152900,114600,0.74950948332243295,true,4,46710,27000,0.57803468208092501,true,4,19.600000000000001,17.5,0.89285714285714302,"",1,1,0,2,0,"NO","NO",8]
["Washington","Franklinton",9501.02,22117950102,"FALSE",0,0,71420212444,"Louisiana",152900,114600,0.74950948332243295,true,4,46710,27000,0.57803468208092501,true,4,19.600000000000001,17.5,0.89285714285714302,"",1,1,0,2,0,"NO","NO",8]
["Washington","Franklinton",9502,22117950200,"FALSE",0,0,71420212445,"Louisiana",152900,114600,0.74950948332243295,true,4,46710,27000,0.57803468208092501,true,4,19.600000000000001,17.5,0.89285714285714302,"",1,1,0,2,0,"NO","NO",8]
["Washington","Franklinton",9503,22117950300,"FALSE",0,0,71420212446,"Louisiana",152900,114600,0.74950948332243295,true,4,46710,27000,0.57803468208092501,true,4,19.600000000000001,17.5,0.89285714285714302,"",1,1,0,2,0,"NO","NO",8]
["Washington","Franklinton",9504,22117950400,"FALSE",0,0,71420212447,"Louisiana",152900,114600,0.74950948332243295,true,4,46710,27000,0.57803468208092501,true,4,19.600000000000001,17.5,0.89285714285714302,"",1,1,0,2,0,"NO","NO",8]
["Washington","Franklinton",9505,22117950500,"FALSE",0,0,71420212448,"Louisiana",152900,114600,0.74950948332243295,true,4,46710,27000,0.57803468208092501,true,4,19.600000000000001,17.5,0.89285714285714302,"",1,1,0,2,0,"NO","NO",8]
["Washington","Franklinton",9506,22117950600,"FALSE",0,0,71420212449,"Louisiana",152900,114600,0.74950948332243295,true,4,46710,27000,0.57803468208092501,true,4,19.600000000000001,17.5,0.89285714285714302,"",1,1,0,2,0,"NO","NO",8]
["Washington","Mount Hermon",9504,22117950400,"FALSE",0,0,71420212450,"Louisiana",152900,0,0,"",0,46710,0,0,true,4,19.600000000000001,0,0,"",0,1,0,1,0,"NO","NO",4]
["Webster","Cotton Valley",111.03,22015011103,"FALSE",0,0,71420212451,"Louisiana",152900,51200,0.33485938521909703,"",0,46710,23229,0.49730250481695598,true,4,19.600000000000001,44.3,2.2602040816326499,true,0,1,1,2,4,"NO","NO",8]
["Webster","Cotton Valley",112,22015011200,"FALSE",0,0,71420212452,"Louisiana",152900,51200,0.33485938521909703,"",0,46710,23229,0.49730250481695598,true,4,19.600000000000001,44.3,2.2602040816326499,true,0,1,1,2,4,"NO","NO",8]
["Webster","Cotton Valley",314,22119031400,"FALSE",0,0,71420212453,"Louisiana",152900,51200,0.33485938521909703,"",0,46710,23229,0.49730250481695598,true,4,19.600000000000001,44.3,2.2602040816326499,true,0,1,1,2,4,"NO","NO",8]
["Webster","Cotton Valley",315,22119031500,"FALSE",0,0,71420212454,"Louisiana",152900,51200,0.33485938521909703,"",0,46710,23229,0.49730250481695598,true,4,19.600000000000001,44.3,2.2602040816326499,true,0,1,1,2,4,"NO","NO",8]
["Webster","Cullen",312,22119031200,"FALSE",0,0,71420212455,"Louisiana",152900,54600,0.35709614126880301,"",0,46710,16185,0.34649967886962102,true,4,19.600000000000001,48.2,2.4591836734693899,true,0,1,1,2,4,"NO","NO",8]
["Webster","Doyline",110.01,22015011001,"FALSE",0,0,71420212456,"Louisiana",152900,72400,0.47351209941138001,"",0,46710,27000,0.57803468208092501,true,4,19.600000000000001,39.6,2.0204081632653099,true,0,1,1,2,4,"NO","NO",8]
["Webster","Doyline",110.02,22015011002,"FALSE",0,0,71420212457,"Louisiana",152900,72400,0.47351209941138001,"",0,46710,27000,0.57803468208092501,true,4,19.600000000000001,39.6,2.0204081632653099,true,0,1,1,2,4,"NO","NO",8]
["Webster","Doyline",111.06,22015011106,"FALSE",0,0,71420212458,"Louisiana",152900,72400,0.47351209941138001,"",0,46710,27000,0.57803468208092501,true,4,19.600000000000001,39.6,2.0204081632653099,true,0,1,1,2,4,"NO","NO",8]
["Webster","Doyline",315,22119031500,"FALSE",0,0,71420212459,"Louisiana",152900,72400,0.47351209941138001,"",0,46710,27000,0.57803468208092501,true,4,19.600000000000001,39.6,2.0204081632653099,true,0,1,1,2,4,"NO","NO",8]
["Webster","Doyline",321,22119032100,"FALSE",0,0,71420212460,"Louisiana",152900,72400,0.47351209941138001,"",0,46710,27000,0.57803468208092501,true,4,19.600000000000001,39.6,2.0204081632653099,true,0,1,1,2,4,"NO","NO",8]
["Webster","Dubberly",9704,22013970400,"FALSE",0,0,71420212461,"Louisiana",152900,145000,0.94833224329627197,true,4,46710,42500,0.90986940697923402,"",0,19.600000000000001,14.8,0.75510204081632604,"",1,0,0,1,0,"NO","NO",4]
["Webster","Dubberly",9705,22013970500,"FALSE",0,0,71420212462,"Louisiana",152900,145000,0.94833224329627197,true,4,46710,42500,0.90986940697923402,"",0,19.600000000000001,14.8,0.75510204081632604,"",1,0,0,1,0,"NO","NO",4]
["Webster","Dubberly",321,22119032100,"FALSE",0,0,71420212463,"Louisiana",152900,145000,0.94833224329627197,true,4,46710,42500,0.90986940697923402,"",0,19.600000000000001,14.8,0.75510204081632604,"",1,0,0,1,0,"NO","NO",4]
["Webster","Heflin",9703,22013970300,"FALSE",0,0,71420212464,"Louisiana",152900,106300,0.695225637671681,true,4,46710,45313,0.97009205737529403,"",0,19.600000000000001,5.8,0.29591836734693899,"",1,0,0,1,0,"NO","NO",4]
["Webster","Heflin",9704,22013970400,"FALSE",0,0,71420212465,"Louisiana",152900,106300,0.695225637671681,true,4,46710,45313,0.97009205737529403,"",0,19.600000000000001,5.8,0.29591836734693899,"",1,0,0,1,0,"NO","NO",4]
["Webster","Heflin",321,22119032100,"FALSE",0,0,71420212466,"Louisiana",152900,106300,0.695225637671681,true,4,46710,45313,0.97009205737529403,"",0,19.600000000000001,5.8,0.29591836734693899,"",1,0,0,1,0,"NO","NO",4]
["Webster","Minden",9702,22013970200,"FALSE",0,0,71420212467,"Louisiana",152900,89000,0.58207979071288396,true,4,46710,28450,0.60907728537786299,true,4,19.600000000000001,23.4,1.19387755102041,"",1,1,0,2,0,"NO","NO",8]
["Webster","Minden",9502,22027950200,"FALSE",0,0,71420212468,"Louisiana",152900,89000,0.58207979071288396,true,4,46710,28450,0.60907728537786299,true,4,19.600000000000001,23.4,1.19387755102041,"",1,1,0,2,0,"NO","NO",8]
["Webster","Minden",9505,22027950500,"FALSE",0,0,71420212469,"Louisiana",152900,89000,0.58207979071288396,true,4,46710,28450,0.60907728537786299,true,4,19.600000000000001,23.4,1.19387755102041,"",1,1,0,2,0,"NO","NO",8]
["Webster","Minden",311,22119031100,"FALSE",0,0,71420212470,"Louisiana",152900,89000,0.58207979071288396,true,4,46710,28450,0.60907728537786299,true,4,19.600000000000001,23.4,1.19387755102041,"",1,1,0,2,0,"NO","NO",8]
["Webster","Minden",315,22119031500,"FALSE",0,0,71420212471,"Louisiana",152900,89000,0.58207979071288396,true,4,46710,28450,0.60907728537786299,true,4,19.600000000000001,23.4,1.19387755102041,"",1,1,0,2,0,"NO","NO",8]
["Webster","Minden",316,22119031600,"FALSE",0,0,71420212472,"Louisiana",152900,89000,0.58207979071288396,true,4,46710,28450,0.60907728537786299,true,4,19.600000000000001,23.4,1.19387755102041,"",1,1,0,2,0,"NO","NO",8]
["Webster","Minden",317,22119031700,"TRUE",1,4,71420212473,"Louisiana",152900,89000,0.58207979071288396,true,{"$f":"IF(M2473=TRUE,4,0)","v":4},46710,28450,0.60907728537786299,true,{"$f":"IF(R2473=TRUE, 4,0)","v":4},19.600000000000001,23.4,1.19387755102041,"",1,1,0,2,{"$f":"IF(W2473=TRUE, 4,0)","v":0},"YES","YES",12]
["Webster","Minden",318,22119031800,"FALSE",0,0,71420212474,"Louisiana",152900,89000,0.58207979071288396,true,4,46710,28450,0.60907728537786299,true,4,19.600000000000001,23.4,1.19387755102041,"",1,1,0,2,0,"NO","NO",8]
["Webster","Minden",319,22119031900,"FALSE",0,0,71420212475,"Louisiana",152900,89000,0.58207979071288396,true,4,46710,28450,0.60907728537786299,true,4,19.600000000000001,23.4,1.19387755102041,"",1,1,0,2,0,"NO","NO",8]
["Webster","Minden",320,22119032000,"FALSE",0,0,71420212476,"Louisiana",152900,89000,0.58207979071288396,true,4,46710,28450,0.60907728537786299,true,4,19.600000000000001,23.4,1.19387755102041,"",1,1,0,2,0,"NO","NO",8]
["Webster","Minden",321,22119032100,"FALSE",0,0,71420212477,"Louisiana",152900,89000,0.58207979071288396,true,4,46710,28450,0.60907728537786299,true,4,19.600000000000001,23.4,1.19387755102041,"",1,1,0,2,0,"NO","NO",8]
["Webster","Sarepta",112,22015011200,"TRUE",1,4,71420212478,"Louisiana",152900,69000,0.45127534336167402,"",0,46710,38500,0.82423463926354101,"",0,19.600000000000001,21.6,1.1020408163265301,"",0,0,0,0,0,"NO","NO",4]
["Webster","Sarepta",312,22119031200,"FALSE",0,0,71420212479,"Louisiana",152900,69000,0.45127534336167402,"",0,46710,38500,0.82423463926354101,"",0,19.600000000000001,21.6,1.1020408163265301,"",0,0,0,0,0,"NO","NO",0]
["Webster","Sarepta",314,22119031400,"FALSE",0,0,71420212480,"Louisiana",152900,69000,0.45127534336167402,"",0,46710,38500,0.82423463926354101,"",0,19.600000000000001,21.6,1.1020408163265301,"",0,0,0,0,0,"NO","NO",0]
["Webster","Shongaloo",311,22119031100,"FALSE",0,0,71420212481,"Louisiana",152900,135400,0.885546108567691,true,4,46710,null,null,true,4,19.600000000000001,5.7,0.29081632653061201,"",1,1,0,2,0,"NO","NO",8]
["Webster","Sibley",321,22119032100,"FALSE",0,0,71420212482,"Louisiana",152900,83700,0.54741661216481396,true,4,46710,29118,0.62337829158638403,true,4,19.600000000000001,22.2,1.1326530612244901,"",1,1,0,2,0,"NO","NO",8]
["Webster","Springhill",112,22015011200,"FALSE",0,0,71420212483,"Louisiana",152900,67000,0.43819489862655298,"",0,46710,27857,0.59638193106401205,true,4,19.600000000000001,33.4,1.7040816326530599,true,0,1,1,2,4,"NO","NO",8]
["Webster","Springhill",312,22119031200,"FALSE",0,0,71420212484,"Louisiana",152900,67000,0.43819489862655298,"",0,46710,27857,0.59638193106401205,true,4,19.600000000000001,33.4,1.7040816326530599,true,0,1,1,2,4,"NO","NO",8]
["Webster","Springhill",313,22119031300,"FALSE",0,0,71420212485,"Louisiana",152900,67000,0.43819489862655298,"",0,46710,27857,0.59638193106401205,true,4,19.600000000000001,33.4,1.7040816326530599,true,0,1,1,2,4,"NO","NO",8]
["West Baton Rouge","Addis",204.01,22121020401,"FALSE",0,0,71420212486,"Louisiana",152900,180900,1.18312622629169,true,4,46710,68261,1.4613787197602199,"",0,19.600000000000001,9.8000000000000007,0.5,"",1,0,0,1,0,"NO","NO",4]
["West Baton Rouge","Addis",204.02,22121020402,"FALSE",0,0,71420212487,"Louisiana",152900,180900,1.18312622629169,true,4,46710,68261,1.4613787197602199,"",0,19.600000000000001,9.8000000000000007,0.5,"",1,0,0,1,0,"NO","NO",4]
["West Baton Rouge","Brusly",204.01,22121020401,"FALSE",0,0,71420212488,"Louisiana",152900,206800,1.3525179856115099,true,4,46710,74474,1.59439092271462,"",0,19.600000000000001,17.3,0.88265306122449005,"",1,0,0,1,0,"NO","NO",4]
["West Baton Rouge","Brusly",204.02,22121020402,"FALSE",0,0,71420212489,"Louisiana",152900,206800,1.3525179856115099,true,4,46710,74474,1.59439092271462,"",0,19.600000000000001,17.3,0.88265306122449005,"",1,0,0,1,0,"NO","NO",4]
["West Baton Rouge","Erwinville",9521,22077952100,"FALSE",0,0,71420212490,"Louisiana",152900,167900,1.09810333551341,true,4,46710,69327,1.48420038535645,"",0,19.600000000000001,11.7,0.59693877551020402,"",1,0,0,1,0,"NO","NO",4]
["West Baton Rouge","Erwinville",203,22121020300,"TRUE",1,4,71420212491,"Louisiana",152900,167900,1.09810333551341,true,4,46710,69327,1.48420038535645,"",0,19.600000000000001,11.7,0.59693877551020402,"",1,0,0,1,0,"NO","NO",8]
["West Baton Rouge","Port Allen",19,22033001900,"TRUE",1,4,71420212492,"Louisiana",152900,119700,0.78286461739699198,true,4,46710,40164,0.85985870263326902,"",0,19.600000000000001,24.5,1.25,"",1,0,0,1,0,{"$f":"IF(AND(E2492=\"TRUE\",AA2492>1),\"YES\",\"NO\")","v":"NO"},{"$f":"IF(AND(F2492=1,AA2492>1), \"YES\",\"NO\")","v":"NO"},8]
["West Baton Rouge","Port Allen",9521,22077952100,"TRUE",1,4,71420212493,"Louisiana",152900,119700,0.78286461739699198,true,4,46710,40164,0.85985870263326902,"",0,19.600000000000001,24.5,1.25,"",1,0,0,1,0,"NO","NO",8]
["West Baton Rouge","Port Allen",201,22121020100,"FALSE",0,0,71420212494,"Louisiana",152900,119700,0.78286461739699198,true,4,46710,40164,0.85985870263326902,"",0,19.600000000000001,24.5,1.25,"",1,0,0,1,0,"NO","NO",4]
["West Baton Rouge","Port Allen",202,22121020200,"FALSE",0,0,71420212495,"Louisiana",152900,119700,0.78286461739699198,true,4,46710,40164,0.85985870263326902,"",0,19.600000000000001,24.5,1.25,"",1,0,0,1,0,"NO","NO",4]
["West Baton Rouge","Port Allen",203,22121020300,"FALSE",0,0,71420212496,"Louisiana",152900,119700,0.78286461739699198,true,4,46710,40164,0.85985870263326902,"",0,19.600000000000001,24.5,1.25,"",1,0,0,1,0,"NO","NO",4]
["West Baton Rouge","Port Allen",204.01,22121020401,"TRUE",1,4,71420212497,"Louisiana",152900,119700,0.78286461739699198,true,4,46710,40164,0.85985870263326902,"",0,19.600000000000001,24.5,1.25,"",1,0,0,1,0,"NO","NO",8]
["West Baton Rouge","Port Allen",204.02,22121020402,"FALSE",0,0,71420212498,"Louisiana",152900,119700,0.78286461739699198,true,4,46710,40164,0.85985870263326902,"",0,19.600000000000001,24.5,1.25,"",1,0,0,1,0,"NO","NO",4]
["West Carroll","Epps",2,22035000200,"FALSE",0,{"$f":"IF(E2499=\"TRUE\",4,0)","v":0},71420212499,"Louisiana",152900,50300,0.32897318508829299,{"$f":"IF(L2499>=50%,TRUE,\"\")","v":""},0,46710,24792,0.53076429030186301,{"$f":"IF(Q2499<=65%,TRUE,\"\")","v":true},4,19.600000000000001,22.2,1.1326530612244901,{"$f":"IF(V2499>=1.5,TRUE,\"\")","v":""},{"$f":"IF(M2499=TRUE,1,0)","v":0},{"$f":"IF(R2499=TRUE,1,0)","v":1},{"$f":"IF(W2499=TRUE,1,0)","v":0},{"$f":"SUM(X2499:Z2499)","v":1},0,"NO","NO",{"$f":"+G2499+N2499+S2499+AB2499","v":4}]
["West Carroll","Epps",9602,22065960200,"TRUE",1,4,71420212500,"Louisiana",152900,50300,0.32897318508829299,"",0,46710,24792,0.53076429030186301,true,4,19.600000000000001,22.2,1.1326530612244901,"",0,1,0,1,0,"NO","NO",8]
["West Carroll","Epps",9702,22083970200,"FALSE",0,0,71420212501,"Louisiana",152900,50300,0.32897318508829299,"",0,46710,24792,0.53076429030186301,true,4,19.600000000000001,22.2,1.1326530612244901,"",0,1,0,1,0,"NO","NO",4]
["West Carroll","Epps",9703,22083970300,"FALSE",0,0,71420212502,"Louisiana",152900,50300,0.32897318508829299,"",0,46710,24792,0.53076429030186301,true,4,19.600000000000001,22.2,1.1326530612244901,"",0,1,0,1,0,"NO","NO",4]
["West Carroll","Epps",3,22123000300,"FALSE",0,0,71420212503,"Louisiana",152900,50300,0.32897318508829299,"",0,46710,24792,0.53076429030186301,true,4,19.600000000000001,22.2,1.1326530612244901,"",0,1,0,1,0,"NO","NO",4]
["West Carroll","Forest",2,22123000200,"FALSE",0,0,71420212504,"Louisiana",152900,82000,0.53629823413996103,true,4,46710,29063,0.622200813530293,true,4,19.600000000000001,11,0.56122448979591799,"",1,1,0,2,0,"NO","NO",8]
["West Carroll","Kilbourne",1,22123000100,"FALSE",0,0,71420212505,"Louisiana",152900,94500,0.61805101373446703,true,{"$f":"IF(M2505=TRUE,4,0)","v":4},46710,26667,0.57090558766859301,true,{"$f":"IF(R2505=TRUE, 4,0)","v":4},19.600000000000001,26,1.3265306122449001,"",1,1,0,2,{"$f":"IF(W2505=TRUE, 4,0)","v":0},"NO","NO",8]
["West Carroll","Oak Grove",1,22123000100,"FALSE",0,0,71420212506,"Louisiana",152900,89400,0.58469587965990799,true,4,46710,22656,0.48503532434168301,true,4,19.600000000000001,30.8,1.5714285714285701,true,1,1,1,3,4,"NO","NO",12]
["West Carroll","Oak Grove",2,22123000200,"FALSE",0,0,71420212507,"Louisiana",152900,89400,0.58469587965990799,true,4,46710,22656,0.48503532434168301,true,4,19.600000000000001,30.8,1.5714285714285701,true,1,1,1,3,4,"NO","NO",12]
["West Carroll","Oak Grove",3,22123000300,"FALSE",0,0,71420212508,"Louisiana",152900,89400,0.58469587965990799,true,4,46710,22656,0.48503532434168301,true,4,19.600000000000001,30.8,1.5714285714285701,true,1,1,1,3,4,"NO","NO",12]
["West Carroll","Pioneer",2,22123000200,"TRUE",1,4,71420212509,"Louisiana",152900,65000,0.42511445389143199,"",0,46710,33125,0.70916292014557902,"",0,19.600000000000001,16.7,0.85204081632653095,"",0,0,0,0,0,"NO","NO",4]
["West Carroll","Pioneer",3,22123000300,"FALSE",0,0,71420212510,"Louisiana",152900,65000,0.42511445389143199,"",0,46710,33125,0.70916292014557902,"",0,19.600000000000001,16.7,0.85204081632653095,"",0,0,0,0,0,"NO","NO",0]
["West Feliciana","Angola",9517.02,22125951702,"FALSE",0,0,71420212511,"Louisiana",152900,0,0,"",0,46710,0,0,true,4,19.600000000000001,0,0,"",0,1,0,1,0,"NO","NO",4]
["West Feliciana","Saint Francisville",9517.01,22125951701,"FALSE",0,0,71420212512,"Louisiana",152900,0,0,"",0,46710,0,0,true,4,19.600000000000001,0,0,"",0,1,0,1,0,"NO","NO",4]
["West Feliciana","Saint Francisville",9518,22125951800,"FALSE",0,0,71420212513,"Louisiana",152900,0,0,"",0,46710,0,0,true,4,19.600000000000001,0,0,"",0,1,0,1,0,"NO","NO",4]
["West Feliciana","Tunica",9518,22125951800,"FALSE",0,0,71420212514,"Louisiana",152900,0,0,"",0,46710,0,0,true,4,19.600000000000001,0,0,"",0,1,0,1,0,"NO","NO",4]
["West Feliciana","Wakefield",9518,22125951800,"TRUE",1,4,71420212515,"Louisiana",152900,0,0,"",0,46710,0,0,true,4,19.600000000000001,0,0,"",0,1,0,1,0,"NO","NO",8]
["West Feliciana","Weyanoke",9517.01,22125951701,"FALSE",0,0,71420212516,"Louisiana",152900,0,0,"",0,46710,0,0,true,4,19.600000000000001,0,0,"",0,1,0,1,0,"NO","NO",4]
["Winn","Atlanta",202,22043020200,"FALSE",0,0,71420212517,"Louisiana",152900,87000,0.56899934597776303,true,4,46710,36250,0.77606508242346395,"",0,19.600000000000001,20.399999999999999,1.0408163265306101,"",1,0,0,1,0,"NO","NO",4]
["Winn","Atlanta",9602,22127960200,"FALSE",0,0,71420212518,"Louisiana",152900,87000,0.56899934597776303,true,4,46710,36250,0.77606508242346395,"",0,19.600000000000001,20.399999999999999,1.0408163265306101,"",1,0,0,1,0,"NO","NO",4]
["Winn","Calvin",9602,22127960200,"FALSE",0,0,71420212519,"Louisiana",152900,71300,0.466317854807063,"",0,46710,31250,0.66902162277884802,"",0,19.600000000000001,45.1,2.3010204081632701,true,0,0,1,1,4,"NO","NO",4]
["Winn","Dodson",9601,22127960100,"FALSE",0,0,71420212520,"Louisiana",152900,55800,0.364944408109876,"",0,46710,29758,0.63707985442089499,true,4,19.600000000000001,30.4,1.5510204081632699,true,0,1,1,2,4,"NO","NO",8]
["Winn","Dodson",9602,22127960200,"FALSE",0,0,71420212521,"Louisiana",152900,55800,0.364944408109876,"",0,46710,29758,0.63707985442089499,true,4,19.600000000000001,30.4,1.5510204081632699,true,0,1,1,2,4,"NO","NO",8]
["Winn","Joyce",9601,22127960100,"FALSE",0,0,71420212522,"Louisiana",152900,99300,0.64944408109875695,true,4,46710,50139,1.0734104046242801,"",0,19.600000000000001,31.7,1.6173469387755099,true,1,0,1,2,4,"NO","NO",8]
["Winn","Saint Maurice",9602,22127960200,"FALSE",0,0,71420212523,"Louisiana",152900,0,0,"",0,46710,0,0,true,4,19.600000000000001,0,0,"",0,1,0,1,0,"NO","NO",4]
["Winn","Sikes",9601,22127960100,"FALSE",0,0,71420212524,"Louisiana",152900,90700,0.59319816873773701,true,4,46710,44375,0.95001070434596402,"",0,19.600000000000001,35.4,1.80612244897959,true,1,0,1,2,4,"NO","NO",8]
["Winn","Winnfield",9601,22127960100,"FALSE",0,0,71420212525,"Louisiana",152900,62800,0.41072596468279898,"",0,46710,21493,0.46013701562834503,true,4,19.600000000000001,39,1.9897959183673499,true,0,1,1,2,4,"NO","NO",8]
["Winn","Winnfield",9602,22127960200,"FALSE",0,0,71420212526,"Louisiana",152900,62800,0.41072596468279898,"",0,46710,21493,0.46013701562834503,true,4,19.600000000000001,39,1.9897959183673499,true,0,1,1,2,4,"NO","NO",8]
["Winn","Winnfield",9603,22127960300,"TRUE",1,4,71420212527,"Louisiana",152900,62800,0.41072596468279898,"",0,46710,21493,0.46013701562834503,true,4,19.600000000000001,39,1.9897959183673499,true,0,1,1,2,4,"YES","YES",12]
["Winn","Winnfield",9604,22127960400,"TRUE",1,4,71420212528,"Louisiana",152900,62800,0.41072596468279898,"",0,46710,21493,0.46013701562834503,true,4,19.600000000000001,39,1.9897959183673499,true,0,1,1,2,4,"YES","YES",12]

{"sheet":"Lists","index":3,"n_rows":596,"n_cols":43,"rows_kept":596,"cut":false,"hidden":true,"merged":[[126,7,126,8],[108,3,108,4],[121,7,121,8],[122,7,122,8],[123,7,123,8],[120,6,120,8],[103,16,103,20],[109,16,109,20],[0,15,0,20],[73,16,73,20],[0,23,0,24],[97,23,97,32],[0,29,0,30],[14,32,14,41],[88,16,88,20],[71,15,71,20],[0,36,0,37]]}
["Parishes",null,null,"Project Type",null,"Legal Structure",null,"Yes/No",null,"Applicant Eligiblity",null,"New Construction/  Rehab",null," Housing Description",null,"2021 234 Limits",null,null,null,null,null,null,null,"Maximum Supportable Loan",null,null,null,null,null,"Residual Value",null,null,null,null,null,null,"Sale Price"]
[null,null,null,null,null,null,null,null,null,null,null,null,null,null,null,null,"0 BR","1 BR","2 BR ","3 BR","4 OR MORE BR",null,null,"Interest Rate (as a percentage)",{"$f":"+'Loan Information'!E8","v":0},null,null,null,null,"Interest Rate (as a percentage)",{"$f":"+Underwriting!H521","v":0},null,null,null,null,null,"Interest Rate (as a percentage)",{"$f":"+'Loan Information'!E8","v":0}]
["Acadia Parish",null,null,"CHDO Rental Development",null,"General Partnership",null,"Yes",null,"State Certified CHDO",null,"New Construction",null,"Multifamily",null,"Acadia",172478,197721,240432,311042,341425,null,null,"Term of Loan (in Years)",{"$f":"+'Loan Information'!E9","v":0},null,null,null,null,"Term of Loan (in Years)",{"$f":"+'Loan Information'!E9","v":0},null,null,null,null,null,"Term of Loan (in Years)",{"$f":"+'Loan Information'!E9","v":0}]
["Allen Parish",null,null,"Rental Development (Non-CHDO)",null,"Limited Partnership",null,"No",null,"Private For-Profit Developer",null,"Rehab",null,"Single Room Occupancy",null,"Allen",172478,197721,240432,311042,341425,null,null,"Debt Coverage Ratio Required",{"$f":"+'Loan Information'!E11","v":0},null,null,null,null,"Debt Coverage Ratio Required",{"$f":"+'Loan Information'!E11","v":0},null,null,null,null,null,"Debt Coverage Ratio Required",{"$f":"+'Loan Information'!E11","v":0}]
["Ascension Parish",null,null,null,null,"Non Profit Entity",null,null,null,"Not-For-Profit 501(c)(3) and 501(c)(4) Organizations",null,null,null,"Scattered Site",null,"Ascension",164174,188201,228855,296066,324986,null,null,"Net Operating Income",{"$f":"+'Pro Forma'!D27","v":0},null,null,null,null,"Net Operating Income (At Completion of 20 HOME Affordability Period)",{"$f":"+'Pro Forma'!AP27","v":0},null,null,null,null,null,"Net Operating Income",{"$f":"+'Pro Forma'!AP27","v":0}]
["Assumption Parish",null,null,null,null,"LLC",null,null,null,"Public Housing Authorities",null,null,null,"Townhouse",null,"Assumption",164174,188201,228855,296066,324986,null,null,"Interest Rate (as a decimal)",{"$f":"+Y2","v":0},null,null,null,null,"Interest Rate (as a decimal)",{"$f":"+AE2","v":0},null,null,null,null,null,"Interest Rate (as a decimal)",{"$f":"+AL2","v":0}]
["Avoyelles Parish",null,null,null,null,"Corporation",null,null,null,"Local Governments",null,null,null,"Garden Apartment",null,"Avoyelles",164174,188201,228855,296066,324986,null,null,"Term of Loan (in Months)",{"$f":"+Y3*12","v":0},null,null,null,null,"Term of Loan (in Months)",{"$f":"+AE3*12","v":0},null,null,null,null,null,"Term of Loan (in Months)",{"$f":"+AL3*12","v":0}]
["Beauregard Parish",null,null,null,null,null,null,null,null,"Native American Tribes",null,null,null,null,null,"Beauregard",172478,197721,240432,311042,341425,null,null,"Constant",{"$f":"AF102","v":{"$error":"#N/A"}},null,null,null,null,"Constant",{"$f":"+AO19","v":{"$error":"#N/A"}},null,null,null,null,null,"Constant",{"$f":"+AO19","v":{"$error":"#N/A"}}]
["Bienville Parish",null,null,null,null,null,null,null,null,null,null,null,null,null,null,"Bienville",172478,197721,240432,311042,341425,null,null,"Debt Service",{"$f":"+Y5/Y4","v":{"$error":"#DIV/0!"}},null,"D/S =  NOI/DCR",null,null,"Debt Service",{"$f":"+AE5/AE4","v":{"$error":"#DIV/0!"}},null,"D/S =  NOI/DCR",null,null,null,"Debt Service",{"$f":"+AL5/AL4","v":{"$error":"#DIV/0!"}},null,"D/S =  NOI/DCR"]
["Bossier Parish",null,null,null,null,null,null,null,null,null,null,null,null,null,null,"Bossier",172478,197721,240432,311042,341425,null,null,"Max Loan",{"$f":"+Y9/Y8","v":{"$error":"#DIV/0!"}},null,"Loan = (D/S)/c",null,null,"Max Loan (Residual Value)",{"$f":"+AE9/AE8","v":{"$error":"#DIV/0!"}},null,"Loan = (D/S)/c",null,null,null,"Max Loan",{"$f":"+AL9/AL8","v":{"$error":"#DIV/0!"}},null,"Loan = (D/S)/c"]
["Caddo Parish",null,null,"Building Style",null,"Occupancy Type",null,null,null,null,null,null,null,null,null,"Caddo",172478,197721,240432,311042,341425]
["Calcasieu Parish",null,null,null,null,null,null,null,null,null,null,null,null,null,null,"Calcasieu",172478,197721,240432,311042,341425]
["Caldwell Parish",null,null,"Walk Up",null,"Single Family -- Rental",null,null,null,null,null,null,null,null,null,"Caldwell",172478,197721,240432,311042,341425,null,null,"Years",10,15,20,25,30,35,40]
["Cameron Parish",null,null,"Elevator",null,"Multi-Family -- Rental",null,null,null,null,null,null,null,null,null,"Cameron",172478,197721,240432,311042,341425,null,null,"Rate"]
["Catahoula Parish",null,null,"Row",null,null,null,null,null,null,null,null,null,null,null,"Catahoula",172478,197721,240432,311042,341425,null,null,0.02,0.11042,7.7219999999999997E-2,6.071E-2,5.0860000000000002E-2,4.4350000000000001E-2,3.9750000000000001E-2,3.6339999999999997E-2,null,"Residual Value Constant"]
["Claiborne Parish",null,null,"Semi-Detached",null,null,null,null,null,null,null,null,null,null,null,"Claiborne",172478,197721,240432,311042,341425,null,null,2.1250000000000002E-2,0.11108999999999999,7.7909999999999993E-2,6.1420000000000002E-2,5.16E-2,4.5109999999999997E-2,4.0529999999999997E-2,3.7130000000000003E-2,null,null,"10 Year","15 Year","20 Year","25 Year","30 Year","35 Year","40 Year"]
["Concordia Parish",null,null,"Detached",null,null,null,null,null,null,null,null,null,null,null,"Concordia",164174,188201,228855,296066,324986,null,null,2.2499999999999999E-2,0.11176,7.8609999999999999E-2,6.2140000000000001E-2,5.2339999999999998E-2,4.5870000000000001E-2,4.1309999999999999E-2,3.7940000000000002E-2,null,"Constant",{"$f":"IF($AE$2=\" \",0, VLOOKUP($AE$2,$X$15:$AE$94, 2))","v":{"$error":"#N/A"}},{"$f":"IF($AE$2=\" \",0, VLOOKUP($AE$2,$X$15:$AE$94, 3))","v":{"$error":"#N/A"}},{"$f":"IF($AE$2=\" \",0, VLOOKUP($AE$2,$X$15:$AE$94, 4))","v":{"$error":"#N/A"}},{"$f":"IF($AE$2=\" \",0, VLOOKUP($AE$2,$X$15:$AE$94, 5))","v":{"$error":"#N/A"}},{"$f":"IF($AE$2=\" \",0, VLOOKUP($AE$2,$X$15:$AE$94, 6))","v":{"$error":"#N/A"}},{"$f":"IF($AE$2=\" \",0, VLOOKUP($AE$2,$X$15:$AE$94, 7))","v":{"$error":"#N/A"}},{"$f":"IF($AE$2=\" \",0, VLOOKUP($AE$2,$X$15:$AE$94, 8))","v":{"$error":"#N/A"}}]
["DeSoto Parish",null,null,"Other",null,null,null,null,null,null,null,null,null,null,null,"DeSoto",172478,197721,240432,311042,341425,null,null,2.375E-2,0.11244,7.9310000000000005E-2,6.2859999999999999E-2,5.3080000000000002E-2,4.6640000000000001E-2,4.2099999999999999E-2,3.875E-2]
["East Baton Rouge Parish",null,null,null,null,null,null,null,null,null,null,null,null,null,null,"East Baton Rouge",164174,188201,228855,296066,324986,null,null,2.5000000000000001E-2,0.11312,8.0009999999999998E-2,6.3589999999999994E-2,5.3830000000000003E-2,4.7410000000000001E-2,4.2900000000000001E-2,3.9570000000000001E-2,null,null,null,null,null,null,null,null,"Constant",{"$f":"IF(AE3 = \" \",0, VLOOKUP(AE3,AP19:AQ25, 2))","v":{"$error":"#N/A"}},10,{"$f":"+AH17","v":{"$error":"#N/A"}}]
["East Carroll Parish",null,null,null,null,null,null,null,null,null,null,null,null,null,null,"East Carroll",172478,197721,240432,311042,341425,null,null,2.6249999999999999E-2,0.11380999999999999,8.072E-2,6.4320000000000002E-2,5.459E-2,4.82E-2,4.3709999999999999E-2,4.0410000000000001E-2,null,null,null,null,null,null,null,null,null,null,15,{"$f":"+AI17","v":{"$error":"#N/A"}}]
["East Feliciana Parish",null,null,null,null,null,null,"Application Date",null,null,null,null,null,null,null,"East Feliciana",164174,188201,228855,296066,324986,null,null,2.75E-2,0.11448999999999999,8.1430000000000002E-2,6.5060000000000007E-2,5.5359999999999999E-2,4.8989999999999999E-2,4.4519999999999997E-2,4.1250000000000002E-2,null,null,null,null,null,null,null,null,null,null,20,{"$f":"+AJ17","v":{"$error":"#N/A"}}]
["Evangeline Parish",null,null,null,null,null,null,null,null,null,null,null,null,null,null,"Evangeline",172478,197721,240432,311042,341425,null,null,2.8750000000000001E-2,0.11518,8.2150000000000001E-2,6.5799999999999997E-2,5.6129999999999999E-2,4.9790000000000001E-2,4.5350000000000001E-2,4.2099999999999999E-2,null,null,null,null,null,null,null,null,null,null,25,{"$f":"+AK17","v":{"$error":"#N/A"}}]
["Franklin Parish",null,null,null,null,null,null,"January",1,2018,null,null,null,null,null,"Franklin",172478,197721,240432,311042,341425,null,null,0.03,0.11587,8.2869999999999999E-2,6.6549999999999998E-2,5.6910000000000002E-2,5.0590000000000003E-2,4.6179999999999999E-2,4.2959999999999998E-2,null,null,null,null,null,null,null,null,null,null,30,{"$f":"+AL17","v":{"$error":"#N/A"}}]
["Grant Parish",null,null,null,null,null,null,"February",2,2019,null,null,null,null,null,"Grant",172478,197721,240432,311042,341425,null,null,3.125E-2,0.11656999999999999,8.3589999999999998E-2,6.7309999999999995E-2,5.7689999999999998E-2,5.1409999999999997E-2,4.7019999999999999E-2,4.3830000000000001E-2,null,null,null,null,null,null,null,null,null,null,35,{"$f":"+AM17","v":{"$error":"#N/A"}}]
["Iberia Parish",null,null,null,null,null,null,"March",3,2020,null,null,null,null,null,"Iberia",164174,188201,228855,296066,324986,null,null,3.2500000000000001E-2,0.11726,8.4320000000000006E-2,6.8059999999999996E-2,5.8479999999999997E-2,5.2220000000000003E-2,4.7870000000000003E-2,4.4699999999999997E-2,null,null,null,null,null,null,null,null,null,null,40,{"$f":"+AN17","v":{"$error":"#N/A"}}]
["Iberville Parish",null,null,null,null,null,null,"April ",4,2021,null,null,null,null,null,"Iberville",164174,188201,228855,296066,324986,null,null,3.3750000000000002E-2,0.11796,8.5050000000000001E-2,6.8830000000000002E-2,5.9270000000000003E-2,5.305E-2,4.8730000000000002E-2,4.5589999999999999E-2]
["Jackson Parish",null,null,null,null,null,null,"May",5,2022,null,null,null,null,null,"Jackson",172478,197721,240432,311042,341425,null,null,3.5000000000000003E-2,0.11866,8.5790000000000005E-2,6.9599999999999995E-2,6.0069999999999998E-2,5.389E-2,4.9590000000000002E-2,4.6489999999999997E-2]
["Jefferson Parish",null,null,null,null,null,null,"June",6,2023,null,null,null,null,null,"Jefferson",164174,188201,228855,296066,324986,null,null,3.6249999999999998E-2,0.11937,8.652E-2,7.0370000000000002E-2,6.0879999999999997E-2,5.4730000000000001E-2,5.0470000000000001E-2,4.7390000000000002E-2]
["Jefferson Davis Parish",null,null,null,null,null,null,"July",7,2024,null,null,null,null,null,"Jefferson Davis",172478,197721,240432,311042,341425,null,null,3.7499999999999999E-2,0.12007,8.727E-2,7.1150000000000005E-2,6.1699999999999998E-2,5.5570000000000001E-2,5.135E-2,4.8300000000000003E-2]
["Lafayette Parish",null,null,null,null,null,null,"August",8,2025,null,null,null,null,null,"La Salle",172478,197721,240432,311042,341425,null,null,3.875E-2,0.12078,8.8010000000000005E-2,7.1929999999999994E-2,6.2520000000000006E-2,5.6430000000000001E-2,5.2240000000000002E-2,4.922E-2]
["Lafourche Parish",null,null,null,null,null,null,"September",9,2026,null,null,null,null,null,"Lafayette",164174,188201,228855,296066,324986,null,null,0.04,0.12149,8.8760000000000006E-2,7.2720000000000007E-2,6.3339999999999994E-2,5.7290000000000001E-2,5.3129999999999997E-2,5.015E-2]
["La Salle Parish",null,null,"Error. 2021 Spring HOME NOFA does not include HTF funding.",null,null,null,"October",10,2027,null,null,null,null,null,"Lafourche",164174,188201,228855,296066,324986,null,null,4.1250000000000002E-2,0.12221,8.9520000000000002E-2,7.3510000000000006E-2,6.4170000000000005E-2,5.8160000000000003E-2,5.4039999999999998E-2,5.1090000000000003E-2]
["Lincoln Parish",null,null,"Error. NOAH Program does not include HTF funding.",null,null,null,"November",11,2028,null,null,null,null,null,"Lincoln",172478,197721,240432,311042,341425,null,null,4.2500000000000003E-2,0.12293,9.0270000000000003E-2,7.4310000000000001E-2,6.5009999999999998E-2,5.9029999999999999E-2,5.4949999999999999E-2,5.203E-2]
["Livingston Parish",null,null,"Error. CHAAP Program does not include HTF funding.",null,null,null,"December",12,null,null,null,null,null,null,"Livingston",164174,188201,228855,296066,324986,null,null,4.3749999999999997E-2,0.12364,9.103E-2,7.5109999999999996E-2,6.5850000000000006E-2,5.9909999999999998E-2,5.5870000000000003E-2,5.2990000000000002E-2]
["Madison Parish",null,null,"Error. The Small Project Continuation Program does not include HTF funding.",null,null,null,null,13,null,null,null,null,null,null,"Madison",172478,197721,240432,311042,341425,null,null,4.4999999999999998E-2,0.12436999999999999,9.1800000000000007E-2,7.5920000000000001E-2,6.6699999999999995E-2,6.08E-2,5.679E-2,5.3949999999999998E-2]
["Morehouse Parish",null,null,{"$f":"IF('Primary Input'!E41=0,\"Ok\",IF('Primary Input'!E6=Lists!D43,Lists!D32,IF('Primary Input'!E6=Lists!D40,Lists!D33,IF('Primary Input'!E6=Lists!D41,Lists!D34,IF('Primary Input'!E6=Lists!D42,Lists!D35)))))","v":"Ok"},null,null,null,null,14,null,null,null,null,null,null,"Morehouse",172478,197721,240432,311042,341425,null,null,4.6249999999999999E-2,0.12509000000000001,9.257E-2,7.6730000000000007E-2,6.7549999999999999E-2,6.1699999999999998E-2,5.772E-2,5.4919999999999997E-2]
["Natchitoches Parish",null,null,null,null,null,null,null,15,null,null,null,null,null,null,"Natchitoches",172478,197721,240432,311042,341425,null,null,4.7500000000000001E-2,0.12581999999999999,9.3340000000000006E-2,7.7549999999999994E-2,6.8409999999999999E-2,6.2600000000000003E-2,5.8659999999999997E-2,5.5890000000000002E-2]
["Orleans Pairsh",null,null,"Type of Appliocation","HOME Limit","Per Project Limit","Max Units","Per Project HTF",16,null,null,null,null,null,null,"Orleans",164174,188201,228855,296066,324986,null,null,4.8750000000000002E-2,0.12655,9.4119999999999995E-2,7.8369999999999995E-2,6.9279999999999994E-2,6.3500000000000001E-2,5.9610000000000003E-2,5.6869999999999997E-2]
["Ouachita Parish",null,null,null,null,null,null,null,17,null,null,null,null,null,null,"Ouachita",172478,197721,240432,311042,341425,null,null,0.05,0.12728,9.4899999999999998E-2,7.9189999999999997E-2,7.0150000000000004E-2,6.4420000000000005E-2,6.0560000000000003E-2,5.7860000000000002E-2]
["Plaquemines Parish",null,null,"NOAH",{"$f":"IF('Primary Input'!$E$6 = \"NOAH\", \"234 Limit\", 0)","v":0},{"$f":"IF('Primary Input'!E6 = \"NOAH\", 400000, 0)","v":0},{"$f":"IF('Primary Input'!E6=\"NOAH\", 4, 0)","v":0},0,18,null,null,null,null,null,null,"Plaquemines",164174,188201,228855,296066,324986,null,null,5.1249999999999997E-2,0.12801000000000001,9.5680000000000001E-2,8.0030000000000004E-2,7.1029999999999996E-2,6.5339999999999995E-2,6.1519999999999998E-2,5.8860000000000003E-2]
["Pointe Coupee Parish",null,null,"CHAAP","234 Limit",{"$f":"IF('Primary Input'!E6=\"CHAAP\",IF(Eligibility!E6=\"NO\",600000,0))","v":false},{"$f":"+IF('Primary Input'!E6=\"CHAAP\", 999999, 0)","v":0},0,19,null,null,null,null,null,null,"Pointe Coupee",164174,188201,228855,296066,324986,null,null,5.2499999999999998E-2,0.12875,9.647E-2,8.0860000000000001E-2,7.1910000000000002E-2,6.6259999999999999E-2,6.2489999999999997E-2,5.9859999999999997E-2]
["Rapides Parish",null,null,"Small Project Continuation","234 Limit",{"$f":"IF('Primary Input'!E6 = \"Small Project Continuation\", 1000000, 0)","v":0},{"$f":"IF('Primary Input'!E6=\"Small Project Continuation\", 999999, 0)","v":0},0,20,null,null,null,null,null,null,"Rapides",172478,197721,240432,311042,341425,null,null,5.3749999999999999E-2,0.12948999999999999,9.7259999999999999E-2,8.1699999999999995E-2,7.2800000000000004E-2,6.7199999999999996E-2,6.3460000000000003E-2,6.0879999999999997E-2]
["Red River Parish",null,null,"2021 Fall Affordable Housing NOFA",150000,{"$f":"IF('Primary Input'!E6 = D43,2000000, 0)","v":0},{"$f":"IF('Primary Input'!E6=Lists!D43, 999999, 0)","v":0},1000000,21,null,null,null,null,null,null,"Red River",172478,197721,240432,311042,341425,null,null,5.5E-2,0.13023000000000001,9.8049999999999998E-2,8.2549999999999998E-2,7.3690000000000005E-2,6.8129999999999996E-2,6.4439999999999997E-2,6.1890000000000001E-2]
["Richland Parish",null,null,"CHAAP Area of Demonstrated Need",1000000,{"$f":"IF('Primary Input'!E6=\"CHAAP\",IF(Eligibility!E6=\"YES\",Lists!E44,0))","v":false},null,2000000,22,null,null,null,null,null,null,"Richland",172478,197721,240432,311042,341425,null,null,5.6250000000000001E-2,0.13098000000000001,9.8849999999999993E-2,8.3400000000000002E-2,7.4590000000000004E-2,6.9080000000000003E-2,6.5430000000000002E-2,6.2920000000000004E-2]
["Sabine Parish",null,null,"Maximum Assistance",{"$f":"MAX(E40:E43)","v":150000},{"$f":"MAX(F40:F44)","v":0},null,2000000,23,null,null,null,null,null,null,"Sabine",172478,197721,240432,311042,341425,null,null,5.7500000000000002E-2,0.13172,9.9650000000000002E-2,8.4250000000000005E-2,7.5490000000000002E-2,7.0029999999999995E-2,6.6420000000000007E-2,6.3950000000000007E-2]
["St. Bernard Parish",null,null,"Maximum  Units",null,{"$f":"MAX(G40:G43)","v":0},null,null,24,null,null,null,null,null,null,"St. Bernard",164174,188201,228855,296066,324986,null,null,5.8749999999999997E-2,0.13247,0.10045,8.5110000000000005E-2,7.6399999999999996E-2,7.0980000000000001E-2,6.7419999999999994E-2,6.4979999999999996E-2]
["St. Charles Parish",null,null,null,null,null,null,null,25,null,null,null,null,null,null,"St. Charles",164174,188201,228855,296066,324986,null,null,0.06,0.13322000000000001,0.10126,8.5970000000000005E-2,7.732E-2,7.195E-2,6.8419999999999995E-2,6.6030000000000005E-2]
["St. Helena Parish",null,null,null,null,null,null,null,26,null,null,null,null,null,null,"St. Helena",164174,188201,228855,296066,324986,null,null,6.1249999999999999E-2,0.13397999999999999,0.10206999999999999,8.6840000000000001E-2,7.8240000000000004E-2,7.2910000000000003E-2,6.9430000000000006E-2,6.7070000000000005E-2]
["St. James Parish",null,null,"NET Operating Income",null,null,null,null,27,null,null,null,null,null,null,"St. James",164174,188201,228855,296066,324986,null,null,6.25E-2,0.13474,0.10289,8.7709999999999996E-2,7.9159999999999994E-2,7.3889999999999997E-2,7.0449999999999999E-2,6.8129999999999996E-2]
["St. John the Baptist Parish",null,null,{"$f":"MIN('Pro Forma'!D27,'Pro Forma'!F27,'Pro Forma'!H27,'Pro Forma'!J27,'Pro Forma'!L27,'Pro Forma'!N27,'Pro Forma'!P27,'Pro Forma'!R27,'Pro Forma'!T27,'Pro Forma'!V27,'Pro Forma'!X27,'Pro Forma'!Z27,'Pro Forma'!AB27,'Pro Forma'!AD27,'Pro Forma'!AF27,'Pro Forma'!AH27,'Pro Forma'!AJ27,'Pro Forma'!AL27,'Pro Forma'!AN27,'Pro Forma'!AP27)","v":0},null,null,null,null,28,null,null,null,null,null,null,"St. John the Baptist",164174,188201,228855,296066,324986,null,null,6.3750000000000001E-2,0.13550000000000001,0.10371,8.8590000000000002E-2,8.0089999999999995E-2,7.4859999999999996E-2,7.1470000000000006E-2,6.9190000000000002E-2]
["St. Landry Parish",null,null,null,null,null,null,null,29,null,null,null,null,null,null,"St. Landry",164174,188201,228855,296066,324986,null,null,6.5000000000000002E-2,0.13625999999999999,0.10453,8.9469999999999994E-2,8.1019999999999995E-2,7.5850000000000001E-2,7.2499999999999995E-2,7.0250000000000007E-2]
["St. Martin Parish",null,null,"Debt Coverage Ratio",null,null,null,null,30,null,null,null,null,null,null,"St. Martin",164174,188201,228855,296066,324986,null,null,6.6250000000000003E-2,0.13702,0.10536,9.035E-2,8.1960000000000005E-2,7.6840000000000006E-2,7.3529999999999998E-2,7.1330000000000005E-2]
["St. Mary Parish",null,null,{"$f":"MAX('Pro Forma'!D42:AQ42)","v":0},"Max DCR",null,null,null,null,null,null,null,null,null,null,"St. Mary",164174,188201,228855,296066,324986,null,null,6.7500000000000004E-2,0.13779,0.10619000000000001,9.1240000000000002E-2,8.2909999999999998E-2,7.7829999999999996E-2,7.4569999999999997E-2,7.2400000000000006E-2]
["St. Tammany Parish",null,null,{"$f":"MIN('Pro Forma'!D42:AQ42)","v":0},"Min DCR",null,null,null,null,null,null,null,null,null,null,"St. Tammany",164174,188201,228855,296066,324986,null,null,6.8750000000000006E-2,0.13855999999999999,0.10702,9.214E-2,8.3860000000000004E-2,7.8829999999999997E-2,7.5609999999999997E-2,7.3480000000000004E-2]
["Tangipahoa Parish",null,null,null,null,null,null,"Required HOME Units",null,null,null,null,null,null,null,"Tangipahoa",164174,188201,228855,296066,324986,null,null,7.0000000000000007E-2,0.13933000000000001,0.10786,9.3039999999999998E-2,8.4809999999999997E-2,7.9839999999999994E-2,7.6660000000000006E-2,7.4569999999999997E-2]
["Tensas Parish",null,null,"Rehab Contingency",{"$f":"+'Rehab or New Construction'!F19","v":0},null,null,"By Percentage","By Cost","By Flat Rate","Least","By 234","Final",null,null,"Tensas",172478,197721,240432,311042,341425,null,null,7.1249999999999994E-2,0.1401,0.1087,9.3939999999999996E-2,8.5769999999999999E-2,8.0850000000000005E-2,7.7719999999999997E-2,7.5660000000000005E-2]
["Terrebonne Parish",null,null,"New Construction Contingency",{"$f":"+'Rehab or New Construction'!F47","v":0},null,"0 BR",{"$f":"+Underwriting!H95","v":{"$error":"#DIV/0!"}},{"$f":"+Underwriting!H136","v":{"$error":"#DIV/0!"}},{"$f":"+Underwriting!H179","v":{"$error":"#DIV/0!"}},{"$f":"MIN(H57:J57)","v":{"$error":"#DIV/0!"}},{"$f":"+Underwriting!H171","v":{"$error":"#DIV/0!"}},{"$f":"+I74","v":{"$error":"#DIV/0!"}},null,null,"Terrebonne",164174,188201,228855,296066,324986,null,null,7.2499999999999995E-2,0.14088000000000001,0.10954,9.4850000000000004E-2,8.6739999999999998E-2,8.1860000000000002E-2,7.8780000000000003E-2,7.6759999999999995E-2]
["Union Parish",null,null,null,null,null,"1 BR",{"$f":"+Underwriting!H96","v":{"$error":"#DIV/0!"}},{"$f":"+Underwriting!H137","v":{"$error":"#DIV/0!"}},{"$f":"+Underwriting!H180","v":{"$error":"#DIV/0!"}},{"$f":"MIN(H58:J58)","v":{"$error":"#DIV/0!"}},{"$f":"+Underwriting!H172","v":{"$error":"#DIV/0!"}},{"$f":"+I75","v":{"$error":"#DIV/0!"}},null,null,"Union",172478,197721,240432,311042,341425,null,null,7.3749999999999996E-2,0.14166000000000001,0.11039,9.5759999999999998E-2,8.7709999999999996E-2,8.2879999999999995E-2,7.9839999999999994E-2,7.7859999999999999E-2]
["Vermilion Parish",null,null,"Construction Contingency",{"$f":"+E56+E57","v":0},null,"2 BR",{"$f":"+Underwriting!H97","v":{"$error":"#DIV/0!"}},{"$f":"+Underwriting!H138","v":{"$error":"#DIV/0!"}},{"$f":"+Underwriting!H181","v":{"$error":"#DIV/0!"}},{"$error":"#DIV/0!"},{"$f":"+Underwriting!H173","v":{"$error":"#DIV/0!"}},{"$f":"+I76","v":{"$error":"#DIV/0!"}},null,null,"Vermilion",164174,188201,228855,296066,324986,null,null,7.4999999999999997E-2,0.14244000000000001,0.11124000000000001,9.6670000000000006E-2,8.8679999999999995E-2,8.3909999999999998E-2,8.0909999999999996E-2,7.8969999999999999E-2]
["Vernon Parish",null,null,null,null,null,"3 BR",{"$f":"+Underwriting!H98","v":{"$error":"#DIV/0!"}},{"$f":"+Underwriting!H139","v":{"$error":"#DIV/0!"}},{"$f":"+Underwriting!H182","v":{"$error":"#DIV/0!"}},{"$error":"#DIV/0!"},{"$f":"+Underwriting!H174","v":{"$error":"#DIV/0!"}},{"$f":"+I77","v":{"$error":"#DIV/0!"}},null,null,"Vernon",172478,197721,240432,311042,341425,null,null,7.6249999999999998E-2,0.14323,0.11210000000000001,9.7589999999999996E-2,8.9660000000000004E-2,8.4940000000000002E-2,8.1979999999999997E-2,8.0079999999999998E-2]
["Washington Parish",null,null,"Rehab Costs",{"$f":"+'Rehab or New Construction'!F30","v":0},null,"4 BR",{"$f":"+Underwriting!H99","v":{"$error":"#DIV/0!"}},{"$f":"+Underwriting!H140","v":{"$error":"#DIV/0!"}},{"$f":"+Underwriting!H183","v":{"$error":"#DIV/0!"}},{"$error":"#DIV/0!"},{"$f":"+Underwriting!H175","v":{"$error":"#DIV/0!"}},{"$f":"+I78","v":{"$error":"#DIV/0!"}},null,null,"Washington",164174,188201,228855,296066,324986,null,null,7.7499999999999999E-2,0.14401,0.11294999999999999,9.851E-2,9.0639999999999998E-2,8.5970000000000005E-2,8.3059999999999995E-2,8.1189999999999998E-2]
["Webster Parish",null,null,"New Construction Cost",{"$f":"+'Rehab or New Construction'!F58","v":0},null,"5 BR",{"$f":"+Underwriting!H100","v":{"$error":"#DIV/0!"}},{"$f":"+Underwriting!H141","v":{"$error":"#DIV/0!"}},{"$f":"+Underwriting!H184","v":{"$error":"#DIV/0!"}},{"$error":"#DIV/0!"},{"$f":"+Underwriting!H176","v":{"$error":"#DIV/0!"}},{"$f":"MAX(H62:J62)","v":{"$error":"#DIV/0!"}},null,null,"Webster",172478,197721,240432,311042,341425,null,null,7.8750000000000001E-2,0.14480000000000001,0.11380999999999999,9.9440000000000001E-2,9.1630000000000003E-2,8.7010000000000004E-2,8.4140000000000006E-2,8.2309999999999994E-2]
["West Baton Rouge Parsih",null,null,"Total Construction Costs",{"$f":"+E61+E62","v":0},null,null,null,null,null,null,null,null,null,null,"West Baton Rouge",164174,188201,228855,296066,324986,null,null,0.08,0.14559,0.11468,0.10037,9.2619999999999994E-2,8.8050000000000003E-2,8.523E-2,8.344E-2]
["West Carroll Parish",null,null,null,null,null,null,null,null,null,null,null,null,null,null,"West Carroll",172478,197721,240432,311042,341425,null,null,8.1250000000000003E-2,0.14638999999999999,0.11555,0.10131,9.3609999999999999E-2,8.9099999999999999E-2,8.6319999999999994E-2,8.4570000000000006E-2]
["West Felliciana Parish",null,null,null,null,null,null,null,null,null,null,null,null,null,null,"West Felliciana",164174,188201,228855,296066,324986,null,null,8.2500000000000004E-2,0.14718000000000001,0.11642,0.10224999999999999,9.461E-2,9.0149999999999994E-2,8.7419999999999998E-2,8.5699999999999998E-2]
["Winn Parish",null,null,"operating Reserves",null,null,null,null,null,null,null,null,null,null,null,"Winn",172478,197721,240432,311042,341425,null,null,8.3750000000000005E-2,0.14798,0.11729000000000001,0.10319,9.5619999999999997E-2,9.1209999999999999E-2,8.8520000000000001E-2,8.6830000000000004E-2]
[null,null,null,"Six months of Reserves",{"$f":"+'Primary Input'!E35:G35*2250","v":0},null,null,null,null,null,null,null,null,null,null,null,null,null,null,null,null,null,null,8.5000000000000006E-2,0.14878,0.11817,0.10414,9.6629999999999994E-2,9.2270000000000005E-2,8.9620000000000005E-2,8.7970000000000007E-2]
[null,null,null,"18 Months of reserves",{"$f":"+'Primary Input'!E35:G35*7200","v":0},null,null,null,null,null,null,null,null,null,null,null,null,null,null,null,null,null,null,8.6249999999999993E-2,0.14959,0.11905,0.10509,9.7640000000000005E-2,9.3329999999999996E-2,9.0730000000000005E-2,8.9109999999999995E-2]
[null,null,null,null,null,null,null,null,null,null,null,null,null,null,null,null,null,null,null,null,null,null,null,8.7499999999999994E-2,0.15039,0.11992999999999999,0.10605000000000001,9.8659999999999998E-2,9.4399999999999998E-2,9.1840000000000005E-2,9.0260000000000007E-2]
[null,null,null,"Greater Than Min",{"$f":"IF('Sources and Uses'!F43>=Lists!E67, 1, 0)","v":1},null,null,null,null,null,null,null,null,null,null,null,null,null,null,null,null,null,null,8.8749999999999996E-2,0.1512,0.12082,0.107,9.9680000000000005E-2,9.5479999999999995E-2,9.2960000000000001E-2,9.1410000000000005E-2]
[null,null,null,"Less Than Max",{"$f":"IF('Sources and Uses'!F43<=Lists!E68, 1, 0)","v":1},null,null,null,null,null,null,null,null,null,null,null,null,null,null,null,null,null,null,0.09,0.15201000000000001,0.12171,0.10797,0.1007,9.6549999999999997E-2,9.4079999999999997E-2,9.2560000000000003E-2]
[null,null,null,"Between Limits",{"$f":"+E70+E71","v":2},null,"HOME MINIMUM UNITS REQUIRED Area of Demonstrated Need",null,null,null,null,null,null,null,null,"Funding and Units Worksheet Calculations",null,null,null,null,null,null,null,9.1249999999999998E-2,0.15282000000000001,0.12261,0.10893,0.10173,9.7640000000000005E-2,9.5200000000000007E-2,9.3719999999999998E-2]
["Internal Rate of Return",null,null,null,null,null,"Bed Rooms","Max Cost to Produce, Percentage","Min Column H,  Per Unit 234 Limits",null,null,null,null,null,null,null,null,null,null,null,null,null,null,9.2499999999999999E-2,0.15364,0.1235,0.1099,0.10277,9.8720000000000002E-2,9.6329999999999999E-2,9.4880000000000006E-2]
["Initial Investment",{"$f":"(+'Primary Input'!E42)*-1","v":0},null,null,null,null,"0 BR",{"$f":"MAX('Funding and Units Worksheet'!H13:J13)","v":{"$error":"#DIV/0!"}},{"$f":"MIN('Funding and Units Worksheet'!F13,H74)","v":{"$error":"#DIV/0!"}},null,null,null,null,null,null,null,"234 Limts  for Underwriting and Subsidy Layering Analysis - Rental",null,null,null,null,null,null,9.375E-2,0.15445999999999999,0.1244,0.11088000000000001,0.1038,9.9809999999999996E-2,9.7460000000000005E-2,9.604E-2]
["Cash Flow Year 1",{"$f":"+'Pro Forma'!D35","v":0},null,null,null,null,"1 BR",{"$f":"MAX('Funding and Units Worksheet'!H14:J14)","v":{"$error":"#DIV/0!"}},{"$f":"MIN('Funding and Units Worksheet'!F14,H75)","v":{"$error":"#DIV/0!"}},null,null,null,null,null,null,{"$f":"IF('Primary Input'!$E$12= \" \",0, VLOOKUP('Primary Input'!$E$12,Lists!$P$3:$U$66,1))","v":{"$error":"#N/A"}},"0BR","1BR","2BR","3BR","4BR",null,null,9.5000000000000001E-2,0.15528,0.12531,0.11186,0.10484,0.1009,9.8589999999999997E-2,9.7210000000000005E-2]
["Cash Flow Year 2",{"$f":"+'Pro Forma'!F35","v":0},null,null,null,null,"2 BR",{"$f":"MAX('Funding and Units Worksheet'!H15:J15)","v":{"$error":"#DIV/0!"}},{"$f":"MIN('Funding and Units Worksheet'!F15,H76)","v":{"$error":"#DIV/0!"}},null,null,null,null,null,null,"234  Condominium Housing Elevator Type",{"$f":"IF('Primary Input'!$E$12=\"\",0, VLOOKUP('Primary Input'!$E$12,$P$3:$U$64,2))","v":0},{"$f":"IF('Primary Input'!$E$12=\"\",0, VLOOKUP('Primary Input'!$E$12,$P$3:$U$64,3))","v":0},{"$f":"IF('Primary Input'!$E$12=\"\",0, VLOOKUP('Primary Input'!$E$12,$P$3:$U$64,4))","v":0},{"$f":"IF('Primary Input'!$E$12=\"\",0, VLOOKUP('Primary Input'!$E$12,$P$3:$U$64,5))","v":0},{"$f":"IF('Primary Input'!$E$12=\"\",0, VLOOKUP('Primary Input'!$E$12,$P$3:$U$64,6))","v":0},null,null,9.6250000000000002E-2,0.15609999999999999,0.12620999999999999,0.11284,0.10589,0.10199999999999999,9.9729999999999999E-2,9.8379999999999995E-2]
["Cash Flow Year 3 ",{"$f":"+'Pro Forma'!H35","v":0},null,null,null,null,"3 BR",{"$f":"MAX('Funding and Units Worksheet'!H16:J16)","v":{"$error":"#DIV/0!"}},{"$f":"MIN('Funding and Units Worksheet'!F16,H77)","v":{"$error":"#DIV/0!"}},null,null,null,null,null,null,null,null,null,null,null,null,null,null,9.7500000000000003E-2,0.15692,0.12712000000000001,0.11382,0.10693999999999999,0.1031,0.10087,9.955E-2]
["Cash Flow Year 4",{"$f":"+'Pro Forma'!J35","v":0},null,null,null,null,"4 BR",{"$f":"MAX('Funding and Units Worksheet'!H17:J17)","v":{"$error":"#DIV/0!"}},{"$f":"MIN('Funding and Units Worksheet'!F17,H78)","v":{"$error":"#DIV/0!"}},null,null,null,null,null,null,"Percentage Funding",{"$f":"+Underwriting!H127","v":{"$error":"#DIV/0!"}},{"$f":"+Underwriting!H128","v":{"$error":"#DIV/0!"}},{"$f":"+Underwriting!H129","v":{"$error":"#DIV/0!"}},{"$f":"+Underwriting!H130","v":{"$error":"#DIV/0!"}},{"$f":"+Underwriting!H131","v":{"$error":"#DIV/0!"}},{"$f":"SUM(R78:U78)","v":{"$error":"#DIV/0!"}},null,9.8750000000000004E-2,0.15775,0.12803999999999999,0.11481,0.10799,0.1042,0.10201,0.10072]
["Cash Flow Year 5",{"$f":"+'Pro Forma'!L35","v":0},null,null,null,null,"5 BR",{"$f":"MAX('Funding and Units Worksheet'!H18:J18)","v":{"$error":"#DIV/0!"}},{"$f":"MIN('Funding and Units Worksheet'!F18,H79)","v":{"$error":"#DIV/0!"}},null,null,null,null,null,null,"Funding Avaliable PER 234",{"$f":"+'Funding and Units Worksheet'!T13*Lists!Q76","v":0},{"$f":"+'Funding and Units Worksheet'!T14*Lists!R76","v":0},{"$f":"+'Funding and Units Worksheet'!T15*S76","v":0},{"$f":"+'Funding and Units Worksheet'!T16*Lists!T76","v":0},{"$f":"+'Funding and Units Worksheet'!T17*Lists!U76","v":0},{"$f":"SUM(Q79:U79)","v":0},null,0.1,0.15858,0.12895000000000001,0.1158,0.10904,0.10531,0.10316,0.1019]
["Cash Flow Year 6",{"$f":"+'Pro Forma'!N35","v":0},null,null,null,null,null,null,{"$f":"SUM(I75:I79)","v":{"$error":"#DIV/0!"}},null,null,null,null,null,null,"Funding Avaliable Per NOFA Limit",{"$f":"+'Funding and Units Worksheet'!T13*Lists!E43","v":0},{"$f":"+'Funding and Units Worksheet'!T14*Lists!E43","v":0},{"$f":"+'Funding and Units Worksheet'!T15*Lists!E43","v":0},{"$f":"+'Funding and Units Worksheet'!T16*Lists!E43","v":0},{"$f":"+'Funding and Units Worksheet'!T17*Lists!E43","v":0},{"$f":"SUM(Q80:U80)","v":0},null,0.10125000000000001,0.15941,0.12987000000000001,0.1168,0.1101,0.10642,0.10431,0.10308]
["Cash Flow Year 7",{"$f":"+'Pro Forma'!P35","v":0},null,null,null,null,null,null,null,null,null,null,null,null,null,"Cost To Produce",{"$f":"+'Funding and Units Worksheet'!T13*Underwriting!$H$112","v":{"$error":"#DIV/0!"}},{"$f":"+'Funding and Units Worksheet'!T14*Underwriting!$H$113","v":{"$error":"#DIV/0!"}},{"$f":"+'Funding and Units Worksheet'!T15*Underwriting!$H$114","v":{"$error":"#DIV/0!"}},{"$f":"+'Funding and Units Worksheet'!T16*Underwriting!$H$115","v":{"$error":"#DIV/0!"}},{"$f":"+'Funding and Units Worksheet'!T17*Underwriting!$H$116","v":{"$error":"#DIV/0!"}},{"$error":"#DIV/0!"},null,0.10249999999999999,0.16025,0.13078999999999999,0.1178,0.11117,0.10753,0.10546,0.10426000000000001]
["Cash Flow Year 8",{"$f":"+'Pro Forma'!R35","v":0},null,null,null,null,"HTF MINIMUM UNITS REQUIRED Area of Demonstrated Need",null,null,null,null,null,null,null,null,"Max Allowed Outside of Area of Demonstrated Need",{"$f":"MIN(Q78:Q81)","v":{"$error":"#DIV/0!"}},{"$f":"MIN(R78:R81)","v":{"$error":"#DIV/0!"}},{"$f":"MIN(S78:S81)","v":{"$error":"#DIV/0!"}},{"$f":"MIN(T78:T81)","v":{"$error":"#DIV/0!"}},{"$f":"MIN(U78:U81)","v":{"$error":"#DIV/0!"}},null,null,0.10375,0.16108,0.13172,0.1188,0.11223,0.10865,0.10662000000000001,0.10544000000000001]
["Cash Flow Year 9",{"$f":"+'Pro Forma'!T35","v":0},null,null,null,null,"Bed Rooms","Max Cost to Produce, Percentage","Min Column H,  Per Unit 234 Limits","MINimum Number of HTF Units Required",null,null,null,null,null,"Max Allowed Within Area of Demonstrated Need",{"$f":"MIN(Q79,Q81)","v":{"$error":"#DIV/0!"}},{"$f":"MIN(R79,R81)","v":{"$error":"#DIV/0!"}},{"$error":"#DIV/0!"},{"$error":"#DIV/0!"},{"$error":"#DIV/0!"},null,null,0.105,0.16192000000000001,0.13264999999999999,0.11981,0.1133,0.10977000000000001,0.10778,0.10663]
["Cash Flow Year 10",{"$f":"+'Pro Forma'!V35","v":0},null,null,null,null,"0 BR",{"$f":"MAX('Funding and Units Worksheet'!H23:J23)","v":{"$error":"#DIV/0!"}},{"$f":"MIN('Funding and Units Worksheet'!F23,H84)","v":{"$error":"#DIV/0!"}},null,null,null,null,null,null,null,null,null,null,null,null,null,null,0.10625,0.16275999999999999,0.13358,0.12081,0.11437,0.11089,0.10894,0.10782]
["Cash Flow Year 11",{"$f":"+'Pro Forma'!X35","v":0},null,null,null,null,"1 BR",{"$f":"MAX('Funding and Units Worksheet'!H24:J24)","v":{"$error":"#DIV/0!"}},{"$f":"MIN('Funding and Units Worksheet'!F24,H85)","v":{"$error":"#DIV/0!"}},null,null,null,null,null,null,"Total Allowed Outside Area of Demonstrated Need",{"$f":"IF(SUM(Q82:U82)<2000000,SUM(Q82:U82),2000000)","v":{"$error":"#DIV/0!"}},null,null,null,null,null,null,0.1075,0.16361000000000001,0.13450999999999999,0.12182999999999999,0.11545,0.11201999999999999,0.1101,0.10901]
[" Cash Flow Year 12",{"$f":"+'Pro Forma'!Z35","v":0},null,null,null,null,"2 BR",{"$f":"MAX('Funding and Units Worksheet'!H25:J25)","v":{"$error":"#DIV/0!"}},{"$f":"MIN('Funding and Units Worksheet'!F25,H86)","v":{"$error":"#DIV/0!"}},null,null,null,null,null,null,"Total Allowed Within Area of Demonstrated Need",{"$f":"IF(SUM(Q83:U83)<2000000,SUM(Q83:U83),2000000)","v":{"$error":"#DIV/0!"}},null,null,null,null,null,null,0.10875,0.16445000000000001,0.13544999999999999,0.12284,0.11652999999999999,0.11315,0.11126999999999999,0.11020000000000001]
["Cash Flow Year 13",{"$f":"+'Pro Forma'!AB35","v":0},null,null,null,null,"3 BR",{"$f":"MAX('Funding and Units Worksheet'!H26:J26)","v":{"$error":"#DIV/0!"}},{"$f":"MIN('Funding and Units Worksheet'!F26,H87)","v":{"$error":"#DIV/0!"}},null,null,null,null,null,null,null,null,null,null,null,null,null,null,0.11,0.1653,0.13639000000000001,0.12386,0.11761000000000001,0.11428000000000001,0.11243,0.1114]
["Cash Flow Year 14",{"$f":"+'Pro Forma'!AD35","v":0},null,null,null,null,"4 BR",{"$f":"MAX('Funding and Units Worksheet'!H27:J27)","v":{"$error":"#DIV/0!"}},{"$f":"MIN('Funding and Units Worksheet'!F27,H88)","v":{"$error":"#DIV/0!"}},null,null,null,null,null,null,null,null,null,null,null,null,null,null,0.11125,0.16614999999999999,0.13733999999999999,0.12489,0.1187,0.11541,0.11361,0.11259]
["Cash Flow Year 15",{"$f":"+'Pro Forma'!AF35","v":0},null,null,null,null,"5 BR",{"$f":"MAX('Funding and Units Worksheet'!H28:J28)","v":{"$error":"#DIV/0!"}},{"$f":"MIN('Funding and Units Worksheet'!F28,H89)","v":{"$error":"#DIV/0!"}},null,null,null,null,null,null,null,"234 Limts  for Underwriting and Subsidy Layering Analysis - Rental",null,null,null,null,null,null,0.1125,0.16700000000000001,0.13827999999999999,0.12590999999999999,0.11978999999999999,0.11655,0.11477999999999999,0.11379]
["Cash Flow Year 16",{"$f":"+'Pro Forma'!AH35","v":0},null,null,null,null,null,null,{"$f":"SUM(I85:I89)","v":{"$error":"#DIV/0!"}},null,null,null,null,null,null,{"$f":"IF('Primary Input'!$E$12= \" \",0, VLOOKUP('Primary Input'!$E$12,Lists!$P$3:$U$66,1))","v":{"$error":"#N/A"}},"0BR","1BR","2BR","3BR","4BR",null,null,0.11375,0.16786000000000001,0.13922999999999999,0.12694,0.12088,0.11769,0.11595,0.11498999999999999]
["Cash Flow Year 17",{"$f":"+'Pro Forma'!AJ35","v":0},null,null,null,null,null,null,null,null,null,null,null,null,null,"234  Condominium Housing Elevator Type",{"$f":"IF('Primary Input'!$E$12=\"\",0, VLOOKUP('Primary Input'!$E$12,$P$3:$U$64,2))","v":0},{"$f":"IF('Primary Input'!$E$12=\"\",0, VLOOKUP('Primary Input'!$E$12,$P$3:$U$64,3))","v":0},{"$f":"IF('Primary Input'!$E$12=\"\",0, VLOOKUP('Primary Input'!$E$12,$P$3:$U$64,4))","v":0},{"$f":"IF('Primary Input'!$E$12=\"\",0, VLOOKUP('Primary Input'!$E$12,$P$3:$U$64,5))","v":0},{"$f":"IF('Primary Input'!$E$12=\"\",0, VLOOKUP('Primary Input'!$E$12,$P$3:$U$64,6))","v":0},null,null,0.115,0.16871,0.14018,0.12797,0.12198000000000001,0.11883000000000001,0.11713,0.11619]
["Cash Flow Year 18 ",{"$f":"+'Pro Forma'!AL35","v":0},null,null,null,null,null,null,null,null,null,null,null,null,null,null,null,null,null,null,null,null,null,0.11625000000000001,0.16957,0.14113999999999999,0.12901000000000001,0.12307,0.11998,0.11831,0.1174]
["Cash Flow Year 19",{"$f":"+'Pro Forma'!AN35","v":0},null,null,null,null,null,null,null,null,null,null,null,null,null,null,null,null,null,null,null,null,null,0.11749999999999999,0.17044000000000001,0.1421,0.13003999999999999,0.12418,0.12113,0.1195,0.1186]
["Cash Flow Year 20+Sale Price",{"$f":"+'Pro Forma'!AP35+AL10","v":{"$error":"#DIV/0!"}},null,null,null,null,null,null,null,null,null,null,null,null,null,"Funding Avaliable PER 234",{"$f":"+'Funding and Units Worksheet'!U13*Lists!Q91","v":0},{"$f":"+'Funding and Units Worksheet'!U14*Lists!R91","v":0},{"$f":"+'Funding and Units Worksheet'!U15*S91","v":0},{"$f":"+'Funding and Units Worksheet'!U16*Lists!T91","v":0},{"$f":"+'Funding and Units Worksheet'!U17*Lists!U91","v":0},null,null,0.11874999999999999,0.17130000000000001,0.14305999999999999,0.13109000000000001,0.12528,0.12228,0.12068,0.11981]
["Internal Rate of Return",{"$f":"IRR(B74:B94)","v":{"$error":"#VALUE!"}},null,null,null,null,"HTF UNITS REQUIRED In and Area od Demonstrated Need",null,null,null,null,null,null,null,null,"Funding Avaliable Per NOFA Limit",{"$f":"+'Funding and Units Worksheet'!U13*Lists!H43","v":0},{"$f":"+'Funding and Units Worksheet'!U14*Lists!H43","v":0},{"$f":"+'Funding and Units Worksheet'!U15*Lists!H43","v":0},{"$f":"+'Funding and Units Worksheet'!U16*Lists!H43","v":0},{"$f":"+'Funding and Units Worksheet'!U17*Lists!H43","v":0}]
[null,null,null,null,null,null,"Area of Need","Outside",null,null,null,null,null,null,null,"Cost To Produce",{"$f":"+'Funding and Units Worksheet'!U13*Underwriting!$H$112","v":{"$error":"#DIV/0!"}},{"$f":"+'Funding and Units Worksheet'!U14*Underwriting!$H$113","v":{"$error":"#DIV/0!"}},{"$f":"+'Funding and Units Worksheet'!U15*Underwriting!$H$114","v":{"$error":"#DIV/0!"}},{"$f":"+'Funding and Units Worksheet'!U16*Underwriting!$H$130","v":{"$error":"#DIV/0!"}},{"$f":"+'Funding and Units Worksheet'!U17*Underwriting!$H$116","v":{"$error":"#DIV/0!"}}]
[null,null,null,null,null,null,{"$f":"MAX('Funding and Units Worksheet'!D23,'Funding and Units Worksheet'!H23,'Funding and Units Worksheet'!J23)","v":{"$error":"#DIV/0!"}},{"$f":"MAX('Funding and Units Worksheet'!F23,'Funding and Units Worksheet'!H23,'Funding and Units Worksheet'!J23)","v":{"$error":"#DIV/0!"}},null,null,null,null,null,null,null,"Max Allowed Outside of Area of Demonstrated Need",{"$f":"MIN(Q94:Q96)","v":{"$error":"#DIV/0!"}},{"$f":"MIN(R94:R96)","v":{"$error":"#DIV/0!"}},{"$error":"#DIV/0!"},{"$error":"#DIV/0!"},{"$error":"#DIV/0!"}]
[null,null,null,null,null,null,{"$f":"MAX('Funding and Units Worksheet'!D24,'Funding and Units Worksheet'!H24,'Funding and Units Worksheet'!J24)","v":{"$error":"#DIV/0!"}},{"$f":"MAX('Funding and Units Worksheet'!F24,'Funding and Units Worksheet'!H24,'Funding and Units Worksheet'!J24)","v":{"$error":"#DIV/0!"}},null,null,null,null,null,null,null,"Max Allowed Within Area of Demonstrated Need",{"$f":"MIN(Q94,Q96)","v":{"$error":"#DIV/0!"}},{"$f":"MIN(R94,R96)","v":{"$error":"#DIV/0!"}},{"$error":"#DIV/0!"},{"$error":"#DIV/0!"},{"$error":"#DIV/0!"},null,null,"Constant"]
[null,null,null,null,null,null,{"$f":"MAX('Funding and Units Worksheet'!D25,'Funding and Units Worksheet'!H25,'Funding and Units Worksheet'!J25)","v":{"$error":"#DIV/0!"}},{"$f":"MAX('Funding and Units Worksheet'!F25,'Funding and Units Worksheet'!H25,'Funding and Units Worksheet'!J25)","v":{"$error":"#DIV/0!"}},null,null,null,null,null,null,null,null,null,null,null,null,null,null,null,null,"10 Year","15 Year","20 Year","25 Year","30 Year","35 Year","40 Year"]
[null,null,null,null,null,null,{"$f":"MAX('Funding and Units Worksheet'!D26,'Funding and Units Worksheet'!H26,'Funding and Units Worksheet'!J26)","v":{"$error":"#DIV/0!"}},{"$f":"MAX('Funding and Units Worksheet'!F26,'Funding and Units Worksheet'!H26,'Funding and Units Worksheet'!J26)","v":{"$error":"#DIV/0!"}},null,null,null,null,null,null,null,"Total Allowed Outside Area of Demonstrated Need",{"$f":"IF(SUM(Q97:U97)<2000000,SUM(Q97:U97),2000000)","v":{"$error":"#DIV/0!"}},null,null,null,null,null,null,"Constant",{"$f":"IF($Y$2=\" \",0, VLOOKUP($Y$2,$X$15:$AE$94, 2))","v":{"$error":"#N/A"}},{"$f":"IF($Y$2=\" \",0, VLOOKUP($Y$2,$X$15:$AE$94, 3))","v":{"$error":"#N/A"}},{"$f":"IF($Y$2=\" \",0, VLOOKUP($Y$2,$X$15:$AE$94,4))","v":{"$error":"#N/A"}},{"$f":"IF($Y$2=\" \",0, VLOOKUP($Y$2,$X$15:$AE$94, 5))","v":{"$error":"#N/A"}},{"$f":"IF($Y$2=\" \",0, VLOOKUP($Y$2,$X$15:$AE$94, 6))","v":{"$error":"#N/A"}},{"$f":"IF($Y$2=\" \",0, VLOOKUP($Y$2,$X$15:$AE$94, 7))","v":{"$error":"#N/A"}},{"$f":"IF($Y$2=\" \",0, VLOOKUP($Y$2,$X$15:$AE$94, 8))","v":{"$error":"#N/A"}}]
[null,null,null,null,null,null,{"$f":"MAX('Funding and Units Worksheet'!D27,'Funding and Units Worksheet'!H27,'Funding and Units Worksheet'!J27)","v":{"$error":"#DIV/0!"}},{"$f":"MAX('Funding and Units Worksheet'!F27,'Funding and Units Worksheet'!H27,'Funding and Units Worksheet'!J27)","v":{"$error":"#DIV/0!"}},null,null,null,null,null,null,null,"Total Allowed Within Area of Demonstrated Need",{"$f":"IF(SUM(Q98:U98)<2000000,SUM(Q98:U98),2000000)","v":{"$error":"#DIV/0!"}}]
[null,null,null,null,null,null,{"$f":"MAX('Funding and Units Worksheet'!D28,'Funding and Units Worksheet'!H28,'Funding and Units Worksheet'!J28)","v":{"$error":"#DIV/0!"}},{"$f":"MAX('Funding and Units Worksheet'!F28,'Funding and Units Worksheet'!H28,'Funding and Units Worksheet'!J28)","v":{"$error":"#DIV/0!"}},null,null,null,null,null,null,null,null,null,null,null,null,null,null,null,null,null,null,null,null,null,null,"Constant",{"$f":"IF(Y3 = \" \",0, VLOOKUP(Y3,AG102:AH1088, 2))","v":{"$error":"#N/A"}},10,{"$f":"+Y100","v":{"$error":"#N/A"}}]
[null,null,null,null,null,null,null,null,null,null,null,null,null,null,null,null,null,null,null,null,null,null,null,null,null,null,null,null,null,null,null,null,15,{"$f":"+Z100","v":{"$error":"#N/A"}}]
[null,null,null,null,null,null,null,null,null,null,null,null,null,null,null,null,"HOME UNITS",null,null,null,null,null,null,null,null,null,null,null,null,null,null,null,20,{"$f":"+AA100","v":{"$error":"#N/A"}}]
[null,null,null,null,null,null,null,null,null,null,null,null,null,null,null,"234 Limit",{"$f":"IF('Funding and Units Worksheet'!$T$5=\"YES\",Q91,\" \")","v":" "},{"$f":"IF('Funding and Units Worksheet'!$T$5=\"YES\",R91,\" \")","v":" "},{"$f":"IF('Funding and Units Worksheet'!$T$5=\"YES\",S91,\" \")","v":" "},{"$f":"IF('Funding and Units Worksheet'!$T$5=\"YES\",T91,\" \")","v":" "},{"$f":"IF('Funding and Units Worksheet'!$T$5=\"YES\",U91,\" \")","v":" "},null,null,null,null,null,null,null,null,null,null,null,25,{"$f":"+AB100","v":{"$error":"#N/A"}}]
[null,null,null,null,null,null,null,null,null,null,null,null,null,null,null,"Cost to Produce",{"$f":"+'Funding and Units Worksheet'!$T$11*'Funding and Units Worksheet'!$U$3","v":{"$error":"#DIV/0!"}},{"$f":"+'Funding and Units Worksheet'!$T$11*'Funding and Units Worksheet'!V3","v":{"$error":"#DIV/0!"}},{"$f":"+'Funding and Units Worksheet'!$T$11*'Funding and Units Worksheet'!W3","v":{"$error":"#DIV/0!"}},{"$f":"+'Funding and Units Worksheet'!$T$11*'Funding and Units Worksheet'!X3","v":{"$error":"#DIV/0!"}},{"$f":"+'Funding and Units Worksheet'!$T$11*'Funding and Units Worksheet'!Y3","v":{"$error":"#DIV/0!"}},null,null,null,null,null,null,null,null,null,null,null,30,{"$f":"+AC100","v":{"$error":"#N/A"}}]
[null,null,null,null,null,null,null,null,null,null,null,null,null,null,null,"Flat Rate",{"$f":"IF('Funding and Units Worksheet'!$T$5=\"NO\",Lists!$E$43,\" \")","v":" "},{"$f":"IF('Funding and Units Worksheet'!$T$5=\"NO\",Lists!$E$43, \" \")","v":" "},{"$f":"IF('Funding and Units Worksheet'!$T$5=\"NO\",Lists!$E$43, \" \")","v":" "},{"$f":"IF('Funding and Units Worksheet'!$T$5=\"NO\",Lists!$E$43, \" \")","v":" "},{"$f":"IF('Funding and Units Worksheet'!$T$5=\"NO\",Lists!$E$43, \" \")","v":" "},null,null,null,null,null,null,null,null,null,null,null,35,{"$f":"+AD100","v":{"$error":"#N/A"}}]
[null,null,null,null,null,null,null,null,null,null,null,null,null,null,null,"Maximum Funding",{"$f":"MIN(Q105:Q107)","v":{"$error":"#DIV/0!"}},{"$f":"MIN(R105:R107)","v":{"$error":"#DIV/0!"}},{"$error":"#DIV/0!"},{"$error":"#DIV/0!"},{"$error":"#DIV/0!"},null,null,null,null,null,null,null,null,null,null,null,40,{"$f":"+AE100","v":{"$error":"#N/A"}}]
[null,null,null,null,null,null,null,null,null,null,null,null,null,null,null,"Total Funding",{"$f":"IF('Funding and Units Worksheet'!$T$5=\"NO\",MIN(Lists!Q106,Lists!Q107*'Funding and Units Worksheet'!$T13),MIN(Lists!Q105,Lists!Q106)*'Funding and Units Worksheet'!T13)","v":{"$error":"#DIV/0!"}},{"$f":"IF('Funding and Units Worksheet'!$T$5=\"NO\",MIN(Lists!R106,Lists!R107*'Funding and Units Worksheet'!$T14),MIN(Lists!R105,Lists!R106)*'Funding and Units Worksheet'!$T14)","v":{"$error":"#DIV/0!"}},{"$f":"IF('Funding and Units Worksheet'!$T$5=\"NO\",MIN(Lists!S106,Lists!S107*'Funding and Units Worksheet'!$T15),MIN(Lists!S105,Lists!S106)*'Funding and Units Worksheet'!$T15)","v":{"$error":"#DIV/0!"}},{"$f":"IF('Funding and Units Worksheet'!$T$5=\"NO\",MIN(Lists!T106,Lists!T107*'Funding and Units Worksheet'!$T16),MIN(Lists!T105,Lists!T106)*'Funding and Units Worksheet'!$T16)","v":{"$error":"#DIV/0!"}},{"$f":"IF('Funding and Units Worksheet'!$T$5=\"NO\",MIN(Lists!U106,Lists!U107*'Funding and Units Worksheet'!$T17),MIN(Lists!U105,Lists!U106)*'Funding and Units Worksheet'!$T17)","v":{"$error":"#DIV/0!"}}]
[null,null,null,null,null,null,null,null,null,null,null,null,null,null,null,null,"HTF UNITS"]
[null,null,null,null,null,null,null,null,null,null,null,null,null,null,null,"234 Limit",{"$f":"+Q91","v":0},{"$f":"+R91","v":0},0,0,0]
[null,null,null,null,null,null,null,null,null,null,null,null,null,null,null,"Cost to Produce",{"$f":"+'Funding and Units Worksheet'!$T$11*'Funding and Units Worksheet'!$V$3","v":{"$error":"#DIV/0!"}},{"$f":"+R106","v":{"$error":"#DIV/0!"}},{"$f":"+S106","v":{"$error":"#DIV/0!"}},{"$error":"#DIV/0!"},{"$error":"#DIV/0!"}]
[null,null,null,null,null,null,null,null,null,null,null,null,null,null,null,"Flat Rate",{"$f":"IF('Funding and Units Worksheet'!T5=\"NO\",Lists!H43, \" \")","v":" "},{"$f":"+Q113","v":" "},{"$f":"+Q113","v":" "},{"$f":"+Q113","v":" "},{"$f":"+Q113","v":" "}]
[null,null,null,null,null,null,null,null,null,null,null,null,null,null,null,"Maximum Funding",{"$f":"MIN(Q111:Q113)","v":{"$error":"#DIV/0!"}},{"$f":"MIN(R111:R113)","v":{"$error":"#DIV/0!"}},{"$error":"#DIV/0!"},{"$error":"#DIV/0!"},{"$error":"#DIV/0!"}]
[null,null,null,null,null,null,null,null,null,null,null,null,null,null,null,null,{"$f":"IF('Funding and Units Worksheet'!$T$5=\"NO\",MIN(Lists!Q112,Lists!Q113*'Funding and Units Worksheet'!$U13),MIN(Lists!Q111,Lists!Q112)*'Funding and Units Worksheet'!U13)","v":{"$error":"#DIV/0!"}},{"$f":"IF('Funding and Units Worksheet'!$T$5=\"NO\",MIN(Lists!R112,Lists!R113*'Funding and Units Worksheet'!$U14),MIN(Lists!R111,Lists!R112)*'Funding and Units Worksheet'!$U14)","v":{"$error":"#DIV/0!"}},{"$f":"IF('Funding and Units Worksheet'!$T$5=\"NO\",MIN(Lists!S112,Lists!S113*'Funding and Units Worksheet'!$U15),MIN(Lists!S111,Lists!S112)*'Funding and Units Worksheet'!$U15)","v":{"$error":"#DIV/0!"}},{"$f":"IF('Funding and Units Worksheet'!$T$5=\"NO\",MIN(Lists!T112,Lists!T113*'Funding and Units Worksheet'!$U16),MIN(Lists!T111,Lists!T112)*'Funding and Units Worksheet'!$U16)","v":{"$error":"#DIV/0!"}},{"$f":"IF('Funding and Units Worksheet'!$T$5=\"NO\",MIN(Lists!U112,Lists!U113*'Funding and Units Worksheet'!$U17),MIN(Lists!U111,Lists!U112)*'Funding and Units Worksheet'!$U17)","v":{"$error":"#DIV/0!"}}]
[]
[null,null,null,null,null,null,null,null,null,null,null,null,null,null,null,"Total"]
[null,null,null,null,null,null,null,null,null,null,null,null,null,null,null,"HOME",{"$f":"SUM(Q109:U109)","v":{"$error":"#DIV/0!"}}]
[null,null,null,null,null,null,null,null,null,null,null,null,null,null,null,"HTF",{"$f":"SUM(Q115:U115)","v":{"$error":"#DIV/0!"}}]
[]
[null,null,null,null,null,null,"Area of Demonstrated Need"]
[null,null,null,null,null,null,"City",{"$f":"+'Primary Input'!E8","v":0}]
[null,null,null,null,"Cities",null,"Census Tract",{"$f":"+'Primary Input'!E10","v":0}]
[null,null,null,null,null,null,"Area of Demonstrated Need",{"$f":"IF(G127=\"YES\",\"YES\",\"NO\")","v":{"$error":"#N/A"}}]
[null,null,null,null,"Abbeville",null,"Unique ID",{"$f":"+'Primary Input'!E11","v":0}]
[null,null,null,null,"Abita Springs",null,null,null,null,null,null,{"$f":"VLOOKUP(H125,'AODN DATA'!D3:AD2528,21)","v":{"$error":"#N/A"}}]
[null,null,null,null,"Acme",null,{"$f":"VLOOKUP(H125,'AODN DATA'!D3:AD2528,26)","v":{"$error":"#N/A"}},"<This is required formula do not delete"]
[null,null,null,null,"Addis"]
[null,null,null,null,"Aimwell"]
[null,null,null,null,"Akers"]
[null,null,null,null,"Albany"]
[null,null,null,null,"Alexandria"]
[null,null,null,null,"Ama"]
[null,null,null,null,"Amelia"]
[null,null,null,null,"Amite"]
[null,null,null,null,"Anacoco"]
[null,null,null,null,"Angie"]
[null,null,null,null,"Angola"]
[null,null,null,null,"Arabi"]
[null,null,null,null,"Arcadia"]
[null,null,null,null,"Archibald"]
[null,null,null,null,"Arnaudville"]
[null,null,null,null,"Ashland"]
[null,null,null,null,"Athens"]
[null,null,null,null,"Atlanta"]
[null,null,null,null,"Avery Island"]
[null,null,null,null,"Baker"]
[null,null,null,null,"Baldwin"]
[null,null,null,null,"Ball"]
[null,null,null,null,"Barataria"]
[null,null,null,null,"Barksdale Afb"]
[null,null,null,null,"Basile"]
[null,null,null,null,"Baskin"]
[null,null,null,null,"Bastrop"]
[null,null,null,null,"Batchelor"]
[null,null,null,null,"Baton Rouge"]
[null,null,null,null,"Belcher"]
[null,null,null,null,"Bell City"]
[null,null,null,null,"Belle Chasse"]
[null,null,null,null,"Belle Rose"]
[null,null,null,null,"Belmont"]
[null,null,null,null,"Bentley"]
[null,null,null,null,"Benton"]
[null,null,null,null,"Bernice"]
[null,null,null,null,"Berwick"]
[null,null,null,null,"Bethany"]
[null,null,null,null,"Bienville"]
[null,null,null,null,"Blanchard"]
[null,null,null,null,"Bogalusa"]
[null,null,null,null,"Bonita"]
[null,null,null,null,"Bordelonville"]
[null,null,null,null,"Bossier City"]
[null,null,null,null,"Bourg"]
[null,null,null,null,"Boutte"]
[null,null,null,null,"Boyce"]
[null,null,null,null,"Braithwaite"]
[null,null,null,null,"Branch"]
[null,null,null,null,"Breaux Bridge"]
[null,null,null,null,"Brittany"]
[null,null,null,null,"Broussard"]
[null,null,null,null,"Brusly"]
[null,null,null,null,"Bunkie"]
[null,null,null,null,"Buras"]
[null,null,null,null,"Bush"]
[null,null,null,null,"Cade"]
[null,null,null,null,"Calhoun"]
[null,null,null,null,"Calvin"]
[null,null,null,null,"Cameron"]
[null,null,null,null,"Campti"]
[null,null,null,null,"Carencro"]
[null,null,null,null,"Carville"]
[null,null,null,null,"Castor"]
[null,null,null,null,"Cecilia"]
[null,null,null,null,"Center Point"]
[null,null,null,null,"Centerville"]
[null,null,null,null,"Chalmette"]
[null,null,null,null,"Charenton"]
[null,null,null,null,"Chase"]
[null,null,null,null,"Chataignier"]
[null,null,null,null,"Chatham"]
[null,null,null,null,"Chauvin"]
[null,null,null,null,"Cheneyville"]
[null,null,null,null,"Choudrant"]
[null,null,null,null,"Church Point"]
[null,null,null,null,"Clarence"]
[null,null,null,null,"Clarks"]
[null,null,null,null,"Clayton"]
[null,null,null,null,"Clinton"]
[null,null,null,null,"Cloutierville"]
[null,null,null,null,"Colfax"]
[null,null,null,null,"Collinston"]
[null,null,null,null,"Columbia"]
[null,null,null,null,"Convent"]
[null,null,null,null,"Converse"]
[null,null,null,null,"Cotton Valley"]
[null,null,null,null,"Cottonport"]
[null,null,null,null,"Coushatta"]
[null,null,null,null,"Covington"]
[null,null,null,null,"Creole"]
[null,null,null,null,"Crowley"]
[null,null,null,null,"Crowville"]
[null,null,null,null,"Cullen"]
[null,null,null,null,"Cut Off"]
[null,null,null,null,"Darrow"]
[null,null,null,null,"Delcambre"]
[null,null,null,null,"Delhi"]
[null,null,null,null,"Delta"]
[null,null,null,null,"Denham Springs"]
[null,null,null,null,"DeQuincy"]
[null,null,null,null,"DeRidder"]
[null,null,null,null,"Des Allemands"]
[null,null,null,null,"Destrehan"]
[null,null,null,null,"Deville"]
[null,null,null,null,"Dodson"]
[null,null,null,null,"Donaldsonville"]
[null,null,null,null,"Donner"]
[null,null,null,null,"Downsville"]
[null,null,null,null,"Doyline"]
[null,null,null,null,"Dry Creek"]
[null,null,null,null,"Dry Prong"]
[null,null,null,null,"Dubach"]
[null,null,null,null,"Dubberly"]
[null,null,null,null,"Dulac"]
[null,null,null,null,"Duplessis"]
[null,null,null,null,"Dupont"]
[null,null,null,null,"Duson"]
[null,null,null,null,"Echo"]
[null,null,null,null,"Edgard"]
[null,null,null,null,"Effie"]
[null,null,null,null,"Egan"]
[null,null,null,null,"Elizabeth"]
[null,null,null,null,"Elm Grove"]
[null,null,null,null,"Elmer"]
[null,null,null,null,"Elton"]
[null,null,null,null,"Empire"]
[null,null,null,null,"Enterprise"]
[null,null,null,null,"Epps"]
[null,null,null,null,"Erath"]
[null,null,null,null,"Eros"]
[null,null,null,null,"Erwinville"]
[null,null,null,null,"Estherwood"]
[null,null,null,null,"Ethel"]
[null,null,null,null,"Eunice"]
[null,null,null,null,"Evangeline"]
[null,null,null,null,"Evans"]
[null,null,null,null,"Evergreen"]
[null,null,null,null,"Fairbanks"]
[null,null,null,null,"Farmerville"]
[null,null,null,null,"Fenton"]
[null,null,null,null,"Ferriday"]
[null,null,null,null,"Fisher"]
[null,null,null,null,"Flatwoods"]
[null,null,null,null,"Flora"]
[null,null,null,null,"Florien"]
[null,null,null,null,"Fluker"]
[null,null,null,null,"Folsom"]
[null,null,null,null,"Fordoche"]
[null,null,null,null,"Forest"]
[null,null,null,null,"Forest Hill"]
[null,null,null,null,"Fort Necessity"]
[null,null,null,null,"Fort Polk"]
[null,null,null,null,"Franklin"]
[null,null,null,null,"Franklinton"]
[null,null,null,null,"French Settlement"]
[null,null,null,null,"Frierson"]
[null,null,null,null,"Galliano"]
[null,null,null,null,"Garden City"]
[null,null,null,null,"Garyville"]
[null,null,null,null,"Geismar"]
[null,null,null,null,"Georgetown"]
[null,null,null,null,"Gheens"]
[null,null,null,null,"Gibsland"]
[null,null,null,null,"Gibson"]
[null,null,null,null,"Gilbert"]
[null,null,null,null,"Gilliam"]
[null,null,null,null,"Glenmora"]
[null,null,null,null,"Gloster"]
[null,null,null,null,"Glynn"]
[null,null,null,null,"Golden Meadow"]
[null,null,null,null,"Goldonna"]
[null,null,null,null,"Gonzales"]
[null,null,null,null,"Gorum"]
[null,null,null,null,"Grambling"]
[null,null,null,null,"Gramercy"]
[null,null,null,null,"Grand Cane"]
[null,null,null,null,"Grand Chenier"]
[null,null,null,null,"Grand Coteau"]
[null,null,null,null,"Grand Isle"]
[null,null,null,null,"Grant"]
[null,null,null,null,"Gray"]
[null,null,null,null,"Grayson"]
[null,null,null,null,"Greensburg"]
[null,null,null,null,"Greenwell Springs"]
[null,null,null,null,"Greenwood"]
[null,null,null,null,"Gretna"]
[null,null,null,null,"Grosse Tete"]
[null,null,null,null,"Gueydan"]
[null,null,null,null,"Hackberry"]
[null,null,null,null,"Hahnville"]
[null,null,null,null,"Hall Summit"]
[null,null,null,null,"Hamburg"]
[null,null,null,null,"Hammond"]
[null,null,null,null,"Harrisonburg"]
[null,null,null,null,"Harvey"]
[null,null,null,null,"Haughton"]
[null,null,null,null,"Hayes"]
[null,null,null,null,"Haynesville"]
[null,null,null,null,"Heflin"]
[null,null,null,null,"Hessmer"]
[null,null,null,null,"Hester"]
[null,null,null,null,"Hineston"]
[null,null,null,null,"Hodge"]
[null,null,null,null,"Holden"]
[null,null,null,null,"Homer"]
[null,null,null,null,"Hornbeck"]
[null,null,null,null,"Hosston"]
[null,null,null,null,"Houma"]
[null,null,null,null,"Husser"]
[null,null,null,null,"Ida"]
[null,null,null,null,"Independence"]
[null,null,null,null,"Innis"]
[null,null,null,null,"Iota"]
[null,null,null,null,"Iowa"]
[null,null,null,null,"Jackson"]
[null,null,null,null,"Jamestown"]
[null,null,null,null,"Jarreau"]
[null,null,null,null,"Jeanerette"]
[null,null,null,null,"Jena"]
[null,null,null,null,"Jennings"]
[null,null,null,null,"Jigger"]
[null,null,null,null,"Jones"]
[null,null,null,null,"Jonesboro"]
[null,null,null,null,"Jonesville"]
[null,null,null,null,"Joyce"]
[null,null,null,null,"Kaplan"]
[null,null,null,null,"Keatchie"]
[null,null,null,null,"Keithville"]
[null,null,null,null,"Kelly"]
[null,null,null,null,"Kenner"]
[null,null,null,null,"Kentwood"]
[null,null,null,null,"Kilbourne"]
[null,null,null,null,"Kinder"]
[null,null,null,null,"Kraemer"]
[null,null,null,null,"Krotz Springs"]
[null,null,null,null,"Kurthwood"]
[null,null,null,null,"La Place"]
[null,null,null,null,"Labadieville"]
[null,null,null,null,"Lacassine"]
[null,null,null,null,"Lacombe"]
[null,null,null,null,"Lafayette"]
[null,null,null,null,"Lafitte"]
[null,null,null,null,"Lake Arthur"]
[null,null,null,null,"Lake Charles"]
[null,null,null,null,"Lake Providence"]
[null,null,null,null,"Lakeland"]
[null,null,null,null,"Larose"]
[null,null,null,null,"Lawtell"]
[null,null,null,null,"Lebeau"]
[null,null,null,null,"Leblanc"]
[null,null,null,null,"Lecompte"]
[null,null,null,null,"Leesville"]
[null,null,null,null,"Lena"]
[null,null,null,null,"Leonville"]
[null,null,null,null,"Lettsworth"]
[null,null,null,null,"Libuse"]
[null,null,null,null,"Lillie"]
[null,null,null,null,"Lisbon"]
[null,null,null,null,"Livingston"]
[null,null,null,null,"Livonia"]
[null,null,null,null,"Lockport"]
[null,null,null,null,"Logansport"]
[null,null,null,null,"Longleaf"]
[null,null,null,null,"Longville"]
[null,null,null,null,"Loranger"]
[null,null,null,null,"Loreauville"]
[null,null,null,null,"Lottie"]
[null,null,null,null,"Luling"]
[null,null,null,null,"Lutcher"]
[null,null,null,null,"Lydia"]
[null,null,null,null,"Madisonville"]
[null,null,null,null,"Mamou"]
[null,null,null,null,"Mandeville"]
[null,null,null,null,"Mangham"]
[null,null,null,null,"Mansfield"]
[null,null,null,null,"Mansura"]
[null,null,null,null,"Many"]
[null,null,null,null,"Maringouin"]
[null,null,null,null,"Marion"]
[null,null,null,null,"Marksville"]
[null,null,null,null,"Marrero"]
[null,null,null,null,"Marthaville"]
[null,null,null,null,"Mathews"]
[null,null,null,null,"Maurepas"]
[null,null,null,null,"Maurice"]
[null,null,null,null,"Melrose"]
[null,null,null,null,"Melville"]
[null,null,null,null,"Mer Rouge"]
[null,null,null,null,"Meraux"]
[null,null,null,null,"Mermentau"]
[null,null,null,null,"Merryville"]
[null,null,null,null,"Metairie"]
[null,null,null,null,"Milton"]
[null,null,null,null,"Minden"]
[null,null,null,null,"Mittie"]
[null,null,null,null,"Monroe"]
[null,null,null,null,"Montegut"]
[null,null,null,null,"Monterey"]
[null,null,null,null,"Montgomery"]
[null,null,null,null,"Mooringsport"]
[null,null,null,null,"Mora"]
[null,null,null,null,"Moreauville"]
[null,null,null,null,"Morganza"]
[null,null,null,null,"Morrow"]
[null,null,null,null,"Morse"]
[null,null,null,null,"Mount Airy"]
[null,null,null,null,"Mount Hermon"]
[null,null,null,null,"Napoleonville"]
[null,null,null,null,"Natalbany"]
[null,null,null,null,"Natchez"]
[null,null,null,null,"Natchitoches"]
[null,null,null,null,"Negreet"]
[null,null,null,null,"New Iberia"]
[null,null,null,null,"New Orleans"]
[null,null,null,null,"New Roads"]
[null,null,null,null,"New Sarpy"]
[null,null,null,null,"Newellton"]
[null,null,null,null,"Newllano"]
[null,null,null,null,"Noble"]
[null,null,null,null,"Norco"]
[null,null,null,null,"Norwood"]
[null,null,null,null,"Oak Grove"]
[null,null,null,null,"Oak Ridge"]
[null,null,null,null,"Oakdale"]
[null,null,null,null,"Oberlin"]
[null,null,null,null,"Oil City"]
[null,null,null,null,"Olla"]
[null,null,null,null,"Opelousas"]
[null,null,null,null,"Oscar"]
[null,null,null,null,"Otis"]
[null,null,null,null,"Paincourtville"]
[null,null,null,null,"Palmetto"]
[null,null,null,null,"Paradis"]
[null,null,null,null,"Patterson"]
[null,null,null,null,"Paulina"]
[null,null,null,null,"Pearl River"]
[null,null,null,null,"Pelican"]
[null,null,null,null,"Perry"]
[null,null,null,null,"Pierre Part"]
[null,null,null,null,"Pine Grove"]
[null,null,null,null,"Pine Prairie"]
[null,null,null,null,"Pineville"]
[null,null,null,null,"Pioneer"]
[null,null,null,null,"Pitkin"]
[null,null,null,null,"Plain Dealing"]
[null,null,null,null,"Plaquemine"]
[null,null,null,null,"Plattenville"]
[null,null,null,null,"Plaucheville"]
[null,null,null,null,"Pleasant Hill"]
[null,null,null,null,"Pointe a la Hache"]
[null,null,null,null,"Pollock"]
[null,null,null,null,"Ponchatoula"]
[null,null,null,null,"Port Allen"]
[null,null,null,null,"Port Barre"]
[null,null,null,null,"Port Sulphur"]
[null,null,null,null,"Powhatan"]
[null,null,null,null,"Prairieville"]
[null,null,null,null,"Pride"]
[null,null,null,null,"Princeton"]
[null,null,null,null,"Provencal"]
[null,null,null,null,"Quitman"]
[null,null,null,null,"Raceland"]
[null,null,null,null,"Ragley"]
[null,null,null,null,"Rayne"]
[null,null,null,null,"Rayville"]
[null,null,null,null,"Reddell"]
[null,null,null,null,"Reeves"]
[null,null,null,null,"Reserve"]
[null,null,null,null,"Rhinehart"]
[null,null,null,null,"Ringgold"]
[null,null,null,null,"Roanoke"]
[null,null,null,null,"Robeline"]
[null,null,null,null,"Robert"]
[null,null,null,null,"Rodessa"]
[null,null,null,null,"Rosedale"]
[null,null,null,null,"Roseland"]
[null,null,null,null,"Rosepine"]
[null,null,null,null,"Rougon"]
[null,null,null,null,"Ruby"]
[null,null,null,null,"Ruston"]
[null,null,null,null,"Saint Amant"]
[null,null,null,null,"Saint Benedict"]
[null,null,null,null,"Saint Bernard"]
[null,null,null,null,"Saint Francisville"]
[null,null,null,null,"Saint Gabriel"]
[null,null,null,null,"Saint James"]
[null,null,null,null,"Saint Joseph"]
[null,null,null,null,"Saint Landry"]
[null,null,null,null,"Saint Martinville"]
[null,null,null,null,"Saint Maurice"]
[null,null,null,null,"Saint Rose"]
[null,null,null,null,"Saline"]
[null,null,null,null,"Sarepta"]
[null,null,null,null,"Schriever"]
[null,null,null,null,"Scott"]
[null,null,null,null,"Shongaloo"]
[null,null,null,null,"Shreveport"]
[null,null,null,null,"Sibley"]
[null,null,null,null,"Sicily Island"]
[null,null,null,null,"Sieper"]
[null,null,null,null,"Sieper"]
[null,null,null,null,"Sikes"]
[null,null,null,null,"Simmesport"]
[null,null,null,null,"Simpson"]
[null,null,null,null,"Simsboro"]
[null,null,null,null,"Singer"]
[null,null,null,null,"Slagle"]
[null,null,null,null,"Slaughter"]
[null,null,null,null,"Slidell"]
[null,null,null,null,"Sondheimer"]
[null,null,null,null,"Sorrento"]
[null,null,null,null,"Spearsville"]
[null,null,null,null,"Springfield"]
[null,null,null,null,"Springhill"]
[null,null,null,null,"Starks"]
[null,null,null,null,"Start"]
[null,null,null,null,"Sterlington"]
[null,null,null,null,"Stonewall"]
[null,null,null,null,"Sugartown"]
[null,null,null,null,"Sulphur"]
[null,null,null,null,"Summerfield"]
[null,null,null,null,"Sun"]
[null,null,null,null,"Sunset"]
[null,null,null,null,"Sunshine"]
[null,null,null,null,"Swartz"]
[null,null,null,null,"Talisheek"]
[null,null,null,null,"Tallulah"]
[null,null,null,null,"Tangipahoa"]
[null,null,null,null,"Taylor"]
[null,null,null,null,"Theriot"]
[null,null,null,null,"Thibodaux"]
[null,null,null,null,"Tickfaw"]
[null,null,null,null,"Tioga"]
[null,null,null,null,"Transylvania"]
[null,null,null,null,"Trout"]
[null,null,null,null,"Tullos"]
[null,null,null,null,"Tunica"]
[null,null,null,null,"Turkey Creek"]
[null,null,null,null,"Uncle Sam"]
[null,null,null,null,"Urania"]
[null,null,null,null,"Vacherie"]
[null,null,null,null,"Venice"]
[null,null,null,null,"Ventress"]
[null,null,null,null,"Vidalia"]
[null,null,null,null,"Ville Platte"]
[null,null,null,null,"Vinton"]
[null,null,null,null,"Violet"]
[null,null,null,null,"Vivian"]
[null,null,null,null,"Wakefield"]
[null,null,null,null,"Walker"]
[null,null,null,null,"Washington"]
[null,null,null,null,"Waterproof"]
[null,null,null,null,"Watson"]
[null,null,null,null,"Welsh"]
[null,null,null,null,"West Monroe"]
[null,null,null,null,"Westlake"]
[null,null,null,null,"Westwego"]
[null,null,null,null,"Weyanoke"]
[null,null,null,null,"White Castle"]
[null,null,null,null,"Wilson"]
[null,null,null,null,"Winnfield"]
[null,null,null,null,"Winnsboro"]
[null,null,null,null,"Wisner"]
[null,null,null,null,"Woodworth"]
[null,null,null,null,"Youngsville"]
[null,null,null,null,"Zachary"]
[null,null,null,null,"Zwolle"]

{"sheet":"Underwriting","index":4,"n_rows":590,"n_cols":12,"rows_kept":590,"cut":false,"hidden":true,"merged":[[270,2,270,6],[220,2,220,6],[221,2,221,6],[222,2,222,6],[223,2,223,6],[224,2,224,6],[225,2,225,6],[219,2,219,6],[216,2,216,6],[217,2,217,6],[218,2,218,6],[254,2,254,6],[262,2,262,6],[263,2,263,6],[264,2,264,6],[265,2,265,6],[230,2,230,6],[231,2,231,6],[242,2,242,6],[243,2,243,6],[244,2,244,6],[245,2,245,6],[246,2,246,6],[247,2,247,6],[16,2,16,6],[589,1,589,2],[589,3,589,6],[583,1,583,4],[584,1,584,4],[585,1,585,4],[586,1,586,4],[587,1,587,4],[588,1,588,3],[588,4,588,7],[578,1,578,4],[578,5,578,6],[579,1,579,4],[580,1,580,4],[581,1,581,4],[582,1,582,4],[573,1,573,7],[574,1,574,7],[575,1,575,7],[576,1,576,7],[577,1,577,4],[577,5,577,6],[567,1,567,7],[568,1,568,7],[569,1,569,7],[570,1,570,7],[571,1,571,7],[572,1,572,7],[560,2,560,6],[561,2,561,6],[562,2,562,6],[563,2,563,6],[565,1,565,7],[566,1,566,7],[551,2,551,6],[552,2,552,6],[553,2,553,6],[556,2,556,6],[558,2,558,6],[559,2,559,6],[545,2,545,6],[546,2,546,6],[547,2,547,6],[548,2,548,6],[549,2,549,6],[550,2,550,6],[554,2,554,6],[539,2,539,6],[540,2,540,6],[541,2,541,6],[542,2,542,6],[543,2,543,6],[544,2,544,6],[533,2,533,6],[534,2,534,6],[535,2,535,6],[536,2,536,6],[537,2,537,6],[538,2,538,6],[520,2,520,6],[521,2,521,6],[522,2,522,6],[530,2,530,6],[531,2,531,6],[532,2,532,6],[514,2,514,6],[515,2,515,6],[516,2,516,6],[517,2,517,6],[518,2,518,6],[519,2,519,6],[526,2,526,6],[527,2,527,6],[528,2,528,6],[529,2,529,6],[508,2,508,6],[509,2,509,6],[510,2,510,6],[511,2,511,6],[512,2,512,6],[513,2,513,6],[502,2,502,6],[503,2,503,6],[504,2,504,6],[505,2,505,6],[506,2,506,6],[507,2,507,6],[496,2,496,6],[497,2,497,6],[498,2,498,6],[499,2,499,6],[500,2,500,6],[501,2,501,6],[489,2,489,6],[490,2,490,6],[491,2,491,6],[493,2,493,6],[494,2,494,6],[495,2,495,6],[483,2,483,6],[484,2,484,6],[485,2,485,6],[486,2,486,6],[487,2,487,6],[488,2,488,6],[477,2,477,6],[478,2,478,6],[479,2,479,6],[480,2,480,6],[481,2,481,6],[482,2,482,6],[471,2,471,6],[472,2,472,6],[473,2,473,6],[474,2,474,6],[475,2,475,6],[476,2,476,6],[465,2,465,6],[466,2,466,6],[467,2,467,6],[468,2,468,6],[469,2,469,6],[470,2,470,6],[459,2,459,6],[460,2,460,6],[461,2,461,6],[462,2,462,6],[463,2,463,6],[464,2,464,6],[453,2,453,6],[454,2,454,6],[455,2,455,6],[456,2,456,6],[457,2,457,6],[458,2,458,6],[447,2,447,6],[448,2,448,6],[449,2,449,6],[450,2,450,6],[451,2,451,6],[452,2,452,6],[441,2,441,6],[442,2,442,6],[443,2,443,6],[444,2,444,6],[445,2,445,6],[446,2,446,6],[435,2,435,6],[436,2,436,6],[437,2,437,6],[438,2,438,6],[439,2,439,6],[440,2,440,6],[429,2,429,6],[430,2,430,6],[431,2,431,6],[432,2,432,6],[433,2,433,6],[434,2,434,6],[423,2,423,6],[424,2,424,6],[425,2,425,6],[426,2,426,6],[427,2,427,6],[428,2,428,6],[417,2,417,6],[418,2,418,6],[419,2,419,6],[420,2,420,6],[421,2,421,6],[422,2,422,6],[409,2,409,6],[412,2,412,6],[413,2,413,6],[414,2,414,6],[415,2,415,6],[416,2,416,6],[403,2,403,6],[404,2,404,6],[405,2,405,6],[406,2,406,6],[407,2,407,6],[408,2,408,6],[396,2,396,6],[397,2,397,6],[398,2,398,6],[399,2,399,6],[400,2,400,6],[402,2,402,6],[390,2,390,6],[391,2,391,6],[392,2,392,6],[393,2,393,6],[394,2,394,6],[395,2,395,6],[383,2,383,6],[384,2,384,6],[386,2,386,6],[387,2,387,6],[388,2,388,6],[389,2,389,6],[377,2,377,6],[378,2,378,6],[379,2,379,6],[380,2,380,6],[381,2,381,6],[382,2,382,6],[385,2,385,6],[371,2,371,6],[372,2,372,6],[373,2,373,6],[374,2,374,6],[375,2,375,6],[376,2,376,6],[365,2,365,6],[366,2,366,6],[367,2,367,6],[368,2,368,6],[369,2,369,6],[370,2,370,6],[359,2,359,6],[360,2,360,6],[361,2,361,6],[362,2,362,6],[363,2,363,6],[364,2,364,6],[353,2,353,6],[354,2,354,6],[355,2,355,6],[356,2,356,6],[357,2,357,6],[358,2,358,6],[347,2,347,6],[348,2,348,6],[349,2,349,6],[350,2,350,6],[351,2,351,6],[352,2,352,6],[341,2,341,6],[342,1,342,6],[343,2,343,6],[344,2,344,6],[345,2,345,6],[346,2,346,6],[335,2,335,6],[336,2,336,6],[337,2,337,6],[338,2,338,6],[339,2,339,6],[340,2,340,6],[329,2,329,6],[330,2,330,6],[331,2,331,6],[332,2,332,6],[333,2,333,6],[334,2,334,6],[323,2,323,6],[324,2,324,6],[325,2,325,6],[326,2,326,6],[327,2,327,6],[328,2,328,6],[317,2,317,6],[318,2,318,6],[319,2,319,6],[320,2,320,6],[321,2,321,6],[322,2,322,6],[311,2,311,6],[312,2,312,6],[313,2,313,6],[314,2,314,6],[315,2,315,6],[316,2,316,6],[305,2,305,6],[306,2,306,6],[307,2,307,6],[308,2,308,6],[309,2,309,6],[310,2,310,6],[299,2,299,6],[300,2,300,6],[301,2,301,6],[302,2,302,6],[303,2,303,6],[304,2,304,6],[293,2,293,6],[294,2,294,6],[295,2,295,6],[296,2,296,6],[297,2,297,6],[298,2,298,6],[287,2,287,6],[288,2,288,6],[289,2,289,6],[290,2,290,6],[291,2,291,6],[292,2,292,6],[281,2,281,6],[282,2,282,6],[283,2,283,6],[284,2,284,6],[285,2,285,6],[286,2,286,6],[275,2,275,6],[276,2,276,6],[277,2,277,6],[278,2,278,6],[279,2,279,6],[280,2,280,6],[196,2,196,6],[197,2,197,6],[198,2,198,6],[199,2,199,6],[273,2,273,6],[274,2,274,6],[200,2,200,6],[201,2,201,6],[202,2,202,6],[203,2,203,6],[204,2,204,6],[205,2,205,6],[206,2,206,6],[207,2,207,6],[226,2,226,6],[227,2,227,6],[228,2,228,6],[229,2,229,6],[190,2,190,6],[191,2,191,6],[192,2,192,6],[193,2,193,6],[194,2,194,6],[195,2,195,6],[164,2,164,6],[167,2,167,6],[186,2,186,6],[187,2,187,6],[188,2,188,6],[189,2,189,6],[178,2,178,6],[179,2,179,6],[180,2,180,6],[181,2,181,6],[182,2,182,6],[183,2,183,6],[176,2,176,6],[184,2,184,6],[165,2,165,6],[166,2,166,6],[158,2,158,6],[159,2,159,6],[160,2,160,6],[161,2,161,6],[162,2,162,6],[163,2,163,6],[133,2,133,6],[143,2,143,6],[143,8,148,8],[144,2,144,6],[145,2,145,6],[146,2,146,6],[147,2,147,6],[148,2,148,6],[141,2,141,6],[150,2,150,6],[151,2,151,6],[152,2,152,6],[153,2,153,6],[154,2,154,6],[155,2,155,6],[156,2,156,6],[127,2,127,6],[128,2,128,6],[129,2,129,6],[130,2,130,6],[131,2,131,6],[132,2,132,6],[112,2,112,6],[113,2,113,6],[114,2,114,6],[115,2,115,6],[116,2,116,6],[126,2,126,6],[118,2,118,6],[119,2,119,6],[120,2,120,6],[121,2,121,6],[122,2,122,6],[123,2,123,6],[124,2,124,6],[125,2,125,6],[106,2,106,6],[107,2,107,6],[108,2,108,6],[109,2,109,6],[110,2,110,6],[111,2,111,6],[100,2,100,6],[101,2,101,6],[102,2,102,6],[103,2,103,6],[104,2,104,6],[105,2,105,6],[94,2,94,6],[95,2,95,6],[96,2,96,6],[97,2,97,6],[98,2,98,6],[99,2,99,6],[87,2,87,6],[88,2,88,6],[89,2,89,6],[91,1,91,6],[92,2,92,6],[93,2,93,6],[81,2,81,6],[82,2,82,6],[83,2,83,6],[84,2,84,6],[85,2,85,6],[86,2,86,6],[75,2,75,6],[76,2,76,6],[77,2,77,6],[78,2,78,6],[79,2,79,6],[80,2,80,6],[69,2,69,6],[70,2,70,6],[71,2,71,6],[72,2,72,6],[73,2,73,6],[74,2,74,6],[63,2,63,6],[64,2,64,6],[65,2,65,6],[66,2,66,6],[67,2,67,6],[68,2,68,6],[57,2,57,6],[58,2,58,6],[59,2,59,6],[60,2,60,6],[61,2,61,6],[62,2,62,6],[51,2,51,6],[52,2,52,6],[53,2,53,6],[54,2,54,6],[55,2,55,6],[56,2,56,6],[48,2,48,6],[49,2,49,6],[50,2,50,6],[23,2,23,6],[24,2,24,6],[25,2,25,6],[26,2,26,6],[27,2,27,6],[44,2,44,6],[28,2,28,6],[29,2,29,6],[30,2,30,6],[31,2,31,6],[32,2,32,6],[33,2,33,6],[34,2,34,6],[35,2,35,6],[0,1,0,7],[1,1,1,7],[2,1,2,7],[3,1,3,7],[5,1,5,4],[6,1,6,2],[523,2,523,6],[524,2,524,6],[525,2,525,6],[410,2,410,6],[411,2,411,6],[15,2,15,6],[17,2,17,6],[18,2,18,6],[19,2,19,6],[21,2,21,6],[22,2,22,6],[14,2,14,6],[8,1,8,2],[9,2,9,6],[10,2,10,6],[11,2,11,6],[12,2,12,6],[13,2,13,6],[20,2,20,6],[170,2,170,6],[171,2,171,6],[172,2,172,6],[173,2,173,6],[174,2,174,6],[175,2,175,6],[135,2,135,6],[136,2,136,6],[137,2,137,6],[138,2,138,6],[139,2,139,6],[140,2,140,6],[36,2,36,6],[37,2,37,6],[38,2,38,6],[39,2,39,6],[40,2,40,6],[41,2,41,6],[42,2,42,6],[43,2,43,6],[45,2,45,6],[46,2,46,6],[47,2,47,6],[249,2,249,6],[235,2,235,6],[236,2,236,6],[237,2,237,6],[238,2,238,6],[239,2,239,6],[240,2,240,6],[234,2,234,6],[232,2,232,6],[256,2,256,6],[257,2,257,6],[258,2,258,6],[259,2,259,6],[260,2,260,6],[261,2,261,6],[272,2,272,6],[208,2,208,6],[209,2,209,6],[210,2,210,6],[211,2,211,6],[212,2,212,6],[213,2,213,6],[214,2,214,6],[215,2,215,6],[266,2,266,6],[267,2,267,6],[268,2,268,6],[269,2,269,6],[271,2,271,6],[250,2,250,6],[251,2,251,6],[252,2,252,6],[253,2,253,6],[579,5,579,6],[580,5,580,6],[581,5,581,6],[582,5,582,6],[583,5,583,6],[584,5,584,6],[585,5,585,6],[586,5,586,6],[587,5,587,6]]}
[]
[null,"Underwriting and Subsidy Layering Analysis"]
[null,"for"]
[null,{"$f":"+'Primary Input'!E7","v":0}]
[]
[]
[null,"Project Information",null,"Type of Credit Application","NA"]
[null,null,null,"Month","Day","Year","Type of Review:"]
[null,"Date",null,{"$f":"+'Primary Input'!E5","v":0},{"$f":"+'Primary Input'!F5","v":0},{"$f":"+'Primary Input'!G5","v":0},"Preliminary-Initial"]
[null,1,"Developer",null,null,null,null,{"$f":"+'Primary Input'!E14","v":0}]
[null,2,"Parish",null,null,null,null,{"$f":"+Cover!E11","v":0},{"$f":"IF(H11>\" \",\"\", \"Must Be Filled In\")","v":"Must Be Filled In"}]
[null,3,"City",null,null,null,null,{"$f":"+'Primary Input'!E8","v":0}]
[null,null,"Census Tract",null,null,null,null,{"$f":"+'Primary Input'!E10","v":0}]
[null,4,"Total Development Cost",null,null,null,null,{"$f":"+'Sources and Uses'!F48","v":0}]
[null,16,"Total HOME Investment",null,null,null,null,{"$f":"+'Sources and Uses'!F7","v":0},{"$f":"+IF(H15=\"\",\"Must Be Filled In. If none put $0.00\",\"Pass\")","v":"Pass"}]
[null,17,"Total Housing Trust Fund",null,null,null,null,{"$f":"+'Primary Input'!E41","v":0}]
[null,null,"Total Other Investment",null,null,null,null,{"$f":"+H18-(H15+H16)","v":0}]
[null,null,"Total Sources",null,null,null,null,{"$f":"+'Sources and Uses'!F24","v":0},{"$f":"IF(H18<H14,\"Need Additional Sources\",IF(H18>H14,\"Project is over funded\",\"Pass\"))","v":"Pass"}]
[null,null,"Total Debt Sources",null,null,null,null,null,{"$f":"IF(H19>\" \",\"Pass\", \"Must Be Filled In\")","v":"Must Be Filled In"}]
[null,null,"Total Equity Sources",null,null,null,null,null,"Must Be Filled In"]
[null,null,"Maximum Per Unit Subsidy Per Funding (NOAH, CHAAP, SPC or NOFA)"]
[null,18,"Number of 0 Bedroom Units",null,null,null,null,{"$f":"+'Primary Input'!E56","v":0},"Must Be Filled In"]
[null,19,"Number of 1 Bedroom Units",null,null,null,null,{"$f":"+'Primary Input'!E57","v":0},{"$f":"+IF(H23=\"\",\"Must Be Filled In. If none put 0\",\"Pass\")","v":"Pass"}]
[null,20,"Number of 2 Bedroom Units",null,null,null,null,{"$f":"+'Primary Input'!E58","v":0},{"$f":"+IF(H24=\"\",\"Must Be Filled In. If none put 0\",\"Pass\")","v":"Pass"}]
[null,21,"Number of 3 Bedroom Units",null,null,null,null,{"$f":"+'Primary Input'!E59","v":0},"Pass"]
[null,22,"Number of 4 Bedroom Units",null,null,null,null,{"$f":"+'Primary Input'!E60","v":0},"Pass"]
[null,23,"Number of 5 Bedroom Units",null,null,null,null,{"$f":"+'Primary Input'!E61","v":0},"Pass"]
[null,24,"Total Number of Units",null,null,null,null,{"$f":"SUM(H22:H27)","v":0}]
[null,null,"Number of 0 Bedroom HOME Units Proposed by Developer",null,null,null,null,{"$f":"+'Primary Input'!E65","v":0},{"$f":"IF(H29>=H95, \"Ok\", \"Error. Need more HOME units.\")","v":{"$error":"#DIV/0!"}}]
[null,null,"Number of 1 Bedroom HOME Units Proposed by Developer",null,null,null,null,{"$f":"+'Primary Input'!E66","v":0},{"$f":"IF(H30>=H96, \"Ok\", \"Error. Need more HOME units.\")","v":{"$error":"#DIV/0!"}}]
[null,null,"Number of 2 Bedroom HOME Units Proposed by Developer",null,null,null,null,{"$f":"+'Primary Input'!E67","v":0},{"$error":"#DIV/0!"}]
[null,null,"Number of 3 Bedroom HOME Units Proposed by Developer",null,null,null,null,{"$f":"+'Primary Input'!E68","v":0},{"$error":"#DIV/0!"}]
[null,null,"Number of 4 Bedroom HOME Units Proposed by Developer",null,null,null,null,{"$f":"+'Primary Input'!E69","v":0},{"$error":"#DIV/0!"}]
[null,null,"Number of 5 Bedroom HOME Units Porposed by Developer",null,null,null,null,{"$f":"+'Primary Input'!E70","v":0},{"$error":"#DIV/0!"}]
[null,null,"Total Number of HOME Units Proposed by Developer",null,null,null,null,{"$f":"SUM(H29:H34)","v":0},{"$error":"#DIV/0!"}]
[]
[]
[null,null,"FINAL NUMBER OF REQUIRED 0 BEDROOM UNITS"]
[null,null,"FINAL NUMBER OF REQUIRED 1 BEDROOM UNITS"]
[null,null,"FINAL NUMBER OF REQUIRED 2 BEDROOM UNITS"]
[null,null,"FINAL NUMBER OF REQUIRED 3 BEDROOM UNITS"]
[null,null,"FINAL NUMBER OF REQUIRED 4 BEDROOM UNITS"]
[null,null,"FINAL NUMBER OF REQUIRED 5 BEDROOM UNITS"]
[null,null,"FINAL NUMBER OF REQUIRED TOTAL HOME UNITS",null,null,null,null,{"$f":"SUM(H38:H43)","v":0}]
[null,25,"Does this activity have project based rental assistance?",null,null,null,null,null,{"$f":"IF(H45>\" \",\"\", \"Must Be Filled In\")","v":"Must Be Filled In"}]
[null,26,"Proposed Rent for High HOME 0 Bedroom Units",null,null,null,null,{"$f":"+'Rental Income'!T3","v":0},{"$f":"+IF(H46=\"\",\"Must Be Filled In. If none put $0.00\",\"\")","v":""}]
[null,27,"Proposed Rent for High HOME 1 Bedroom Units",null,null,null,null,{"$f":"+'Rental Income'!T4","v":0},""]
[null,28,"Proposed Rent for High HOME  2 Bedroom Units",null,null,null,null,{"$f":"+'Rental Income'!T5","v":0},""]
[null,29,"Proposed Rent for High HOME 3 Bedroom Units",null,null,null,null,{"$f":"+'Rental Income'!T6","v":0},""]
[null,30,"Proposed Rent for High HOME 4 Bedroom Units",null,null,null,null,{"$f":"+'Rental Income'!T7","v":0},""]
[null,31,"Proposed Rent for High HOME 5 Bedroom Units",null,null,null,null,{"$f":"+'Rental Income'!T8","v":0},""]
[null,32,"Proposed Rent for High HOME 6 Bedroom Units",null,null,null,null,null,"Must Be Filled In. If none put $0.00"]
[null,33,"Proposed Rent for Low HOME 0 Bedroom Units",null,null,null,null,{"$f":"+'Rental Income'!U3","v":0},""]
[null,34,"Proposed Rent for Low HOME 1 Bedroom Units",null,null,null,null,{"$f":"+'Rental Income'!U4","v":0},""]
[null,35,"Proposed Rent for Low HOME 2 Bedroom Units",null,null,null,null,{"$f":"+'Rental Income'!U5","v":0},""]
[null,36,"Proposed Rent for Low HOME 3 Bedroom Units",null,null,null,null,{"$f":"+'Rental Income'!U6","v":0},""]
[null,37,"Proposed Rent for Low HOME 4 Bedroom Units",null,null,null,null,{"$f":"+'Rental Income'!U7","v":0},""]
[null,38,"Proposed Rent for Low HOME 5 Bedroom Units",null,null,null,null,{"$f":"+'Rental Income'!U8","v":0},""]
[null,39,"Proposed Rent for Low HOME 6 Bedroom Units",null,null,null,null,null,"Must Be Filled In. If none put $0.00"]
[null,null,"Proposed 30% Rent for 0 Bedroom Units",null,null,null,null,{"$f":"+'Rental Income'!D27","v":0},""]
[null,null,"Proposed 30% Rent for 1 Bedroom Units",null,null,null,null,{"$f":"+'Rental Income'!D28","v":0},""]
[null,null,"Proposed 30% Rent for 2 Bedroom Units",null,null,null,null,{"$f":"+'Rental Income'!D29","v":0},""]
[null,null,"Proposed 30% Rent for 3 Bedroom Units",null,null,null,null,{"$f":"+'Rental Income'!D30","v":0},""]
[null,null,"Proposed 30% Rent for 4 Bedroom Units",null,null,null,null,{"$f":"+'Rental Income'!D31","v":0},""]
[null,null,"Proposed 30% Rent for 5 Bedroom Units",null,null,null,null,{"$f":"+'Rental Income'!D32","v":0},""]
[null,null,"Proposed 50% Rent for 0 Bedroom Units",null,null,null,null,{"$f":"+'Rental Income'!F27","v":0},""]
[null,null,"Proposed 50% Rent for 1 Bedroom Units",null,null,null,null,{"$f":"+'Rental Income'!F28","v":0},""]
[null,null,"Proposed 50% Rent for 2 Bedroom Units",null,null,null,null,{"$f":"+'Rental Income'!F29","v":0},""]
[null,null,"Proposed 50% Rent for 3 Bedroom Units",null,null,null,null,{"$f":"+'Rental Income'!F30","v":0},""]
[null,null,"Proposed 50% Rent for 4 Bedroom Units",null,null,null,null,{"$f":"+'Rental Income'!F31","v":0},""]
[null,null,"Proposed 50% Rent for 5 Bedroom Units",null,null,null,null,{"$f":"+'Rental Income'!F32","v":0},""]
[null,null,"Proposed 60% Rent for 0 Bedroom Units",null,null,null,null,{"$f":"+'Rental Income'!G27","v":0},""]
[null,null,"Proposed 60% Rent for 1 Bedroom Units",null,null,null,null,{"$f":"+'Rental Income'!G28","v":0},""]
[null,null,"Proposed 60% Rent for 2 Bedroom Units",null,null,null,null,{"$f":"+'Rental Income'!G29","v":0},""]
[null,null,"Proposed 60% Rent for 3 Bedroom Units",null,null,null,null,{"$f":"+'Rental Income'!G30","v":0},""]
[null,null,"Proposed 60% Rent for 4 Bedroom Units",null,null,null,null,{"$f":"+'Rental Income'!G31","v":0},""]
[null,null,"Proposed 60% Rent for 5 Bedroom Units",null,null,null,null,{"$f":"+'Rental Income'!G32","v":0},""]
[null,null,"Square Feet Per 0 Bedroom Unit",null,null,null,null,{"$f":"+'Rental Income'!D3*H22","v":0},{"$f":"+IF(H78=\"\",\"Must Be Filled In. If none put NA\",IF(H78>450,\"Pass\",\"\"))","v":""}]
[null,null,"Square Feet Per 1 Bedroom Unit",null,null,null,null,{"$f":"+'Rental Income'!D4","v":0},{"$f":"+IF(H79=\"\",\"Must Be Filled In. If none put NA\",IF(H79>650,\"Pass\",\"\"))","v":""}]
[null,null,"Square Feet Per 2 Bedroom Unit",null,null,null,null,{"$f":"+'Rental Income'!D5","v":0},{"$f":"+IF(H80=\"\",\"Must Be Filled In. If none put NA\",IF(H80>800,\"Pass\",\"\"))","v":""}]
[null,null,"Square Feet Per 3 Bedroom Unit",null,null,null,null,{"$f":"+'Rental Income'!D6","v":0},{"$f":"+IF(H81=\"\",\"Must Be Filled In. If none put NA\",IF(H81>1100,\"Pass\",\"\"))","v":""}]
[null,null,"Square Feet Per 4 Bedroom Unit",null,null,null,null,{"$f":"+'Rental Income'!D7","v":0},{"$f":"+IF(H82=\"\",\"Must Be Filled In. If none put NA\",IF(H82>1400,\"Pass\",\"\"))","v":""}]
[null,null,"Square Feet Per 5 Bedroom Unit",null,null,null,null,{"$f":"+'Rental Income'!D8","v":0}]
[null,null,"Total Square Feet of All Buildings",null,null,null,null,{"$f":"SUM(H78:H83)","v":0}]
[null,null,"Number of Bathrooms 0 Bedroom Unit",null,null,null,null,{"$f":"+'Rental Income'!C3","v":0},{"$f":"+IF(H85=\"\",\"Must Be Filled In.\",IF(H85>=1,\"Pass\",\"Fail\"))","v":"Fail"}]
[null,null,"Number of Bathrooms 1 Bedroom Unit",null,null,null,null,{"$f":"+'Rental Income'!C4","v":0},{"$f":"+IF(H86=\"\",\"Must Be Filled In.\",IF(H86>=1,\"Pass\",\"Fail\"))","v":"Fail"}]
[null,null,"Number of Bathrooms 2 Bedroom Unit",null,null,null,null,{"$f":"+'Rental Income'!C5","v":0},"Fail"]
[null,null,"Number of Bathrooms 3 Bedroom Unit",null,null,null,null,{"$f":"+'Rental Income'!C6","v":0},{"$f":"+IF(H88=\"\",\"Must Be Filled In.\",IF(H88>=2,\"Pass\",\"Fail\"))","v":"Fail"}]
[null,null,"Number of Bathrooms 4 Bedroom Unit",null,null,null,null,0,{"$f":"+IF(H89=\"\",\"Must Be Filled In.\",IF(H89>=2,\"Pass\",\"Fail\"))","v":"Fail"}]
[null,null,"Number of Bathrooms 5 Bedroom Units",null,null,null,null,{"$f":"+'Rental Income'!C8","v":0}]
[]
[null,"Per Unit Subsidy and Affordability"]
[null,1,"HOME Percentage",null,null,null,null,{"$f":"+H15/H14","v":{"$error":"#DIV/0!"}}]
[null,2,"Minimum  Number of HOME Units",null,null,null,null,{"$f":"+H28*H93","v":{"$error":"#DIV/0!"}}]
[null,3,"Number of HOME Assisted 0 Bedroom Units by Percentage",null,null,null,null,{"$f":"ROUNDUP(H22*$H$93, 0)","v":{"$error":"#DIV/0!"}}]
[null,4,"Number of HOME Assisted 1 Bedroom Units by Percentage",null,null,null,null,{"$error":"#DIV/0!"}]
[null,5,"Number of HOME Assisted 2 Bedroom Units by Percentage",null,null,null,null,{"$error":"#DIV/0!"}]
[null,6,"Number of HOME Assisted 3 Bedroom Units by Percentage",null,null,null,null,{"$error":"#DIV/0!"}]
[null,7,"Number of HOME Assisted 4 Bedroom Units by Percentage",null,null,null,null,{"$error":"#DIV/0!"}]
[null,8,"Number of HOME Assisted 5 Bedroom Units by Percentage",null,null,null,null,{"$error":"#DIV/0!"}]
[null,9,"Total Number of HOME Assisted Units Final Required by Percentage",null,null,null,null,{"$f":"SUM(H95:H100)","v":{"$error":"#DIV/0!"}}]
[null,null,"Final HOME Percentage",null,null,null,null,{"$f":"+H15/H18","v":{"$error":"#DIV/0!"}}]
[null,10,"Total Square Feet for 0 Bedroom Units",null,null,null,null,{"$f":"+H78*H22","v":0}]
[null,11,"Total Square Feet for 1 Bedroom Units",null,null,null,null,0]
[null,12,"Total Square Feet for 2 Bedroom Units",null,null,null,null,0]
[null,13,"Total Square Feet for 3 Bedroom Units",null,null,null,null,0]
[null,14,"Total Square Feet for 4 Bedroom Units",null,null,null,null,0]
[null,15,"Total Square Feet for 5 Bedroom Units",null,null,null,null,0]
[null,16,"Total Square Feet",null,null,null,null,{"$f":"SUM(H103:H108)","v":0}]
[null,17,"Rough Per Unit Cost",null,null,null,null,{"$f":"+H14/H28","v":{"$error":"#DIV/0!"}}]
[null,18,"Per Square Foot Cost",null,null,null,null,{"$f":"+H14/H109","v":{"$error":"#DIV/0!"}}]
[null,19,"Cost to Construct 0 Bedroom Units",null,null,null,null,{"$f":"+H78*$H$111","v":{"$error":"#DIV/0!"}}]
[null,20,"Cost to Construct 1 Bedroom Units",null,null,null,null,{"$f":"+H79*$H$111","v":{"$error":"#DIV/0!"}}]
[null,21,"Cost to Construct 2 Bedroom Units",null,null,null,null,{"$error":"#DIV/0!"}]
[null,22,"Cost to Construct 3 Bedroom Units",null,null,null,null,{"$error":"#DIV/0!"}]
[null,23,"Cost to Construct 4 Bedroom Units",null,null,null,null,{"$error":"#DIV/0!"}]
[null,24,"Cost to Construct 5 Bedroom Units",null,null,null,null,{"$error":"#DIV/0!"}]
[]
[null,null,"Cost to Construct All 0 Bedroom Units",null,null,null,null,{"$f":"+H112*H22","v":{"$error":"#DIV/0!"}}]
[null,null,"Cost to Construct All 1 Bedroom Units",null,null,null,null,{"$f":"+H113*H23","v":{"$error":"#DIV/0!"}}]
[null,null,"Cost to Construct All 2 Bedroom Units",null,null,null,null,{"$error":"#DIV/0!"}]
[null,null,"Cost to Construct All 3 Bedroom Units",null,null,null,null,{"$error":"#DIV/0!"}]
[null,null,"Cost to Construct All 4 Bedroom Units",null,null,null,null,{"$error":"#DIV/0!"}]
[null,null,"Cost to Construct All 5 Bedroom Units",null,null,null,null,{"$error":"#DIV/0!"}]
[null,null,"Total Cost to Construct All Units",null,null,null,null,{"$f":"SUM(H119:H124)","v":{"$error":"#DIV/0!"}}]
[]
[null,25,"Cost to Construct All Proposed HOME Assisted 0 Bedroom Units by %",null,null,null,null,{"$f":"(+H112*H22)*$H$102","v":{"$error":"#DIV/0!"}}]
[null,26,"Cost to Construct All Proposed HOME Assisted 1 Bedroom Units by %",null,null,null,null,{"$f":"(+H113*H23)*$H$102","v":{"$error":"#DIV/0!"}}]
[null,27,"Cost to Construct All Proposed HOME Assisted 2 Bedroom Units by %",null,null,null,null,{"$error":"#DIV/0!"}]
[null,28,"Cost to Construct All Proposed HOME Assisted 3 Bedroom Units by %",null,null,null,null,{"$error":"#DIV/0!"}]
[null,29,"Cost to Construct All Proposed HOME Assisted 4 Bedroom Units by %",null,null,null,null,{"$error":"#DIV/0!"}]
[null,30,"Cost to Construct All Proposed HOME Assisted 5 Bedroom Units by %",null,null,null,null,{"$error":"#DIV/0!"}]
[null,31,"Total Cost to Construct All Proposed HOME Assisted Units in Project by %",null,null,null,null,{"$f":"SUM(H127:H132)","v":{"$error":"#DIV/0!"}}]
[null,32,"Actual Total HOME Assistance Requested",null,null,null,null,{"$f":"+H15","v":0}]
[]
[null,null,"Minimum Number of 0 Bedroom Units by Cost to Construct",null,null,null,null,{"$f":"ROUNDUP(IF(H112,H127/H112, 0),0)","v":{"$error":"#DIV/0!"}}]
[null,null,"Minimum Number of 1 Bedroom Units by Cost to Construct",null,null,null,null,{"$error":"#DIV/0!"}]
[null,null,"Minimum Number of 2 Bedroom Units by Cost to Construct",null,null,null,null,{"$error":"#DIV/0!"}]
[null,null,"Minimum Number of 3 Bedroom Units by Cost to Construct",null,null,null,null,{"$error":"#DIV/0!"}]
[null,null,"Minimum Number of 4 Bedroom Units by Cost to Construct",null,null,null,null,{"$error":"#DIV/0!"}]
[null,null,"Minimum Number of 5 Bedroom Units by Cost to Construct",null,null,null,null,{"$error":"#DIV/0!"}]
[null,null,"Total HOME Units by Cost to Construct",null,null,null,null,{"$f":"SUM(H136:H141)","v":{"$error":"#DIV/0!"}}]
[]
[null,33,"Maximum HOME Assistance Per 0 Bedroom Unit (234 Limit)",null,null,null,null,{"$f":"+Lists!Q76","v":0},0]
[null,34,"Maximum HOME Assistance Per 1 Bedroom Unit (234 Limit)",null,null,null,null,{"$f":"+Lists!R76","v":0}]
[null,35,"Maximum HOME Assistance Per 2 Bedroom Unit (234 Limit)",null,null,null,null,{"$f":"+Lists!S76","v":0}]
[null,36,"Maximum HOME Assistance Per 3 Bedroom Unit (234 Limit)",null,null,null,null,{"$f":"+Lists!T76","v":0}]
[null,37,"Maximum HOME Assistance Per 4 Bedroom Unit (234 Limit)",null,null,null,null,{"$f":"+Lists!U76","v":0}]
[null,38,"Maximum HOME Assistance Per 5 Bedroom Unit (234 Limit)",null,null,null,null,{"$f":"+Lists!U76","v":0}]
[]
[null,null,"Maximum HOME Assistance for HOME Assisted 0 Bedroom Units As Poposed",null,null,null,null,{"$f":"+H29*H144","v":0}]
[null,null,"Maximum HOME Assistance for HOME Assisted 1 Bedroom Units As Porposed",null,null,null,null,{"$f":"+H30*H145","v":0}]
[null,null,"Maximum HOME Assistance for HOME Assisted 2 Bedroom Units As Proposed",null,null,null,null,0]
[null,null,"Maximum HOME Assistance for HOME Assisted 3 Bedroom Units As Proposed",null,null,null,null,0]
[null,null,"Maximum HOME Assistance for HOME Assisted 4 Bedroom Units As Proposed",null,null,null,null,0]
[null,null,"Maximum HOME Assistance for HOME Assisted 5 Bedroom Units As Proposed",null,null,null,null,0]
[null,null,"Maximum HOME Assistance for the Project As Proposed",null,null,null,null,{"$f":"SUM(H151:H156)","v":0}]
[]
[null,39,"Maximum HOME Assistance for HOME Assisted 0 Bedroom Units",null,null,null,null,{"$f":"+H144*H95","v":{"$error":"#DIV/0!"}}]
[null,40,"Maximum HOME Assistance for HOME Assisted 1 Bedroom Units",null,null,null,null,{"$error":"#DIV/0!"}]
[null,41,"Maximum HOME Assistance for HOME Assisted 2 Bedroom Units",null,null,null,null,{"$error":"#DIV/0!"}]
[null,42,"Maximum HOME Assistance for HOME Assisted 3 Bedroom Units",null,null,null,null,{"$error":"#DIV/0!"}]
[null,43,"Maximum HOME Assistance for HOME Assisted 4 Bedroom Units",null,null,null,null,{"$error":"#DIV/0!"}]
[null,44,"Maximum HOME Assistance for HOME Assisted 5 Bedroom Units",null,null,null,null,{"$error":"#DIV/0!"}]
[null,45,"Maximum HOME Assistance for the Project ",null,null,null,null,{"$f":"SUM(H159:H164)","v":{"$error":"#DIV/0!"}}]
[]
[null,null,"Does Proposed Assistance >= Maximum Allowed Assistance",null,null,null,null,{"$f":"IF(H157>=H15, \"Yes\", \"No\")","v":"Yes"},{"$f":"IF(H167=\"NO\",\"Fail. Applicant is Requesting Too Much HOME Assistance\", \"\")","v":""}]
[null,46,"Is Maximum HOME Assistance Allowed >= Actual HOME Assistance?",null,null,null,null,{"$f":"IF(H165>=H15,\"Yes\",\"No\")","v":{"$error":"#DIV/0!"}}]
[]
[]
[null,null,"Minimum Number of 0 Bedroom Units by 234 Limit",null,null,null,null,{"$f":"ROUNDUP(H127/H144, 0)","v":{"$error":"#DIV/0!"}}]
[null,null,"Minimum Number of 1 Bedroom Units by 234 Limit",null,null,null,null,{"$error":"#DIV/0!"}]
[null,null,"Minimum Number of 2 Bedroom Units by 234 Limit",null,null,null,null,{"$error":"#DIV/0!"}]
[null,null,"Minimum Number of 3 Bedroom Units by 234 Limit",null,null,null,null,{"$error":"#DIV/0!"}]
[null,null,"Minimum Number of 4 Bedroom Units by 234 Limit",null,null,null,null,{"$error":"#DIV/0!"}]
[null,null,"Minimum Number of 5 Bedroom Units by 234 Limit",null,null,null,null,{"$error":"#DIV/0!"}]
[null,null,"Total Number of Units by 234 Limit",null,null,null,null,{"$f":"SUM(H171:H176)","v":{"$error":"#DIV/0!"}}]
[]
[null,null,"Minimum Number of 0 Bedroom Units by NOFA Flat Rate",null,null,null,null,{"$f":"ROUNDUP(H127/Lists!E43, 0)","v":{"$error":"#DIV/0!"}}]
[null,null,"Minimum Number of 1 Bedroom Units by NOFA Flat Rate",null,null,null,null,{"$f":"ROUNDUP(H128/Lists!E43, 0)","v":{"$error":"#DIV/0!"}}]
[null,null,"Minimum Number of 2 Bedroom Units by NOFA Flat Rate",null,null,null,null,{"$f":"ROUNDUP(H129/Lists!E43, 0)","v":{"$error":"#DIV/0!"}}]
[null,null,"Minimum Number of 3 Bedroom Units by NOFA Flat Rate",null,null,null,null,{"$f":"ROUNDUP(H130/Lists!E43, 0)","v":{"$error":"#DIV/0!"}}]
[null,null,"Minimum Number of 4 Bedroom Units by NOFA Flat Rate",null,null,null,null,{"$f":"ROUNDUP(H131/Lists!E43, 0)","v":{"$error":"#DIV/0!"}}]
[null,null,"Minimum Number of 5 Bedroom Units by NOFA Flat Rate",null,null,null,null,{"$f":"ROUNDUP(H132/Lists!E43, 0)","v":{"$error":"#DIV/0!"}}]
[null,null,"Total Number of HOME Units by Flat Rate",null,null,null,null,{"$f":"SUM(H179:H184)","v":{"$error":"#DIV/0!"}}]
[]
[null,47,"High HOME Rent for 0 Bedroom Units",null,null,null,null,{"$f":"+'2020 Rents'!F73","v":{"$error":"#N/A"}}]
[null,48,"High HOME Rent for 1 Bedroom Units",null,null,null,null,{"$f":"+'2020 Rents'!G73","v":{"$error":"#N/A"}}]
[null,49,"High HOME Rent for 2 Bedroom Units",null,null,null,null,{"$f":"+'2020 Rents'!H73","v":{"$error":"#N/A"}}]
[null,50,"High HOME Rent for 3 Bedroom Units",null,null,null,null,{"$f":"+'2020 Rents'!I73","v":{"$error":"#N/A"}}]
[null,51,"High HOME Rent for 4 Bedroom Units",null,null,null,null,{"$f":"+'2020 Rents'!J73","v":{"$error":"#N/A"}}]
[null,52,"High HOME Rent for 5 Bedroom Units",null,null,null,null,{"$f":"+'2020 Rents'!K73","v":{"$error":"#N/A"}}]
[null,53,"High HOME Rent for 6 Bedroom Units",null,null,null,null,{"$f":"+'2020 Rents'!L73","v":{"$error":"#N/A"}}]
[null,54,"Low HOME Rent for 0 Bedroom Units",null,null,null,null,{"$f":"+'2020 Rents'!F72","v":{"$error":"#N/A"}}]
[null,55,"Low HOME Rent for 1 Bedroom Units",null,null,null,null,{"$f":"+'2020 Rents'!G72","v":{"$error":"#N/A"}}]
[null,56,"Low HOME Rent for 2 Bedroom Units",null,null,null,null,{"$f":"+'2020 Rents'!H72","v":{"$error":"#N/A"}}]
[null,57,"Low HOME Rent for 3 Bedroom Units",null,null,null,null,{"$f":"+'2020 Rents'!I72","v":{"$error":"#N/A"}}]
[null,58,"Low HOME Rent for 4 Bedroom Units",null,null,null,null,{"$f":"+'2020 Rents'!J72","v":{"$error":"#N/A"}}]
[null,59,"Low HOME Rent for 5 Bedroom Units",null,null,null,null,{"$f":"+'2020 Rents'!K72","v":{"$error":"#N/A"}}]
[null,60,"Low HOME Rent for 6 Bedroom Units",null,null,null,null,0]
[null,null,"Cost to Construct All Proposed HTF Assisted 0 Bedroom Units",null,null,null,null,{"$f":"+H112*'Primary Input'!E74","v":{"$error":"#DIV/0!"}}]
[null,null,"Cost to Construct All Proposed HTF Assisted 1 Bedroom Units",null,null,null,null,{"$f":"+H113*'Primary Input'!E75","v":{"$error":"#DIV/0!"}}]
[null,null,"Cost to Construct All Proposed HTF Assisted 2 Bedroom Units",null,null,null,null,{"$f":"+H114*'Primary Input'!E76","v":{"$error":"#DIV/0!"}}]
[null,null,"Cost to Construct All Proposed HTF Assisted 3 Bedroom Units",null,null,null,null,{"$f":"+H115*'Primary Input'!E77","v":{"$error":"#DIV/0!"}}]
[null,null,"Cost to Construct All Proposed  HTFAssisted 4 Bedroom Units",null,null,null,null,{"$f":"+H116*'Primary Input'!E78","v":{"$error":"#DIV/0!"}}]
[null,null,"Cost to Construct All Proposed  HTF Assisted 5 Bedroom Units",null,null,null,null,{"$f":"+H117*'Primary Input'!E79","v":{"$error":"#DIV/0!"}}]
[null,null,"Cost to Construct All Proposed  HTF Assisted Units in Project",null,null,null,null,{"$f":"SUM(H200:H206)","v":{"$error":"#DIV/0!"}},{"$f":"IF(H207>Lists!H44, \"Error. Amount Exceeds NOFA Limit\", \"Ok\")","v":{"$error":"#DIV/0!"}}]
[null,null,"Actual Total  HTF Assistance Requested For Proposed Units",null,null,null,null,{"$f":"+H16","v":0},{"$f":"IF(H208>H207, \"Error. Amount Requested for  Proposed Units Exceeds Cost to Construct the Proposed Units. Need More HTF Units.\",\"\")","v":{"$error":"#DIV/0!"}}]
[null,null,"HTF Percentage",null,null,null,null,{"$f":"+H16/H18","v":{"$error":"#DIV/0!"}}]
[null,null,"Minimum Number of 0 Bedroom HTF Units by Percentage",null,null,null,null,{"$f":"ROUNDUP(+H22*$H$209,0)","v":{"$error":"#DIV/0!"}},{"$f":"IF(H210>'Primary Input'!E74, \"Error. Developer has proposed too few units\",\"Ok\")","v":{"$error":"#DIV/0!"}}]
[null,null,"Minimum Number of 1 Bedroom HTF Units by Percentage",null,null,null,null,{"$error":"#DIV/0!"},{"$f":"IF(H211>'Primary Input'!E75, \"Error. Developer has proposed too few units\",\"Ok\")","v":{"$error":"#DIV/0!"}}]
[null,null,"Minimum Number of 2 Bedroom  HTF Units by Percentage",null,null,null,null,{"$error":"#DIV/0!"},{"$f":"IF(H212>'Primary Input'!E76, \"Error. Developer has proposed too few units\",\"Ok\")","v":{"$error":"#DIV/0!"}}]
[null,null,"Minimum Number of 3 Bedroom  HTF Units by Percentage",null,null,null,null,{"$error":"#DIV/0!"},{"$f":"IF(H213>'Primary Input'!E77, \"Error. Developer has proposed too few units\",\"Ok\")","v":{"$error":"#DIV/0!"}}]
[null,null,"Minimum Number of 4 Bedroom  HTF Units by Percentage",null,null,null,null,{"$error":"#DIV/0!"},{"$f":"IF(H214>'Primary Input'!E78, \"Error. Developer has proposed too few units\",\"Ok\")","v":{"$error":"#DIV/0!"}}]
[null,null,"Minimum Number of 5 Bedroom  HTF Units by Percentage",null,null,null,null,{"$error":"#DIV/0!"},{"$f":"IF(H215>'Primary Input'!E79, \"Error. Developer has proposed too few units\",\"Ok\")","v":{"$error":"#DIV/0!"}}]
[null,null,"Total Number of HTF Units Required by Percentage",null,null,null,null,{"$f":"SUM(H210:H215)","v":{"$error":"#DIV/0!"}}]
[]
[null,null,"Maximum Funding by Percentage for 0 Bedroom HTF Units",null,null,null,null,{"$f":"+$H$209*H119","v":{"$error":"#DIV/0!"}}]
[null,null,"Maximum Funding by Percentage for 1 Bedroom Units",null,null,null,null,{"$error":"#DIV/0!"}]
[null,null,"Maximum Funding by Percentage for 2 Bedroom Units",null,null,null,null,{"$error":"#DIV/0!"}]
[null,null,"Maximum Funding by Percentage for 3 Bedroom Units",null,null,null,null,{"$error":"#DIV/0!"}]
[null,null,"Maximum Funding by Percentage for 4 Bedroom Units",null,null,null,null,{"$error":"#DIV/0!"}]
[null,null,"Maximum Funding by Percentage for 5 Bedroom Units",null,null,null,null,{"$f":"+$H$209*H124","v":{"$error":"#DIV/0!"}}]
[null,null,"Maximum Funding by Percentage for All Units",null,null,null,null,{"$f":"SUM(H218:H223)","v":{"$error":"#DIV/0!"}}]
[]
[]
[null,null,"Minimum Number of 0 Bedroom HTF Units by Cost to Construct",null,null,null,null,{"$f":"ROUNDUP(IF(H112,+H218/H112,0),0)","v":{"$error":"#DIV/0!"}}]
[null,null,"Minimum Number of 1 Bedroom HTF Units by Cost to Construct",null,null,null,null,{"$error":"#DIV/0!"}]
[null,null,"Minimum Number of 2 Bedroom  HTF Units by Cost to Construct",null,null,null,null,{"$error":"#DIV/0!"}]
[null,null,"Minimum Number of 3 Bedroom  HTF Units by Cost to Construct",null,null,null,null,{"$error":"#DIV/0!"}]
[null,null,"Minimum Number of 4 Bedroom  HTF Units by Cost to Construct",null,null,null,null,{"$error":"#DIV/0!"}]
[null,null,"Minimum Number of 5 Bedroom  HTF Units by Cost to Construct",null,null,null,null,{"$error":"#DIV/0!"}]
[null,null,"Total Number of HTF Units by Cost to Construct",null,null,null,null,{"$f":"SUM(H227:H232)","v":{"$error":"#DIV/0!"}}]
[]
[null,null,"Minimum Number of 0 Bedroom HTF Units by Flat Rate",null,null,null,null,{"$f":"ROUNDUP(+H218/H243,0)","v":{"$error":"#DIV/0!"}},{"$f":"IF(H235<='Primary Input'!E74, \"Ok\", \"Need More HTF Units\")","v":{"$error":"#DIV/0!"}}]
[null,null,"Minimum Number of 1 Bedroom HTF Units by Flat Ratet",null,null,null,null,{"$error":"#DIV/0!"},{"$f":"IF(H236<='Primary Input'!E75, \"Ok\", \"Need More HTF Units\")","v":{"$error":"#DIV/0!"}}]
[null,null,"Minimum Number of 2 Bedroom  HTF Units by Flat Rate",null,null,null,null,{"$error":"#DIV/0!"},{"$f":"IF(H237<='Primary Input'!E76, \"Ok\", \"Need More HTF Units\")","v":{"$error":"#DIV/0!"}}]
[null,null,"Minimum Number of 3 Bedroom  HTF Units by Flat Rate",null,null,null,null,{"$error":"#DIV/0!"},{"$f":"IF(H238<='Primary Input'!E77, \"Ok\", \"Need More HTF Units\")","v":{"$error":"#DIV/0!"}},null,null,4]
[null,null,"Minimum Number of 4 Bedroom  HTF Units by Flat Rate",null,null,null,null,{"$error":"#DIV/0!"},{"$f":"IF(H239<='Primary Input'!E78, \"Ok\", \"Need More HTF Units\")","v":{"$error":"#DIV/0!"}},null,null,0]
[null,null,"Minimum Number of 5 Bedroom  HTF Units by Flat Rate",null,null,null,null,{"$f":"ROUNDUP(+H223/H248,0)","v":{"$error":"#DIV/0!"}},{"$f":"IF(H240<='Primary Input'!E79, \"Ok\", \"Need More HTF Units\")","v":{"$error":"#DIV/0!"}},null,null,{"$f":"IF(L239,+L238/L239, 0)","v":0}]
[null,null,"Total Units By HTF Flat Rate",null,null,null,null,{"$f":"SUM(H235:H240)","v":{"$error":"#DIV/0!"}}]
[]
[null,null,"Maximum  HTF Assistance Per 0 Bedroom Unit By NOFA Flat Rate",null,null,null,null,{"$f":"+Lists!$H$43","v":1000000}]
[null,null,"Maximum HTF Assistance Per 1 Bedroom Unit By NOFA Flat Rate",null,null,null,null,{"$f":"+Lists!$H$43","v":1000000}]
[null,null,"Maximum  HTF Assistance Per 2 Bedroom Unit by NOFA Flat Rate",null,null,null,null,{"$f":"+Lists!$H$43","v":1000000}]
[null,null,"Maximum  HTF Assistance Per 3 Bedroom Unit by NOFA Flat Rate",null,null,null,null,{"$f":"+Lists!$H$43","v":1000000}]
[null,null,"Maximum  HTF Assistance Per 4 Bedroom Unit by NOFA Flat Rate",null,null,null,null,{"$f":"+Lists!$H$43","v":1000000}]
[null,null,"Maximum  HTF Assistance Per 5 Bedroom Unit by NOFA Flat Rate",null,null,null,null,{"$f":"+Lists!$H$43","v":1000000}]
[]
[null,null,"Maximum HTF Assistance for HTF Assisted 0 Bedroom Units",null,null,null,null,{"$f":"MIN(Lists!Q76,H243,H112)","v":{"$error":"#DIV/0!"}}]
[null,null,"Maximum  HTF Assistance for HTF Assisted 1 Bedroom Units",null,null,null,null,{"$f":"MIN(H244,H113,Lists!R76)","v":{"$error":"#DIV/0!"}}]
[null,null,"Maximum  HTF Assistance for HTF Assisted 2 Bedroom Units",null,null,null,null,{"$f":"MIN(H245,H114,Lists!S76)","v":{"$error":"#DIV/0!"}}]
[null,null,"Maximum HTF Assistance for HTF Assisted 3 Bedroom Units",null,null,null,null,{"$f":"MIN(H246,H115,Lists!T76)","v":{"$error":"#DIV/0!"}}]
[null,null,"Maximum  HTF Assistance for HTF Assisted 4 Bedroom Units",null,null,null,null,{"$f":"MIN(H247,H116,Lists!U76)","v":{"$error":"#DIV/0!"}}]
[null,null,"Maximum  HTF Assistance for HTF Assisted 5 Bedroom Units"]
[]
[null,null,"Maximum All HTF Assistance for HTF Assisted 0 Bedroom Units",null,null,null,null,{"$f":"+H250*'Funding and Units Worksheet'!N23","v":{"$error":"#DIV/0!"}}]
[null,null,"Maximum  All HTF Assistance for HTF Assisted 1 Bedroom Units",null,null,null,null,{"$f":"+H251*'Funding and Units Worksheet'!N24","v":{"$error":"#DIV/0!"}}]
[null,null,"Maximum  All HTF Assistance for HTF Assisted 2 Bedroom Units",null,null,null,null,{"$f":"+H252*'Funding and Units Worksheet'!N25","v":{"$error":"#DIV/0!"}}]
[null,null,"Maximum All HTF Assistance for HTF Assisted 3 Bedroom Units",null,null,null,null,{"$f":"+H253*'Funding and Units Worksheet'!N26","v":{"$error":"#DIV/0!"}}]
[null,null,"Maximum  All HTF Assistance for HTF Assisted 4 Bedroom Units",null,null,null,null,{"$f":"+H254*'Funding and Units Worksheet'!N27","v":{"$error":"#DIV/0!"}}]
[null,null,"Maximum  HTF Assistance for HTF Assisted 5 Bedroom Units",null,null,null,null,{"$f":"+H255*'Funding and Units Worksheet'!N28","v":{"$error":"#N/A"}}]
[null,null,"Maximum  HTF Assistance for HTF Assisted Units",null,null,null,null,{"$f":"MIN(SUM(H257:H262),Lists!H44)","v":{"$error":"#DIV/0!"}},{"$f":"IF(H263>=H208,\"Ok\",\"Error. Applicant is Requesting too Much Funding\")","v":{"$error":"#DIV/0!"}}]
[null,null,"Is Maximum HTF Assistance Allowed >= Actual HTF Assistance?"]
[null,null,"Minimum Number of 0 Bedroom  HTF Units by 234 Limit",null,null,null,null,{"$f":"ROUNDUP(+H218/Lists!Q76,0)","v":{"$error":"#DIV/0!"}}]
[null,null,"Minimum Number of 1 Bedroom  HTF Units by 234 Limit",null,null,null,null,{"$f":"ROUNDUP(+H219/Lists!R76,0)","v":{"$error":"#DIV/0!"}}]
[null,null,"Minimum Number of 2 Bedroom  HTF Units by 234 Limit",null,null,null,null,{"$f":"ROUNDUP(+H220/Lists!S76,0)","v":{"$error":"#DIV/0!"}}]
[null,null,"Minimum Number of 3 Bedroom  HTF Units by 234 Limit",null,null,null,null,{"$f":"ROUNDUP(+H221/Lists!T76,0)","v":{"$error":"#DIV/0!"}}]
[null,null,"Minimum Number of 4 Bedroom  HTF Units by 234 Limit",null,null,null,null,{"$f":"ROUNDUP(+H222/Lists!U76,0)","v":{"$error":"#DIV/0!"}}]
[null,null,"Minimum Number of 5 Bedroom  HTF Units by 234 Limit"]
[null,null,"Total  Minimum Number of   HTF Units by 234 Limit",null,null,null,null,{"$f":"SUM(H265:H269)","v":{"$error":"#DIV/0!"}}]
[]
[null,null,"HOUSING TRUST FUND RENTS"]
[null,null,"30% Rent for 0 Bedroom Units",null,null,null,null,{"$f":"+'2020 Rents'!F77","v":{"$error":"#N/A"}},{"$f":"IF($E$7= \"\", \"Not Required for HOME Only Applications\",\" \")","v":" "}]
[null,null,"30% Rent for 1 Bedroom Units",null,null,null,null,{"$f":"+'2020 Rents'!G77","v":{"$error":"#N/A"}}," "]
[null,null,"30% Rent for 2 Bedroom Units",null,null,null,null,{"$f":"+'2020 Rents'!H77","v":{"$error":"#N/A"}}," "]
[null,null,"30% Rent for 3 Bedroom Units",null,null,null,null,{"$f":"+'2020 Rents'!I77","v":{"$error":"#N/A"}}," "]
[null,null,"30% Rent for 4 Bedroom Units",null,null,null,null,{"$f":"+'2020 Rents'!J77","v":{"$error":"#N/A"}}," "]
[null,null,"30% Rent for 5 Bedroom Units",null,null,null,null,{"$f":"+'2020 Rents'!K77","v":{"$error":"#N/A"}}," "]
[null,null,"50% Rent for 0 Bedroom Units",null,null,null,null,{"$f":"+'2020 Rents'!F74","v":{"$error":"#N/A"}}," "]
[null,null,"50% Rent for 1 Bedroom Units",null,null,null,null,{"$f":"+'2020 Rents'!G74","v":{"$error":"#N/A"}}," "]
[null,null,"50% Rent for 2 Bedroom Units",null,null,null,null,{"$f":"+'2020 Rents'!H74","v":{"$error":"#N/A"}}," "]
[null,null,"50% Rent for 3 Bedroom Units",null,null,null,null,{"$f":"+'2020 Rents'!I74","v":{"$error":"#N/A"}}," "]
[null,null,"50% Rent for 4 Bedroom Units",null,null,null,null,{"$f":"+'2020 Rents'!J74","v":{"$error":"#N/A"}}," "]
[null,null,"50% Rent for 5 Bedroom Units",null,null,null,null,{"$f":"+'2020 Rents'!K74","v":{"$error":"#N/A"}}," "]
[null,null,"60% Rent for 0 Bedroom Units",null,null,null,null,{"$error":"#N/A"}," "]
[null,null,"60% Rent for 1 Bedroom Units",null,null,null,null,{"$error":"#N/A"}," "]
[null,null,"60% Rent for 2 Bedroom Units",null,null,null,null,{"$error":"#N/A"}," "]
[null,null,"60% Rent for 3 Bedroom Units",null,null,null,null,{"$error":"#N/A"}," "]
[null,null,"60% Rent for 4 Bedroom Units",null,null,null,null,{"$error":"#N/A"}," "]
[null,null,"60% Rent for 5 Bedroom Units",null,null,null,null,{"$error":"#N/A"}," "]
[null,61,"Utility Allowance for 0 Bedroom Units",null,null,null,null,{"$f":"+'Rental Income'!C48","v":0}]
[null,62,"Utility Allowance for 1 Bedroom Units",null,null,null,null,{"$f":"+'Rental Income'!D48","v":0}]
[null,63,"Utility Allowance for 2 Bedroom Units",null,null,null,null,{"$f":"+'Rental Income'!E48","v":0}]
[null,64,"Utility Allowance for 3 Bedroom Units",null,null,null,null,{"$f":"+'Rental Income'!F48","v":0}]
[null,65,"Utility Allowance for 4 Bedroom Units",null,null,null,null,{"$f":"+'Rental Income'!G48","v":0}]
[null,66,"Utility Allowance for 5 Bedroom Units",null,null,null,null,{"$f":"+'Rental Income'!H48","v":0}]
[null,67,"Utility Allowance for 6 Bedroom Units",null,null,null,null,{"$f":"+H297","v":0}]
[null,68,"Maximum Allowable High HOME Rent for 0 Bedroom Units",null,null,null,null,{"$f":"+H187-H292","v":{"$error":"#N/A"}}]
[null,69,"Maximum Allowable High HOME Rent for 1 Bedroom Units",null,null,null,null,{"$error":"#N/A"}]
[null,70,"Maximum Allowable High HOME Rent for 2 Bedroom Units",null,null,null,null,{"$error":"#N/A"}]
[null,71,"Maximum Allowable High HOME Rent for 3 Bedroom Units",null,null,null,null,{"$error":"#N/A"}]
[null,72,"Maximum Allowable High HOME Rent for 4 Bedroom Units",null,null,null,null,{"$error":"#N/A"}]
[null,73,"Maximum Allowable High HOME Rent for 5 Bedroom Units",null,null,null,null,{"$error":"#N/A"}]
[null,74,"Maximum Allowable High HOME Rent for 6 Bedroom Units",null,null,null,null,{"$error":"#N/A"}]
[null,75,"Maximum Allowable Low HOME Rent for 0 Bedroom Units",null,null,null,null,{"$f":"+H194-H292","v":{"$error":"#N/A"}}]
[null,76,"Maximum Allowable Low HOME Rent for 1 Bedroom Units",null,null,null,null,{"$error":"#N/A"}]
[null,77,"Maximum Allowable Low HOME Rent for 2 Bedroom Units",null,null,null,null,{"$error":"#N/A"}]
[null,78,"Maximum Allowable Low HOME Rent for 3 Bedroom Units",null,null,null,null,{"$error":"#N/A"}]
[null,79,"Maximum Allowable Low HOME Rent for 4 Bedroom Units",null,null,null,null,{"$error":"#N/A"}]
[null,80,"Maximum Allowable Low HOME Rent for 5 Bedroom Units",null,null,null,null,{"$error":"#N/A"}]
[null,81,"Maximum Allowable Low HOME Rent for 6 Bedroom Units",null,null,null,null,0]
[null,null,"Maximum Allowable 30% Rent for 0 Bedroom Units",null,null,null,null,{"$f":"+H274-H292","v":{"$error":"#N/A"}},{"$f":"IF($E$7= \"\", \"Not Required for HOME Only Applications\",\" \")","v":" "}]
[null,null,"Maximum Allowable 30% Rent for 1 Bedroom Units",null,null,null,null,{"$f":"+H275-H293","v":{"$error":"#N/A"}}," "]
[null,null,"Maximum Allowable 30% Rent for 2 Bedroom Units",null,null,null,null,{"$error":"#N/A"}," "]
[null,null,"Maximum Allowable 30% Rent for 3 Bedroom Units",null,null,null,null,{"$error":"#N/A"}," "]
[null,null,"Maximum Allowable 30% Rent for 4 Bedroom Units",null,null,null,null,{"$error":"#N/A"}," "]
[null,null,"Maximum Allowable 30% Rent for 5 Bedroom Units",null,null,null,null,{"$error":"#N/A"}," "]
[null,null,"Maximum Allowable 50% Rent for 0 Bedroom Units",null,null,null,null,{"$f":"+H280-H292","v":{"$error":"#N/A"}}," "]
[null,null,"Maximum Allowable 50% Rent for 1 Bedroom Units",null,null,null,null,{"$f":"+H281-H293","v":{"$error":"#N/A"}}," "]
[null,null,"Maximum Allowable 50% Rent for 2 Bedroom Units",null,null,null,null,{"$error":"#N/A"}," "]
[null,null,"Maximum Allowable 50% Rent for 3 Bedroom Units",null,null,null,null,{"$error":"#N/A"}," "]
[null,null,"Maximum Allowable 50% Rent for 4 Bedroom Units",null,null,null,null,{"$error":"#N/A"}," "]
[null,null,"Maximum Allowable 50% Rent for 5 Bedroom Units",null,null,null,null,{"$error":"#N/A"}," "]
[null,null,"Maximum Allowable 60% Rent for 0 Bedroom Units",null,null,null,null,{"$error":"#N/A"}," "]
[null,null,"Maximum Allowable 60% Rent for 1 Bedroom Units",null,null,null,null,{"$error":"#N/A"}," "]
[null,null,"Maximum Allowable 60% Rent for 2 Bedroom Units",null,null,null,null,{"$error":"#N/A"}," "]
[null,null,"Maximum Allowable 60% Rent for 3 Bedroom Units",null,null,null,null,{"$error":"#N/A"}," "]
[null,null,"Maximum Allowable 60% Rent for 4 Bedroom Units",null,null,null,null,{"$error":"#N/A"}," "]
[null,null,"Maximum Allowable 60% Rent for 5 Bedroom Units",null,null,null,null,{"$error":"#N/A"}," "]
[]
[null,82,"ARE ALL PROPOSED RENTS EQUAL TO OR LESS THAN MAXIMUM ALLOWABLE?"]
[null,83,"Is the HOME Investment at least $1,000 per HOME assisted unit?",null,null,null,null,{"$f":"IF(H110>=1000,\"Yes\",\"No\")","v":{"$error":"#DIV/0!"}},{"$f":"IF(H333=\"Yes\", \"Ok\", \"Ineligible as submitted\")","v":{"$error":"#DIV/0!"}}]
[]
[]
[]
[]
[]
[]
[]
[]
[]
[null,"Underwriting and Subsidy Layering."]
[]
[null,null,"Costs"]
[null,1,"Has a complete budget been submitted? "]
[null,2,"Do Sources equal Uses?",null,null,null,null,{"$f":"IF(H18=H14, \"Yes\", \"No\")","v":"Yes"},{"$f":"IF(H347= \"Yes\", \"Ok\", \"Ineligible as submitted\")","v":"Ok"}]
[null,3,"Are all sources backed up with commitment letters?"]
[null,4,"Do commitment letters indicate dollar amount(s) and timing of availability for each source?"]
[null,5,"Are the lenders terms reasonable and comparable to those available from other lenders?"]
[null,6,"Has a copy of the Partnership Agreement been provided LHC that indicates the cash contribution by the partners?"]
[null,7,"Is equity being provided by the developer or owner?"]
[null,8,"If equity is committed by the developer or owner(s), has evidence of available equity funds been provided to LHC?"]
[null,9,"Are total funding sources adequate and timely in their availability to cover development costs at all phases of the development – acquisition, construction/rehabilitation, and permanent loan?"]
[null,10,"Are all the funding sources compatible, or do they contain different requirements that affect the structure of the project, including unit mix, and are these differences accommodated in the project plan?"]
[null,11,"Are the funding sources firmly committed?"]
[null,12,"If acquisition is involved has acquisition documentation, such as purchase agreement, option or closing statement and appraisal or other documentation of value been provided to and been reviewed by LHC?"]
[null,13,"What is the Purchase Price?",null,null,null,null,{"$f":"+'Primary Input'!E104","v":0},{"$f":"IF(H358>\" \",\"Pass\", \"Must Be Filled In\")","v":"Must Be Filled In"}]
[null,14,"What is the current As-Is value?",null,null,null,null,{"$f":"+'Primary Input'!E105","v":0},"Must Be Filled In"]
[null,15,"What is the Pre-Rehab Value?",null,null,null,null,{"$f":"+'Primary Input'!E105","v":0},"Must Be Filled In"]
[null,16,"What is the Post-Rehab Value",null,null,null,null,{"$f":"+'Primary Input'!E106","v":0},"Must Be Filled In"]
[null,17,"Has construction cost estimate, construction contract or preliminary bid(s) been provided to and been reviewed by LHC?"]
[null,18,"Have contracts, quotes or other agreements substantiating key professional costs and the basis for estimating other soft costs and working capital items, including capitalized reserves been provided to and been reviewed by LHC?"]
[null,19,"Has a third-party appraisal (to substantiate the value of the land and the value of the property after rehabilitation or the structure being built)been provided to and been reviewed by LHC?"]
[null,20,"If LIHTC are utilized, has documentation on the syndication costs (legal, accounting, tax opinion, etc.) from the organization/individual who will syndicate and sell the offering been provided to and been reviewed by LHC?"]
[null,21,"Has a Cost Reasonableness Analysis (CRA) been done?"]
[null,22,"Are all of the proposed costs of development “necessary and reasonable” in compliance with OMB cost principles contained in 2 CFR part 200?"]
[null,23,"What is the CRA estimate to construct/rehab?"]
[null,24,"Is LHC-HOME contributing less than 85% of cost?",null,null,null,null,{"$f":"IF(H15/H14<=0.85, \"Yes\",\"No\")","v":{"$error":"#DIV/0!"}}]
[null,25,"Are the proposed costs sufficient to achieve all program requirements, including property standards, to provide quality housing for at least the affordability period?"]
[null,26,"Are the costs proposed to be paid with HOME funds eligible under the HOME rule?"]
[null,27,"Are non-residential revenue from fees/late charges, commercial income, interest, laundry/vending, or other similar sources estimated modestly?"]
[null,28,"Do vacancy projections included both physical vacancy and collections loss?"]
[null,29,"Is the rate of projected growth for rental income and other revenues appropriate to the local market and regulatory limits."]
[null,30,"Are project Operating Costs inline with other LHC projects in the area?"]
[null,31,"Have all identity of interest relationships with contracted property management, repair/rehabilitation contractors, or other project vendors been disclosed?"]
[null,32,"Does the minimum replacement reserve meet LHC standards?"]
[null,33,"Has Cash flow been evaluated both as a “debt coverage ratio” and as a percentage of operating costs and debt service by LHC and found acceptable?"]
[null,34,"Does the Proforma indicate that the project HOME Loan will be paid off during the original affordability period?"]
[null,35,"Has an In-House (LHC) Cost Allocation been completed(the standard LHC SLR)."]
[null,36,"Have Insurance costs been budgeted?"]
[null,null,"Have leases been reviewed and found to contain no forbidden clauses?"]
[null,37,"Has the Tenant Selection Plan been submitted and reviewed?"]
[null,38,"Does Projected Revenue Exceed Operatings Costs for The Entire Period of Affordability? ",null,null,null,null,null,{"$f":"IF(H384=\"No\", \"Ineligible as Submitted.\", \" \")","v":" "}]
[null,39,"Is More than 51% of the requested award to be used for construction/rehab?",null,null,null,null,{"$f":"(IF('Primary Input'!E42>0,IF('Rehab or New Construction'!F30+'Rehab or New Construction'!F58>0.51*'Primary Input'!E42,\"YES\",\"NO\"), \" \"))","v":" "},{"$f":"IF(H385=\"NO\", \"Project is Ineligible for Funding\", \" \")","v":" "}]
[null,null,"Is there an Idenity of Interest Between Buyer and seller. (When acquisition is included)",null,null,null,null,null,{"$f":"IF(H386=\"YES\",\"Acquisition Cost Are Not Allowed\", \" \")","v":" "}]
[]
[null,null,"Market Demand"]
[null,1,"Has a market study been completed?"]
[null,2,"Does the market study show demand for the units?"]
[null,3,"Does the Market Study evaluate the general demographic, economic, and housing conditions in the community?"]
[null,4,"Does the Market Study delineate the market area by identifying the geographic area from which the majority of a project’s tenants or buyers are likely to come. This may or may not coincide with census tract or neighborhood boundaries?"]
[null,5,"Does the Market Study quantify the pool of eligible tenants or buyers in terms of household size, age, income, tenure (homeowner or renter), and other relevant factors?"]
[null,6,"Does the Market Study analyze the competition by evaluating other housing opportunities with an emphasis on other affordable rental developments or sales opportunities in the market area, including those financed through either the HOME program or other federal programs?"]
[null,7,"Does the Market Study assess the market for the planned units and determine if there is sufficient demand to rent the HOME-assisted housing within 18 months of project completion (§92.252)?"]
[null,8,"Does the Market Study evaluate the effective demand and the capture rate, usually expressed as a percentage (the project’s units divided by the applicant pool). The capture rate is the percentage of likely eligible and interested households living nearby who will need to rent units in the proposed project in order to fully occupy it. The lower this rate, the more likely a project is to succeed?"]
[null,9,"Does the Market Study Estimate the absorption period. Plan how many units can be successfully leased or sold each month and how long it will take to achieve initial occupancy/sale of the HOME units and stabilized occupancy for the project as a whole?"]
[null,10,"Are the proposed rents actually achievable, taking into account location, design, and intended resident population according to the Market Study?"]
[]
[]
[null,null,"Developer Capacity"]
[]
[null,null,"What is the legal name of the Developer?",null,null,null,null,{"$f":"+H10","v":0},{"$f":"IF(H403>\" \",\"Pass\", \"Must Be Filled In\")","v":"Must Be Filled In"}]
[null,1,"Managing Member/Partner",null,null,null,null,{"$f":"+'Development Team'!E11","v":0},"Must Be Filled In"]
[null,2,"Attorney",null,null,null,null,{"$f":"+'Development Team'!F16","v":0},"Must Be Filled In",null,null,{"$f":"+'Development Team'!E16","v":0}]
[null,3,"Accountant",null,null,null,null,{"$f":"+'Development Team'!F21","v":0},"Must Be Filled In"]
[null,4,"Construction Mortgage",null,null,null,null,{"$f":"+'Development Team'!F26","v":0},"Must Be Filled In"]
[null,5,"Permanent Mortgage",null,null,null,null,{"$f":"+'Development Team'!F31","v":0},"Must Be Filled In"]
[null,6,"Management Co.",null,null,null,null,{"$f":"+'Development Team'!F36","v":0},"Must Be Filled In",null,null,{"$f":"+'Development Team'!E36","v":0}]
[null,7,"Builder / Contractor",null,null,null,null,{"$f":"+'Development Team'!F41","v":0},"Must Be Filled In"]
[null,null,"Architect",null,null,null,null,{"$f":"+'Development Team'!F46","v":0}]
[null,null,"Consultant",null,null,null,null,{"$f":"+'Development Team'!F51","v":0}]
[null,8,"Has the developer undertaken a similar project?",null,null,null,null,null,"Must Be Filled In",null,{"$f":"IF(H413=\"No\", \"Application may be ineligible. Can a determination be made that the developer will own and manage the property for the required Affordability period. IF no ineligible\", \" \")","v":" "}]
[null,9,"Did the developer complete the earlier project?",null,null,null,null,null,"Must Be Filled In"]
[null,10,"Has the developer submitted audited financials?",null,null,null,null,null,"Must Be Filled In"]
[null,11,"Does the developer have Adequate financial management systems and practices?",null,null,null,null,null,"Must Be Filled In"]
[null,12,"Does the developer have sufficient financial resources to carry the project  through initial lease-up?",null,null,null,null,null,"Must Be Filled In"]
[null,13,"Is the Developer a Public Housing Authority?",null,null,null,null,null,{"$f":"IF(H418>\" \",\"Pass\", \"Must Be Filled In\")","v":"Must Be Filled In"}]
[null,14,"If the developer is a PHA what is the name of the PHA?",null,null,null,null,null,"Must Be Filled In"]
[null,15,"If the developer is a PHA is it on HUDs Troubled PHA list?",null,null,null,null,null,"Must Be Filled In"]
[null,16,"If the developer is a PHA on the HUD Troubled PHA list what is the reason for inclusion on this list?",null,null,null,null,null,"Must Be Filled In"]
[null,17,"Does LHC believe the developer has the capacity to undertake the proposed project?",null,null,null,null,null,"Must Be Filled In"]
[null,18,"Has an experienced marketing agent been identified?",null,null,null,null,null,"Must Be Filled In"]
[null,19,"Has an Affirmative  Marketing Plan been submitted?",null,null,null,null,null,"Must Be Filled In"]
[null,20,"Is the project expected to start construction within 12 months of the written agreement date?",null,null,null,null,null,"Must Be Filled In"]
[null,21,"Is the project expected to be completed within four (4) years of the written agreement date?",null,null,null,null,null,"Must Be Filled In"]
[]
[null,null,"Developer Profit"]
[null,null,"What is the Builders Name?",null,null,null,null,{"$f":"+'Development Team'!F41","v":0},{"$f":"IF(H429>\" \",\"Pass\", \"Must Be Filled In\")","v":"Must Be Filled In"}]
[null,1,"Is there an identity of interest between the developer and builder?",null,null,null,null,null,"Must Be Filled In"]
[null,2,"What is the builders overhead and profit?",null,null,null,null,{"$f":"(+'Rehab or New Construction'!F73)+('Rehab or New Construction'!F75)","v":0},"Must Be Filled In"]
[null,3,"What is the Developer Fee?",null,null,null,null,{"$f":"+'Rehab or New Construction'!F77","v":0},"Must Be Filled In"]
[null,4,"Is Developer Fee less than or equal to 15% of development costs?",null,null,null,null,{"$f":"IF(H432/H14<=0.15, \"Yes\", \"No\")","v":{"$error":"#DIV/0!"}},{"$error":"#DIV/0!"}]
[null,5,"Is the proposed Developer Fee reasonable for the scope, complexity, size, relative risk the developer is taking and in light of other fees the project is generating for the developer?",null,null,null,null,null,"Must Be Filled In"]
[null,null,"Is Developer Fee Within Allowable Limits?",null,null,null,null,{"$f":"IF('Rehab or New Construction'!F76>='Rehab or New Construction'!F77,\"Yes\",\"no\")","v":"Yes"}]
[null,null,"Are Other Professionall Fees Within Allowable Limits?"]
[null,null,"IS Builders Profit Within Allowable Limit?",null,null,null,null,{"$f":"IF('Rehab or New Construction'!F74>='Rehab or New Construction'!F75,\"Yes\",\"No\")","v":"Yes"}]
[null,null,"Is The Builders Overhead Within Allowable Limits?",null,null,null,null,{"$f":"IF('Rehab or New Construction'!F72>='Rehab or New Construction'!F73,\"Yes\",\"No\")","v":"Yes"}]
[null,null,"Are The General Requirements Within the Allowable Limits?",null,null,null,null,{"$f":"IF('Rehab or New Construction'!F70>='Rehab or New Construction'!F71,\"Yes\",\"No\")","v":"Yes"}]
[null,null,"Is The Property Purchase Price Within The Allowable Limits?"]
[null,null,"Is The Construction Contingency Within The Allowable Limits?",null,null,null,null,{"$f":"IF(Lists!E59/Lists!E63<=0.1, \"Yes\",\"No\")","v":{"$error":"#DIV/0!"}}]
[null,null,"Are The Minimum Operating Reserve Within The Allowable Limits?",null,null,null,null,{"$f":"IF(Lists!E72=2,\"Yes\",\"No\")","v":"Yes"}]
[null,6,"Is the Debt Service Ratio at least 1.15 for all debt?",null,null,null,null,{"$f":"IF(H529>=1.15, \"Yes\", \"No\")","v":"No"}]
[null,7,"Is the Debt Service Ratio Less Than 1.40 for all debt?",null,null,null,null,{"$f":"IF(H528<=1.4, \"Yes\", \"No\")","v":"Yes"}]
[null,null,"Eligible Basis Calculation",null,null,null,null,{"$f":"IF($E$7= \"\", \"This Section (Eligible Basis Calculation, Hard Costs, Total Development Costs, Non Basis Costs, Total Non Basis Costs. Total Basis Development Costs) Is Not Required for HOME Only Applications\",\" \")","v":" "}]
[null,null,"USE OF FUNDS"]
[null,null,"ACQUISITION"]
[null,1,"Land Acquisition Cost",null,null,null,null,null,{"$f":"+IF(H448=\"\",\"Must Be Filled In. If none put 0\",\"\")","v":"Must Be Filled In. If none put 0"}]
[null,2,"Acquisition Cost of Buildings ",null,null,null,null,null,{"$f":"+IF(H449=\"\",\"Must Be Filled In. If none put 0\",\"\")","v":"Must Be Filled In. If none put 0"}]
[null,null,"HARD COSTS"]
[null,null,"Rehabilitation Costs",null,null,null,null,null,{"$f":"+IF(H451=\"\",\"Must Be Filled In. If none put 0\",\"\")","v":"Must Be Filled In. If none put 0"}]
[null,3,"New Construction Cost",null,null,null,null,null,{"$f":"+IF(H452=\"\",\"Must Be Filled In. If none put 0\",\"\")","v":"Must Be Filled In. If none put 0"}]
[null,null,"Total Soft Cost From Application Under Fund Uses",null,null,null,null,null,{"$f":"+IF(H453=\"\",\"Must Be Filled In. If none put 0\",\"\")","v":"Must Be Filled In. If none put 0"}]
[null,null,"Total Reserves"]
[]
[null,null,"TOTAL DEVELOPMENT COST "]
[]
[null,null,"Non Basis Costs"]
[null,7,"Land Only Acquisition"]
[null,8,"Perm. Loan Fees","Perm. Loan Fees","Perm. Loan Fees","Perm. Loan Fees","Perm. Loan Fees",null,{"$f":"+IF(H460=\"\",\"Must Be Filled In. If none put 0\",\"\")","v":"Must Be Filled In. If none put 0"}]
[null,9,"Credit Enhancement","Credit Enhancement","Credit Enhancement","Credit Enhancement","Credit Enhancement",null,{"$f":"+IF(H461=\"\",\"Must Be Filled In. If none put 0\",\"\")","v":"Must Be Filled In. If none put 0"}]
[null,10,"Title and Recording","Title and Recording","Title and Recording","Title and Recording","Title and Recording",null,"Must Be Filled In. If none put 0"]
[null,11,"Lender Legal","Lender Legal","Lender Legal","Lender Legal","Lender Legal",null,"Must Be Filled In. If none put 0"]
[null,12,"Other","Other","Other","Other","Other",null,"Must Be Filled In. If none put 0"]
[null,13,"LHC Tax Credit Appl. Fee","Tax Credit Appl. Fee","Tax Credit Appl. Fee","Tax Credit Appl. Fee","Tax Credit Appl. Fee",null,"Must Be Filled In. If none put 0"]
[null,14,"LHC Asset Management Fee","Asset Management Fee","Asset Management Fee","Asset Management Fee","Asset Management Fee",null,"Must Be Filled In. If none put 0"]
[null,15,"Marketing Expense","Marketing Expense","Marketing Expense","Marketing Expense","Marketing Expense",null,"Must Be Filled In. If none put 0"]
[null,16,"Organizational Exp.","Organizational Exp.","Organizational Exp.","Organizational Exp.","Organizational Exp.",null,"Must Be Filled In. If none put 0"]
[null,17,"Other Amort. Soft","Other Amort. Soft","Other Amort. Soft","Other Amort. Soft","Other Amort. Soft",null,"Must Be Filled In. If none put 0"]
[null,18,"Syndication Expense","Syndication Expense","Syndication Expense","Syndication Expense","Syndication Expense",null,"Must Be Filled In. If none put 0"]
[null,19,"Tax Opinion","Tax Opinion","Tax Opinion","Tax Opinion","Tax Opinion",null,"Must Be Filled In. If none put 0"]
[null,20,"Rentup Expense","Rentup Expense","Rentup Expense","Rentup Expense","Rentup Expense",null,"Must Be Filled In. If none put 0"]
[null,21,"Rentup Reserve","Rentup Reserve","Rentup Reserve","Rentup Reserve","Rentup Reserve",null,"Must Be Filled In. If none put 0"]
[null,22,"Operating Reserve","Operating Reserve","Operating Reserve","Operating Reserve","Operating Reserve",null,"Must Be Filled In. If none put 0"]
[null,23,"Bond D/S  Reserve","Bond D/S  Reserve","Bond D/S  Reserve","Bond D/S  Reserve","Bond D/S  Reserve",null,"Must Be Filled In. If none put 0"]
[null,24,"Working Capital","Working Capital","Working Capital","Working Capital","Working Capital",null,"Must Be Filled In. If none put 0"]
[null,25,"Other","Other","Other","Other","Other",null,"Must Be Filled In. If none put 0"]
[null,26,"Taxpayer Closing Costs","Taxpayer Closing Costs","Taxpayer Closing Costs","Taxpayer Closing Costs","Taxpayer Closing Costs",null,"Must Be Filled In. If none put 0"]
[null,27,"Audit Fees","Audit Fees","Audit Fees","Audit Fees","Audit Fees",null,"Must Be Filled In. If none put 0"]
[null,28,"LHC HOME Fees","LHC HOME Fees","LHC HOME Fees","LHC HOME Fees","LHC HOME Fees",null,"Must Be Filled In. If none put 0"]
[null,null,{"$f":"$C$477","v":"Other"}]
[null,null,"Other"]
[null,null,"Other"]
[null,null,"Other"]
[null,null,"Other",null,null,null,null,null,{"$f":"IF(H485>\" \",\"Pass\", \"Must Be Filled In\")","v":"Must Be Filled In"}]
[null,null,"Other","Other","Other","Other","Other",null,"Must Be Filled In"]
[null,null,"TOTAL NON BASIS SOFT COSTS",null,null,null,null,{"$f":"SUM(H459:H486)","v":0}]
[]
[]
[]
[null,null,"TOTAL BASIS DEVELOPMENT COSTS",null,null,null,null,{"$f":"+H456-H487","v":0}]
[null,null,"Applicable 4% Rate",null,null,null,null,null,{"$f":"+IF(H492=\"\",\"Must Be Filled In. \",\"\")","v":"Must Be Filled In. "}]
[null,null,"Applicable 9% Rate "]
[null,null,"Basis Boost"]
[null,null,"Amount of 4% Credits Applied For"]
[null,null,"Amount of 9% Credits Applied For"]
[null,null,"Eligible Amount of Credits",null,null,null,null,0]
[null,null,"Credits Awarded",null,null,null,null,null,{"$f":"+IF(H498=\"\",\"Must Be Filled In. \",\"\")","v":"Must Be Filled In. "}]
[null,null,"Price of Credits (Equity Price)",null,null,null,null,null,{"$f":"+IF(H499=\"\",\"Must Be Filled In. \",\"\")","v":"Must Be Filled In. "}]
[null,null,"Gross Tax Credit Equity",null,null,null,null,{"$f":"+(H498*H499)*10","v":0}]
[]
[null,null,"FINANCING"]
[]
[null,1,"Amount of First Mortgage",null,null,null,null,{"$f":"+'Loan Information'!E4","v":0}]
[null,2,"Interest Rate on First Mortgage",null,null,null,null,{"$f":"+'Loan Information'!E8","v":0},{"$f":"+IF(H505=\"\",\"Must Be Filled In. \",\"\")","v":""}]
[null,3,"Term of First Mortgage (In Years)",null,null,null,null,{"$f":"+'Loan Information'!E9","v":0},{"$f":"+IF(H506=\"\",\"Must Be Filled In. \",\"\")","v":""}]
[null,4,"Required DCR of First Mortgage",null,null,null,null,{"$f":"+'Loan Information'!E11","v":0},""]
[null,5,"Amount of Second Mortgage",null,null,null,null,{"$f":"+'Loan Information'!E21","v":0}]
[null,6,"Interest Rate on Second Mortgage",null,null,null,null,{"$f":"+'Loan Information'!E25","v":0},{"$f":"+IF(H509=\"\",\"Must Be Filled In. \",\"\")","v":""}]
[null,7,"Term of Second Mortgage (In Years)",null,null,null,null,{"$f":"+'Loan Information'!E26","v":0},""]
[null,8,"Required DCR of Second Mortgage",null,null,null,null,{"$f":"+'Loan Information'!E28","v":0},""]
[null,9,"Stabilized NOI (Assume Second Year Unless Stated Otherwise on Application)",null,null,null,null,{"$f":"+'Pro Forma'!F27","v":0},""]
[null,10,"Total Amount of First and Second Mortgage",null,null,null,null,{"$f":"+H504+H508","v":0}]
[null,11,"Maximum Private Loan",null,null,null,null,{"$f":"+Lists!Y10","v":{"$error":"#DIV/0!"}}]
[null,12,"Has Private Financing Been Optimized?",null,null,null,null,{"$f":"IF(H513>=H514,\"Yes\",\"No\")","v":{"$error":"#DIV/0!"}},{"$error":"#DIV/0!"}]
[null,null,"HOME Loan Interest Rate (Use Applicable Federal Rate for Month of Application)"]
[null,null,"HOME Loan Term In Years (Use Twenty Years Unless Otherwise Stipulated)",null,null,null,null,20]
[null,null,"Amount of HOME Loan To Be Repaid (Includes Interest)",null,null,null,null,{"$f":"+Amortization!G23","v":0}]
[null,null,"Amount of PITI Repaid During the Affordability Period",null,null,null,null,{"$f":"+'Loan Information'!E41","v":0}]
[null,null,"Can the HOME Loan Be Reapid During the Affordability Period From Cash Flow?",null,null,null,null,{"$f":"IF(H518=H519,\"Yes\", \"No\")","v":"Yes"},{"$error":"#NUM!"}]
[null,null,"What is the expected interest rate at refinancing",null,null,null,null,{"$f":"+H505","v":0}]
[null,null,"What is the Residual Value?",null,null,null,null,{"$f":"+Lists!AE10","v":{"$error":"#DIV/0!"}}]
[null,null,"IIS the Residual Value plus the Cash Flow Payments enough to Pay HOME Principal During Affordability Period?",null,null,null,null,{"$f":"IF(H522+H519>=H518,\"Yes\", \"No\")","v":{"$error":"#DIV/0!"}},{"$error":"#N/A"}]
[null,null,"Operating Cost as a Percentage of Potential Rent (Year 1)",null,null,null,null,{"$f":"+'Pro Forma'!D20/'Pro Forma'!D5","v":{"$error":"#DIV/0!"}}]
[null,null,"Operating Cost as a Percentage of Potential Rent (Year 10)",null,null,null,null,{"$f":"+'Pro Forma'!V20/'Pro Forma'!V5","v":{"$error":"#DIV/0!"}}]
[null,null,"Operating Cost as a Percentage of Potential Rent (Year 20)",null,null,null,null,{"$f":"+'Pro Forma'!AP20/'Pro Forma'!AP5","v":{"$error":"#DIV/0!"}}]
[null,null,"Is Adjusted Net Operating Income Positive During the HOME Loan",null,null,null,null,{"$f":"IF(Lists!D50>0, \"Yes\", \"No\")","v":"No"}]
[null,null,"Maximum DCR During Affordability Period",null,null,null,null,{"$f":"+Lists!D53","v":0}]
[null,null,"Minimum DCR Durring Affordability Period",null,null,null,null,{"$f":"+Lists!D54","v":0}]
[]
[]
[null,null,"Year 1 All Debt DCR",null,null,null,null,{"$f":"+'Pro Forma'!D43","v":0}]
[null,null,"Year 1 Total Debt Service",null,null,null,null,{"$f":"+'Pro Forma'!D33","v":0}]
[null,null,"Year 10 Cumulative Cash Flow",null,null,null,null,{"$f":"+'Pro Forma'!D35+'Pro Forma'!F35+'Pro Forma'!H35+'Pro Forma'!J35+'Pro Forma'!L35+'Pro Forma'!N35+'Pro Forma'!P35+'Pro Forma'!R35+'Pro Forma'!T35+'Pro Forma'!V35","v":0}]
[null,null,"Year 10 NOI",null,null,null,null,{"$f":"+'Pro Forma'!V27","v":0}]
[null,null,"Year 15 1st Mortgage DSCR",null,null,null,null,{"$f":"+'Pro Forma'!AH42","v":0}]
[null,null,"Year 15 All Debt DSCR",null,null,null,null,{"$f":"+'Pro Forma'!AF43","v":0}]
[null,null,"Year 15 Cumulative Cash Flow",null,null,null,null,{"$f":"+H534+'Pro Forma'!X35+'Pro Forma'!Z35+'Pro Forma'!AB35+'Pro Forma'!AD35+'Pro Forma'!AF35","v":0}]
[null,null,"Year 15 Total Expenses",null,null,null,null,{"$f":"+'Pro Forma'!D20+'Pro Forma'!F20+'Pro Forma'!H20+'Pro Forma'!J20+'Pro Forma'!L20+'Pro Forma'!N20+'Pro Forma'!P20+'Pro Forma'!R20+'Pro Forma'!T20+'Pro Forma'!V20+'Pro Forma'!X20+'Pro Forma'!Z20+'Pro Forma'!AB27+'Pro Forma'!AD27+'Pro Forma'!AF27","v":0}]
[null,null,"Year 15 NOI",null,null,null,null,{"$f":"+'Pro Forma'!AF27","v":0}]
[null,null,"Year 15 Cumulative Replacement Reserve",null,null,null,null,{"$f":"+'Pro Forma'!D24+'Pro Forma'!F24+'Pro Forma'!H24+'Pro Forma'!J24+'Pro Forma'!L24+'Pro Forma'!N24+'Pro Forma'!P24+'Pro Forma'!R24+'Pro Forma'!T24+'Pro Forma'!V24+'Pro Forma'!X24+'Pro Forma'!Z24+'Pro Forma'!AB24+'Pro Forma'!AD24+'Pro Forma'!AF24","v":0}]
[null,null,"Year 20 1st Mortgage DCR",null,null,null,null,{"$f":"+'Pro Forma'!AP42","v":0}]
[null,null,"Year 20 All Debt DCR",null,null,null,null,{"$f":"+'Pro Forma'!AP43","v":0}]
[null,null,"Year 20 Cumulative Cash Flow",null,null,null,null,{"$f":"+H538+'Pro Forma'!AF35+'Pro Forma'!AH35+'Pro Forma'!AJ35+'Pro Forma'!AL35+'Pro Forma'!AN35+'Pro Forma'!AP35","v":0}]
[null,null,"Year 20 Total Expenses",null,null,null,null,{"$f":"+H539+'Pro Forma'!AH20+'Pro Forma'!AJ20+'Pro Forma'!AL20+'Pro Forma'!AN20+'Pro Forma'!AP20","v":0}]
[null,null,"Year 20 NOI",null,null,null,null,{"$f":"+'Pro Forma'!AP27","v":0}]
[null,null,"Type of Construction",null,null,null,null,{"$f":"+'Primary Input'!E34","v":0}]
[null,null,"Amount of 4% Credits Allowed",null,null,null,null,0]
[null,null,"Amount of 9% Credits Allowed",null,null,null,null,0]
[null,null,"Is LIHTC 4% Request Within Allowable Amount ",null,null,null,null,"Yes",{"$f":"IF(H550=\"Yes\",\"Pass\",\"Fail\")","v":"Pass"}]
[null,null,"Is LIHTC 9% Request Within Allowable Amount",null,null,null,null,"Yes",{"$f":"IF(H551=\"Yes\",\"Pass\",\"Fail\")","v":"Pass"}]
[null,null,"IS TCAP Request within Allowable Amount?"]
[null,null,"Is NHTF Request Within Allowable Amount"]
[]
[null,null,"What is the Internal Rate of Return?",null,null,null,null,{"$f":"+Lists!B95","v":{"$error":"#VALUE!"}}]
[]
[null,null,"Market Study"]
[null,null,"CAP Rate"]
[null,null,"Absorbtion Rate"]
[null,null,"Market Study Total Expenses"]
[null,null,"Market Study Total Expenses"]
[]
[]
[]
[null,"Notes"]
[]
[]
[]
[]
[]
[]
[]
[]
[]
[]
[]
[]
[null,"Attache to this analysis copies of:"]
[null,"Underwriting Reivew",null,null,null," Identity of Interest Certification"]
[null,"Market Study"]
[null,"Letters of Financial Commitment Including Syndication if applicable"]
[null,"Cost Reasonable Analysis"]
[null,"List of Previous Projects"]
[null,"Copy of Audited Financials"]
[null,"Legal Description of Property"]
[null,"HOME Rent Limits for Area"]
[null,"Utility Allowance for the Project"]
[]
[null,"Underwriting Status:"]
[null,"Prepared By:",null,"________________________________________________________________________________",null,null,null,"Date:        _______/_______/______________"]

{"sheet":"Sheet2","index":5,"n_rows":4,"n_cols":2,"rows_kept":4,"cut":false,"hidden":true,"merged":[[0,0,0,4]]}
["DO NOT DELETE REQUIRED FOR AREA OF DEMONSTRATED NEED"]
["City",{"$f":"+'Primary Input'!E8","v":0}]
["Tract",{"$f":"+'Primary Input'!E10","v":0}]
["Unique ID",{"$f":"+Lists!H125","v":0}]

{"sheet":"Eligibility","index":6,"n_rows":48,"n_cols":24,"rows_kept":48,"cut":false,"hidden":false,"merged":[[42,3,42,4],[40,1,40,3],[40,4,40,6],[40,7,40,9],[39,1,39,3],[0,3,0,4],[29,7,29,9],[30,4,30,6],[39,4,39,6],[39,7,39,9],[34,1,34,3],[34,4,34,6],[34,7,34,9],[35,1,35,3],[35,4,35,6],[38,4,38,6],[23,4,23,6],[29,1,29,3],[30,7,30,9],[28,1,28,3],[28,4,28,6],[35,7,35,9],[32,7,32,9],[33,4,33,6],[37,7,37,9],[37,4,37,6],[38,7,38,9],[36,7,36,9],[26,7,26,9],[27,7,27,9],[24,7,24,9],[36,4,36,6],[32,4,32,6],[31,4,31,6],[31,7,31,9],[28,7,28,9],[26,4,26,6],[27,4,27,6],[30,1,30,3],[27,1,27,3],[21,1,21,3],[22,1,22,3],[23,1,23,3],[24,1,24,3],[29,4,29,6],[16,7,16,9],[33,7,33,9],[17,7,17,9],[23,7,23,9],[22,7,22,9],[18,7,18,9],[19,4,19,6],[19,7,19,9],[21,7,21,9],[20,7,20,9],[20,4,20,6],[21,4,21,6],[24,4,24,6],[18,1,18,3],[19,1,19,3],[20,1,20,3],[2,7,2,9],[3,7,3,9],[4,7,4,9],[6,7,6,9],[4,4,4,6],[10,4,10,6],[15,4,15,6],[8,7,8,9],[9,7,9,9],[10,7,10,9],[11,7,11,9],[12,7,12,9],[13,7,13,9],[9,4,9,6],[14,7,14,9],[15,7,15,9],[5,7,5,9],[1,1,1,3],[1,4,1,6],[2,1,2,3],[2,4,2,6],[3,1,3,3],[3,4,3,6],[6,1,6,3],[6,4,6,6],[25,7,25,9],[4,1,4,3],[7,1,7,3],[7,4,7,6],[8,1,8,3],[8,4,8,6],[9,1,9,3],[10,1,10,3],[11,1,11,3],[11,4,11,6],[12,1,12,3],[12,4,12,6],[13,1,13,3],[13,4,13,6],[7,7,7,9],[1,7,1,9],[5,1,5,3],[5,4,5,6],[46,4,46,6],[46,7,46,9],[47,4,47,6],[47,7,47,9],[43,4,43,6],[43,7,43,9],[43,1,43,3],[44,1,44,3],[44,4,44,6],[44,7,44,9],[45,4,45,6],[45,7,45,9],[14,1,14,3],[14,4,14,6],[16,1,16,3],[16,4,16,6],[15,1,15,3],[26,1,26,3],[22,4,22,6],[18,4,18,6],[17,1,17,3],[17,4,17,6]]}
["Eligibility",null,{"$f":"+Cover!D7","v":"10262021.2021FAHN"},{"$f":"+Cover!E10","v":0},null,null,null,{"$f":"+Cover!E10","v":0}]
[null,"HOME FUNDS Eligibility Issues",null,null,null,null,null,null,null,null,null,null,null,null,null,null,null,null,null,null,null,null,null,"Yes"]
[null,"Eligible Applicant",null,null,{"$f":"IF('Primary Input'!E33=\"\",\"\",'Primary Input'!E33)","v":""},null,null,{"$f":"IF(E3=\"\",\"Ineligible As Submitted\", \"OK\")","v":"Ineligible As Submitted"},null,null,null,null,null,null,null,null,null,null,null,null,null,null,null,"No"]
[null,"All households below 80% AMI?",null,null,null,null,null,{"$f":"IF(E4=\"Yes\",\"OK\",(IF(E4=\"N/A\",\"OK\",\"Ineligible As Submitted\")))","v":"Ineligible As Submitted"},null,null,null,null,null,null,null,null,null,null,null,null,null,null,null,"N/A"]
[null,"Is Rehab on vacant units and substantial ? (No rehab = N/A)",null,null,null,null,null,{"$f":"IF(E5=\"Yes\",\"OK\",(IF(E5=\"N/A\",\"OK\",\"Ineligible As Submitted\")))","v":"Ineligible As Submitted"}]
[null,"Is Project Located in an LHC Defined Area of Demonstrated Need?",null,null,{"$f":"+Lists!H124","v":{"$error":"#N/A"}},null,null,{"$f":"IF(E6=\"NO\",\"Standard Underwriting Limits Apply\",\"Area of Demonstrated Need Limits Apply\")","v":{"$error":"#N/A"}}]
[null,"Rental Lease Term is at least 12 Months?",null,null,null,null,null,{"$f":"IF(E7=\"Yes\",\"OK\",(IF(E7=\"N/A\",\"OK\",\"Ineligible as Submitted\")))","v":"Ineligible as Submitted"}]
[null,"Federal Civil Rights Legislation Compliance ?",null,null,null,null,null,{"$f":"IF(E8=\"Yes\",\"OK\",(IF(E8=\"N/A\",\"OK\",\"Ineligible As Submitted\")))","v":"Ineligible As Submitted"}]
[null,"Program Participants in Good Standing?",null,null,null,null,null,{"$f":"IF(E9=\"Yes\",\"OK\",(IF(E9=\"N/A\",\"OK\",\"Ineligible As Submitted\")))","v":"Ineligible As Submitted"}]
[null,"Per Project?",null,null,{"$f":"+'Primary Input'!E40:G40","v":0},null,null,{"$f":"IF(E10>Lists!F45,\"Ineligible As Submitted\", \"OK\")","v":"OK"}]
[null,"Per Unit limit  eligibility",null,null,{"$f":"+E10/'Primary Input'!E36","v":{"$error":"#DIV/0!"}},null,null,{"$f":"+IF(SLR!E21=\"Yes\",\"OK\",\"Ineligible As Submitted\")","v":{"$error":"#DIV/0!"}}]
[null,"Application submitted in proper order and complete ? ",null,null,null,null,null,{"$f":"IF(E12=\"Yes\",\"OK\",(IF(E12=\"N/A\",\"OK\",\"Ineligible As Submitted\")))","v":"Ineligible As Submitted"}]
[null,"Applicant has provided evidence of site control ?",null,null,null,null,null,{"$f":"IF(E13=\"Yes\",\"OK\",(IF(E13=\"N/A\",\"OK\",\"Ineligible As Submitted\")))","v":"Ineligible As Submitted"}]
[null,"Zoning demonstrated for residential use on each site ?",null,null,null,null,null,{"$f":"IF(E14=\"Yes\",\"OK\",(IF(E14=\"N/A\",\"OK\",\"Ineligible As Submitted\")))","v":"Ineligible As Submitted"}]
[null,"Affirmative Marketing Plan Complete?",null,null,null,null,null,{"$f":"IF(E15=\"Yes\",\"OK\",(IF(E15=\"N/A\",\"OK\",\"Ineligible As Submitted\")))","v":"Ineligible As Submitted"}]
[null,"Date of Market Study ?",null,null,null,null,null,{"$f":"IF(E16>K16,\"OK\",\"Not Required at Submission\")","v":"Not Required at Submission"},null,null,{"$f":"NOW()-60","v":"2021-08-28T13:06:12.040"}]
[null,"Application includes at least a 15% match ?",null,null,{"$f":"IF('Types of Housing'!D31=0,0,(1-'Types of Housing'!D31))","v":0},null,null,{"$f":"IF(E17<0.15,\"Ineligible As Submitted\", \"OK\")","v":"Ineligible As Submitted"}]
[null,"Commitments on all non-HOME FUNDS sources ?",null,null,null,null,null,{"$f":"IF(E18=\"Yes\",\"OK\",(IF(E18=\"N/A\",\"OK\",\"Ineligible As Submitted\")))","v":"Ineligible As Submitted"}]
[null,"Local PHA utility allowance schedule used ?",null,null,null,null,null,{"$f":"IF(E19=\"Yes\",\"OK\",(IF(E19=\"N/A\",\"OK\",\"Ineligible As Submitted\")))","v":"Ineligible As Submitted"}]
[null,"Developer fee, consulting fees and overhead less than 15% of total rehab and new construction ?",null,null,{"$f":"IF('Sources and Uses'!F42=0,0,+'Sources and Uses'!I33/'Sources and Uses'!F42)","v":0},null,null,{"$f":"IF(E20>0.15,\"Ineligible As Submitted\", \"OK\")","v":"OK"}]
[null,"Total soft costs less than 20% of total project costs ?",null,null,{"$f":"IF('Sources and Uses'!F48=0,0,+'Sources and Uses'!I48/'Sources and Uses'!F48)","v":0},null,null,{"$f":"IF(E21>0.2,\"Ineligible As Submitted\", \"OK\")","v":"OK"}]
[null,"Sources and uses balance ?",null,null,{"$f":"+'Sources and Uses'!F24-'Sources and Uses'!F48","v":0},null,null,{"$f":"IF(E22=0,\"OK\",\"Ineligible As Submitted\")","v":"OK"}]
[null,"Proposals financially feasible without HOME funding ?",null,null,null,null,null,{"$f":"IF(E23=\"Yes\",\"Ineligible As Submitted\", \"OK\")","v":"OK"}]
[null,"Proposal has a Hard Debt Service Coverage Ratio of at least 1.15 ?",null,null,{"$f":"+'Pro Forma'!D42","v":0},null,null,{"$f":"IF(E24=0,\"OK\",IF(E24<1.15,\"Ineligible As Submitted\",\"OK\"))","v":"OK"}]
[" ","Reserves funded over 15-year compliance period ?",null,null,null,null,null,{"$f":"IF(E25=0,\"OK\",IF(E25<250,\"Waiver Required\",\"OK\"))","v":"OK"}]
[null,"Reserve Deposits between $250 and $400 per unit ?",null,null,null,null,null,{"$f":"IF(E2>400,\"Waiver Required\",IF(E26<250,\"Waiver Required\",\"OK\"))","v":"Waiver Required"}]
[]
[null,"Photographs and Site Maps provided ?",null,null,null,null,null,{"$f":"IF(E28=\"Yes\",\"OK\",(IF(E28=\"N/A\",\"OK\",\"Ineligible As Submitted\")))","v":"Ineligible As Submitted"}]
[null,"Development Team Documents Provided ?",null,null,null,null,null,{"$f":"IF(E29=\"Yes\",\"OK\",(IF(E29=\"N/A\",\"OK\",\"Ineligible As Submitted\")))","v":"Ineligible As Submitted"}]
[null,"Architectural Submissions Provided ?",null,null,null,null,null,{"$f":"IF(E30=\"Yes\",\"OK\",(IF(E30=\"N/A\",\"OK\",\"Ineligible As Submitted\")))","v":"Ineligible As Submitted"}]
[null,"Lead- Based Paint Strategy Provided where necessary ?",null,null,null,null,null,{"$f":"IF(E31=\"Yes\",\"OK\",(IF(E31=\"N/A\",\"OK\",\"Ineligible As Submitted\")))","v":"Ineligible As Submitted"}]
[null,"Units have sufficient bathrooms ?",null,null,null,null,null,{"$f":"IF(E32=\"Yes\",\"OK\",(IF(E32=\"N/A\",\"OK\",\"Ineligible as Submitted\")))","v":"Ineligible as Submitted"}]
[null,"All appliances are energy efficient (energy star) ?",null,null,null,null,null,"Ineligible as Submitted"]
[null,"Project has central HVAC ?",null,null,null,null,null,"Ineligible as Submitted"]
[null,"All entrances meet ADAAG standards for width and threshold ?",null,null,null,null,null,"Ineligible as Submitted"]
[null,"Bedrooms are at least 8'X10' ?",null,null,null,null,null,"Ineligible as Submitted"]
[null,"Project Site is more than 300 feet from a railroad",null,null,null,null,null,{"$f":"IF(E37=\"Yes\",\"OK. Must Provide Proof With Application\",(IF(E37=\"N/A\",\"OK\",\"Ineligible as Submitted\")))","v":"Ineligible as Submitted"}]
[null,"Is the project in support of Public Housing?",null,null,null,null,null,{"$f":"IF(E38=\"No\",\"OK\",(IF(E38=\"Yes\",\"Ineligible to apply\",(IF(E38=\"\",\"Ineligible as Submitted\")))))","v":"Ineligible as Submitted"}]
[null,"Did the applicant attend NOFA Workshop/Webinar?",null,null,null,null,null,{"$f":"IF(E39=\"Yes\",\"OK\",(IF(E39=\"N/A\",\"OK\",\"Not Required Under NOAH\")))","v":"Not Required Under NOAH"}]
[null,"At least 5% of rental units are accessible to persons with mobility impairments and 3% for sensory impairments ?",null,null,null,null,null,"Ineligible as Submitted"]
[null,"At least 5% of HOMEOWNERSHIP units are accessible to persons with mobility impairments ?",null,null,null,null,null,{"$f":"IF(E41=\"Yes\",\"OK\",(IF(E41=\"N/A\",\"OK\",\"Waiver Required\")))","v":"Waiver Required"}]
[]
[]
[null,"CHDO Eligibility Issues"]
[null,"Board Authorization -- Resolution of Board of Directors Authorizing Application",null,null,null,null,null,{"$f":"IF(E45=\"Not Included\",\"Ineligible as Submitted\",(IF(E45=\"Included\",\"Ok\",(IF(E45=\"No Change\",\"Ok\")))))","v":false},null,null,null,null,null,null,null,null,null,null,null,null,null,null,null,"Included"]
[null,"Governing Board List",null,null,null,null,null,{"$f":"IF(E46=\"Not Included\",\"Ineligible as Submitted\",(IF(E46=\"Included\",\"Ok\",(IF(E46=\"No Change\",\"Ok\")))))","v":false},null,null,null,null,null,null,null,null,null,null,null,null,null,null,null,"No Change"]
[null,"Summary of Changes to Staff",null,null,null,null,null,{"$f":"IF(E47=\"Not Included\",\"Ineligible as Submitted\",(IF(E47=\"Included\",\"Ok\",(IF(E47=\"No Change\",\"Ok\")))))","v":false},null,null,null,null,null,null,null,null,null,null,null,null,null,null,null,"Not Included"]
[null,"Listing of Staff and Resumes",null,null,null,null,null,{"$f":"IF(E48=\"Not Included\",\"Ineligible as Submitted\",(IF(E48=\"Included\",\"Ok\",(IF(E48=\"No Change\",\"Ok\")))))","v":false}]

{"sheet":"Types of Housing","index":7,"n_rows":31,"n_cols":10,"rows_kept":31,"cut":false,"hidden":false,"merged":[[10,1,10,8],[12,3,12,5],[13,3,13,5],[0,6,0,7],[2,1,2,8],[5,1,5,8],[7,3,7,5],[7,7,7,8],[12,7,13,7],[13,8,13,12],[1,0,1,1],[14,3,14,5],[18,3,18,5],[24,3,24,5],[15,3,15,5],[16,3,16,5],[17,3,17,5],[21,3,21,5],[22,3,22,5],[23,3,23,5],[19,3,19,5],[20,3,20,5],[30,7,30,8],[26,1,26,8],[28,3,28,5],[29,3,29,5],[30,3,30,5]]}
["Types of Housing",null,null,{"$f":"+Cover!E10","v":0},null,null,null,null,null,{"$f":"+Cover!E10","v":0}]
[{"$f":"+Cover!D7","v":"10262021.2021FAHN"}]
[null,"The Louisiana Housing Corporation (LHC) seeks to utilize HOME funds to expand the supply of affordable housing in areas where LHC serves as the Participating Jurisdiction (PJ)."]
[]
[]
[]
[]
[null,"Number of Units",null,{"$f":"+'Primary Input'!E35","v":0},null,null,null,{"$f":"IF(D8>0,\"OK\",\"Invalid Entry\")","v":"Invalid Entry"}]
[]
[]
[null,"B. Specify units to be dedicated to each of the following income classes"]
[]
[null,"Parish",null,{"$f":"+'Primary Input'!E12","v":0},null,null,null,"No. of Units"]
[null,"AMI",null,{"$f":"IF('Primary Input'!E12= \"\",0, VLOOKUP('Primary Input'!E12,'Primary Input'!AI7:AJ116,2))","v":0},null,null,null,null,{"$f":"+IF(SUM(H15:H25)<>D8,\"Invalid Entry. Number of Units on Primary Input must equal Sum of units below\", \"OK\")","v":"OK"}]
[null,"30% of AMI",null,{"$f":"0.3*D$14","v":0}]
[null,"35% of AMI",null,{"$f":"0.35*D$14","v":0}]
[null,"40% of AMI",null,{"$f":"0.4*D$14","v":0}]
[null,"45% of AMI",null,{"$f":"0.45*D$14","v":0}]
[null,"50% of AMI",null,{"$f":"0.5*D$14","v":0}]
[null,"55% of AMI",null,{"$f":"0.55*D$14","v":0}]
[null,"60% of AMI",null,{"$f":"0.6*D$14","v":0}]
[null,"65% of AMI",null,{"$f":"0.65*D$14","v":0}]
[null,"70% of AMI",null,{"$f":"0.7*D$14","v":0}]
[null,"75% of AMI",null,{"$f":"0.75*D$14","v":0}]
[null,"80% of AMI",null,{"$f":"0.8*D$14","v":0}]
[]
[null,"C. Home Funds will support projects by providing up to 85% of the total development costs to support affordable housing creation:\n- In small cities, rural parishes and areas where LHC serves as the Participating Jurisdiction.\n- Developments can serve any population (special needs or otherwise) where the rent payments are affordable to and will be occupied by households at or below 80% of the Area Median Income for the HOME-supported units."]
[]
[null,"Total TDC",null,{"$f":"+'Sources and Uses'!F42","v":0}]
[null,"HOME Requested",null,{"$f":"+'Primary Input'!E40","v":0}]
[null,"% Funding",null,{"$f":"IF(D29=0,0,D30/D29)","v":0},null,null,null,{"$f":"IF(D31<=0.85,\"OK\",\"Ineligible As Submitted\")","v":"OK"}]

{"sheet":"Development Team","index":8,"n_rows":54,"n_cols":36,"rows_kept":54,"cut":false,"hidden":false,"merged":[[35,5,35,10],[26,5,26,10],[28,6,28,8],[30,5,30,10],[31,5,31,10],[33,6,33,8],[13,6,13,8],[20,5,20,10],[21,5,21,10],[23,6,23,8],[25,5,25,10],[50,14,52,19],[45,14,47,19],[40,14,42,19],[35,14,37,19],[30,14,32,19],[25,14,27,19],[1,1,1,9],[20,14,22,19],[15,14,17,19],[10,14,12,19],[3,14,7,19],[1,14,1,19],[3,5,3,10],[4,5,4,10],[15,5,15,10],[16,5,16,10],[18,6,18,8],[6,6,6,8],[8,7,8,8],[10,5,10,10],[11,5,11,10],[36,5,36,10],[38,6,38,8],[40,5,40,10],[41,5,41,10],[43,6,43,8],[53,6,53,8],[45,5,45,10],[46,5,46,10],[48,6,48,8],[50,5,50,10],[51,5,51,10]]}
["Development Team",null,null,null,null,{"$f":"+Cover!D7","v":"10262021.2021FAHN"},null,{"$f":"+Cover!E10","v":0}]
[null,"Applications are in part evaluated based on the experience and time devoted to the project of the key member(s) of the development team. Please indicated below the name and contact information for each person filling the position indicated (if any) and the amount of time the expect to dedicate to the proposed project. If the individual is a qualified SDB or CHDO please indicate so in the appropriate box. To receive credit you must attach resume and/or certificates.",null,null,null,null,null,null,null,null,null,"% of Time Devoted to Project","SDB","CHDO","Comments "]
[]
[null,"Taxpayer/Developer",null,null,null,null,null,null,null,null,null,null,null,null,null,null,null,null,null,null,null,null,null,null,null,null,null,null,null,null,null,null,null,null,null,"Yes"]
[null,"Provide Resume",null,null,null,null,null,null,null,null,null,null,null,null,null,null,null,null,null,null,null,null,null,null,null,null,null,null,null,null,null,null,null,null,null,"No"]
[]
[null,null,null,null,null,"Contact:",null,null,null," Phone:"]
[]
[null,null,null,null,null,"E-Mail Address: ",null,null,null,"Fax:"]
[]
[null,"Managing Member/Partner:"]
[null,"Provide Resume"]
[]
[null,null,null,null,null,"Contact:",null,null,null," Phone:"]
[]
[null,"Attorney:"]
[]
[]
[null,null,null,null,null,"Contact:",null,null,null," Phone:"]
[]
[null,"Accountant:"]
[]
[]
[null,null,null,null,null,"Contact:",null,null,null," Phone:"]
[]
[null,"Construction Mortgage"]
[null,"Lender:"]
[]
[null,null,null,null,null,"Contact:",null,null,null," Phone:"]
[]
[null,"Permanent Mortgage"]
[null,"Lender:"]
[]
[null,null,null,null,null,"Contact:",null,null,null," Phone:"]
[]
[null,"Management Co.:"]
[null,"Provide Resume"]
[]
[null,null,null,null,null,"Contact:",null,null,null," Phone:"]
[]
[null,"Builder / Contractor:"]
[null,"Provide Resume if available"]
[]
[null,null,null,null,null,"Contact:",null,null,null," Phone:"]
[]
[null,"Architect:"]
[null,"Provide Resume if available"]
[]
[null,null,null,null,null,"Contact:",null,null,null," Phone:"]
[]
[null,"Consultant:"]
[]
[]
[null,null,null,null,null,"Contact:",null,null,null," Phone:"]

{"sheet":"Financial Considerations","index":9,"n_rows":15,"n_cols":8,"rows_kept":15,"cut":false,"hidden":false,"merged":[[29,1,29,9],[21,1,21,9],[22,1,22,9],[23,1,23,9],[24,1,24,9],[25,1,25,9],[26,1,26,9],[20,1,20,9],[27,1,27,9],[28,1,28,9],[4,0,4,9],[6,1,6,9],[7,1,7,6],[8,1,8,6],[15,1,15,9],[16,1,16,9],[14,1,14,6],[17,1,17,9],[18,1,18,9],[19,1,19,9],[14,7,14,9],[13,1,13,6],[12,1,12,6],[12,7,12,9],[13,7,13,9],[0,6,0,7],[3,0,3,9],[10,7,10,9],[10,1,10,6],[11,1,11,6],[2,0,2,9],[11,7,11,9],[7,7,7,9],[8,7,8,9],[9,7,9,9],[1,0,1,9],[5,1,5,9],[9,1,9,6]]}
["Financial Considerations",null,null,null,null,null,{"$f":"+Cover!$H$7","v":0}]
[{"$f":"+Cover!D7","v":"10262021.2021FAHN"}]
[]
[{"$f":"+Cover!E10","v":0}]
[]
[]
[]
[null,"Project name entered?",null,null,null,null,null,{"$f":"IF('Primary Input'!E7<>\"\",\"OK\",\"Ineligible As Submitted\")","v":"Ineligible As Submitted"}]
[null,"Parish indicated?",null,null,null,null,null,{"$f":"IF('Primary Input'!E12<>\"\",\"OK\",\"Ineligible As Submitted\")","v":"Ineligible As Submitted"}]
[null,"DSR greater than 1.15?",null,null,null,null,null,{"$f":"IF('Pro Forma'!D42>1.15,\"OK\",IF('Pro Forma'!D42=0,\"OK\",\"Ineligible As Submitted\"))","v":"OK"}]
[null,"Developer Fee within the allowable limit?",null,null,null,null,null,{"$f":"IF('Rehab or New Construction'!F77<='Rehab or New Construction'!F76,\"OK\",\"Ineligible As Submitted\")","v":"OK"}]
[null,"Builder Profit within the allowable limit?",null,null,null,null,null,{"$f":"IF('Rehab or New Construction'!F75<='Rehab or New Construction'!F74,\"OK\",\"Ineligible As Submitted\")","v":"OK"}]
[null,"Builder Overhead within the allowable limit?",null,null,null,null,null,{"$f":"IF('Rehab or New Construction'!F73<='Rehab or New Construction'!F72,\"OK\",\"Ineligible As Submitted\")","v":"OK"}]
[null,"General Requirements within the allowable limit?",null,null,null,null,null,{"$f":"IF('Rehab or New Construction'!F71<='Rehab or New Construction'!F70,\"OK\",\"Ineligible As Submitted\")","v":"OK"}]
[null,"Sources of funds adequate",null,null,null,null,null,{"$f":"IF('Sources and Uses'!F24='Sources and Uses'!F48,\"OK\",\"Ineligible As Submitted\")","v":"OK"}]

{"sheet":"Rental Income","index":10,"n_rows":48,"n_cols":55,"rows_kept":48,"cut":false,"hidden":false,"merged":[[1,22,1,23],[5,11,5,12],[6,11,6,12],[7,11,7,12],[1,11,1,12],[2,11,2,12],[3,11,3,12],[6,22,6,23],[2,22,2,23],[3,22,3,23],[4,22,4,23],[5,22,5,23],[0,6,0,10],[44,8,47,10],[24,2,24,8],[8,11,8,12],[12,17,21,28],[24,17,33,28],[37,17,46,28],[24,11,24,12],[12,11,12,12],[12,2,12,8],[8,6,8,7],[9,6,9,7],[9,11,9,12],[0,3,0,4],[7,22,7,23],[4,11,4,12],[5,6,5,7],[6,6,6,7],[7,6,7,7],[1,6,1,7],[2,6,2,7],[3,6,3,7],[4,6,4,7]]}
["Rental Income",null,null,{"$f":"+Cover!D7","v":"10262021.2021FAHN"},null,null,{"$f":"+Cover!E10","v":0},null,null,null,null,null,null,null,null,null,null,"Proposed Rent Mechanism"]
[null,"Unit BR Size","Number of Bathrooms","Average Square Feet of Individual Units","Total Number of Units","Number of PSH Units","Monthly Utility Allowance",null,"Maximum HOME Rents Allowed","Maximum        HTF Rents Allowed","Average Monthly Rent","Total Monthly Rent",null,null,null,null,null,"Unit BR Size","Number of Bathrooms","Anticipated Rent For High HOME Units","Anticipated Rent For Low HOME Units","Anticipated Rent For HTF          Units","Monthly Utility Allowance",null,"Rent After Utilities (High)","Rent After Utilities (Low)","Rent After Utilities (HTF)","Does Activity Meet Eligibility Test   (Low Rents)","Does Activity Meet Eligibility Test  (High Rents)","Does Activity Meet Eligiblity for the Housing Trust Fund",null,null,null,null,null,null,null,null,null,null,null,null,null,null,null,null,null,null,null,null,null,null,null,null,"Low HOME Rents"]
[null,"0BR",null,null,{"$f":"+'Primary Input'!E56","v":0},null,{"$f":"+C48","v":0},null,{"$f":"+('2020 Rents'!F73)-('Rental Income'!G3)","v":{"$error":"#N/A"}},{"$f":"+'2020 Rents'!F77-G3","v":{"$error":"#N/A"}},{"$f":"IF(M15=0,0,+M27/M15)","v":0},{"$f":"+K3*E3","v":0},null,{"$f":"IF(F3>E3,\"!\",\"\")","v":""},null,null,null,"0BR",{"$f":"+C3","v":0},null,null,null,{"$f":"+G3","v":0},null,{"$f":"+T3+W3","v":0},{"$f":"+U3+W3","v":0},{"$f":"+V3+W3","v":0},{"$f":"+IF(Z3<='2020 Rents'!F72, \"Yes\", \"No\")","v":{"$error":"#N/A"}},{"$f":"IF(Y3<=I3+G3,\"Yes\", \"No\")","v":{"$error":"#N/A"}},{"$f":"IF(AA3<=J3+G3,\"Yes\",\"No\")","v":{"$error":"#N/A"}},null,null,null,null,null,null,null,null,null,null,null,null,null,null,null,null,null,null,null,null,null,null,null,0,{"$f":"+'2020 Rents'!F72-'Rental Income'!C48","v":{"$error":"#N/A"}}]
[null,"1BR",null,null,{"$f":"+'Primary Input'!E57","v":0},null,{"$f":"+D48","v":0},null,{"$f":"+'2020 Rents'!G73-'Rental Income'!G4","v":{"$error":"#N/A"}},{"$f":"+'2020 Rents'!G77-G4","v":{"$error":"#N/A"}},0,0,null,"",null,null,null,"1BR",0,null,null,null,0,null,0,0,0,{"$f":"+IF(Z4<='2020 Rents'!G72, \"Yes\", \"No\")","v":{"$error":"#N/A"}},{"$f":"IF(Y4<=I4+G4,\"Yes\", \"No\")","v":{"$error":"#N/A"}},{"$f":"IF(AA4<=J4+G4,\"Yes\",\"No\")","v":{"$error":"#N/A"}},null,null,null,null,null,null,null,null,null,null,null,null,null,null,null,null,null,null,null,null,null,null,null,1,{"$f":"+'2020 Rents'!G72-'Rental Income'!D48","v":{"$error":"#N/A"}}]
[null,"2BR",null,null,{"$f":"+'Primary Input'!E58","v":0},null,{"$f":"+E48","v":0},null,{"$f":"+'2020 Rents'!H73-'Rental Income'!G5","v":{"$error":"#N/A"}},{"$f":"+'2020 Rents'!H77-G5","v":{"$error":"#N/A"}},0,0,null,"",null,null,null,"2BR",1,null,null,null,0,null,0,0,0,{"$f":"+IF(Z5<='2020 Rents'!H72, \"Yes\", \"No\")","v":{"$error":"#N/A"}},{"$f":"IF(Y5<=I5+G5,\"Yes\", \"No\")","v":{"$error":"#N/A"}},{"$error":"#N/A"},null,null,null,null,null,null,null,null,null,null,null,null,null,null,null,null,null,null,null,null,null,null,null,2,{"$f":"+'2020 Rents'!H72-'Rental Income'!E48","v":{"$error":"#N/A"}}]
[null,"3BR",null,null,{"$f":"+'Primary Input'!E59","v":0},null,{"$f":"+F48","v":0},null,{"$f":"+'2020 Rents'!I73-'Rental Income'!G6","v":{"$error":"#N/A"}},{"$f":"+'2020 Rents'!I77-G6","v":{"$error":"#N/A"}},0,0,null,"",null,null,null,"3BR",0,null,null,null,0,null,0,0,0,{"$f":"+IF(Z6<='2020 Rents'!I72, \"Yes\", \"No\")","v":{"$error":"#N/A"}},{"$f":"IF(Y6<=I6+G6,\"Yes\", \"No\")","v":{"$error":"#N/A"}},{"$error":"#N/A"},null,null,null,null,null,null,null,null,null,null,null,null,null,null,null,null,null,null,null,null,null,null,null,3,{"$f":"+'2020 Rents'!I72-'Rental Income'!F48","v":{"$error":"#N/A"}}]
[null,"4BR",null,null,{"$f":"+'Primary Input'!E60","v":0},null,{"$f":"+G48","v":0},null,{"$f":"+'2020 Rents'!J73-'Rental Income'!G7","v":{"$error":"#N/A"}},{"$f":"+'2020 Rents'!J77-G7","v":{"$error":"#N/A"}},0,0,null,"",null,null,null,"4BR",0,null,null,null,0,null,0,0,0,{"$f":"+IF(Z7<='2020 Rents'!J72, \"Yes\", \"No\")","v":{"$error":"#N/A"}},{"$f":"IF(Y7<=I7+G7,\"Yes\", \"No\")","v":{"$error":"#N/A"}},{"$error":"#N/A"},null,null,null,null,null,null,null,null,null,null,null,null,null,null,null,null,null,null,null,null,null,null,null,4,{"$f":"+'2020 Rents'!J72-'Rental Income'!G48","v":{"$error":"#N/A"}}]
[null,"Other",null,null,{"$f":"+'Primary Input'!E61","v":0},null,{"$f":"+H48","v":0},null,null,{"$f":"+'2020 Rents'!K77-G8","v":{"$error":"#N/A"}},0,0,null,"",null,null,null,"5BR",0,null,null,null,0,null,0,0,0,{"$f":"+IF(Z8<='2020 Rents'!K72, \"Yes\", \"No\")","v":{"$error":"#N/A"}},{"$f":"IF(Y8<=I8,\"Yes\", \"No\")","v":"Yes"},{"$error":"#N/A"}]
[null,"Other",null,null,{"$f":"+'Primary Input'!E62","v":0},null,0,null,null,{"$f":"+'2020 Rents'!L77-G9","v":{"$error":"#N/A"}},0,0,null,""]
[null,"TOTAL",null,null,{"$f":"SUM(E3:E9)","v":0},{"$f":"SUM(F3:F9)","v":0},null,null,{"$f":"SUMPRODUCT($E3:$E9,I3:I9)","v":{"$error":"#N/A"}},null,{"$f":"SUMPRODUCT($E3:$E9,K3:K9)","v":0},{"$f":"SUM(L3:L9)","v":0}]
[]
[]
[null,null,"ENTER NUMBER  OF UNITS WITHOUT RENTAL SUBSIDIES",null,null,null,null,null,null,null,null,"WITH SUBSIDIES",null,null,null,null,null,"Rental Subsidies Comments"]
[null,"Unit BR Size","Tenant Income <= 20%","HTF Units Tenant Income >20<=30%","Tenant Income >30<=40%","Tenant Income >40<=50%","Tenant Income >50<= 60%","Tenant Income >60<= 80%","Number of Market Units",null,null,"Project Based Contract","Total"]
[null,"0BR",null,null,null,null,null,null,null,null,null,null,{"$f":"SUM(C15:L15)-K15","v":0},{"$f":"IF(M15<>E3,\"!\",\"\")","v":""}]
[null,"1BR",null,null,null,null,null,null,null,null,null,null,0,""]
[null,"2BR",null,null,null,null,null,null,null,null,null,null,0,""]
[null,"3BR",null,null,null,null,null,null,null,null,null,null,0,""]
[null,"4BR",null,null,null,null,null,null,null,null,null,null,0,""]
[null,"5BR",null,null,null,null,null,null,null,null,null,null,0,""]
[null,{"$f":"+B9","v":"Other"},null,null,null,null,null,null,null,null,null,null,0,""]
[null,"TOTAL",{"$f":"SUM(C15:C21)","v":0},0,0,0,0,0,0,null,null,{"$f":"SUM(L15:L21)","v":0},{"$f":"SUM(M15:M21)","v":0}]
[]
[]
[null,null,"INPUT ACTUAL RENTS THE UNITS NET OF UTILITY ALLOWANCES",null,null,null,null,null,null,null,null,"WITH SUBSIDIES",null,null,null,null,null,"Actual Rents Comments:  "]
[null,"Unit BR Size","Tenant Income <= 20%","HTF Units  Tenant Income >20<=30%","Tenant Income >30<=40%","Tenant Income >40<=50%","Tenant Income >50<= 60%","Tenant Income >60<= 80%","Market Rent",null,null,"Project Based Contract","Total Monthly Rent"]
[null,"0BR",null,null,null,null,null,null,null,null,null,null,{"$f":"SUMPRODUCT(C27:I27,C15:I15)+(L15*L27)","v":0}]
[null,"1BR",null,null,null,null,null,null,null,null,{"$error":"#N/A"},null,0]
[null,"2BR",null,null,null,null,null,null,null,null,{"$error":"#N/A"},null,0]
[null,"3BR",null,null,null,null,null,null,null,null,{"$error":"#N/A"},null,0]
[null,"4BR",null,null,null,null,null,null,null,null,{"$error":"#N/A"},null,0]
[null,"5BR",null,null,null,null,null,null,null,null,{"$error":"#N/A"},null,0]
[null,{"$f":"+B9","v":"Other"},null,null,null,null,null,null,null,null,0,null,0]
[null,"Total",{"$f":"SUMPRODUCT(C15:C21,C27:C33)","v":0},0,0,0,0,0,0,null,null,{"$f":"SUMPRODUCT(L15:L21,L27:L33)","v":0},{"$f":"SUM(M27:M33)","v":0}]
[]
[]
["Enter utility allowances"]
[null,"Utility","0BR","1BR","2BR","3BR","4BR","5BR","Source",null,"X",null,null,null,null,null,null,"Utility Allowance Comments"]
[null,"Heating",null,null,null,null,null,null,"State PHA"]
[null,"A/C",null,null,null,null,null,null,"Local PHA"]
[null,"Cooking",null,null,null,null,null,null,"Utility Company"]
[null,"Lighting",null,null,null,null,null,null,"LHC"]
[null,"Hot Water",null,null,null,null,null,null,"HUD"]
[null,"Water",null,null,null,null,null,null,"Other"]
[null,"Sewer"]
[null,"Trash"]
[null,"Other"]
[null,"TOTAL",{"$f":"SUM(C39:C47)","v":0},{"$f":"SUM(D39:D47)","v":0},0,0,0,0]

{"sheet":"Utility Allowance","index":11,"n_rows":30,"n_cols":26,"rows_kept":30,"cut":false,"hidden":false,"merged":[[29,0,30,3],[2,0,3,0],[2,1,3,1],[2,2,3,2],[2,3,3,3],[15,0,28,3]]}
["SPC2017RD.a",{"$f":"+Cover!E10","v":0}]
["Utility allowance information"]
["Utility or Service","Provider                                                                      ( Enter the name of the company providing the service. Applicant must provide rate and tariff sheets and a sample bill provided by each utility that will be providing service to the property. The sample bill for electricity shall be for 1,000 kWh, for Gas 100 ccf, for water 1,000 gallons. All sample bills must include any taxes and other charges or tariffs assessed.)","Fuel Source                                                                                                                                                                                                                  ","Amount                                     (If the project is changing a fee for a Range, Microwave, Refrigerator or Other indicate the monthly amount)"]
[]
["Space Heating",null,null,null,null,null,null,null,null,null,null,null,null,null,null,null,null,null,null,null,null,null,null,null,"Not Applicable","Not Applicable"]
["Cooking",null,null,null,null,null,null,null,null,null,null,null,null,null,null,null,null,null,null,null,null,null,null,null,"Natural Gas","Tenant Pays"]
["Other Electric",null,null,null,null,null,null,null,null,null,null,null,null,null,null,null,null,null,null,null,null,null,null,null,"Bottled Gas"]
["Air Conditioning",null,null,null,null,null,null,null,null,null,null,null,null,null,null,null,null,null,null,null,null,null,null,null,"Electric Resistance"]
["Water Heating",null,null,null,null,null,null,null,null,null,null,null,null,null,null,null,null,null,null,null,null,null,null,null,"Electric Heat Pump"]
["Water",null,null,null,null,null,null,null,null,null,null,null,null,null,null,null,null,null,null,null,null,null,null,null,"Fuel Oil"]
["Sewer"]
["Trash Collection"]
["Range/Microwave",{"$f":"+Cover!E10","v":0},null,null,null,null,null,null,null,null,null,null,null,null,null,null,null,null,null,null,null,null,null,null,"Not Applicable"]
["Refrigerator",{"$f":"+Cover!E10","v":0},null,null,null,null,null,null,null,null,null,null,null,null,null,null,null,null,null,null,null,null,null,null,"Natural Gas"]
["Other",null,null,null,null,null,null,null,null,null,null,null,null,null,null,null,null,null,null,null,null,null,null,null,"Bottled Gas"]
["Comments:  ",null,null,null,null,null,null,null,null,null,null,null,null,null,null,null,null,null,null,null,null,null,null,null,"Electric "]
[]
[null,null,null,null,null,null,null,null,null,null,null,null,null,null,null,null,null,null,null,null,null,null,null,null,"Not Applicable"]
[null,null,null,null,null,null,null,null,null,null,null,null,null,null,null,null,null,null,null,null,null,null,null,null,"Electric "]
[]
[null,null,null,null,null,null,null,null,null,null,null,null,null,null,null,null,null,null,null,null,null,null,null,null,"Not Applicable"]
[null,null,null,null,null,null,null,null,null,null,null,null,null,null,null,null,null,null,null,null,null,null,null,null,"Natural Gas"]
[null,null,null,null,null,null,null,null,null,null,null,null,null,null,null,null,null,null,null,null,null,null,null,null,"Bottled Gas"]
[null,null,null,null,null,null,null,null,null,null,null,null,null,null,null,null,null,null,null,null,null,null,null,null,"Electric "]
[null,null,null,null,null,null,null,null,null,null,null,null,null,null,null,null,null,null,null,null,null,null,null,null,"Fuel Oil"]
[]
[]
[]
[]
["Rate Sheets From All Providers Must be Submitted At Time Of Application For Utilities That The Tenant Will Pay"]

{"sheet":"Leverage","index":12,"n_rows":22,"n_cols":8,"rows_kept":22,"cut":false,"hidden":false,"merged":[[1,1,1,2],[0,0,3,0],[4,0,38,0],[18,3,19,3],[18,4,19,4],[1,3,1,6],[2,8,28,14],[21,1,38,7],[2,3,3,3],[2,1,3,1],[2,4,2,6],[29,8,38,14],[18,6,19,6],[18,5,19,5]]}
[]
[null,"Match/Leverage",null,{"$f":"+Cover!E10","v":0}]
[null,{"$f":"+Cover!D7","v":"10262021.2021FAHN"},null,"Cash Value Contribution for this Project","Prior Years value where applicable"]
[null,null,"Source",null,"Last Year","2 years ago ","3 years ago ","Notes"]
[null,1,"Volunteer labor",0,0,0,0]
[null,2,"Private Contributions/ Donation Support (Non-owner)",0,0,0,0]
[null,3,"Value of Extended Affordability",0,0,0,0]
[null,4,"Value of Donated Professional Services (Attorney, Architect, Engineer, etc.)",0,0,0,0]
[null,5,"Waived Fees (Waived by Government)",0,0,0,0]
[null,6,"Governmental Financial  Support (From non Federal Sources)",0,0,0,0]
[null,7,"Value of Supportive Services Not Reimbursed by Federal Government  (United Way, Charity, etc.)",0,0,0,0]
[null,8,{"$f":"+'Loan Information'!E3","v":0},{"$f":"+'Loan Information'!E4","v":0},0,0,0]
[null,9,{"$f":"+'Loan Information'!E20","v":0},{"$f":"+'Loan Information'!E21","v":0},0,0,0]
[null,10,"Other"]
[null,11,"Other"]
[null,12,"Other"]
[null,13,"Other"]
[null,14,"Other"]
[null,null,"TOTAL",{"$f":"SUM(D5:D18)","v":0},{"$f":"SUM(E5:E18)","v":0},{"$f":"SUM(F5:F18)","v":0},{"$f":"SUM(G5:G18)","v":0}]
[]
[null,null,"Note: Not having prior years data does not automatically disqualify cash contribution. Provide past year data where appropriate."]
[null,"Notes"]

{"sheet":"Loan Information","index":13,"n_rows":41,"n_cols":20,"rows_kept":41,"cut":false,"hidden":false,"merged":[[34,3,34,4],[0,4,0,5],[32,1,32,3],[33,1,33,3],[40,1,40,3],[36,1,36,3],[37,1,37,3],[38,1,38,3],[39,1,39,3],[28,1,28,3],[30,1,30,3],[31,1,31,3],[24,1,24,3],[25,1,25,3],[26,1,26,3],[19,1,19,3],[20,1,20,3],[21,1,21,3],[29,1,29,3],[22,1,22,3],[23,1,23,3],[27,1,27,3],[13,1,13,3],[14,1,14,3],[15,1,15,3],[16,1,16,3],[10,1,10,3],[7,1,7,3],[8,1,8,3],[9,1,9,3],[11,1,11,3],[12,1,12,3],[2,1,2,3],[3,1,3,3],[4,1,4,3],[5,1,5,3],[6,1,6,3]]}
["Loan Information",null,null,{"$f":"+Cover!D7","v":"10262021.2021FAHN"},{"$f":"Cover!E10","v":0}]
[null,"FIRST MORTGAGE",null,null,null,null,null,null,null,null,null,null,null,null,null,null,null,null,null,"FHA insured"]
[null,"Lender Name:",null,null,null,null,null,null,null,null,null,null,null,null,null,null,null,null,null,"Conventional"]
[null,"Original Loan Amount:",null,null,null,null,null,null,null,null,null,null,null,null,null,null,null,null,null,"Hud Held"]
[null,"Current Principal Amount:",null,null,null,null,null,null,null,null,null,null,null,null,null,null,null,null,null,"Risk Shared"]
[null,"As of Date:",null,null,null,null,null,null,null,null,null,null,null,null,null,null,null,null,null,"Other"]
[null,"Maturity Date:"]
[null,"Interest Rate:"]
[null,"Amortization Period (Years):"]
[null,"Monthly P&I Payment",null,null,{"$f":"+E12/12","v":0}]
[null,"Required Debt Coverage Ratio"]
[null,"Annual Debt Service",null,null,{"$f":"IF(E8>0, -PMT(E8/12,E9*12,E4), 0)*12","v":0}]
[null,"Loan Servicer (if known): "]
[null,"Prepayment Penalty:"]
[null,"Lock Out Date:"]
[null,"Years remaining at closing:"]
[null,"Loan Type"]
[]
[null,"SECOND MORTGAGE"]
[null,"Lender Name:"]
[null,"Original Loan Amount:"]
[null,"Current Principal Amount:"]
[null,"As of Date:"]
[null,"Maturity Date:"]
[null,"Interest Rate:"]
[null,"Amortization Period (Years):"]
[null,"Monthly P&I Payment",null,null,{"$f":"+E29/12","v":0}]
[null,"Required Debt Service Ratio"]
[null,"Annual Debt Service",null,null,{"$f":"IF(E25>0, -PMT(E25/12,E26*12,E21), 0)*12","v":0}]
[null,"Loan Servicer (if known): "]
[null,"Prepayment Penalty:"]
[null,"Lock Out Date:"]
[null,"Years remaining at closing:"]
[null,"Loan Type"]
[]
[null,"HOME LOAN SUBSIDY"]
[null,"Lender Name:",null,null,"LHC"]
[null,"Original Loan Amount:",null,null,{"$f":"+'Primary Input'!E40:G40","v":0}]
[null,"Interest Rate:",null,null,{"$f":"+Underwriting!H516","v":0}]
[null,"Balance at Term of First Mortgage:",null,null,{"$f":"+Amortization!G23","v":0}]
[null,"Reasonably repaid at Term of First Mortgage: ",null,null,{"$f":"+E38-E40","v":0}]

{"sheet":"Amortization","index":14,"n_rows":28,"n_cols":13,"rows_kept":28,"cut":false,"hidden":true,"merged":[[0,10,0,11],[26,11,26,12],[27,11,27,12]]}
["Amortization",null,null,null,null,null,null,null,null,null,{"$f":"+Cover!$H$7","v":0}]
[null,"HOME FUNDS",null,null,null,null,null,null,"Owner Distribution"]
[null,"Year","BegBal","Accrd Int","CF","Pmt","EndBal",null,"Year","BegBal","Cash Flow",0.11,"Discount"]
[null,1,{"$f":"+'Primary Input'!E40","v":0},{"$f":"+'Loan Information'!E$39*C4","v":0},{"$f":"+'Pro Forma'!D38","v":0},{"$f":"MAX(E4,0)","v":0},{"$f":"IF((C4+D4-E4)<0,0,(C4+D4-F4))","v":0},null,1,{"$f":"+E4","v":0},{"$f":"MAX(J4,0)","v":0},{"$f":"1/(1+L$3)^(I4-1)","v":1},{"$f":"+K4*L4","v":0}]
[null,2,{"$f":"+G4","v":0},{"$f":"+'Loan Information'!E$39*C5","v":0},{"$f":"+'Pro Forma'!F38","v":0},{"$f":"MAX(E5,0)","v":0},{"$f":"IF((C5+D5-E5)<0,0,(C5+D5-F5))","v":0},null,{"$f":"+B5","v":2},{"$f":"+E5","v":0},{"$f":"MAX(J5,0)","v":0},{"$f":"1/(1+L$3)^(I5-1)","v":0.9009009009009008},{"$f":"+K5*L5","v":0}]
[null,3,{"$f":"+G5","v":0},{"$f":"+'Loan Information'!E$39*C6","v":0},{"$f":"+'Pro Forma'!H38","v":0},0,0,null,{"$f":"+B6","v":3},{"$f":"+E6","v":0},0,0.8116224332440547,0]
[null,4,0,{"$f":"+'Loan Information'!E$39*C7","v":0},{"$f":"+'Pro Forma'!J38","v":0},0,0,null,4,0,0,0.73119138130095018,0]
[null,5,0,{"$f":"+'Loan Information'!E$39*C8","v":0},{"$f":"+'Pro Forma'!L38","v":0},0,0,null,5,0,0,0.65873097414500015,0]
[null,6,0,{"$f":"+'Loan Information'!E$39*C9","v":0},{"$f":"+'Pro Forma'!N38","v":0},0,0,null,6,0,0,0.5934513280585586,0]
[null,7,0,{"$f":"+'Loan Information'!E$39*C10","v":0},{"$f":"+'Pro Forma'!P38","v":0},0,0,null,7,0,0,0.53464083608879154,0]
[null,8,0,{"$f":"+'Loan Information'!E$39*C11","v":0},{"$f":"+'Pro Forma'!R38","v":0},0,0,null,8,0,0,0.48165841089080319,0]
[null,9,0,{"$f":"+'Loan Information'!E$39*C12","v":0},{"$f":"+'Pro Forma'!T38","v":0},0,0,null,9,0,0,0.43392649629802077,0]
[null,10,0,{"$f":"+'Loan Information'!E$39*C13","v":0},{"$f":"+'Pro Forma'!V38","v":0},0,0,null,10,0,0,0.39092477143965831,0]
[null,11,0,{"$f":"+'Loan Information'!E$39*C14","v":0},{"$f":"+'Pro Forma'!X38","v":0},0,0,null,11,0,0,0.3521844787744669,0]
[null,12,0,{"$f":"+'Loan Information'!E$39*C15","v":0},{"$f":"+'Pro Forma'!Z38","v":0},0,0,null,12,0,0,0.31728331421123146,0]
[null,13,0,{"$f":"+'Loan Information'!E$39*C16","v":0},{"$f":"+'Pro Forma'!AB38","v":0},0,0,null,13,0,0,0.28584082361372198,0]
[null,14,0,{"$f":"+'Loan Information'!E$39*C17","v":0},{"$f":"+'Pro Forma'!AD38","v":0},0,0,null,14,0,0,0.25751425550785767,0]
[null,15,0,{"$f":"+'Loan Information'!E$39*C18","v":0},{"$f":"+'Pro Forma'!AF38","v":0},0,0,null,15,0,0,0.23199482478185374,0]
[null,16,{"$f":"+G18","v":0},{"$f":"+'Loan Information'!E$39*C19","v":0},{"$f":"+'Pro Forma'!AF39","v":0},{"$f":"MAX(E19,0)","v":0},{"$f":"IF((C19+D19-E19)<0,0,(C19+D19-F19))","v":0},null,{"$f":"+B19","v":16},{"$f":"+E19","v":0},{"$f":"MAX(J19,0)","v":0},{"$f":"1/(1+L$3)^(I19-1)","v":0.2090043466503187},{"$f":"+K19*L19","v":0}]
[null,17,0,{"$f":"+'Loan Information'!E$39*C20","v":0},{"$f":"+'Pro Forma'!AJ38","v":0},0,0,null,17,0,0,0.18829220418947626,0]
[null,18,0,{"$f":"+'Loan Information'!E$39*C21","v":0},{"$f":"+'Pro Forma'!AL38","v":0},0,0,null,18,0,0,0.16963261638691554,0]
[null,19,0,{"$f":"+'Loan Information'!E$39*C22","v":0},{"$f":"+'Pro Forma'!AN38","v":0},0,0,null,19,0,0,0.15282217692514913,0]
[null,20,0,{"$f":"+'Loan Information'!E$39*C23","v":0},{"$f":"+'Pro Forma'!AP38","v":0},0,0,null,20,0,0,0.13767763686950371,0]
[]
[]
[]
[null,"Projected Cash Flow to owner over term of first loan",null,null,null,null,null,null,null,null,null,{"$f":"SUM(K4:K18)","v":0}]
[null,"Discounted Cash Flow to owner over term of first loan",null,null,null,null,null,null,null,null,null,{"$f":"SUM(M4:M18)","v":0}]

{"sheet":"Rehab or New Construction","index":15,"n_rows":78,"n_cols":7,"rows_kept":78,"cut":false,"hidden":false,"merged":[[10,1,10,3],[11,1,11,3],[12,1,12,3],[13,1,13,3],[14,1,14,3],[5,1,5,3],[6,1,6,3],[7,1,7,3],[8,1,8,3],[9,1,9,3],[17,1,17,3],[18,1,18,3],[24,1,24,3],[25,1,25,3],[15,1,15,3],[52,1,52,3],[36,1,36,3],[37,1,37,3],[38,1,38,3],[39,1,39,3],[40,1,40,3],[41,1,41,3],[42,1,42,3],[43,1,43,3],[44,1,44,3],[45,1,45,3],[46,1,46,3],[47,1,47,3],[48,1,48,3],[49,1,49,3],[50,1,50,3],[53,1,53,3],[54,1,54,3],[55,1,55,3],[57,1,57,3],[61,1,61,3],[63,1,63,3],[64,1,64,3],[66,1,66,3],[56,1,56,3],[65,1,65,3],[62,1,62,3],[1,1,1,5],[2,1,3,5],[51,1,51,3],[19,1,19,3],[20,1,20,3],[21,1,21,3],[22,1,22,3],[23,1,23,3],[35,1,35,3],[26,1,26,3],[27,1,27,3],[28,1,28,3],[29,1,29,3],[33,1,33,3],[34,1,34,3],[16,1,16,3]]}
["Rehab",null,null,{"$f":"+Cover!D7","v":"10262021.2021FAHN"},{"$f":"+Cover!E10","v":0}]
[null,"NOTE"]
[null,"Acquisition costs are not to be entered on this tab. You must enter all costs associated with acquisition on the sources and uses tab."]
[]
[null,"Rehab Cost ",null,null,"Code","Cost of Rehabilitation"]
[null,"Total rehab contract if items not itemized, attach contract"]
[null,"   Site Work (Utilities and Improvements)",null,null,2]
[null,"   Exterior",null,null,3]
[null,"   Windows, frames & glazing",null,null,3.2]
[null,"   Doors",null,null,3.3]
[null,"   Structure / Foundation/Framing",null,null,5]
[null,"   HVAC",null,null,6]
[null,"   Electrical System",null,null,7]
[null,"   Plumbing Systems",null,null,8]
[null,"   Roofs",null,null,9]
[null,"   Fire Suppression",null,null,10]
[null,"   Elevator & Vert. Trans.",null,null,11]
[null,"   ADA",null,null,12]
[null,"   CONSTRUCTION CONTINGENCY, NOT MORE THAN 10%"]
[null,"Offsite improvements"]
[null,"Other"]
[null,"Other"]
[null,"Other"]
[null,"Other"]
[null,"Other"]
[null,"Other"]
[null,"Other"]
[null,"Other"]
[null,"Other"]
[null,"TOTAL REHABILITATION COSTS",null,null,null,{"$f":"SUM(F6:F29)","v":0}]
[]
["New Construction"]
[null,"Development Costs",null,null,"Code","Cost"]
[null,"Total construction contract amount if not itemized, attach contract"]
[null,"   Site Work (Utilities and Improvements)",null,null,2]
[null,"   Exterior",null,null,3]
[null,"   Windows, frames & glazing",null,null,3.2]
[null,"   Doors",null,null,3.3]
[null,"   Structure / Foundation/Framing",null,null,5]
[null,"   HVAC",null,null,6]
[null,"   Electrical System",null,null,7]
[null,"   Plumbing Systems",null,null,8]
[null,"   Roofs",null,null,9]
[null,"   Fire Suppression",null,null,10]
[null,"   Elevator & Vert. Trans.",null,null,11]
[null,"   ADA",null,null,12]
[null,"   CONSTRUCTION CONTINGENCY, NOT MORE THAN 10%"]
[null,"Interior"]
[null,"Flooring"]
[null,"Finishes"]
[null,"Finals"]
[null,"Offsite improvements"]
[null,"Other"]
[null,"Other"]
[null,"Other"]
[null,"Other"]
[null,"Other"]
[null,"TOTAL NEW CONSTRUCTION COSTS",null,null,null,{"$f":"SUM(F34:F57)","v":0}]
[]
[]
[null,"General Requirements & Other Costs",null,null,"Code","Cost"]
[null,"General Requirements",null,null,1]
[null,"Builder Overhead"]
[null,"Builder's Profit"]
[null,"Other "]
[null,"TOTAL OTHER COSTS",null,null,null,{"$f":"SUM(F62:F65)","v":0}]
[null,"TOTAL DEVELOPMENT COSTS",null,null,null,{"$f":"+F30+F58+F66","v":0}]
[]
[]
[null,null,"General Requirements",null,"Limit",{"$f":"(SUM($F$34:$F$57)+SUM($F$65:$F$65)+F$30)*0.06","v":0}]
[null,null,null,null,"Actual",{"$f":"+F62","v":0},{"$f":"IF(F71>F70,\"!\",\"\")","v":""}]
[null,null,"Builder's Overhead",null,"Limit",{"$f":"(SUM($F$34:$F$57)+F71+F30+SUM($F$65:$F$65))*0.02","v":0}]
[null,null,null,null,"Actual",{"$f":"+F63","v":0},{"$f":"IF(F73>F72,\"!\",\"\")","v":""}]
[null,null,"Builder's Profit",null,"Limit",{"$f":"(SUM($F$34:$F$57)+F71+F30+SUM($F$65:$F$65))*0.06","v":0}]
[null,null,null,null,"Actual",{"$f":"+F64","v":0},{"$f":"IF(F75>F74,\"!\",\"\")","v":""}]
[null,null,"Developer Fee",null,"Limit",{"$f":"(SUM($F$34:$F$57)+F73+F30+SUM($F$65:$F$65))*0.15","v":0},0]
[null,null,null,null,"Actual",{"$f":"+'Sources and Uses'!I33","v":0},{"$f":"IF(F77>F76,\"!\",\"\")","v":""}]
[null,null,null,null,null,null,{"$f":"MAX(#REF!,8)","v":{"$error":"#REF!"}}]

{"sheet":"Sources and Uses","index":16,"n_rows":50,"n_cols":9,"rows_kept":50,"cut":false,"hidden":false,"merged":[[38,1,38,4],[39,1,39,4],[40,1,40,4],[33,7,33,8],[51,0,63,8],[37,1,37,4],[48,3,48,5],[0,6,0,7],[10,4,10,5],[12,4,12,5],[34,4,34,5],[31,7,31,8],[9,4,9,5],[7,1,7,4],[17,1,17,4],[18,1,18,4],[19,1,19,4],[20,1,20,4],[21,1,21,4]]}
["Sources & Uses",null,null,null,{"$f":"+Cover!D7","v":"10262021.2021FAHN"},null,{"$f":"+Cover!E10","v":0}]
[null,"Fund Sources"]
[null,null,null,null,null,"$ Amount"]
[null,"Permanent First Mortgage Loan Principal",null,null,null,{"$f":"+'Loan Information'!E4","v":0}]
[null,"Permanent Second Mortgage Loan Principal",null,null,null,{"$f":"+'Loan Information'!E21","v":0}]
[null,"Non-Governmental Cash Flow Notes"]
[null,"LHC HOME Funds",null,null,null,{"$f":"+'Primary Input'!E40","v":0}]
[null,"LHC HTF Funds",null,null,null,{"$f":"+'Primary Input'!E41","v":0}]
[null,"Other Matching Sources",null,null,null,{"$f":"SUM(Leverage!D12:D18)","v":0}]
[]
[null,"Existing Account Balances:"]
[null,"     Reserve for Replacement"]
[null,"Owner Contribution:"]
[null,"     Deferred Developer Fee"]
[null,"     Lease-Up Reserves",null,null,null,null,null,"Soft Costs"]
[null,"     Operating Reserves",null,null,null,null,null,null,"$ Amount"]
[null,"Temporary Construction Loan",null,null,null,null,null,"Architect's Fee - Design"]
[null,"Owner Equity",null,null,null,null,null,"Architect's Fee - Supervisory"]
[null,"Long Term Operating Deficit Reserve ",null,null,null,null,null,"Interest During Construction"]
[null,null,null,null,null,null,null,"Taxes"]
[null,null,null,null,null,null,null,"Insurance"]
[null,null,null,null,null,null,null,"Mortgage Insurance Premium"]
[null,"Other Sources Needed to Balance",null,null,null,{"$f":"+F48-F24","v":0},null,"Examination Fee"]
[null,"Total Funding Sources",null,null,null,{"$f":"SUM(F4:F8)+SUM(F14:F22)+F12","v":0},null,"Inspection Fee"]
[null,null,null,null,null,null,null,"Financing Fee"]
[null,null,null,null,null,null,null,"Title and Recording"]
[null,null,null,null,null,null,null,"Taxpayer Closing Costs"]
[null,null,null,null,null,null,null,"Organization"]
[null,null,null,null,null,null,null,"Cost Certification Audit Fee"]
[null,"Fund Uses",null,null,null,null,null,"Application Fees"]
[null,null,null,null,null,"$ Amount",null,"Relocation Expenses"]
[null,"Rehabilitation Hard Costs",null,null,null,{"$f":"IF('Rehab or New Construction'!F30>0, 'Rehab or New Construction'!F30+'Rehab or New Construction'!F66, 0)","v":0}]
[null,"New Construction Hard Costs",null,null,null,{"$f":"IF('Rehab or New Construction'!F58> 0, 'Rehab or New Construction'!F58+'Rehab or New Construction'!F66, 0)","v":0},null,"Developer Fee (Including All"]
[null,"Total Soft Costs",null,null,null,{"$f":"+I48","v":0},null,"Consultant Fees and Contingency Fees)"]
[null,"Acquisition Costs:",null,null,null,null,null,"LHC Fees"]
[null,"    Land Only",null,null,null,null,null,"Lender Legal"]
[null,"    Buildings Only",null,null,null,null,null,"Origination Fee (Construction)"]
[null,"Contingency",null,null,null,null,null,"Taxpayer Counsel"]
[null,"Long Term Operating Deficit Reserve Offset ",null,null,null,null,null,"Survey"]
[null,"     Other",null,null,null,null,null,"Audit Fees"]
[null,"     Other",null,null,null,null,null,"Construction Loan/Financing Fees"]
[null,"Total Development Costs",null,null,null,{"$f":"SUM(F32:F41)","v":0},null,"     1: Other (Engineering Fees)"]
[null,"Initial Operating Deficit Reserve",null,null,null,null,null,"     2: Other (Permit/ Sewer Impact Fees)"]
[null,"Initial Deposit to Replacement Reserve",null,null,null,null,null,"Other Soil Test"]
[null,"Temporary Construction Loan",null,null,null,{"$f":"+F17","v":0},null,"Other Market Study"]
[null,"     1: Other",null,null,null,null,null,"Other Appraisal"]
[null,"     2: Other",null,null,null,null,null,"Other"]
[null,"Total Use of Funds",null,null,null,{"$f":"SUM(F42:F47)","v":0},null,"Total Fundable Soft Costs:",{"$f":"SUM(I17:I47)","v":0}]
[null,null,null,{"$f":"IF(F48<>F24,\"Error. Sources Must Equal Uses\",\" \")","v":" "}]
[null,null,null,{"$f":"IF(F24>F48,\"Currently Sources Exceed Uses.\",IF(F48>F24,\"Currently Uses Exceeds Sources.\",\" \"))","v":" "}]

{"sheet":"Pro Forma Calculation","index":17,"n_rows":98,"n_cols":12,"rows_kept":98,"cut":false,"hidden":false,"merged":[[93,1,93,3],[0,8,0,9],[3,1,3,3],[1,0,1,1]]}
["Pro forma Calculation",null,null,null,null,null,null,null,{"$f":"+Cover!E10","v":0}]
[{"$f":"+Cover!D7","v":"10262021.2021FAHN"},null,null,null,"Prior","Prior","Prior","Prior","Baseline","Inflation"]
[null,null,{"$f":"+Cover!E10","v":0},null,"Non-Profit Bookkeeping","Non-Profit Bookkeeping","Audit","Audit","Application","Rate"]
[null,"Income Statement"]
[]
[null,"Rental Income"]
[null,null,"Residential- "]
[null,5121,"     Rental Income GROSS VACANCY",null,null,null,null,null,{"$f":"+'Rental Income'!$L$10*12","v":0}]
[null,5121,"     Rental Income NET VACANCY",null,null,null,null,null,{"$f":"+I8-I17","v":0}]
[null,5140,"Stores & Commercial- ",null,null,null,null,null,null,null,{"$f":"IF(I10>0,\"MUST PROVIDE SUPPORT WITH APPLICATION\",\"\")","v":""}]
[null,"Total Rental Income:",null,null,{"$f":"SUM(E8:E10)","v":0},{"$f":"SUM(F8:F10)","v":0},{"$f":"SUM(G8:G10)","v":0},{"$f":"SUM(H8:H10)","v":0},{"$f":"+I8+I10","v":0},0.02]
[]
[null,"Vacancies: Enter as Negative "]
[null,5220,"Apartments- ",7.0000000000000007E-2,null,null,null,null,{"$f":"-D14*I8","v":0}]
[null,5270,"Garage & Parking Spaces- "]
[null,5290,"Miscellaneous Concessions- "]
[null,"Total Vacancies:",null,null,{"$f":"SUM(E14:E16)","v":0},{"$f":"SUM(F14:F16)","v":0},{"$f":"SUM(G14:G16)","v":0},{"$f":"SUM(H14:H16)","v":0},{"$f":"SUM(I14:I16)","v":0}]
[null,"Net Rental Income:",null,null,{"$f":"E11+E17","v":0},{"$f":"F11+F17","v":0},{"$f":"G11+G17","v":0},{"$f":"H11+H17","v":0},{"$f":"I11+I17","v":0}]
[]
[null,"Other Income & Bad Debt "]
[null,5910,"Laundry & Vending- ",null,null,null,null,null,null,null,{"$f":"IF(I21>0,\"MUST PROVIDE SUPPORT WITH APPLICATION\",\"\")","v":""}]
[null,6370,"Apartment Bad Debt-  Enter as Neg."]
[null,6370,"Commercial Bad Debt-  Enter as Neg."]
[null,5920,"NSF, Damages & Late Charges, Other- ",null,null,null,null,null,null,null,{"$f":"IF(I24>0,\"MUST PROVIDE SUPPORT WITH APPLICATION\",\"\")","v":""}]
[null,"Total Other Income:",null,null,{"$f":"SUM(E21:E24)","v":0},{"$f":"SUM(F21:F24)","v":0},{"$f":"SUM(G21:G24)","v":0},{"$f":"SUM(H21:H24)","v":0},{"$f":"SUM(I21:I24)","v":0},0.03,{"$f":"IF(I25>0,\"MUST PROVIDE SUPPORT WITH APPLICATION\",\"\")","v":""}]
[null,"EFFECTIVE GROSS INCOME",null,null,{"$f":"E18+E25","v":0},{"$f":"F18+F25","v":0},{"$f":"G18+G25","v":0},{"$f":"H18+H25","v":0},{"$f":"I18+I25","v":0}]
[]
[null,"Admin. Exps "]
[null,6210,"Advertising-"]
[null,6250,"Admin. Exps.-"]
[null,6310,"Office Salaries- "]
[null,6311,"Office Supplies- "]
[null,6320,"Management Fee- ",null,null,null,null,null,null,0.03]
[null,6330,"Management or Super. Sal.-  "]
[null,6331,"Mgmt. or Super. Free Rent Unit- "]
[null,6340,"Legal Expenses (Project)- "]
[null,6350,"Auditing Exps. (Project)- "]
[null,6351,"Bookkeeping Fees/Acct. Services- "]
[null,6390,"Miscellaneous Admin. Exps- "]
[null,"Total Admin. Less Management Fee: ",null,null,{"$f":"SUM(E29:E39)-E33","v":0},{"$f":"SUM(F29:F39)-F33","v":0},{"$f":"SUM(G29:G39)-G33","v":0},{"$f":"SUM(H29:H39)-H33","v":0},{"$f":"SUM(I29:I39)-I33","v":0},0.03]
[null,"Total Admin. Exps.:",null,null,{"$f":"SUM(E29:E39)","v":0},{"$f":"SUM(F29:F39)","v":0},{"$f":"SUM(G29:G39)","v":0},{"$f":"SUM(H29:H39)","v":0},{"$f":"SUM(I29:I39)","v":0}]
[null,"Utilities Expense "]
[null,6420,"Fuel Oil/Coal- "]
[null,6420,"Fuel for Domestic Hot Water- "]
[null,6450,"Electricity (Light & Misc. Power)- "]
[null,6451,"Water- "]
[null,6452,"Gas- "]
[null,6453,"Sewer- "]
[null,"Total Utilities Exps.:",null,null,{"$f":"SUM(E43:E47)","v":0},{"$f":"SUM(F43:F47)","v":0},{"$f":"SUM(G43:G48)","v":0},{"$f":"SUM(H43:H48)","v":0},{"$f":"SUM(I43:I48)","v":0},0.03]
[null,null,null,null,null,null,null,null,null,{"$f":"Cover!$H$7","v":0}]
[null,null,null,null,"Prior","Prior","Prior","Prior","Baseline","Inflation"]
[null,null,null,null,"Audit","Audit","Audit","Audit","Application","Rate"]
[null,"O & M Expenses "]
[null,6510,"O&M Payroll- "]
[null,6515,"O&M Supplies- "]
[null,6520,"O&M Contract- "]
[null,6525,"Garbage & Trash Removal- "]
[null,6530,"Security Payroll/Contract- "]
[null,6545,"Elevator Maintenance/Contract- "]
[null,6546,"HVAC Repair & Maintenance- "]
[null,6570,"Other Expenses-   "]
[null,6590,"Misc. O & M Expenses- "]
[null,null,"LHC Monitoring Fee",null,null,null,null,null,{"$f":"(+'Primary Input'!E72+'Primary Input'!E81)*40","v":0}]
[null,null,"Neighborhood Network-"]
[null,"Total O & M Expenses:",null,null,{"$f":"SUM(E54:E64)","v":0},{"$f":"SUM(F54:F64)","v":0},{"$f":"SUM(G54:G64)","v":0},{"$f":"SUM(H54:H64)","v":0},{"$f":"SUM(I54:I64)","v":0},0.03]
[null,"Taxes & Insurance "]
[null,6710,"Real Estate Taxes- ",null,null,null,null,null,null,0.03]
[null,6711,"Payroll Taxes (FICA)-  "]
[null,6719,"Misc. Taxes, Licenses, & Permits- "]
[null,6720,"Property & Liability Insurance- ",null,null,null,null,null,null,0.03]
[null,6721,"Fidelity Bond Insurance- "]
[null,6722,"Workmen's Compensation- "]
[null,6723,"Health Ins. & Other Emp.Benefits- "]
[null,6279,"Other Insurance- ",null,null,null,null,null,null,0.03]
[null,"Total Taxes & Insurance:",null,null,{"$f":"SUM(E67:E74)","v":0},{"$f":"SUM(F67:F74)","v":0},{"$f":"SUM(G67:G74)","v":0},{"$f":"SUM(H67:H74)","v":0},{"$f":"SUM(I67:I74)","v":0}]
[]
[null,"TOTAL OPERATING EXPENSES:",null,null,{"$f":"E41+E49+E65+E75","v":0},{"$f":"F41+F49+F65+F75","v":0},{"$f":"G41+G49+G65+G75","v":0},{"$f":"H41+H49+H65+H75","v":0},{"$f":"I41+I49+I65+I75","v":0}]
[]
[null,"NET OPERATING INCOME:",null,null,{"$f":"E26-E77","v":0},{"$f":"F26-F77","v":0},{"$f":"G26-G77","v":0},{"$f":"H26-H77","v":0},{"$f":"I26-I77","v":0}]
[]
[null,"Replacement Reserves",null,null,null,null,null,null,{"$f":"300*'Primary Input'!E91","v":0},0.03]
[]
[null,"ADJUSTED NET OPERATING INCOME",null,null,{"$f":"E79-E81","v":0},{"$f":"F79-F81","v":0},{"$f":"G79-G81","v":0},{"$f":"H79-H81","v":0},{"$f":"I79-I81","v":0}]
[]
[null,"DEBT SERVICE"]
[null,"FIRST MORTGAGE DEBT SERVICE:",null,null,null,null,null,null,{"$f":"+'Loan Information'!E12","v":0}]
[null,"SECOND MORTGAGE DEBT SERVICE:",null,null,null,null,null,null,{"$f":"+'Loan Information'!E29","v":0}]
[]
[null,"CASH FLOW AVAILABLE",null,null,{"$f":"+E83-E85-E86-E87","v":0},{"$f":"+F83-F85-F86-F87","v":0},{"$f":"+G83-G85-G86-G87","v":0},{"$f":"+H83-H85-H86-H87","v":0},{"$f":"+I83-I85-I86-I87","v":0}]
[]
[null,null,null,null,{"$f":"MAX(0,+E89-10000)","v":0},{"$f":"MAX(0,+F89-10000)","v":0},{"$f":"MAX(0,+G89-10000)","v":0},{"$f":"MAX(0,+H89-10000)","v":0}]
[]
[0.75,"HOME FUNDS DEBT SERVICE",null,0.5,{"$f":"+E91*$D93","v":0},{"$f":"+F91*$D93","v":0},{"$f":"+G91*$D93","v":0},{"$f":"+H91*$D93","v":0},{"$f":"+I89*$D93","v":0},null,null,0.5]
[0.33300000000000002,{"$f":"IF(D93<0.5, \"PROJECT MUST BE SERVING <30% AMI ONLY\",\"\")","v":""},null,null,null,null,null,null,null,null,null,0]
[null,"Distribution to Owner",null,{"$f":"1-D93","v":0.5},{"$f":"+E91-E93","v":0},{"$f":"+F91-F93","v":0},{"$f":"+G91-G93","v":0},{"$f":"+H91-H93","v":0},{"$f":"+I89-I93","v":0}]
[null,"Advance to related parties",null,null,0,0,0,0]
[]
[null,"1st Mortgage Debt Service Coverage Ratio:",null,null,{"$f":"IF(E83=0,\"0\",E83/SUM(E86:E87))","v":"0"},{"$f":"IF(F83=0,\"0\",F83/SUM(F86:F87))","v":"0"},{"$f":"IF(G83=0,\"0\",G83/SUM(G86:G87))","v":"0"},{"$f":"IF(H83=0,\"0\",H83/SUM(H86:H87))","v":"0"},{"$f":"IF((I86+I87)=0,\"0\",I83/SUM(I86:I87))","v":"0"}]

{"sheet":"Pro Forma","index":18,"n_rows":54,"n_cols":44,"rows_kept":54,"cut":false,"hidden":false,"merged":[[0,0,0,2],[0,3,0,4],[0,15,0,16],[0,25,0,26],[37,3,37,4],[37,5,37,6],[37,7,37,8],[37,9,37,10],[37,11,37,12],[37,13,37,14],[37,15,37,16],[37,29,37,30],[37,31,37,32],[38,3,38,4],[38,5,38,6],[38,7,38,8],[38,9,38,10],[38,11,38,12],[38,13,38,14],[38,15,38,16],[38,17,38,18],[37,17,37,18],[37,19,37,20],[37,21,37,22],[37,23,37,24],[37,25,37,26],[37,27,37,28],[41,21,41,22],[41,23,41,24],[41,25,41,26],[41,27,41,28],[41,29,41,30],[41,31,41,32],[38,31,38,32],[41,3,41,4],[41,5,41,6],[41,7,41,8],[41,9,41,10],[41,11,41,12],[41,13,41,14],[41,15,41,16],[41,17,41,18],[41,19,41,20],[38,19,38,20],[38,21,38,22],[38,23,38,24],[38,25,38,26],[38,27,38,28],[38,29,38,30],[42,27,42,28],[42,29,42,30],[42,31,42,32],[45,3,45,4],[45,5,45,6],[45,7,45,8],[45,9,45,10],[45,11,45,12],[45,13,45,14],[45,15,45,16],[42,15,42,16],[42,17,42,18],[42,19,42,20],[42,21,42,22],[42,23,42,24],[42,25,42,26],[42,3,42,4],[42,5,42,6],[42,7,42,8],[42,9,42,10],[42,11,42,12],[42,13,42,14],[45,29,45,30],[45,31,45,32],[46,3,46,4],[46,5,46,6],[46,7,46,8],[46,9,46,10],[46,11,46,12],[46,13,46,14],[46,15,46,16],[46,17,46,18],[45,17,45,18],[45,19,45,20],[45,21,45,22],[45,23,45,24],[45,25,45,26],[45,27,45,28],[47,27,47,28],[47,29,47,30],[47,31,47,32],[46,31,46,32],[46,19,46,20],[46,21,46,22],[46,23,46,24],[46,25,46,26],[46,27,46,28],[46,29,46,30],[48,25,48,26],[48,3,48,4],[48,5,48,6],[48,7,48,8],[48,9,48,10],[48,11,48,12],[48,13,48,14],[47,21,47,22],[47,23,47,24],[47,25,47,26],[47,3,47,4],[47,5,47,6],[47,7,47,8],[47,9,47,10],[47,11,47,12],[47,13,47,14],[47,15,47,16],[47,17,47,18],[47,19,47,20],[49,29,49,30],[49,31,49,32],[35,1,35,2],[49,17,49,18],[49,19,49,20],[49,21,49,22],[49,23,49,24],[49,25,49,26],[49,27,49,28],[48,27,48,28],[48,29,48,30],[48,31,48,32],[49,3,49,4],[49,5,49,6],[49,7,49,8],[49,9,49,10],[49,11,49,12],[49,13,49,14],[49,15,49,16],[48,15,48,16],[48,17,48,18],[48,19,48,20],[48,21,48,22],[48,23,48,24],[37,33,37,34],[38,33,38,34],[41,33,41,34],[42,33,42,34],[45,33,45,34],[46,33,46,34],[47,33,47,34],[48,33,48,34],[49,33,49,34],[37,35,37,36],[38,35,38,36],[41,35,41,36],[42,35,42,36],[45,35,45,36],[46,35,46,36],[47,35,47,36],[48,35,48,36],[49,35,49,36],[37,37,37,38],[38,37,38,38],[41,37,41,38],[42,37,42,38],[45,37,45,38],[46,37,46,38],[47,37,47,38],[48,37,48,38],[49,37,49,38],[37,39,37,40],[38,39,38,40],[41,39,41,40],[42,39,42,40],[45,39,45,40],[46,39,46,40],[47,39,47,40],[48,39,48,40],[49,39,49,40],[37,41,37,42],[38,41,38,42],[41,41,41,42],[42,41,42,42],[45,41,45,42],[46,41,46,42],[47,41,47,42],[48,41,48,42],[49,41,49,42]]}
["Pro Forma",null,null,{"$f":"+Cover!E10","v":0},null,null,null,null,null,null,null,null,null,null,null,{"$f":"+Cover!E10","v":0},null,null,null,null,null,null,null,null,null,{"$f":"+Cover!E10","v":0}]
[null,null,null,1,null,{"$f":"D2+1","v":2},null,{"$f":"F2+1","v":3},null,{"$f":"H2+1","v":4},null,{"$f":"J2+1","v":5},null,{"$f":"L2+1","v":6},null,{"$f":"N2+1","v":7},null,{"$f":"P2+1","v":8},null,{"$f":"R2+1","v":9},null,{"$f":"T2+1","v":10},null,{"$f":"V2+1","v":11},null,{"$f":"X2+1","v":12},null,{"$f":"Z2+1","v":13},null,{"$f":"AB2+1","v":14},null,{"$f":"AD2+1","v":15},null,{"$f":"AF2+1","v":16},null,{"$f":"AH2+1","v":17},null,{"$f":"AJ2+1","v":18},null,{"$f":"AL2+1","v":19},null,{"$f":"AN2+1","v":20}]
[null,null,null,"$Amt","$/Unit","$ Amt","$/Unit","$ Amt","$/Unit","$ Amt","$/Unit","$ Amt","$/Unit","$ Amt","$/Unit","$ Amt","$/Unit","$ Amt","$/Unit","$ Amt","$/Unit","$ Amt","$/Unit","$ Amt","$/Unit","$ Amt","$/Unit","$ Amt","$/Unit","$ Amt","$/Unit","$ Amt","$/Unit","$ Amt","$/Unit","$ Amt","$/Unit","$ Amt","$/Unit","$ Amt","$/Unit","$ Amt","$/Unit"]
[null,"Income"]
[null,"     Total Rental Income:",null,{"$f":"+'Pro Forma Calculation'!I11","v":0},{"$f":"IF(D5=0,0,D5/'Primary Input'!$J$32)","v":0},{"$f":"+D5*(1+'Pro Forma Calculation'!$J$11)","v":0},{"$f":"IF(F5=0,0,F5/'Primary Input'!$J$32)","v":0},{"$f":"+F5*(1+'Pro Forma Calculation'!$J$11)","v":0},{"$f":"IF(H5=0,0,H5/'Primary Input'!$J$32)","v":0},{"$f":"+H5*(1+'Pro Forma Calculation'!$J$11)","v":0},{"$f":"IF(J5=0,0,J5/'Primary Input'!$J$32)","v":0},{"$f":"+J5*(1+'Pro Forma Calculation'!$J$11)","v":0},{"$f":"IF(L5=0,0,L5/'Primary Input'!$J$32)","v":0},{"$f":"+L5*(1+'Pro Forma Calculation'!$J$11)","v":0},{"$f":"IF(N5=0,0,N5/'Primary Input'!$J$32)","v":0},{"$f":"+N5*(1+'Pro Forma Calculation'!$J$11)","v":0},{"$f":"IF(P5=0,0,P5/'Primary Input'!$J$32)","v":0},{"$f":"+P5*(1+'Pro Forma Calculation'!$J$11)","v":0},{"$f":"IF(R5=0,0,R5/'Primary Input'!$J$32)","v":0},{"$f":"+R5*(1+'Pro Forma Calculation'!$J$11)","v":0},{"$f":"IF(T5=0,0,T5/'Primary Input'!$J$32)","v":0},{"$f":"+T5*(1+'Pro Forma Calculation'!$J$11)","v":0},{"$f":"IF(V5=0,0,V5/'Primary Input'!$J$32)","v":0},{"$f":"+V5*(1+'Pro Forma Calculation'!$J$11)","v":0},{"$f":"IF(X5=0,0,X5/'Primary Input'!$J$32)","v":0},{"$f":"+X5*(1+'Pro Forma Calculation'!$J$11)","v":0},{"$f":"IF(Z5=0,0,Z5/'Primary Input'!$J$32)","v":0},{"$f":"+Z5*(1+'Pro Forma Calculation'!$J$11)","v":0},{"$f":"IF(AB5=0,0,AB5/'Primary Input'!$J$32)","v":0},{"$f":"+AB5*(1+'Pro Forma Calculation'!$J$11)","v":0},{"$f":"IF(AD5=0,0,AD5/'Primary Input'!$J$32)","v":0},{"$f":"+AD5*(1+'Pro Forma Calculation'!$J$11)","v":0},{"$f":"IF(AF5=0,0,AF5/'Primary Input'!$J$32)","v":0},{"$f":"+AF5*(1+'Pro Forma Calculation'!$J$11)","v":0},{"$f":"IF(AH5=0,0,AH5/'Primary Input'!$J$32)","v":0},{"$f":"+AH5*(1+'Pro Forma Calculation'!$J$11)","v":0},{"$f":"IF(AJ5=0,0,AJ5/'Primary Input'!$J$32)","v":0},{"$f":"+AJ5*(1+'Pro Forma Calculation'!$J$11)","v":0},{"$f":"IF(AL5=0,0,AL5/'Primary Input'!$J$32)","v":0},{"$f":"+AL5*(1+'Pro Forma Calculation'!$J$11)","v":0},{"$f":"IF(AN5=0,0,AN5/'Primary Input'!$J$32)","v":0},{"$f":"+AN5*(1+'Pro Forma Calculation'!$J$11)","v":0},{"$f":"IF(AP5=0,0,AP5/'Primary Input'!$J$32)","v":0}]
[null,"     Total Vacancy",null,{"$f":"+'Pro Forma Calculation'!I17","v":0},{"$f":"IF(D6=0,0,D6/'Primary Input'!$J$32)","v":0},{"$f":"+D6*(1+'Pro Forma Calculation'!$J$11)","v":0},{"$f":"IF(F6=0,0,F6/'Primary Input'!$J$32)","v":0},{"$f":"+F6*(1+'Pro Forma Calculation'!$J$11)","v":0},{"$f":"IF(H6=0,0,H6/'Primary Input'!$J$32)","v":0},{"$f":"+H6*(1+'Pro Forma Calculation'!$J$11)","v":0},{"$f":"IF(J6=0,0,J6/'Primary Input'!$J$32)","v":0},{"$f":"+J6*(1+'Pro Forma Calculation'!$J$11)","v":0},{"$f":"IF(L6=0,0,L6/'Primary Input'!$J$32)","v":0},{"$f":"+L6*(1+'Pro Forma Calculation'!$J$11)","v":0},{"$f":"IF(N6=0,0,N6/'Primary Input'!$J$32)","v":0},{"$f":"+N6*(1+'Pro Forma Calculation'!$J$11)","v":0},{"$f":"IF(P6=0,0,P6/'Primary Input'!$J$32)","v":0},{"$f":"+P6*(1+'Pro Forma Calculation'!$J$11)","v":0},{"$f":"IF(R6=0,0,R6/'Primary Input'!$J$32)","v":0},{"$f":"+R6*(1+'Pro Forma Calculation'!$J$11)","v":0},{"$f":"IF(T6=0,0,T6/'Primary Input'!$J$32)","v":0},{"$f":"+T6*(1+'Pro Forma Calculation'!$J$11)","v":0},{"$f":"IF(V6=0,0,V6/'Primary Input'!$J$32)","v":0},{"$f":"+V6*(1+'Pro Forma Calculation'!$J$11)","v":0},{"$f":"IF(X6=0,0,X6/'Primary Input'!$J$32)","v":0},{"$f":"+X6*(1+'Pro Forma Calculation'!$J$11)","v":0},{"$f":"IF(Z6=0,0,Z6/'Primary Input'!$J$32)","v":0},{"$f":"+Z6*(1+'Pro Forma Calculation'!$J$11)","v":0},{"$f":"IF(AB6=0,0,AB6/'Primary Input'!$J$32)","v":0},{"$f":"+AB6*(1+'Pro Forma Calculation'!$J$11)","v":0},{"$f":"IF(AD6=0,0,AD6/'Primary Input'!$J$32)","v":0},{"$f":"+AD6*(1+'Pro Forma Calculation'!$J$11)","v":0},{"$f":"IF(AF6=0,0,AF6/'Primary Input'!$J$32)","v":0},{"$f":"+AF6*(1+'Pro Forma Calculation'!$J$11)","v":0},{"$f":"IF(AH6=0,0,AH6/'Primary Input'!$J$32)","v":0},{"$f":"+AH6*(1+'Pro Forma Calculation'!$J$11)","v":0},{"$f":"IF(AJ6=0,0,AJ6/'Primary Input'!$J$32)","v":0},{"$f":"+AJ6*(1+'Pro Forma Calculation'!$J$11)","v":0},{"$f":"IF(AL6=0,0,AL6/'Primary Input'!$J$32)","v":0},{"$f":"+AL6*(1+'Pro Forma Calculation'!$J$11)","v":0},{"$f":"IF(AN6=0,0,AN6/'Primary Input'!$J$32)","v":0},{"$f":"+AN6*(1+'Pro Forma Calculation'!$J$11)","v":0},{"$f":"IF(AP6=0,0,AP6/'Primary Input'!$J$32)","v":0}]
[null,"     Total Other Income:",null,{"$f":"+'Pro Forma Calculation'!I25","v":0},{"$f":"IF(D7=0,0,D7/'Primary Input'!$J$32)","v":0},{"$f":"+D7*(1+'Pro Forma Calculation'!$J$25)","v":0},{"$f":"IF(F7=0,0,F7/'Primary Input'!$J$32)","v":0},{"$f":"+F7*(1+'Pro Forma Calculation'!$J$25)","v":0},{"$f":"IF(H7=0,0,H7/'Primary Input'!$J$32)","v":0},{"$f":"+H7*(1+'Pro Forma Calculation'!$J$25)","v":0},{"$f":"IF(J7=0,0,J7/'Primary Input'!$J$32)","v":0},{"$f":"+J7*(1+'Pro Forma Calculation'!$J$25)","v":0},{"$f":"IF(L7=0,0,L7/'Primary Input'!$J$32)","v":0},{"$f":"+L7*(1+'Pro Forma Calculation'!$J$25)","v":0},{"$f":"IF(N7=0,0,N7/'Primary Input'!$J$32)","v":0},{"$f":"+N7*(1+'Pro Forma Calculation'!$J$25)","v":0},{"$f":"IF(P7=0,0,P7/'Primary Input'!$J$32)","v":0},{"$f":"+P7*(1+'Pro Forma Calculation'!$J$25)","v":0},{"$f":"IF(R7=0,0,R7/'Primary Input'!$J$32)","v":0},{"$f":"+R7*(1+'Pro Forma Calculation'!$J$25)","v":0},{"$f":"IF(T7=0,0,T7/'Primary Input'!$J$32)","v":0},{"$f":"+T7*(1+'Pro Forma Calculation'!$J$25)","v":0},{"$f":"IF(V7=0,0,V7/'Primary Input'!$J$32)","v":0},{"$f":"+V7*(1+'Pro Forma Calculation'!$J$25)","v":0},{"$f":"IF(X7=0,0,X7/'Primary Input'!$J$32)","v":0},{"$f":"+X7*(1+'Pro Forma Calculation'!$J$25)","v":0},{"$f":"IF(Z7=0,0,Z7/'Primary Input'!$J$32)","v":0},{"$f":"+Z7*(1+'Pro Forma Calculation'!$J$25)","v":0},{"$f":"IF(AB7=0,0,AB7/'Primary Input'!$J$32)","v":0},{"$f":"+AB7*(1+'Pro Forma Calculation'!$J$25)","v":0},{"$f":"IF(AD7=0,0,AD7/'Primary Input'!$J$32)","v":0},{"$f":"+AD7*(1+'Pro Forma Calculation'!$J$25)","v":0},{"$f":"IF(AF7=0,0,AF7/'Primary Input'!$J$32)","v":0},{"$f":"+AF7*(1+'Pro Forma Calculation'!$J$25)","v":0},{"$f":"IF(AH7=0,0,AH7/'Primary Input'!$J$32)","v":0},{"$f":"+AH7*(1+'Pro Forma Calculation'!$J$25)","v":0},{"$f":"IF(AJ7=0,0,AJ7/'Primary Input'!$J$32)","v":0},{"$f":"+AJ7*(1+'Pro Forma Calculation'!$J$25)","v":0},{"$f":"IF(AL7=0,0,AL7/'Primary Input'!$J$32)","v":0},{"$f":"+AL7*(1+'Pro Forma Calculation'!$J$25)","v":0},{"$f":"IF(AN7=0,0,AN7/'Primary Input'!$J$32)","v":0},{"$f":"+AN7*(1+'Pro Forma Calculation'!$J$25)","v":0},{"$f":"IF(AP7=0,0,AP7/'Primary Input'!$J$32)","v":0}]
[]
[null,"Effective Gross Income (EGI)",null,{"$f":"SUM(D5:D7)","v":0},{"$f":"IF(D9=0,0,D9/'Primary Input'!$J$32)","v":0},{"$f":"SUM(F5:F7)","v":0},{"$f":"IF(F9=0,0,F9/'Primary Input'!$J$32)","v":0},{"$f":"SUM(H5:H7)","v":0},{"$f":"IF(H9=0,0,H9/'Primary Input'!$J$32)","v":0},{"$f":"SUM(J5:J7)","v":0},{"$f":"IF(J9=0,0,J9/'Primary Input'!$J$32)","v":0},{"$f":"SUM(L5:L7)","v":0},{"$f":"IF(L9=0,0,L9/'Primary Input'!$J$32)","v":0},{"$f":"SUM(N5:N7)","v":0},{"$f":"IF(N9=0,0,N9/'Primary Input'!$J$32)","v":0},{"$f":"SUM(P5:P7)","v":0},{"$f":"IF(P9=0,0,P9/'Primary Input'!$J$32)","v":0},{"$f":"SUM(R5:R7)","v":0},{"$f":"IF(R9=0,0,R9/'Primary Input'!$J$32)","v":0},{"$f":"SUM(T5:T7)","v":0},{"$f":"IF(T9=0,0,T9/'Primary Input'!$J$32)","v":0},{"$f":"SUM(V5:V7)","v":0},{"$f":"IF(V9=0,0,V9/'Primary Input'!$J$32)","v":0},{"$f":"SUM(X5:X7)","v":0},{"$f":"IF(X9=0,0,X9/'Primary Input'!$J$32)","v":0},{"$f":"SUM(Z5:Z7)","v":0},{"$f":"IF(Z9=0,0,Z9/'Primary Input'!$J$32)","v":0},{"$f":"SUM(AB5:AB7)","v":0},{"$f":"IF(AB9=0,0,AB9/'Primary Input'!$J$32)","v":0},{"$f":"SUM(AD5:AD7)","v":0},{"$f":"IF(AD9=0,0,AD9/'Primary Input'!$J$32)","v":0},{"$f":"SUM(AF5:AF7)","v":0},{"$f":"IF(AF9=0,0,AF9/'Primary Input'!$J$32)","v":0},{"$f":"SUM(AH5:AH7)","v":0},{"$f":"IF(AH9=0,0,AH9/'Primary Input'!$J$32)","v":0},{"$f":"SUM(AJ5:AJ7)","v":0},{"$f":"IF(AJ9=0,0,AJ9/'Primary Input'!$J$32)","v":0},{"$f":"SUM(AL5:AL7)","v":0},{"$f":"IF(AL9=0,0,AL9/'Primary Input'!$J$32)","v":0},{"$f":"SUM(AN5:AN7)","v":0},{"$f":"IF(AN9=0,0,AN9/'Primary Input'!$J$32)","v":0},{"$f":"SUM(AP5:AP7)","v":0},{"$f":"IF(AP9=0,0,AP9/'Primary Input'!$J$32)","v":0}]
[]
[null,"Expenses"]
[null,"     Management Fees",null,{"$f":"+'Pro Forma Calculation'!I33","v":0},{"$f":"IF(D12=0,0,D12/'Primary Input'!$J$32)","v":0},{"$f":"+D12*(1+'Pro Forma Calculation'!$J$33)","v":0},{"$f":"IF(F12=0,0,F12/'Primary Input'!$J$32)","v":0},{"$f":"+F12*(1+'Pro Forma Calculation'!$J$33)","v":0},{"$f":"IF(H12=0,0,H12/'Primary Input'!$J$32)","v":0},{"$f":"+H12*(1+'Pro Forma Calculation'!$J$33)","v":0},{"$f":"IF(J12=0,0,J12/'Primary Input'!$J$32)","v":0},{"$f":"+J12*(1+'Pro Forma Calculation'!$J$33)","v":0},{"$f":"IF(L12=0,0,L12/'Primary Input'!$J$32)","v":0},{"$f":"+L12*(1+'Pro Forma Calculation'!$J$33)","v":0},{"$f":"IF(N12=0,0,N12/'Primary Input'!$J$32)","v":0},{"$f":"+N12*(1+'Pro Forma Calculation'!$J$33)","v":0},{"$f":"IF(P12=0,0,P12/'Primary Input'!$J$32)","v":0},{"$f":"+P12*(1+'Pro Forma Calculation'!$J$33)","v":0},{"$f":"IF(R12=0,0,R12/'Primary Input'!$J$32)","v":0},{"$f":"+R12*(1+'Pro Forma Calculation'!$J$33)","v":0},{"$f":"IF(T12=0,0,T12/'Primary Input'!$J$32)","v":0},{"$f":"+T12*(1+'Pro Forma Calculation'!$J$33)","v":0},{"$f":"IF(V12=0,0,V12/'Primary Input'!$J$32)","v":0},{"$f":"+V12*(1+'Pro Forma Calculation'!$J$33)","v":0},{"$f":"IF(X12=0,0,X12/'Primary Input'!$J$32)","v":0},{"$f":"+X12*(1+'Pro Forma Calculation'!$J$33)","v":0},{"$f":"IF(Z12=0,0,Z12/'Primary Input'!$J$32)","v":0},{"$f":"+Z12*(1+'Pro Forma Calculation'!$J$33)","v":0},{"$f":"IF(AB12=0,0,AB12/'Primary Input'!$J$32)","v":0},{"$f":"+AB12*(1+'Pro Forma Calculation'!$J$33)","v":0},{"$f":"IF(AD12=0,0,AD12/'Primary Input'!$J$32)","v":0},{"$f":"+AD12*(1+'Pro Forma Calculation'!$J$33)","v":0},{"$f":"IF(AF12=0,0,AF12/'Primary Input'!$J$32)","v":0},{"$f":"+AF12*(1+'Pro Forma Calculation'!$J$33)","v":0},{"$f":"IF(AH12=0,0,AH12/'Primary Input'!$J$32)","v":0},{"$f":"+AH12*(1+'Pro Forma Calculation'!$J$33)","v":0},{"$f":"IF(AJ12=0,0,AJ12/'Primary Input'!$J$32)","v":0},{"$f":"+AJ12*(1+'Pro Forma Calculation'!$J$33)","v":0},{"$f":"IF(AL12=0,0,AL12/'Primary Input'!$J$32)","v":0},{"$f":"+AL12*(1+'Pro Forma Calculation'!$J$33)","v":0},{"$f":"IF(AN12=0,0,AN12/'Primary Input'!$J$32)","v":0},{"$f":"+AN12*(1+'Pro Forma Calculation'!$J$33)","v":0},{"$f":"IF(AP12=0,0,AP12/'Primary Input'!$J$32)","v":0}]
[null,"     Other Administrative",null,{"$f":"+'Pro Forma Calculation'!I40","v":0},{"$f":"IF(D13=0,0,D13/'Primary Input'!$J$32)","v":0},{"$f":"+D13*(1+'Pro Forma Calculation'!$J$40)","v":0},{"$f":"IF(F13=0,0,F13/'Primary Input'!$J$32)","v":0},{"$f":"+F13*(1+'Pro Forma Calculation'!$J$40)","v":0},{"$f":"IF(H13=0,0,H13/'Primary Input'!$J$32)","v":0},{"$f":"+H13*(1+'Pro Forma Calculation'!$J$40)","v":0},{"$f":"IF(J13=0,0,J13/'Primary Input'!$J$32)","v":0},{"$f":"+J13*(1+'Pro Forma Calculation'!$J$40)","v":0},{"$f":"IF(L13=0,0,L13/'Primary Input'!$J$32)","v":0},{"$f":"+L13*(1+'Pro Forma Calculation'!$J$40)","v":0},{"$f":"IF(N13=0,0,N13/'Primary Input'!$J$32)","v":0},{"$f":"+N13*(1+'Pro Forma Calculation'!$J$40)","v":0},{"$f":"IF(P13=0,0,P13/'Primary Input'!$J$32)","v":0},{"$f":"+P13*(1+'Pro Forma Calculation'!$J$40)","v":0},{"$f":"IF(R13=0,0,R13/'Primary Input'!$J$32)","v":0},{"$f":"+R13*(1+'Pro Forma Calculation'!$J$40)","v":0},{"$f":"IF(T13=0,0,T13/'Primary Input'!$J$32)","v":0},{"$f":"+T13*(1+'Pro Forma Calculation'!$J$40)","v":0},{"$f":"IF(V13=0,0,V13/'Primary Input'!$J$32)","v":0},{"$f":"+V13*(1+'Pro Forma Calculation'!$J$40)","v":0},{"$f":"IF(X13=0,0,X13/'Primary Input'!$J$32)","v":0},{"$f":"+X13*(1+'Pro Forma Calculation'!$J$40)","v":0},{"$f":"IF(Z13=0,0,Z13/'Primary Input'!$J$32)","v":0},{"$f":"+Z13*(1+'Pro Forma Calculation'!$J$40)","v":0},{"$f":"IF(AB13=0,0,AB13/'Primary Input'!$J$32)","v":0},{"$f":"+AB13*(1+'Pro Forma Calculation'!$J$40)","v":0},{"$f":"IF(AD13=0,0,AD13/'Primary Input'!$J$32)","v":0},{"$f":"+AD13*(1+'Pro Forma Calculation'!$J$40)","v":0},{"$f":"IF(AF13=0,0,AF13/'Primary Input'!$J$32)","v":0},{"$f":"+AF13*(1+'Pro Forma Calculation'!$J$40)","v":0},{"$f":"IF(AH13=0,0,AH13/'Primary Input'!$J$32)","v":0},{"$f":"+AH13*(1+'Pro Forma Calculation'!$J$40)","v":0},{"$f":"IF(AJ13=0,0,AJ13/'Primary Input'!$J$32)","v":0},{"$f":"+AJ13*(1+'Pro Forma Calculation'!$J$40)","v":0},{"$f":"IF(AL13=0,0,AL13/'Primary Input'!$J$32)","v":0},{"$f":"+AL13*(1+'Pro Forma Calculation'!$J$40)","v":0},{"$f":"IF(AN13=0,0,AN13/'Primary Input'!$J$32)","v":0},{"$f":"+AN13*(1+'Pro Forma Calculation'!$J$40)","v":0},{"$f":"IF(AP13=0,0,AP13/'Primary Input'!$J$32)","v":0}]
[null,"     Total Utility Expense",null,{"$f":"+'Pro Forma Calculation'!I49","v":0},{"$f":"IF(D14=0,0,D14/'Primary Input'!$J$32)","v":0},{"$f":"+D14*(1+'Pro Forma Calculation'!$J$49)","v":0},{"$f":"IF(F14=0,0,F14/'Primary Input'!$J$32)","v":0},{"$f":"+F14*(1+'Pro Forma Calculation'!$J$49)","v":0},{"$f":"IF(H14=0,0,H14/'Primary Input'!$J$32)","v":0},{"$f":"+H14*(1+'Pro Forma Calculation'!$J$49)","v":0},{"$f":"IF(J14=0,0,J14/'Primary Input'!$J$32)","v":0},{"$f":"+J14*(1+'Pro Forma Calculation'!$J$49)","v":0},{"$f":"IF(L14=0,0,L14/'Primary Input'!$J$32)","v":0},{"$f":"+L14*(1+'Pro Forma Calculation'!$J$49)","v":0},{"$f":"IF(N14=0,0,N14/'Primary Input'!$J$32)","v":0},{"$f":"+N14*(1+'Pro Forma Calculation'!$J$49)","v":0},{"$f":"IF(P14=0,0,P14/'Primary Input'!$J$32)","v":0},{"$f":"+P14*(1+'Pro Forma Calculation'!$J$49)","v":0},{"$f":"IF(R14=0,0,R14/'Primary Input'!$J$32)","v":0},{"$f":"+R14*(1+'Pro Forma Calculation'!$J$49)","v":0},{"$f":"IF(T14=0,0,T14/'Primary Input'!$J$32)","v":0},{"$f":"+T14*(1+'Pro Forma Calculation'!$J$49)","v":0},{"$f":"IF(V14=0,0,V14/'Primary Input'!$J$32)","v":0},{"$f":"+V14*(1+'Pro Forma Calculation'!$J$49)","v":0},{"$f":"IF(X14=0,0,X14/'Primary Input'!$J$32)","v":0},{"$f":"+X14*(1+'Pro Forma Calculation'!$J$49)","v":0},{"$f":"IF(Z14=0,0,Z14/'Primary Input'!$J$32)","v":0},{"$f":"+Z14*(1+'Pro Forma Calculation'!$J$49)","v":0},{"$f":"IF(AB14=0,0,AB14/'Primary Input'!$J$32)","v":0},{"$f":"+AB14*(1+'Pro Forma Calculation'!$J$49)","v":0},{"$f":"IF(AD14=0,0,AD14/'Primary Input'!$J$32)","v":0},{"$f":"+AD14*(1+'Pro Forma Calculation'!$J$49)","v":0},{"$f":"IF(AF14=0,0,AF14/'Primary Input'!$J$32)","v":0},{"$f":"+AF14*(1+'Pro Forma Calculation'!$J$49)","v":0},{"$f":"IF(AH14=0,0,AH14/'Primary Input'!$J$32)","v":0},{"$f":"+AH14*(1+'Pro Forma Calculation'!$J$49)","v":0},{"$f":"IF(AJ14=0,0,AJ14/'Primary Input'!$J$32)","v":0},{"$f":"+AJ14*(1+'Pro Forma Calculation'!$J$49)","v":0},{"$f":"IF(AL14=0,0,AL14/'Primary Input'!$J$32)","v":0},{"$f":"+AL14*(1+'Pro Forma Calculation'!$J$49)","v":0},{"$f":"IF(AN14=0,0,AN14/'Primary Input'!$J$32)","v":0},{"$f":"+AN14*(1+'Pro Forma Calculation'!$J$49)","v":0},{"$f":"IF(AP14=0,0,AP14/'Primary Input'!$J$32)","v":0}]
[null,"     Total O&M Expense",null,{"$f":"+'Pro Forma Calculation'!I65","v":0},{"$f":"IF(D15=0,0,D15/'Primary Input'!$J$32)","v":0},{"$f":"+D15*(1+'Pro Forma Calculation'!$J$65)","v":0},{"$f":"IF(F15=0,0,F15/'Primary Input'!$J$32)","v":0},{"$f":"+F15*(1+'Pro Forma Calculation'!$J$65)","v":0},{"$f":"IF(H15=0,0,H15/'Primary Input'!$J$32)","v":0},{"$f":"+H15*(1+'Pro Forma Calculation'!$J$65)","v":0},{"$f":"IF(J15=0,0,J15/'Primary Input'!$J$32)","v":0},{"$f":"+J15*(1+'Pro Forma Calculation'!$J$65)","v":0},{"$f":"IF(L15=0,0,L15/'Primary Input'!$J$32)","v":0},{"$f":"+L15*(1+'Pro Forma Calculation'!$J$65)","v":0},{"$f":"IF(N15=0,0,N15/'Primary Input'!$J$32)","v":0},{"$f":"+N15*(1+'Pro Forma Calculation'!$J$65)","v":0},{"$f":"IF(P15=0,0,P15/'Primary Input'!$J$32)","v":0},{"$f":"+P15*(1+'Pro Forma Calculation'!$J$65)","v":0},{"$f":"IF(R15=0,0,R15/'Primary Input'!$J$32)","v":0},{"$f":"+R15*(1+'Pro Forma Calculation'!$J$65)","v":0},{"$f":"IF(T15=0,0,T15/'Primary Input'!$J$32)","v":0},{"$f":"+T15*(1+'Pro Forma Calculation'!$J$65)","v":0},{"$f":"IF(V15=0,0,V15/'Primary Input'!$J$32)","v":0},{"$f":"+V15*(1+'Pro Forma Calculation'!$J$65)","v":0},{"$f":"IF(X15=0,0,X15/'Primary Input'!$J$32)","v":0},{"$f":"+X15*(1+'Pro Forma Calculation'!$J$65)","v":0},{"$f":"IF(Z15=0,0,Z15/'Primary Input'!$J$32)","v":0},{"$f":"+Z15*(1+'Pro Forma Calculation'!$J$65)","v":0},{"$f":"IF(AB15=0,0,AB15/'Primary Input'!$J$32)","v":0},{"$f":"+AB15*(1+'Pro Forma Calculation'!$J$65)","v":0},{"$f":"IF(AD15=0,0,AD15/'Primary Input'!$J$32)","v":0},{"$f":"+AD15*(1+'Pro Forma Calculation'!$J$65)","v":0},{"$f":"IF(AF15=0,0,AF15/'Primary Input'!$J$32)","v":0},{"$f":"+AF15*(1+'Pro Forma Calculation'!$J$65)","v":0},{"$f":"IF(AH15=0,0,AH15/'Primary Input'!$J$32)","v":0},{"$f":"+AH15*(1+'Pro Forma Calculation'!$J$65)","v":0},{"$f":"IF(AJ15=0,0,AJ15/'Primary Input'!$J$32)","v":0},{"$f":"+AJ15*(1+'Pro Forma Calculation'!$J$65)","v":0},{"$f":"IF(AL15=0,0,AL15/'Primary Input'!$J$32)","v":0},{"$f":"+AL15*(1+'Pro Forma Calculation'!$J$65)","v":0},{"$f":"IF(AN15=0,0,AN15/'Primary Input'!$J$32)","v":0},{"$f":"+AN15*(1+'Pro Forma Calculation'!$J$65)","v":0},{"$f":"IF(AP15=0,0,AP15/'Primary Input'!$J$32)","v":0}]
[null,"     Real Estate Taxes",null,{"$f":"+'Pro Forma Calculation'!I67","v":0},{"$f":"IF(D16=0,0,D16/'Primary Input'!$J$32)","v":0},{"$f":"+D16*(1+'Pro Forma Calculation'!$J$67)","v":0},{"$f":"IF(F16=0,0,F16/'Primary Input'!$J$32)","v":0},{"$f":"+F16*(1+'Pro Forma Calculation'!$J$67)","v":0},{"$f":"IF(H16=0,0,H16/'Primary Input'!$J$32)","v":0},{"$f":"+H16*(1+'Pro Forma Calculation'!$J$67)","v":0},{"$f":"IF(J16=0,0,J16/'Primary Input'!$J$32)","v":0},{"$f":"+J16*(1+'Pro Forma Calculation'!$J$67)","v":0},{"$f":"IF(L16=0,0,L16/'Primary Input'!$J$32)","v":0},{"$f":"+L16*(1+'Pro Forma Calculation'!$J$67)","v":0},{"$f":"IF(N16=0,0,N16/'Primary Input'!$J$32)","v":0},{"$f":"+N16*(1+'Pro Forma Calculation'!$J$67)","v":0},{"$f":"IF(P16=0,0,P16/'Primary Input'!$J$32)","v":0},{"$f":"+P16*(1+'Pro Forma Calculation'!$J$67)","v":0},{"$f":"IF(R16=0,0,R16/'Primary Input'!$J$32)","v":0},{"$f":"+R16*(1+'Pro Forma Calculation'!$J$67)","v":0},{"$f":"IF(T16=0,0,T16/'Primary Input'!$J$32)","v":0},{"$f":"+T16*(1+'Pro Forma Calculation'!$J$67)","v":0},{"$f":"IF(V16=0,0,V16/'Primary Input'!$J$32)","v":0},{"$f":"+V16*(1+'Pro Forma Calculation'!$J$67)","v":0},{"$f":"IF(X16=0,0,X16/'Primary Input'!$J$32)","v":0},{"$f":"+X16*(1+'Pro Forma Calculation'!$J$67)","v":0},{"$f":"IF(Z16=0,0,Z16/'Primary Input'!$J$32)","v":0},{"$f":"+Z16*(1+'Pro Forma Calculation'!$J$67)","v":0},{"$f":"IF(AB16=0,0,AB16/'Primary Input'!$J$32)","v":0},{"$f":"+AB16*(1+'Pro Forma Calculation'!$J$67)","v":0},{"$f":"IF(AD16=0,0,AD16/'Primary Input'!$J$32)","v":0},{"$f":"+AD16*(1+'Pro Forma Calculation'!$J$67)","v":0},{"$f":"IF(AF16=0,0,AF16/'Primary Input'!$J$32)","v":0},{"$f":"+AF16*(1+'Pro Forma Calculation'!$J$67)","v":0},{"$f":"IF(AH16=0,0,AH16/'Primary Input'!$J$32)","v":0},{"$f":"+AH16*(1+'Pro Forma Calculation'!$J$67)","v":0},{"$f":"IF(AJ16=0,0,AJ16/'Primary Input'!$J$32)","v":0},{"$f":"+AJ16*(1+'Pro Forma Calculation'!$J$67)","v":0},{"$f":"IF(AL16=0,0,AL16/'Primary Input'!$J$32)","v":0},{"$f":"+AL16*(1+'Pro Forma Calculation'!$J$67)","v":0},{"$f":"IF(AN16=0,0,AN16/'Primary Input'!$J$32)","v":0},{"$f":"+AN16*(1+'Pro Forma Calculation'!$J$67)","v":0},{"$f":"IF(AP16=0,0,AP16/'Primary Input'!$J$32)","v":0}]
[null,"     Insurance",null,{"$f":"+'Pro Forma Calculation'!I70","v":0},{"$f":"IF(D17=0,0,D17/'Primary Input'!$J$32)","v":0},{"$f":"+D17*(1+'Pro Forma Calculation'!$J$70)","v":0},{"$f":"IF(F17=0,0,F17/'Primary Input'!$J$32)","v":0},{"$f":"+F17*(1+'Pro Forma Calculation'!$J$70)","v":0},{"$f":"IF(H17=0,0,H17/'Primary Input'!$J$32)","v":0},{"$f":"+H17*(1+'Pro Forma Calculation'!$J$70)","v":0},{"$f":"IF(J17=0,0,J17/'Primary Input'!$J$32)","v":0},{"$f":"+J17*(1+'Pro Forma Calculation'!$J$70)","v":0},{"$f":"IF(L17=0,0,L17/'Primary Input'!$J$32)","v":0},{"$f":"+L17*(1+'Pro Forma Calculation'!$J$70)","v":0},{"$f":"IF(N17=0,0,N17/'Primary Input'!$J$32)","v":0},{"$f":"+N17*(1+'Pro Forma Calculation'!$J$70)","v":0},{"$f":"IF(P17=0,0,P17/'Primary Input'!$J$32)","v":0},{"$f":"+P17*(1+'Pro Forma Calculation'!$J$70)","v":0},{"$f":"IF(R17=0,0,R17/'Primary Input'!$J$32)","v":0},{"$f":"+R17*(1+'Pro Forma Calculation'!$J$70)","v":0},{"$f":"IF(T17=0,0,T17/'Primary Input'!$J$32)","v":0},{"$f":"+T17*(1+'Pro Forma Calculation'!$J$70)","v":0},{"$f":"IF(V17=0,0,V17/'Primary Input'!$J$32)","v":0},{"$f":"+V17*(1+'Pro Forma Calculation'!$J$70)","v":0},{"$f":"IF(X17=0,0,X17/'Primary Input'!$J$32)","v":0},{"$f":"+X17*(1+'Pro Forma Calculation'!$J$70)","v":0},{"$f":"IF(Z17=0,0,Z17/'Primary Input'!$J$32)","v":0},{"$f":"+Z17*(1+'Pro Forma Calculation'!$J$70)","v":0},{"$f":"IF(AB17=0,0,AB17/'Primary Input'!$J$32)","v":0},{"$f":"+AB17*(1+'Pro Forma Calculation'!$J$70)","v":0},{"$f":"IF(AD17=0,0,AD17/'Primary Input'!$J$32)","v":0},{"$f":"+AD17*(1+'Pro Forma Calculation'!$J$70)","v":0},{"$f":"IF(AF17=0,0,AF17/'Primary Input'!$J$32)","v":0},{"$f":"+AF17*(1+'Pro Forma Calculation'!$J$70)","v":0},{"$f":"IF(AH17=0,0,AH17/'Primary Input'!$J$32)","v":0},{"$f":"+AH17*(1+'Pro Forma Calculation'!$J$70)","v":0},{"$f":"IF(AJ17=0,0,AJ17/'Primary Input'!$J$32)","v":0},{"$f":"+AJ17*(1+'Pro Forma Calculation'!$J$70)","v":0},{"$f":"IF(AL17=0,0,AL17/'Primary Input'!$J$32)","v":0},{"$f":"+AL17*(1+'Pro Forma Calculation'!$J$70)","v":0},{"$f":"IF(AN17=0,0,AN17/'Primary Input'!$J$32)","v":0},{"$f":"+AN17*(1+'Pro Forma Calculation'!$J$70)","v":0},{"$f":"IF(AP17=0,0,AP17/'Primary Input'!$J$32)","v":0}]
[null,"     All other Taxes & Insurance",null,{"$f":"+'Pro Forma Calculation'!I75-SUM(D16:D17)","v":0},{"$f":"IF(D18=0,0,D18/'Primary Input'!$J$32)","v":0},{"$f":"+D18*(1+'Pro Forma Calculation'!$J$74)","v":0},{"$f":"IF(F18=0,0,F18/'Primary Input'!$J$32)","v":0},{"$f":"+F18*(1+'Pro Forma Calculation'!$J$74)","v":0},{"$f":"IF(H18=0,0,H18/'Primary Input'!$J$32)","v":0},{"$f":"+H18*(1+'Pro Forma Calculation'!$J$74)","v":0},{"$f":"IF(J18=0,0,J18/'Primary Input'!$J$32)","v":0},{"$f":"+J18*(1+'Pro Forma Calculation'!$J$74)","v":0},{"$f":"IF(L18=0,0,L18/'Primary Input'!$J$32)","v":0},{"$f":"+L18*(1+'Pro Forma Calculation'!$J$74)","v":0},{"$f":"IF(N18=0,0,N18/'Primary Input'!$J$32)","v":0},{"$f":"+N18*(1+'Pro Forma Calculation'!$J$74)","v":0},{"$f":"IF(P18=0,0,P18/'Primary Input'!$J$32)","v":0},{"$f":"+P18*(1+'Pro Forma Calculation'!$J$74)","v":0},{"$f":"IF(R18=0,0,R18/'Primary Input'!$J$32)","v":0},{"$f":"+R18*(1+'Pro Forma Calculation'!$J$74)","v":0},{"$f":"IF(T18=0,0,T18/'Primary Input'!$J$32)","v":0},{"$f":"+T18*(1+'Pro Forma Calculation'!$J$74)","v":0},{"$f":"IF(V18=0,0,V18/'Primary Input'!$J$32)","v":0},{"$f":"+V18*(1+'Pro Forma Calculation'!$J$74)","v":0},{"$f":"IF(X18=0,0,X18/'Primary Input'!$J$32)","v":0},{"$f":"+X18*(1+'Pro Forma Calculation'!$J$74)","v":0},{"$f":"IF(Z18=0,0,Z18/'Primary Input'!$J$32)","v":0},{"$f":"+Z18*(1+'Pro Forma Calculation'!$J$74)","v":0},{"$f":"IF(AB18=0,0,AB18/'Primary Input'!$J$32)","v":0},{"$f":"+AB18*(1+'Pro Forma Calculation'!$J$74)","v":0},{"$f":"IF(AD18=0,0,AD18/'Primary Input'!$J$32)","v":0},{"$f":"+AD18*(1+'Pro Forma Calculation'!$J$74)","v":0},{"$f":"IF(AF18=0,0,AF18/'Primary Input'!$J$32)","v":0},{"$f":"+AF18*(1+'Pro Forma Calculation'!$J$74)","v":0},{"$f":"IF(AH18=0,0,AH18/'Primary Input'!$J$32)","v":0},{"$f":"+AH18*(1+'Pro Forma Calculation'!$J$74)","v":0},{"$f":"IF(AJ18=0,0,AJ18/'Primary Input'!$J$32)","v":0},{"$f":"+AJ18*(1+'Pro Forma Calculation'!$J$74)","v":0},{"$f":"IF(AL18=0,0,AL18/'Primary Input'!$J$32)","v":0},{"$f":"+AL18*(1+'Pro Forma Calculation'!$J$74)","v":0},{"$f":"IF(AN18=0,0,AN18/'Primary Input'!$J$32)","v":0},{"$f":"+AN18*(1+'Pro Forma Calculation'!$J$74)","v":0},{"$f":"IF(AP18=0,0,AP18/'Primary Input'!$J$32)","v":0}]
[]
[null,"Total Expenses",null,{"$f":"SUM(D11:D19)","v":0},{"$f":"IF(D20=0,0,D20/'Primary Input'!$J$32)","v":0},{"$f":"SUM(F12:F18)","v":0},{"$f":"IF(F20=0,0,F20/'Primary Input'!$J$32)","v":0},{"$f":"SUM(H12:H18)","v":0},{"$f":"IF(H20=0,0,H20/'Primary Input'!$J$32)","v":0},{"$f":"SUM(J12:J18)","v":0},{"$f":"IF(J20=0,0,J20/'Primary Input'!$J$32)","v":0},{"$f":"SUM(L12:L18)","v":0},{"$f":"IF(L20=0,0,L20/'Primary Input'!$J$32)","v":0},{"$f":"SUM(N12:N18)","v":0},{"$f":"IF(N20=0,0,N20/'Primary Input'!$J$32)","v":0},{"$f":"SUM(P12:P18)","v":0},{"$f":"IF(P20=0,0,P20/'Primary Input'!$J$32)","v":0},{"$f":"SUM(R12:R18)","v":0},{"$f":"IF(R20=0,0,R20/'Primary Input'!$J$32)","v":0},{"$f":"SUM(T12:T18)","v":0},{"$f":"IF(T20=0,0,T20/'Primary Input'!$J$32)","v":0},{"$f":"SUM(V12:V18)","v":0},{"$f":"IF(V20=0,0,V20/'Primary Input'!$J$32)","v":0},{"$f":"SUM(X12:X18)","v":0},{"$f":"IF(X20=0,0,X20/'Primary Input'!$J$32)","v":0},{"$f":"SUM(Z12:Z18)","v":0},{"$f":"IF(Z20=0,0,Z20/'Primary Input'!$J$32)","v":0},{"$f":"SUM(AB12:AB18)","v":0},{"$f":"IF(AB20=0,0,AB20/'Primary Input'!$J$32)","v":0},{"$f":"SUM(AD12:AD18)","v":0},{"$f":"IF(AD20=0,0,AD20/'Primary Input'!$J$32)","v":0},{"$f":"SUM(AF12:AF18)","v":0},{"$f":"IF(AF20=0,0,AF20/'Primary Input'!$J$32)","v":0},{"$f":"SUM(AH12:AH18)","v":0},{"$f":"IF(AH20=0,0,AH20/'Primary Input'!$J$32)","v":0},{"$f":"SUM(AJ12:AJ18)","v":0},{"$f":"IF(AJ20=0,0,AJ20/'Primary Input'!$J$32)","v":0},{"$f":"SUM(AL12:AL18)","v":0},{"$f":"IF(AL20=0,0,AL20/'Primary Input'!$J$32)","v":0},{"$f":"SUM(AN12:AN18)","v":0},{"$f":"IF(AN20=0,0,AN20/'Primary Input'!$J$32)","v":0},{"$f":"SUM(AP12:AP18)","v":0},{"$f":"IF(AP20=0,0,AP20/'Primary Input'!$J$32)","v":0}]
[]
[null,"Net Operating Income",null,{"$f":"+D9-D20","v":0},{"$f":"IF(D22=0,0,D22/'Primary Input'!$J$32)","v":0},{"$f":"+F9-F20","v":0},{"$f":"IF(F22=0,0,F22/'Primary Input'!$J$32)","v":0},{"$f":"+H9-H20","v":0},{"$f":"IF(H22=0,0,H22/'Primary Input'!$J$32)","v":0},{"$f":"+J9-J20","v":0},{"$f":"IF(J22=0,0,J22/'Primary Input'!$J$32)","v":0},{"$f":"+L9-L20","v":0},{"$f":"IF(L22=0,0,L22/'Primary Input'!$J$32)","v":0},{"$f":"+N9-N20","v":0},{"$f":"IF(N22=0,0,N22/'Primary Input'!$J$32)","v":0},{"$f":"+P9-P20","v":0},{"$f":"IF(P22=0,0,P22/'Primary Input'!$J$32)","v":0},{"$f":"+R9-R20","v":0},{"$f":"IF(R22=0,0,R22/'Primary Input'!$J$32)","v":0},{"$f":"+T9-T20","v":0},{"$f":"IF(T22=0,0,T22/'Primary Input'!$J$32)","v":0},{"$f":"+V9-V20","v":0},{"$f":"IF(V22=0,0,V22/'Primary Input'!$J$32)","v":0},{"$f":"+X9-X20","v":0},{"$f":"IF(X22=0,0,X22/'Primary Input'!$J$32)","v":0},{"$f":"+Z9-Z20","v":0},{"$f":"IF(Z22=0,0,Z22/'Primary Input'!$J$32)","v":0},{"$f":"+AB9-AB20","v":0},{"$f":"IF(AB22=0,0,AB22/'Primary Input'!$J$32)","v":0},{"$f":"+AD9-AD20","v":0},{"$f":"IF(AD22=0,0,AD22/'Primary Input'!$J$32)","v":0},{"$f":"+AF9-AF20","v":0},{"$f":"IF(AF22=0,0,AF22/'Primary Input'!$J$32)","v":0},{"$f":"+AH9-AH20","v":0},{"$f":"IF(AH22=0,0,AH22/'Primary Input'!$J$32)","v":0},{"$f":"+AJ9-AJ20","v":0},{"$f":"IF(AJ22=0,0,AJ22/'Primary Input'!$J$32)","v":0},{"$f":"+AL9-AL20","v":0},{"$f":"IF(AL22=0,0,AL22/'Primary Input'!$J$32)","v":0},{"$f":"+AN9-AN20","v":0},{"$f":"IF(AN22=0,0,AN22/'Primary Input'!$J$32)","v":0},{"$f":"+AP9-AP20","v":0},{"$f":"IF(AP22=0,0,AP22/'Primary Input'!$J$32)","v":0}]
[]
[null,"Replacement Reserves Contribution",null,{"$f":"+'Pro Forma Calculation'!I81","v":0},{"$f":"IF(D24=0,0,D24/'Primary Input'!$J$32)","v":0},{"$f":"+D24*(1+'Pro Forma Calculation'!$J$81)","v":0},{"$f":"IF(F24=0,0,F24/'Primary Input'!$J$32)","v":0},{"$f":"+F24*(1+'Pro Forma Calculation'!$J$81)","v":0},{"$f":"IF(H24=0,0,H24/'Primary Input'!$J$32)","v":0},{"$f":"+H24*(1+'Pro Forma Calculation'!$J$81)","v":0},{"$f":"IF(J24=0,0,J24/'Primary Input'!$J$32)","v":0},{"$f":"+J24*(1+'Pro Forma Calculation'!$J$81)","v":0},{"$f":"IF(L24=0,0,L24/'Primary Input'!$J$32)","v":0},{"$f":"+L24*(1+'Pro Forma Calculation'!$J$81)","v":0},{"$f":"IF(N24=0,0,N24/'Primary Input'!$J$32)","v":0},{"$f":"+N24*(1+'Pro Forma Calculation'!$J$81)","v":0},{"$f":"IF(P24=0,0,P24/'Primary Input'!$J$32)","v":0},{"$f":"+P24*(1+'Pro Forma Calculation'!$J$81)","v":0},{"$f":"IF(R24=0,0,R24/'Primary Input'!$J$32)","v":0},{"$f":"+R24*(1+'Pro Forma Calculation'!$J$81)","v":0},{"$f":"IF(T24=0,0,T24/'Primary Input'!$J$32)","v":0},{"$f":"+T24*(1+'Pro Forma Calculation'!$J$81)","v":0},{"$f":"IF(V24=0,0,V24/'Primary Input'!$J$32)","v":0},{"$f":"+V24*(1+'Pro Forma Calculation'!$J$81)","v":0},{"$f":"IF(X24=0,0,X24/'Primary Input'!$J$32)","v":0},{"$f":"+X24*(1+'Pro Forma Calculation'!$J$81)","v":0},{"$f":"IF(Z24=0,0,Z24/'Primary Input'!$J$32)","v":0},{"$f":"+Z24*(1+'Pro Forma Calculation'!$J$81)","v":0},{"$f":"IF(AB24=0,0,AB24/'Primary Input'!$J$32)","v":0},{"$f":"+AB24*(1+'Pro Forma Calculation'!$J$81)","v":0},{"$f":"IF(AD24=0,0,AD24/'Primary Input'!$J$32)","v":0},{"$f":"+AD24*(1+'Pro Forma Calculation'!$J$81)","v":0},{"$f":"IF(AF24=0,0,AF24/'Primary Input'!$J$32)","v":0},{"$f":"+AF24*(1+'Pro Forma Calculation'!$J$81)","v":0},{"$f":"IF(AH24=0,0,AH24/'Primary Input'!$J$32)","v":0},{"$f":"+AH24*(1+'Pro Forma Calculation'!$J$81)","v":0},{"$f":"IF(AJ24=0,0,AJ24/'Primary Input'!$J$32)","v":0},{"$f":"+AJ24*(1+'Pro Forma Calculation'!$J$81)","v":0},{"$f":"IF(AL24=0,0,AL24/'Primary Input'!$J$32)","v":0},{"$f":"+AL24*(1+'Pro Forma Calculation'!$J$81)","v":0},{"$f":"IF(AN24=0,0,AN24/'Primary Input'!$J$32)","v":0},{"$f":"+AN24*(1+'Pro Forma Calculation'!$J$81)","v":0},{"$f":"IF(AP24=0,0,AP24/'Primary Input'!$J$32)","v":0}]
[null,"Developer Fee Repayment",null,null,{"$f":"IF(D25=0,0,D25/'Primary Input'!$J$32)","v":0},null,{"$f":"IF(F25=0,0,F25/'Primary Input'!$J$32)","v":0},null,{"$f":"IF(H25=0,0,H25/'Primary Input'!$J$32)","v":0},null,{"$f":"IF(J25=0,0,J25/'Primary Input'!$J$32)","v":0},null,{"$f":"IF(L25=0,0,L25/'Primary Input'!$J$32)","v":0},null,{"$f":"IF(N25=0,0,N25/'Primary Input'!$J$32)","v":0},null,{"$f":"IF(P25=0,0,P25/'Primary Input'!$J$32)","v":0},null,{"$f":"IF(R25=0,0,R25/'Primary Input'!$J$32)","v":0},null,{"$f":"IF(T25=0,0,T25/'Primary Input'!$J$32)","v":0},null,{"$f":"IF(V25=0,0,V25/'Primary Input'!$J$32)","v":0}]
[]
[null,"Adjusted Net Operating Income",null,{"$f":"D22-D24-D25","v":0},{"$f":"IF(D27=0,0,D27/'Primary Input'!$J$32)","v":0},{"$f":"F22-F24-F25","v":0},{"$f":"IF(F27=0,0,F27/'Primary Input'!$J$32)","v":0},{"$f":"H22-H24-H25","v":0},{"$f":"IF(H27=0,0,H27/'Primary Input'!$J$32)","v":0},{"$f":"J22-J24-J25","v":0},{"$f":"IF(J27=0,0,J27/'Primary Input'!$J$32)","v":0},{"$f":"L22-L24-L25","v":0},{"$f":"IF(L27=0,0,L27/'Primary Input'!$J$32)","v":0},{"$f":"N22-N24-N25","v":0},{"$f":"IF(N27=0,0,N27/'Primary Input'!$J$32)","v":0},{"$f":"P22-P24-P25","v":0},{"$f":"IF(P27=0,0,P27/'Primary Input'!$J$32)","v":0},{"$f":"R22-R24-R25","v":0},{"$f":"IF(R27=0,0,R27/'Primary Input'!$J$32)","v":0},{"$f":"T22-T24-T25","v":0},{"$f":"IF(T27=0,0,T27/'Primary Input'!$J$32)","v":0},{"$f":"V22-V24-V25","v":0},{"$f":"IF(V27=0,0,V27/'Primary Input'!$J$32)","v":0},{"$f":"X22-X24","v":0},{"$f":"IF(X27=0,0,X27/'Primary Input'!$J$32)","v":0},{"$f":"Z22-Z24","v":0},{"$f":"IF(Z27=0,0,Z27/'Primary Input'!$J$32)","v":0},{"$f":"AB22-AB24","v":0},{"$f":"IF(AB27=0,0,AB27/'Primary Input'!$J$32)","v":0},{"$f":"AD22-AD24","v":0},{"$f":"IF(AD27=0,0,AD27/'Primary Input'!$J$32)","v":0},{"$f":"AF22-AF24","v":0},{"$f":"IF(AF27=0,0,AF27/'Primary Input'!$J$32)","v":0},{"$f":"AH22-AH24","v":0},{"$f":"IF(AH27=0,0,AH27/'Primary Input'!$J$32)","v":0},{"$f":"AJ22-AJ24","v":0},{"$f":"IF(AJ27=0,0,AJ27/'Primary Input'!$J$32)","v":0},{"$f":"AL22-AL24","v":0},{"$f":"IF(AL27=0,0,AL27/'Primary Input'!$J$32)","v":0},{"$f":"AN22-AN24","v":0},{"$f":"IF(AN27=0,0,AN27/'Primary Input'!$J$32)","v":0},{"$f":"AP22-AP24","v":0},{"$f":"IF(AP27=0,0,AP27/'Primary Input'!$J$32)","v":0}]
[]
[null," Debt Service"]
[null,"     1st Mortgage ",null,{"$f":"+'Pro Forma Calculation'!I86","v":0},{"$f":"IF(D30=0,0,D30/'Primary Input'!$J$32)","v":0},{"$f":"+D30","v":0},{"$f":"IF(F30=0,0,F30/'Primary Input'!$J$32)","v":0},{"$f":"+F30","v":0},{"$f":"IF(H30=0,0,H30/'Primary Input'!$J$32)","v":0},{"$f":"+H30","v":0},{"$f":"IF(J30=0,0,J30/'Primary Input'!$J$32)","v":0},{"$f":"+J30","v":0},{"$f":"IF(L30=0,0,L30/'Primary Input'!$J$32)","v":0},{"$f":"+L30","v":0},{"$f":"IF(N30=0,0,N30/'Primary Input'!$J$32)","v":0},{"$f":"+N30","v":0},{"$f":"IF(P30=0,0,P30/'Primary Input'!$J$32)","v":0},{"$f":"+P30","v":0},{"$f":"IF(R30=0,0,R30/'Primary Input'!$J$32)","v":0},{"$f":"+R30","v":0},{"$f":"IF(T30=0,0,T30/'Primary Input'!$J$32)","v":0},{"$f":"+T30","v":0},{"$f":"IF(V30=0,0,V30/'Primary Input'!$J$32)","v":0},{"$f":"+V30","v":0},{"$f":"IF(X30=0,0,X30/'Primary Input'!$J$32)","v":0},{"$f":"+X30","v":0},{"$f":"IF(Z30=0,0,Z30/'Primary Input'!$J$32)","v":0},{"$f":"+Z30","v":0},{"$f":"IF(AB30=0,0,AB30/'Primary Input'!$J$32)","v":0},{"$f":"+AB30","v":0},{"$f":"IF(AD30=0,0,AD30/'Primary Input'!$J$32)","v":0},{"$f":"+AD30","v":0},{"$f":"IF(AF30=0,0,AF30/'Primary Input'!$J$32)","v":0},{"$f":"+AF30","v":0},{"$f":"IF(AH30=0,0,AH30/'Primary Input'!$J$32)","v":0},{"$f":"+AH30","v":0},{"$f":"IF(AJ30=0,0,AJ30/'Primary Input'!$J$32)","v":0},{"$f":"+AJ30","v":0},{"$f":"IF(AL30=0,0,AL30/'Primary Input'!$J$32)","v":0},{"$f":"+AL30","v":0},{"$f":"IF(AN30=0,0,AN30/'Primary Input'!$J$32)","v":0},{"$f":"+AN30","v":0},{"$f":"IF(AP30=0,0,AP30/'Primary Input'!$J$32)","v":0}]
[null,"     2nd Mortgage as Calculated",null,{"$f":"+'Pro Forma Calculation'!I87","v":0},{"$f":"IF(D31=0,0,D31/'Primary Input'!$J$32)","v":0},{"$f":"+D31","v":0},{"$f":"IF(F31=0,0,F31/'Primary Input'!$J$32)","v":0},{"$f":"+F31","v":0},{"$f":"IF(H31=0,0,H31/'Primary Input'!$J$32)","v":0},{"$f":"+H31","v":0},{"$f":"IF(J31=0,0,J31/'Primary Input'!$J$32)","v":0},{"$f":"+J31","v":0},{"$f":"IF(L31=0,0,L31/'Primary Input'!$J$32)","v":0},{"$f":"+L31","v":0},{"$f":"IF(N31=0,0,N31/'Primary Input'!$J$32)","v":0},{"$f":"+N31","v":0},{"$f":"IF(P31=0,0,P31/'Primary Input'!$J$32)","v":0},{"$f":"+P31","v":0},{"$f":"IF(R31=0,0,R31/'Primary Input'!$J$32)","v":0},{"$f":"+R31","v":0},{"$f":"IF(T31=0,0,T31/'Primary Input'!$J$32)","v":0},{"$f":"+T31","v":0},{"$f":"IF(V31=0,0,V31/'Primary Input'!$J$32)","v":0},{"$f":"+V31","v":0},{"$f":"IF(X31=0,0,X31/'Primary Input'!$J$32)","v":0},{"$f":"+X31","v":0},{"$f":"IF(Z31=0,0,Z31/'Primary Input'!$J$32)","v":0},{"$f":"+Z31","v":0},{"$f":"IF(AB31=0,0,AB31/'Primary Input'!$J$32)","v":0},{"$f":"+AB31","v":0},{"$f":"IF(AD31=0,0,AD31/'Primary Input'!$J$32)","v":0},{"$f":"+AD31","v":0},{"$f":"IF(AF31=0,0,AF31/'Primary Input'!$J$32)","v":0},{"$f":"+AF31","v":0},{"$f":"IF(AH31=0,0,AH31/'Primary Input'!$J$32)","v":0},{"$f":"+AH31","v":0},{"$f":"IF(AJ31=0,0,AJ31/'Primary Input'!$J$32)","v":0},{"$f":"+AJ31","v":0},{"$f":"IF(AL31=0,0,AL31/'Primary Input'!$J$32)","v":0},{"$f":"+AL31","v":0},{"$f":"IF(AN31=0,0,AN31/'Primary Input'!$J$32)","v":0},{"$f":"+AN31","v":0},{"$f":"IF(AP31=0,0,AP31/'Primary Input'!$J$32)","v":0}]
[null,"     Other Loan",null,null,{"$f":"IF(D32=0,0,D32/'Primary Input'!$J$32)","v":0},null,{"$f":"IF(F32=0,0,F32/'Primary Input'!$J$32)","v":0},null,{"$f":"IF(H32=0,0,H32/'Primary Input'!$J$32)","v":0},null,{"$f":"IF(J32=0,0,J32/'Primary Input'!$J$32)","v":0},null,{"$f":"IF(L32=0,0,L32/'Primary Input'!$J$32)","v":0},null,{"$f":"IF(N32=0,0,N32/'Primary Input'!$J$32)","v":0},null,{"$f":"IF(P32=0,0,P32/'Primary Input'!$J$32)","v":0},null,{"$f":"IF(R32=0,0,R32/'Primary Input'!$J$32)","v":0},null,{"$f":"IF(T32=0,0,T32/'Primary Input'!$J$32)","v":0},null,{"$f":"IF(V32=0,0,V32/'Primary Input'!$J$32)","v":0},null,{"$f":"IF(X32=0,0,X32/'Primary Input'!$J$32)","v":0},null,{"$f":"IF(Z32=0,0,Z32/'Primary Input'!$J$32)","v":0},null,{"$f":"IF(AB32=0,0,AB32/'Primary Input'!$J$32)","v":0},null,{"$f":"IF(AD32=0,0,AD32/'Primary Input'!$J$32)","v":0},null,{"$f":"IF(AF32=0,0,AF32/'Primary Input'!$J$32)","v":0},null,{"$f":"IF(AH32=0,0,AH32/'Primary Input'!$J$32)","v":0},null,{"$f":"IF(AJ32=0,0,AJ32/'Primary Input'!$J$32)","v":0},null,{"$f":"IF(AL32=0,0,AL32/'Primary Input'!$J$32)","v":0},null,{"$f":"IF(AN32=0,0,AN32/'Primary Input'!$J$32)","v":0},null,{"$f":"IF(AP32=0,0,AP32/'Primary Input'!$J$32)","v":0}]
[null,"Total Debt Service",null,{"$f":"SUM(D30:D32)","v":0},{"$f":"IF(D33=0,0,D33/'Primary Input'!$J$32)","v":0},{"$f":"SUM(F30:F32)","v":0},{"$f":"IF(F33=0,0,F33/'Primary Input'!$J$32)","v":0},{"$f":"SUM(H30:H32)","v":0},{"$f":"IF(H33=0,0,H33/'Primary Input'!$J$32)","v":0},{"$f":"SUM(J30:J32)","v":0},{"$f":"IF(J33=0,0,J33/'Primary Input'!$J$32)","v":0},{"$f":"SUM(L30:L32)","v":0},{"$f":"IF(L33=0,0,L33/'Primary Input'!$J$32)","v":0},{"$f":"SUM(N30:N32)","v":0},{"$f":"IF(N33=0,0,N33/'Primary Input'!$J$32)","v":0},{"$f":"SUM(P30:P32)","v":0},{"$f":"IF(P33=0,0,P33/'Primary Input'!$J$32)","v":0},{"$f":"SUM(R30:R32)","v":0},{"$f":"IF(R33=0,0,R33/'Primary Input'!$J$32)","v":0},{"$f":"SUM(T30:T32)","v":0},{"$f":"IF(T33=0,0,T33/'Primary Input'!$J$32)","v":0},{"$f":"SUM(V30:V32)","v":0},{"$f":"IF(V33=0,0,V33/'Primary Input'!$J$32)","v":0},{"$f":"SUM(X30:X32)","v":0},{"$f":"IF(X33=0,0,X33/'Primary Input'!$J$32)","v":0},{"$f":"SUM(Z30:Z32)","v":0},{"$f":"IF(Z33=0,0,Z33/'Primary Input'!$J$32)","v":0},{"$f":"SUM(AB30:AB32)","v":0},{"$f":"IF(AB33=0,0,AB33/'Primary Input'!$J$32)","v":0},{"$f":"SUM(AD30:AD32)","v":0},{"$f":"IF(AD33=0,0,AD33/'Primary Input'!$J$32)","v":0},{"$f":"SUM(AF30:AF32)","v":0},{"$f":"IF(AF33=0,0,AF33/'Primary Input'!$J$32)","v":0},{"$f":"SUM(AH30:AH32)","v":0},{"$f":"IF(AH33=0,0,AH33/'Primary Input'!$J$32)","v":0},{"$f":"SUM(AJ30:AJ32)","v":0},{"$f":"IF(AJ33=0,0,AJ33/'Primary Input'!$J$32)","v":0},{"$f":"SUM(AL30:AL32)","v":0},{"$f":"IF(AL33=0,0,AL33/'Primary Input'!$J$32)","v":0},{"$f":"SUM(AN30:AN32)","v":0},{"$f":"IF(AN33=0,0,AN33/'Primary Input'!$J$32)","v":0},{"$f":"SUM(AP30:AP32)","v":0},{"$f":"IF(AP33=0,0,AP33/'Primary Input'!$J$32)","v":0}]
[]
[null,"CashFlow",null,{"$f":"+D27-D33","v":0},{"$f":"IF(D35=0,0,D35/'Primary Input'!$J$32)","v":0},{"$f":"+F27-F33","v":0},{"$f":"IF(F35=0,0,F35/'Primary Input'!$J$32)","v":0},{"$f":"+H27-H33","v":0},{"$f":"IF(H35=0,0,H35/'Primary Input'!$J$32)","v":0},{"$f":"+J27-J33","v":0},{"$f":"IF(J35=0,0,J35/'Primary Input'!$J$32)","v":0},{"$f":"+L27-L33","v":0},{"$f":"IF(L35=0,0,L35/'Primary Input'!$J$32)","v":0},{"$f":"+N27-N33","v":0},{"$f":"IF(N35=0,0,N35/'Primary Input'!$J$32)","v":0},{"$f":"+P27-P33","v":0},{"$f":"IF(P35=0,0,P35/'Primary Input'!$J$32)","v":0},{"$f":"+R27-R33","v":0},{"$f":"IF(R35=0,0,R35/'Primary Input'!$J$32)","v":0},{"$f":"+T27-T33","v":0},{"$f":"IF(T35=0,0,T35/'Primary Input'!$J$32)","v":0},{"$f":"+V27-V33","v":0},{"$f":"IF(V35=0,0,V35/'Primary Input'!$J$32)","v":0},{"$f":"+X27-X33","v":0},{"$f":"IF(X35=0,0,X35/'Primary Input'!$J$32)","v":0},{"$f":"+Z27-Z33","v":0},{"$f":"IF(Z35=0,0,Z35/'Primary Input'!$J$32)","v":0},{"$f":"+AB27-AB33","v":0},{"$f":"IF(AB35=0,0,AB35/'Primary Input'!$J$32)","v":0},{"$f":"+AD27-AD33","v":0},{"$f":"IF(AD35=0,0,AD35/'Primary Input'!$J$32)","v":0},{"$f":"+AF27-AF33","v":0},{"$f":"IF(AF35=0,0,AF35/'Primary Input'!$J$32)","v":0},{"$f":"+AH27-AH33","v":0},{"$f":"IF(AH35=0,0,AH35/'Primary Input'!$J$32)","v":0},{"$f":"+AJ27-AJ33","v":0},{"$f":"IF(AJ35=0,0,AJ35/'Primary Input'!$J$32)","v":0},{"$f":"+AL27-AL33","v":0},{"$f":"IF(AL35=0,0,AL35/'Primary Input'!$J$32)","v":0},{"$f":"+AN27-AN33","v":0},{"$f":"IF(AN35=0,0,AN35/'Primary Input'!$J$32)","v":0},{"$f":"+AP27-AP33","v":0},{"$f":"IF(AP35=0,0,AP35/'Primary Input'!$J$32)","v":0},{"$f":"+D35+F35+H35+J35+L35+N35+P35+R35+T35+V35+X35+Z35+AB35+AD35+AF35+AH35+AJ35+AL35+AN35+AP35","v":0}]
[null,"Deliberately Left Blank (Not for use with NOAH)"]
[null,"Net CashFlow",null,{"$f":"+D35-D36","v":0},{"$f":"IF(D37=0,0,D37/'Primary Input'!$J$32)","v":0},{"$f":"+F35-F36","v":0},{"$f":"IF(F37=0,0,F37/'Primary Input'!$J$32)","v":0},{"$f":"+H35-H36","v":0},{"$f":"IF(H37=0,0,H37/'Primary Input'!$J$32)","v":0},{"$f":"+J35-J36","v":0},{"$f":"IF(J37=0,0,J37/'Primary Input'!$J$32)","v":0},{"$f":"+L35-L36","v":0},{"$f":"IF(L37=0,0,L37/'Primary Input'!$J$32)","v":0},{"$f":"+N35-N36","v":0},{"$f":"IF(N37=0,0,N37/'Primary Input'!$J$32)","v":0},{"$f":"+P35-P36","v":0},{"$f":"IF(P37=0,0,P37/'Primary Input'!$J$32)","v":0},{"$f":"+R35-R36","v":0},{"$f":"IF(R37=0,0,R37/'Primary Input'!$J$32)","v":0},{"$f":"+T35-T36","v":0},{"$f":"IF(T37=0,0,T37/'Primary Input'!$J$32)","v":0},{"$f":"+V35-V36","v":0},{"$f":"IF(V37=0,0,V37/'Primary Input'!$J$32)","v":0},{"$f":"+X35-X36","v":0},{"$f":"IF(X37=0,0,X37/'Primary Input'!$J$32)","v":0},{"$f":"+Z35-Z36","v":0},{"$f":"IF(Z37=0,0,Z37/'Primary Input'!$J$32)","v":0},{"$f":"+AB35-AB36","v":0},{"$f":"IF(AB37=0,0,AB37/'Primary Input'!$J$32)","v":0},{"$f":"+AD35-AD36","v":0},{"$f":"IF(AD37=0,0,AD37/'Primary Input'!$J$32)","v":0},{"$f":"+AF35-AF36","v":0},{"$f":"IF(AF37=0,0,AF37/'Primary Input'!$J$32)","v":0},{"$f":"+AH35-AH36","v":0},{"$f":"IF(AH37=0,0,AH37/'Primary Input'!$J$32)","v":0},{"$f":"+AJ35-AJ36","v":0},{"$f":"IF(AJ37=0,0,AJ37/'Primary Input'!$J$32)","v":0},{"$f":"+AL35-AL36","v":0},{"$f":"IF(AL37=0,0,AL37/'Primary Input'!$J$32)","v":0},{"$f":"+AN35-AN36","v":0},{"$f":"IF(AN37=0,0,AN37/'Primary Input'!$J$32)","v":0},{"$f":"+AP35-AP36","v":0},{"$f":"IF(AP37=0,0,AP37/'Primary Input'!$J$32)","v":0}]
[null,{"$f":"+'Pro Forma Calculation'!B93","v":"HOME FUNDS DEBT SERVICE"},null,{"$f":"+D37*'Pro Forma Calculation'!$D93","v":0},null,{"$f":"+F37*'Pro Forma Calculation'!$D93","v":0},null,{"$f":"+H37*'Pro Forma Calculation'!$D93","v":0},null,{"$f":"+J37*'Pro Forma Calculation'!$D93","v":0},null,{"$f":"+L37*'Pro Forma Calculation'!$D93","v":0},null,{"$f":"+N37*'Pro Forma Calculation'!$D93","v":0},null,{"$f":"+P37*'Pro Forma Calculation'!$D93","v":0},null,{"$f":"+R37*'Pro Forma Calculation'!$D93","v":0},null,{"$f":"+T37*'Pro Forma Calculation'!$D93","v":0},null,{"$f":"+V37*'Pro Forma Calculation'!$D93","v":0},null,{"$f":"+X37*'Pro Forma Calculation'!$D93","v":0},null,{"$f":"+Z37*'Pro Forma Calculation'!$D93","v":0},null,{"$f":"+AB37*'Pro Forma Calculation'!$D93","v":0},null,{"$f":"+AD37*'Pro Forma Calculation'!$D93","v":0},null,{"$f":"+AF37*'Pro Forma Calculation'!$D93","v":0},null,{"$f":"+AH37*'Pro Forma Calculation'!$D93","v":0},null,{"$f":"+AJ37*'Pro Forma Calculation'!$D93","v":0},null,{"$f":"+AL37*'Pro Forma Calculation'!$D93","v":0},null,{"$f":"+AN37*'Pro Forma Calculation'!$D93","v":0},null,{"$f":"+AP37*'Pro Forma Calculation'!$D93","v":0}]
[null,"Distribution to Owner",null,{"$f":"+D37-D38","v":0},null,{"$f":"+F37-F38","v":0},null,{"$f":"+H37-H38","v":0},null,{"$f":"+J37-J38","v":0},null,{"$f":"+L37-L38","v":0},null,{"$f":"+N37-N38","v":0},null,{"$f":"+P37-P38","v":0},null,{"$f":"+R37-R38","v":0},null,{"$f":"+T37-T38","v":0},null,{"$f":"+V37-V38","v":0},null,{"$f":"+X37-X38","v":0},null,{"$f":"+Z37-Z38","v":0},null,{"$f":"+AB37-AB38","v":0},null,{"$f":"+AD37-AD38","v":0},null,{"$f":"+AF37-AF38","v":0},null,{"$f":"+AH37-AH38","v":0},null,{"$f":"+AJ37-AJ38","v":0},null,{"$f":"+AL37-AL38","v":0},null,{"$f":"+AN37-AN38","v":0},null,{"$f":"+AP37-AP38","v":0}]
[]
[null,"Debt Service Coverage Ratios"]
[null,"1st Mortgage",null,{"$f":"IF(D30=0,0,+D27/D30)","v":0},null,{"$f":"IF(F30=0,0,+F27/F30)","v":0},null,{"$f":"IF(H30=0,0,+H27/H30)","v":0},null,{"$f":"IF(J30=0,0,+J27/J30)","v":0},null,{"$f":"IF(L30=0,0,+L27/L30)","v":0},null,{"$f":"IF(N30=0,0,+N27/N30)","v":0},null,{"$f":"IF(P30=0,0,+P27/P30)","v":0},null,{"$f":"IF(R30=0,0,+R27/R30)","v":0},null,{"$f":"IF(T30=0,0,+T27/T30)","v":0},null,{"$f":"IF(V30=0,0,+V27/V30)","v":0},null,{"$f":"IF(X30=0,0,+X27/X30)","v":0},null,{"$f":"IF(Z30=0,0,+Z27/Z30)","v":0},null,{"$f":"IF(AB30=0,0,+AB27/AB30)","v":0},null,{"$f":"IF(AD30=0,0,+AD27/AD30)","v":0},null,{"$f":"IF(AF30=0,0,+AF27/AF30)","v":0},null,{"$f":"IF(AH30=0,0,+AH27/AH30)","v":0},null,{"$f":"IF(AJ30=0,0,+AJ27/AJ30)","v":0},null,{"$f":"IF(AL30=0,0,+AL27/AL30)","v":0},null,{"$f":"IF(AN30=0,0,+AN27/AN30)","v":0},null,{"$f":"IF(AP30=0,0,+AP27/AP30)","v":0}]
[null,"All Debt",null,{"$f":"IF(D33=0,0,+D27/D33)","v":0},null,{"$f":"IF(F33=0,0,+F27/F33)","v":0},null,{"$f":"IF(H33=0,0,+H27/H33)","v":0},null,{"$f":"IF(J33=0,0,+J27/J33)","v":0},null,{"$f":"IF(L33=0,0,+L27/L33)","v":0},null,{"$f":"IF(N33=0,0,+N27/N33)","v":0},null,{"$f":"IF(P33=0,0,+P27/P33)","v":0},null,{"$f":"IF(R33=0,0,+R27/R33)","v":0},null,{"$f":"IF(T33=0,0,+T27/T33)","v":0},null,{"$f":"IF(V33=0,0,+V27/V33)","v":0},null,{"$f":"IF(X33=0,0,+X27/X33)","v":0},null,{"$f":"IF(Z33=0,0,+Z27/Z33)","v":0},null,{"$f":"IF(AB33=0,0,+AB27/AB33)","v":0},null,{"$f":"IF(AD33=0,0,+AD27/AD33)","v":0},null,{"$f":"IF(AF33=0,0,+AF27/AF33)","v":0},null,{"$f":"IF(AH33=0,0,+AH27/AH33)","v":0},null,{"$f":"IF(AJ33=0,0,+AJ27/AJ33)","v":0},null,{"$f":"IF(AL33=0,0,+AL27/AL33)","v":0},null,{"$f":"IF(AN33=0,0,+AN27/AN33)","v":0},null,{"$f":"IF(AP33=0,0,+AP27/AP33)","v":0}]
[]
[null,"Break Even Analysis"]
[null,"Break - Even Cashflow Ratio",null,{"$f":"IF(D9=0,0,(D24+D20+D33)/D9)","v":0},null,{"$f":"IF(F9=0,0,(F24+F20+F33)/F9)","v":0},null,{"$f":"IF(H9=0,0,(H24+H20+H33)/H9)","v":0},null,{"$f":"IF(J9=0,0,(J24+J20+J33)/J9)","v":0},null,{"$f":"IF(L9=0,0,(L24+L20+L33)/L9)","v":0},null,{"$f":"IF(N9=0,0,(N24+N20+N33)/N9)","v":0},null,{"$f":"IF(P9=0,0,(P24+P20+P33)/P9)","v":0},null,{"$f":"IF(R9=0,0,(R24+R20+R33)/R9)","v":0},null,{"$f":"IF(T9=0,0,(T24+T20+T33)/T9)","v":0},null,{"$f":"IF(V9=0,0,(V24+V20+V33)/V9)","v":0},null,{"$f":"IF(X9=0,0,(X24+X20+X33)/X9)","v":0},null,{"$f":"IF(Z9=0,0,(Z24+Z20+Z33)/Z9)","v":0},null,{"$f":"IF(AB9=0,0,(AB24+AB20+AB33)/AB9)","v":0},null,{"$f":"IF(AD9=0,0,(AD24+AD20+AD33)/AD9)","v":0},null,{"$f":"IF(AF9=0,0,(AF24+AF20+AF33)/AF9)","v":0},null,{"$f":"IF(AH9=0,0,(AH24+AH20+AH33)/AH9)","v":0},null,{"$f":"IF(AJ9=0,0,(AJ24+AJ20+AJ33)/AJ9)","v":0},null,{"$f":"IF(AL9=0,0,(AL24+AL20+AL33)/AL9)","v":0},null,{"$f":"IF(AN9=0,0,(AN24+AN20+AN33)/AN9)","v":0},null,{"$f":"IF(AP9=0,0,(AP24+AP20+AP33)/AP9)","v":0}]
[null,"Break - Even Number of Units",null,{"$f":"IF(D50=0,0,(((D20+D24)/12/D50)))","v":0},null,{"$f":"IF(F50=0,0,(((F20+F24)/12/F50)))","v":0},null,{"$f":"IF(H50=0,0,(((H20+H24)/12/H50)))","v":0},null,{"$f":"IF(J50=0,0,(((J20+J24)/12/J50)))","v":0},null,{"$f":"IF(L50=0,0,(((L20+L24)/12/L50)))","v":0},null,{"$f":"IF(N50=0,0,(((N20+N24)/12/N50)))","v":0},null,{"$f":"IF(P50=0,0,(((P20+P24)/12/P50)))","v":0},null,{"$f":"IF(R50=0,0,(((R20+R24)/12/R50)))","v":0},null,{"$f":"IF(T50=0,0,(((T20+T24)/12/T50)))","v":0},null,{"$f":"IF(V50=0,0,(((V20+V24)/12/V50)))","v":0},null,{"$f":"IF(X50=0,0,(((X20+X24)/12/X50)))","v":0},null,{"$f":"IF(Z50=0,0,(((Z20+Z24)/12/Z50)))","v":0},null,{"$f":"IF(AB50=0,0,(((AB20+AB24)/12/AB50)))","v":0},null,{"$f":"IF(AD50=0,0,(((AD20+AD24)/12/AD50)))","v":0},null,{"$f":"IF(AF50=0,0,(((AF20+AF24)/12/AF50)))","v":0},null,{"$f":"IF(AH50=0,0,(((AH20+AH24)/12/AH50)))","v":0},null,{"$f":"IF(AJ50=0,0,(((AJ20+AJ24)/12/AJ50)))","v":0},null,{"$f":"IF(AL50=0,0,(((AL20+AL24)/12/AL50)))","v":0},null,{"$f":"IF(AN50=0,0,(((AN20+AN24)/12/AN50)))","v":0},null,{"$f":"IF(AP50=0,0,(((AP20+AP24)/12/AP50)))","v":0}]
[]
[null,"Expense Cushion"]
[null,"Cash Flow / Total Expenses",null,{"$f":"IF(D20=0,0,(D35)/D20)","v":0},null,{"$f":"IF(F20=0,0,(F35)/F20)","v":0},null,{"$f":"IF(H20=0,0,(H35)/H20)","v":0},null,{"$f":"IF(J20=0,0,(J35)/J20)","v":0},null,{"$f":"IF(L20=0,0,(L35)/L20)","v":0},null,{"$f":"IF(N20=0,0,(N35)/N20)","v":0},null,{"$f":"IF(P20=0,0,(P35)/P20)","v":0},null,{"$f":"IF(R20=0,0,(R35)/R20)","v":0},null,{"$f":"IF(T20=0,0,(T35)/T20)","v":0},null,{"$f":"IF(V20=0,0,(V35)/V20)","v":0},null,{"$f":"IF(X20=0,0,(X35)/X20)","v":0},null,{"$f":"IF(Z20=0,0,(Z35)/Z20)","v":0},null,{"$f":"IF(AB20=0,0,(AB35)/AB20)","v":0},null,{"$f":"IF(AD20=0,0,(AD35)/AD20)","v":0},null,{"$f":"IF(AF20=0,0,(AF35)/AF20)","v":0},null,{"$f":"IF(AH20=0,0,(AH35)/AH20)","v":0},null,{"$f":"IF(AJ20=0,0,(AJ35)/AJ20)","v":0},null,{"$f":"IF(AL20=0,0,(AL35)/AL20)","v":0},null,{"$f":"IF(AN20=0,0,(AN35)/AN20)","v":0},null,{"$f":"IF(AP20=0,0,(AP35)/AP20)","v":0}]
[]
[]
[]
[null,null,null,null,null,null,null,null,null,null,null,null,null,null,null,{"$f":"3.141592654*(+AF35+'Sources and Uses'!F48+379569)","v":1192451.1820861259},{"$f":"INT(P54)","v":1192451},{"$f":"ROUNDDOWN(Q54,-9)","v":0},{"$f":"+Q54-R54","v":1192451}]

{"sheet":"Properties","index":19,"n_rows":3,"n_cols":8,"rows_kept":3,"cut":false,"hidden":false,"merged":[[1,0,1,7]]}
[null,null,null,null,null,null,null,{"$f":"+Cover!E10","v":0}]
["In the columns below enter the information for each property that may be a part of the HOME project. This information will be used in the Environmental Review, Regulatory Agreement and potentially other program documents. If a street name and number is not currently available indicate so but enter all other information."]
["Street Number","Street Name","City","Zip","Parish","Lot ","Block","Subdivision"]

{"sheet":"Project Schedule","index":20,"n_rows":54,"n_cols":8,"rows_kept":54,"cut":false,"hidden":false,"merged":[[39,3,39,6],[40,3,40,6],[41,3,41,6],[23,3,23,6],[24,3,24,6],[25,3,25,6],[28,3,28,6],[29,3,29,6],[30,3,30,6],[1,1,1,7],[5,3,5,6],[6,3,6,6],[7,3,7,6],[0,4,0,6],[2,1,2,4],[8,3,8,6],[9,3,9,6],[20,3,20,6],[18,3,18,6],[19,3,19,6]]}
["Project Schedule",null,null,null,{"$f":"+Cover!E10","v":0},null,null,{"$f":"+Cover!D7","v":"10262021.2021FAHN"}]
[null,"Enter Project Schedule"]
[null,{"$f":"+Cover!E10","v":0},null,null,null,null,null,"Scheduled Date"]
[null,null,"Activity  ",null,null,null,null,"(mm/dd/yyyy)"]
[null,"A.","SITE"]
[null,null,null,"Option/Contract  "]
[null,null,null,"Site Acquisition                "]
[null,null,null,"Zoning Approval    "]
[null,null,null,"Site Analysis"]
[null,null,null,"Environmental Clearance"]
[]
[null,"B.","FINANCING"]
[null,"1.","Construction Loan/Interim Financing"]
[null,null,null,"Loan Application                      "]
[null,null,null,"Conditional Commitment              "]
[null,null,null,"Firm Commitment           "]
[]
[null,"2.","Permanent Loan"]
[null,null,null,"Loan Application                      "]
[null,null,null,"Conditional Commitment              "]
[null,null,null,"Firm Commitment           "]
[]
[null,"3.","Other Loans and Grants"]
[null,null,null,"Type & Source"]
[null,null,null,"Application "]
[null,null,null,"Award "]
[]
[null,"4.","Other Loans and Grants"]
[null,null,null,"Type & Source"]
[null,null,null,"Application "]
[null,null,null,"Award "]
[]
[null,"C.","PLANS AND SPECIFICATIONS, "]
[null,null,"WORKING DRAWINGS"]
[]
[null,"D.","CLOSING AND TRANSFER OF PROPERTY  "]
[null,null," "]
[null,"E.","CONSTRUCTION START "]
[]
[null,null,null,"10% Construction complete"]
[null,null,null,"50% Construction complete"]
[null,null,null,"90% Construction complete"]
[]
[null,"F.","COMPLETION DATE"]
[]
[null,"G.","CERTIFICATE OF OCCUPANCY DATE"]
[]
[null,"H.","DATE FIRST UNIT RENTED"]
[]
[]
[null,"I.","DATE LAST HOME ASSISTED UNIT RENTED "]
[null,null,"IN SERVICE"]
[]
[null,"J.","100% OF UNIT OCCUPANCY ACHIEVED"]

{"sheet":"Competitive Scorig","index":21,"n_rows":112,"n_cols":10,"rows_kept":112,"cut":false,"hidden":true,"merged":[[0,7,0,8],[1,1,1,7],[83,1,83,7],[84,1,84,7],[42,1,42,7],[71,1,71,7],[78,1,78,8],[80,1,80,8],[47,1,47,7],[49,1,49,7],[44,1,44,7],[68,1,68,7],[69,1,69,7],[70,1,70,7],[72,1,72,7],[56,1,56,7],[59,1,59,7],[58,1,58,7],[61,1,61,7],[62,1,62,7],[63,1,63,7],[50,1,50,7],[51,1,51,7],[66,1,66,7],[97,1,97,7],[95,1,95,7],[93,1,93,7],[94,1,94,7],[88,1,88,7],[89,1,89,7],[111,8,112,8],[111,9,112,9],[111,1,112,7],[107,1,107,7],[98,1,98,7],[96,1,96,7],[106,1,106,7],[110,1,110,7],[110,8,110,9],[102,1,102,7],[103,1,103,7],[99,1,99,7],[100,1,100,7],[101,1,101,7],[109,1,109,7],[108,1,108,7],[104,1,104,7],[105,1,105,7],[92,1,92,7],[82,1,82,7],[86,1,86,7],[87,1,87,7],[75,1,75,7],[73,1,73,7],[74,1,74,7],[76,1,76,7],[77,1,77,7],[79,1,79,7],[91,1,91,7],[90,1,90,7],[67,1,67,7],[64,1,64,7],[65,1,65,7],[53,1,53,7],[55,1,55,7],[60,1,60,9],[24,1,24,7],[48,1,48,7],[54,1,54,7],[57,1,57,7],[25,1,25,7],[27,1,27,7],[28,1,28,7],[29,1,29,7],[30,1,30,7],[31,1,31,7],[32,1,32,7],[26,1,26,7],[34,1,34,7],[35,1,35,7],[33,1,33,7],[46,1,46,7],[36,1,36,7],[37,1,37,7],[38,1,38,7],[39,1,39,7],[40,1,40,7],[45,1,45,7],[41,1,41,7],[43,1,43,7],[19,1,19,7],[20,1,20,7],[21,1,21,7],[4,1,4,7],[17,1,17,7],[13,1,13,7],[14,1,14,7],[15,1,15,7],[16,1,16,7],[18,1,18,7],[23,1,23,7],[5,1,5,7],[6,1,6,7],[12,1,12,9],[7,1,7,7],[8,1,8,7],[10,1,10,7],[11,1,11,7]]}
["COMPETITIVE REVIEW CRITERIA"]
[null,"Proposed projects will be reviewed and scored on a competitive basis relative to the evaluation criteria below. "]
[]
[null,null,null,null,null,null,null,null,"Points","Total"]
["I","EXPERIENCE AND QUALIFICATIONS (16 POINTS MAXIMUM)",null,null,null,null,null,null,null,{"$f":"J6+J9","v":0}]
[null,"Developer Experience (10 points) [NON-CHDOs ONLY]",null,null,null,null,null,null,null,{"$f":"I6","v":0}]
[null,"Points are awarded for completing affordable housing projects on time and within budget in the last 5 years (by the developer).  2 points will be awarded for each project meeting these criteria up to a total of 10 points."]
[null,"Developer Financial Strength (6 points) [NON-CHDOs ONLY]"]
[null,"Points are awarded based on certified financial statements by an independent C.P.A. from the past 2 years, and the ability to sustain the costs of effectively following through with the current application. ",null,null,null,null,null,null,null,{"$f":"I9","v":0}]
[]
[null,"CHDOs ONLY  (60 POINTS MAXIMUM)",null,null,null,null,null,null,null,{"$f":"J12+J16+J22","v":0}]
[null,"CHDO Experience (12 points) (CHDOs Only)",null,null,null,null,null,null,null,{"$f":"I12","v":0}]
[null,"Points are awarded for completing affordable housing projects on time and within budget in the last 5 years (by the CHDO, not other team members).  2 points will be awarded for each project meeting these criteria up to a total of 12 points."]
[null,"If the CHDO is a joint venture, projects will be scored based on the experience of the CHDO. Where partners have approximately equal participation, the individual scores of each partner will be averaged."]
[]
[null,"CHDO Capacity & Staffing (24 points) (CHDOs Only)",null,null,null,null,null,null,null,{"$f":"J18+J19","v":0}]
[null,"Points are awarded based on evidence that the lead staff, including the Project Manager and supervisory staff working on this specific project, proposed to work on the current proposal have the necessary experience, and that the Project Manager has the necessary time availability."]
[null,"(Up to 20 points) 20 points maybe awarded for staff experience (up to 12 points for contracted staff). ",null,null,null,null,null,null,null,{"$f":"I18","v":0}]
[null,"(Up to 4 points) 4 points may be awarded for time availability. Where both staff and contracted staff are used the score will be averaged.",null,null,null,null,null,null,null,{"$f":"I19","v":0}]
[]
[null,"CHDO Financial Strength (24 points) (CHDOs Only)"]
[null,"Points are awarded based on audited financial statements, by an independent C.P.A., from the past 2 years evidencing financial stability and the ability to sustain the costs of effectively following through with the current application.  This will be determined by the number, amount and percentage of other funding sources, and dependability of other funding. Percentage of earlier projects showing a positive cash flow position and the amount of available unrestricted cash on hand.",null,null,null,null,null,null,null,{"$f":"I22","v":0}]
[]
["II","PROJECT BUDGET (10 POINTS MAXIMUM) Applicants will receive either 5 or 10 points depending on the submission."]
[null,"Project Budget and Construction Cost Reasonableness (10 points)",null,null,null,null,null,null,null,{"$f":"I25","v":0}]
[null,"Project budget is complete and anticipated development costs to include acquisition, hard cost, soft cost; and construction cost that are necessary and reasonable. LHC will conduct a construction cost reasonableness analysis to determine if the proposed budget is within 20% variance. "]
[null,"Project Budget and Construction Cost Reasonableness (5 points)"]
[null,"Project budget is complete and anticipated development costs to include acquisition, hard cost, soft cost; and construction cost that are necessary and reasonable. LHC will conduct a cost reasonableness analysis to determine if the proposed budget is outside of the 20% variance."]
[]
["III","FUNDING COMMITMENT (20 POINTS MAXIMUM)",null,null,null,null,null,null,null,{"$f":"I30","v":0}]
[null,"Funding Commitments:"]
[null,"Degree to which outside funding has been committed (20 points)."]
[null,"Fully executed funding commitments, detailing the terms and conditions, must be provided to receive points. Letters of Interest are not sufficient.  Points are awarded based on proportionality of such commitments.  If the terms and conditions in the funding commitments are not acceptable to the LHC the funding commitment shall not be considered."]
[]
["IV","LEVERAGING (15 POINTS MAXIMUM)",null,null,null,null,null,null,null,{"$f":"I35","v":0}]
[null,"Percentage of HOME Program Funding Relative to Total Project Costs:"]
[null,"25% or less -- (15 points)"]
[null,"26% - 50%-- (12 points)"]
[null,"51% - 75% -- (9 points)"]
[null,"76% - 85% -- (6 points)"]
[]
["V","AVERAGE HOME SUBSIDY PER UNIT (20 POINTS MAXIMUM)",null,null,null,null,null,null,null,{"$f":"I42","v":0}]
[null,"Average HOME Subsidy per unit"]
[null,"Less than $10,000 -- (20 points)"]
[null,"$10,001 - $20,000 – (15 points)"]
[null,"$20,001 - $30,000 – (10 points)"]
[null,"$30,001 - $40,000 – (5 points)"]
[]
["VI","PROJECT READINESS & DEVELOPMENT SCHEDULE (10 POINTS MAXIMUM)"]
[null,"Projects that have received Agency development funding under CHDO within the last 5 years and are returning for additional gap financing will not be eligible for points in this category."]
[null,"Public Land Use Approvals (10 points)",null,null,null,null,null,null,null,{"$f":"I51","v":0}]
[null,"Points are awarded for sites that have obtained discretionary public land use approvals (obtaining building permits is not necessary to score points)."]
[]
["VII","HOME FUND REPAYMENT (20 POINTS MAXIMUM)",null,null,null,null,null,null,null,{"$f":"I54","v":0}]
[null,"All projects are required to repay HOME funds.  Projects that demonstrate through the submitted proforma an ability to repay according to the below schedule:"]
[null,"20 points - Repayment of HOME funds in 5 years",null,null,null,null,null,null,null,{"$f":"I56","v":0}]
[null,"15 points - Repayment of HOME funds in 10 years",null,null,null,null,null,null,null,{"$f":"I57","v":0}]
[null,"10 points - Repayment of HOME funds in 15 years",null,null,null,null,null,null,null,{"$f":"I58","v":0}]
[null,"5 points -- Repayment of HOME funds in 20 years",null,null,null,null,null,null,null,{"$f":"I59","v":0}]
[null,"0 points -- Repayment of HOME funds in more than 20 years",null,null,null,null,null,null,null,{"$f":"I60","v":0}]
[]
["XIII"," LOCAL GOVERNMENTAL SUPPORT (20 POINTS MAXIMUM)",null,null,null,null,null,null,null,{"$f":"I62","v":0}]
[null,"Reduces project development costs by providing CDBG, HOME, or other governmental  assistance/funding in the form of loan, grants, rental assistance, or a combination. Any one (1) of the items below may be provided:"]
[null,"Waiving water and sewer tap fees; or"]
[null,"Waiving building permit fees; or"]
[null,"Foregoing real property taxes during construction; or"]
[null,"Contributing land for project development; or"]
[null,"Providing below market rate construction and/or permanent financing; or"]
[null,"Providing an abatement of real estate taxes"]
[]
["IX","AFFORDABILITY (10 POINTS MAXIMUM) ",null,null,null,null,null,null,null,{"$f":"I71","v":0}]
[null,"Affordability data realistically estimates principal, interest, taxes, and insurance for subject properties.                                                                                                                               "]
[null,"LHC will review the affordability data supplied by the applicant and will use it to calculate the income level to which the housing will be affordable. All housing assisted with HOME funds must be affordable to families with incomes of 80% of the area median family income or below. "]
[null,"Between 75% and 80% (4 points) "]
[null,"Homes will be affordable to families with incomes between 75% and 80% of the area median income."]
[null,"Between 74% and 70% (6 points) "]
[null,"Homes will be affordable to families with incomes between 74% and 70% of the area median income."]
[null,"Between 69% and 60% (8 points) "]
[null,"Homes will be affordable to families with incomes between 69% and 60% of the area median income."]
[null,"At or below 59% (10 points) "]
[null,"Homes will be affordable to families with incomes at 59% or below the area median income."]
[]
["X","PRIORITY LOCATION (35 POINTS MAXIMUM) ",null,null,null,null,null,null,null,{"$f":"J84+J85","v":0}]
[null,"Designated Target Parishes (20 points) Project is located in: Madison, Concordia, Franklin, Tensas, East Carroll, Morehouse, Washington, St. Landry, Natchitoches, Claiborne, or Bienville.",null,null,null,null,null,null,null,{"$f":"I84","v":0}]
[null,"Small City or Rural Parish (15 points) Project is located in a small city or rural parish.",null,null,null,null,null,null,null,{"$f":"I85","v":0}]
[]
["XI","OTHER LOCATION DOCUMENTATION (3 POINTS EACH)",null,null,null,null,null,null,null,{"$f":"SUM(J89:J96)","v":0}]
[null,"Points in this section are awarded when documented by maps to sufficient scale and detail."]
[null,"Points will be awarded to projects which include locations that are NOT on wetlands. (3 points)",null,null,null,null,null,null,null,{"$f":"I89","v":0}]
[null,"Points will be awarded to projects that are located beyond 3000 feet of a railroad. (3 points)",null,null,null,null,null,null,null,0]
[null,"Points will be awarded to projects located in airport noise zone contour below 65db. (3 points)",null,null,null,null,null,null,null,0]
[null,"Points will be awarded for projects located within 1 mile of any 1 Community Facility.  Only 3 points will be awarded.  Demonstration of proximity to multiple facilities will not result in additional points.                                                                                                          (e.g. Educational Facilities, Commercial Facilities, Health Care Facilities, Social Services, Grocery Store, Public Library, Public Transportation (shuttle services excluded), Hospital/Doctor Office or Clinic, Bank/Credit Union (must have live tellers), Post Office, Pharmacy/Drug Store, Louisiana Licensed (current) Adult/Child Day Care/After School Care). (3 points)",null,null,null,null,null,null,null,0]
[null,"The project will have no effect on a historic property or district. (3 points)",null,null,null,null,null,null,null,0]
["Conversion Rehab Only","Points will be awarded for projects when the buildings in the project do not contain lead based paint (proven either through an inspection report from a Certified Lead Paint Inspector or Risk Assessor or the building were built after 1978). (3 points)",null,null,null,null,null,null,null,0]
["Conversion Rehab Only","Points will be awarded for projects where the building does not contain asbestos. (3 points)",null,null,null,null,null,null,null,0]
["Conversion Rehab Only","Points will be awarded for projects where the cost of the conversion/rehab will be less than 50% of the current value of the building. (Must provide appraisal to  establish before and after value) (3 points)",null,null,null,null,null,null,null,0]
[]
["XII","SAMPLE PRELIMINARY PLOT PLANS and ELEVATIONS (10 POINTS MAXIMUM) ",null,null,null,null,null,null,null,{"$f":"I98","v":0}]
[null,"To receive points, photos of the neighboring properties must be submitted. Neighboring properties include all properties/structures on the same block including across the street. Photos must be labeled and indicated on a block map.  Applicants will receive either 5 or 10 points depending on the submission.\n"]
[null,"Sample floor plans (10 points)"]
[null,"Sample floor plans and elevations must include design features that are consistent with existing neighborhood housing stock.",null,null,null,null,null,null,null,{"$f":"I101","v":0}]
[null,"           "]
[null,"Sample schematic designs (5 points)"]
[null,"Sample schematic designs that are consistent with existing neighborhood housing stock. ",null,null,null,null,null,null,null,{"$f":"I104","v":0}]
[]
["XIII","SMALL DISADVANTAGED BUSINESS PARTICIPATION (5 POINTS MAXIMUM) ",null,null,null,null,null,null,null,{"$f":"I106","v":0}]
[null,"Entities anticipated to be involved in implementing the project include certified vendors under Louisiana’s Hudson Initiative and Veterans Initiative as well as Small Disadvantaged Businesses registered with the U.S. Small Business Administration. (5 points)"]
[]
["XIV","PROJECT IS TO BE DEVELOPED BY A NEW OR NEVER FUNDED CHDO   (15 POINTS MAXIMUM) ",null,null,null,null,null,null,null,{"$f":"I109","v":0}]
[null,"Project is to be developed by a new or never funded CHDO"]
[null,"  "]
[null,"Total",null,null,null,null,null,null,null,{"$f":"J109+J106+J98+J87+J83+J71+J62+J54+J51+J42+J35+J30+J25+J11+J5","v":0}]

{"sheet":"Completed Projects","index":22,"n_rows":34,"n_cols":31,"rows_kept":34,"cut":false,"hidden":false,"merged":[[0,8,0,10],[3,10,4,10],[3,5,4,5],[3,8,4,8],[1,0,1,10],[2,0,2,10],[3,0,4,0],[3,1,4,1],[3,2,4,2],[3,3,4,3],[3,4,4,4],[3,6,4,6],[3,7,4,7],[3,9,4,9]]}
["Completed Project Schedules",{"$f":"+Cover!D7","v":"10262021.2021FAHN"},null,null,null,null,null,null,{"$f":"+Cover!E10","v":0}]
["COMPLETED PROJECTS"]
[]
["Name of Project","Address","# of Units","New or Rehab","For Rent or Homeownership","LHC Assisted","Project Start Date","Date Construction Completion","Date Lease-Up Complete or Final Unit Sold","Positive or Negative Cash Flow*                 (For Rental Only)","Comments/Challenges"]
[null,null,null,null,null,null,null,null,null,null,null,null,null,null,null,null,null,null,null,null,null,null,null,null,null,null,null,"New","Rental","Yes","Positive"]
[null,null,null,null,null,null,null,null,null,null,null,null,null,null,null,null,null,null,null,null,null,null,null,null,null,null,null,"Rehab","Homeownership","No","Negative"]
[]
[]
[]
[]
[]
[]
[]
[]
[]
[]
[]
[]
[]
[]
[]
[]
[]
[]
[]
[]
[]
[]
[]
[]
[]
["* Provide financials to support Cash Flow position."]
[]
["For each project identified above that is currently operating with a negative cash flow provide a narrative on how this challenge is being met."]

{"sheet":"Certification","index":23,"n_rows":8,"n_cols":8,"rows_kept":8,"cut":false,"hidden":false,"merged":[[3,1,3,12],[4,1,4,12],[5,1,5,12],[6,1,6,12],[7,1,7,10]]}
["Certification",null,{"$f":"+Cover!D7","v":"10262021.2021FAHN"},null,null,null,null,{"$f":"+Cover!E10","v":0}]
[null,"APPLICANT CERTIFICATION"]
[null," "]
[null,"The undersigned Applicant (or duly authorized representative of the same) hereby certifies that the information contained in the Louisiana Housing Corporation HOME Funds Application Package (the “Application”), including all Appendices and Exhibits attached hereto, is complete and accurate as of the date hereof.  The undersigned acknowledges that the information provided in this Application Package or in any other document, release or communication by the Louisiana Housing Corporation (the \"LHC\") has not been relied upon for purpose of making any investment decision by the Applicant and that any and all expenses and investments with respect to this application for a reservation of HOME Funds have been or will be made on the basis of an independent judgment by the Applicant or upon consultation with a qualified housing development consultant."]
[null,"The Applicant hereby certifies that the project can be completed and operated within the budget set forth in the Application.  "]
[null,"The Applicant represents that it will furnish promptly a development timetable and such other supporting information and documents as may be requested and/or required by the LHC and that any failure to achieve the benchmarks contained in any timetable requested by the LHC may result in the rescission or recapture of HOME Funds.  In carrying out the development and/or operation of the project, the Applicant agrees to comply with all applicable federal and state laws regarding unlawful discrimination and will abide by all LHC rules and regulations.  The Applicant understands and agrees that the LHC is not responsible for actions taken by the Applicant in reliance on a prospective reservation of HOME Funds by the LHC and the Applicant further agrees that the LHC, its employees, agents and/or consultants shall not be responsible or liable in any manner whatsoever for expenses incurred by Applicant or its consultants in applying for HOME Funds. "]
[null,"By execution of this Application, the Applicant understands and agrees that the LHC may conduct its own independent review and analysis of the information contained herein and in the attachments hereto, that any such review and analysis will be made for the protection of the LHC.  It is further understood and agreed by the Applicant that, for the purpose of determining and establishing the terms and conditions under which the allocation may be made, the LHC may request or require adjustment or changes in the information contained herein (including attachments hereto) or in any documentation or materials now or hereafter submitted in connection with this Application."]
[null,"WITNESS MY SIGNATURE ON THIS, THE ____ DAY OF _____________, 20NN.\n\n\n                                                                                             BY:  __________________________________\n                                                                                            Applicant\n\nSworn to and subscribed before me,\nthis ___ day of _____, 20NN.\n\nNotary, State of _______________\n"]

{"sheet":"Funing and Units Instructions","index":24,"n_rows":68,"n_cols":9,"rows_kept":68,"cut":false,"hidden":false,"merged":[[30,7,33,8],[8,7,8,8],[63,4,63,6],[66,4,66,6],[9,1,9,2],[45,1,45,2],[48,1,48,2],[58,1,58,2],[61,1,61,2],[58,4,58,6],[59,4,59,6],[60,4,60,6],[61,4,61,6],[62,4,62,6],[53,4,53,6],[54,4,54,6],[57,4,57,6],[48,4,48,6],[49,4,49,6],[50,4,50,6],[51,4,51,6],[52,4,52,6],[45,4,45,6],[46,4,46,6],[47,4,47,6],[55,4,55,6],[56,4,56,6],[40,4,40,6],[41,4,41,6],[42,4,42,6],[43,4,43,6],[44,4,44,6],[35,4,35,6],[36,4,36,6],[37,4,37,6],[38,4,38,6],[39,4,39,6],[30,4,30,6],[31,4,31,6],[32,4,32,6],[33,4,33,6],[34,4,34,6],[0,2,0,8],[2,2,2,8],[4,2,4,8],[67,2,67,6],[7,2,7,3],[5,4,5,6],[6,4,6,6],[7,4,7,6],[8,4,8,6],[10,4,10,6],[11,4,11,6],[13,4,13,6],[14,4,14,6],[15,4,15,6],[16,4,16,6],[64,2,64,6],[65,2,65,6],[5,2,5,3],[8,2,8,3],[17,4,17,6],[18,4,18,6],[19,4,19,6],[20,4,20,6],[21,4,21,6],[22,4,22,6],[23,4,23,6],[24,4,24,6],[25,4,25,6],[26,4,26,6],[27,4,27,6],[28,4,28,6],[29,4,29,6]]}
[null,null,"Funding and Units Worksheet"]
[]
[null,null,"Instructions"]
[]
[null,null,"This is not a required part of the submission package. It is provided to assist you in either calculating the required number of unit with a given funding level or to indicate the funding level that is minimuml required for a certain number of units."]
[null,null,"To work properly there are several fields that must be fill in on your application work sheet."]
[]
[null,null,"Part A",null,null,null,null,null,"Part B"]
[null,null,"Part A requires that at a minimum the following following information be filled in on the application:",null,null,null,null,"Part B requires that the following be filled in on the application."]
[null,"Primary Input Tab",null,null,null,null,null,"Primary Input Tab"]
[null,"CELL",null,null,null,null,null,"CELL"]
[null,"E6","Type of Application ",null,null,null,null,"E6","Type of Application "]
[null,"E7","Project Name",null,null,null,null,"E7","Project Name"]
[null,"E10","Project Parish    ",null,null,null,null,"Funding and Units Worksheet Tab"]
[null,"E32","Total Units",null,null,null,null,"U3","Sq. Ft. 0 Bedroom"]
[null,"E33","HOME Assisted Units Proposed By Developer",null,null,null,null,"V3","Sq. Ft. 1 Bedroom"]
[null,"E34","HTF Assisted Units Proposed By Developer",null,null,null,null,"W3","Sq. Ft. 2 Bedroom"]
[null,"E37","Maximum HOME FUNDS Requested:",null,null,null,null,"X3","Sq. Ft. 3 Bedroom"]
[null,"E38","Maximum HTF FUNDS Requested",null,null,null,null,"Y3","Sq. Ft. 4 Bedroom"]
[null,null,"Residential Unit Mix:",null,null,null,null,"Z3","Sq Ft. 5 Bedroom"]
[null,null,"Total Units",null,null,null,null,"T4","Expected TDC"]
[null,"E53"," 0 Bedroom (Efficiency)",null,null,null,null,"T5","Area of Demonstrated Need"]
[null,"E54","1 Bedroom",null,null,null,null,"T6","Total Number of Units"]
[null,"E55","2 Bedrooms",null,null,null,null,"U6","Total Number of 0 Bedroom units"]
[null,"E56","3 Bedrooms",null,null,null,null,"V6","Total Number of 1 Bedroom units"]
[null,"E57","4 Bedrooms",null,null,null,null,"W6","Total Number of 2 Bedroom units"]
[null,"E58","5 Bedrooms",null,null,null,null,"X6","Total Number of 3 Bedroom units"]
[null,"E59","Other",null,null,null,null,"Y6","Total Number of 4 Bedroom units"]
[null,null,"HOME Assisted Units",null,null,null,null,"Z6","Total Number of 5 Bedroom units"]
[null,"E62","0 Bedroom (Efficiency)"]
[null,"E63","1 Bedroom",null,null,null,null,"Once the above information is entered you can begin entering the number of HOME or HTF assisted units that you would like to have as part of the project. The funding necessary will be displayed in Cell T 7 for HTF and T8 for HOME. WARNING THE DOLLAR FIGURE DISPLAYED WILL NOT CAP AT ANY PROGRAM LIMIT."]
[null,"E64","2 Bedrooms"]
[null,"E65","3 Bedrooms"]
[null,"E66","4 Bedrooms"]
[null,"E67","5 Bedrooms"]
[null,"E68","Other"]
[null,null,"HTF Assisted Units"]
[null,"E71","0 Bedroom (Efficiency)"]
[null,"E72","1 Bedroom"]
[null,"E73","2 Bedrooms"]
[null,"E74","3 Bedrooms"]
[null,"E75","4 Bedrooms"]
[null,"E76","5 Bedrooms"]
[null,"E77","Other"]
[]
[null,"Eligiblity Tab"]
[null,"E6","Is Project Located in an LHC Defined Area of Demonstrated Need? "]
[]
[null,"Rental Income Tab"]
[null,null,"Average Square Feet of Individual Units"]
[null,"D3","0 Bedroom (Efficiency)"]
[null,"D4","1 Bedroom"]
[null,"D5","2 Bedrooms"]
[null,"D6","3 Bedrooms"]
[null,"D7","4 Bedrooms"]
[null,"D8","5 Bedrooms"]
[null,"D9","Other"]
[]
[null,"Rehab or New Construction Tab"]
[null,null,"All relevant  lines"]
[]
[null,"Sources & Uses Tab"]
[null,null,"All Relevant lines"]
[]
[null,null,"ADDITIONALLY IF YOU ARE CLAIMING TO BE IN AN AREA OF DEMONSTRATED NEED YOU MUST PROVIDE"]
[null,null,"PROOF AT THE TIME OF THE APPLICATION."]
[]
[null,null,"Once the above information is entered into the application you should get the appropriate number of units for the funding indicated. If the units indicated are different from those in the initial application, you should consider changing your initial application to conform. It should be noted that the allowed total amount of funding will be capped at the level appropriate for the funding mechanism."]

{"sheet":"Funding and Units Worksheet","index":25,"n_rows":40,"n_cols":26,"rows_kept":40,"cut":false,"hidden":false,"merged":[[3,4,3,10],[31,2,31,3],[7,4,7,10],[0,21,0,22],[6,20,7,25],[9,2,9,16],[10,2,10,16],[20,2,20,16],[5,4,5,10],[4,4,4,10]]}
[null,null,null,null,null,null,null,null,"PART A",null,null,null,null,null,null,null,null,null,null,null,null,"PART B"]
[null,null,null,null,null,null,null,null,null,null,null,null,null,null,null,null,null,null,"Project",{"$f":"+Cover!E10","v":0},"Sq. Ft. 0 Bedroom","Sq. Ft. 1 Bedroom","Sq Ft 2 Bedroom","Sq. Ft. 3 Bedroom","Sq. Ft. 4 Bedroom","Sq Ft. 5 Bedroom"]
[null,null,"Project",{"$f":"+Cover!E10","v":0},null,null,null,null,null,null,null,null,null,null,null,null,null,null,"Parish",{"$f":"+Cover!E11","v":0}]
[null,null,"Parish",{"$f":"+Cover!E11","v":0},{"$f":"IF(D4=0, \"YOU MUST FILL IN THE PROJECT PARISH ON THE PRIMARY INPUT TAB\", \"\")","v":"YOU MUST FILL IN THE PROJECT PARISH ON THE PRIMARY INPUT TAB"},null,null,null,null,null,null,null,null,null,null,null,null,null,"Expected TDC",null,{"$f":"+U3*U6","v":0},{"$f":"+V3*V6","v":0},0,0,0,0]
[null,null,"HOME Requested",{"$f":"+'Primary Input'!E40","v":0},{"$f":"IF(D5>Lists!F45, \"ERROR. AMOUNT REQUESTED EXCEED PER PROJECT  LIMIT\", \"\")","v":""},null,null,null,null,null,null,null,null,null,null,null,null,null,"Area of Demonstrated Need",null,"Total Number of 0 Bedroom units","Total Number of 1 Bedroom units","Total Number of 2 Bedroom units","Total Number of 3 Bedroom units","Total Number of 4 Bedroom units","Total Number of 5 Bedroom units"]
[null,null,"HTF Requested",{"$f":"+'Primary Input'!E41","v":0},{"$f":"IF(D6>Lists!H44, \"ERROR. AMOUNT REQUESTED EXCEED PER PROJECT LIMIT.\", \"\")","v":""},null,null,null,null,null,null,null,null,null,null,null,null,null,"Total Number of Units"]
[null,null,"TDC",{"$f":"+'Sources and Uses'!F24","v":0},null,null,null,null,null,null,null,null,null,null,null,null,null,null,"HTF Requested",{"$f":"+Lists!Q119","v":{"$error":"#DIV/0!"}},"Maximum Funding for the Number of Units Requested"]
[null,null,"Area of Demonstrated Need",{"$f":"+Eligibility!E6","v":{"$error":"#N/A"}},{"$f":"IF(D8=\"Yes\", \"MUST PROVIDE BACKUP WITH THE APPLICATION\", \"\")","v":{"$error":"#N/A"}},null,null,null,null,null,null,null,null,null,null,null,null,null,"HOME Requested",{"$f":"+Lists!Q118","v":{"$error":"#DIV/0!"}}]
[]
[null,null,"Minimum Number of Units Required for the Funding Being Requested",null,null,null,null,null,null,null,null,null,null,null,null,null,null,null,"Total Square Feet All Units",{"$f":"SUM(U4:Z4)","v":0}]
[null,null,"HOME INVESTMENT PARTNERSHIP PROGRAM",null,null,null,null,null,null,null,null,null,null,null,null,null,null,null,"TDC                Cost Per Sq. Ft.",{"$f":"+T4/T10","v":{"$error":"#DIV/0!"}}]
[null,null,"Number of Bedrooms","Per Unit 234 Limits","234                    Funding Subsidy Limit","Per Unit NOFA HOME Liits     (Flat Rate)","Flat Rate Funding","Per Unit Cost to Produce","Cost To Produce Funding","By Percentage","Percentage Funding","Required Units Not in Area of Demonstrated Need","Required Units In an Area of Demonstrated Need","Final Number of Minimum Required HOME  Units","Final Per Unit Funding","Maximum Funding",null,null,"Number of Bedrooms","HOME Units","HTF Units"]
[null,null,0,{"$f":"IF(+Lists!L57<Lists!H57,Lists!H57,Lists!L57)","v":{"$error":"#DIV/0!"}},{"$f":"+Lists!Q76*D13","v":{"$error":"#DIV/0!"}},{"$f":"IF(+Lists!J57<Lists!H57,Lists!H57,Lists!J57)","v":{"$error":"#DIV/0!"}},{"$f":"+F13*Lists!$H$43*F13","v":{"$error":"#DIV/0!"}},{"$f":"IF(+Lists!I57<Lists!H57,Lists!H57,Lists!I57)","v":{"$error":"#DIV/0!"}},{"$f":"+Underwriting!H112*H13","v":{"$error":"#DIV/0!"}},{"$f":"+Lists!H57","v":{"$error":"#DIV/0!"}},{"$f":"+Underwriting!H127","v":{"$error":"#DIV/0!"}},{"$f":"IF($D$8=\"NO\",MAX(F13,H13,J13),\"\")","v":{"$error":"#N/A"}},{"$f":"IF($D$8=\"YES\",MAX(D13,H13,J13), \"\")","v":{"$error":"#N/A"}},{"$f":"MAX(L13:M13)","v":{"$error":"#N/A"}},{"$f":"IF(N13,+P13/N13,0)","v":{"$error":"#N/A"}},{"$f":"IF($D$8=\"Yes\",MIN($E$13,$G$13,$I$13),MIN($E$13,$I$13,K13))","v":{"$error":"#N/A"}},null,null,0]
[null,null,1,{"$f":"IF(+Lists!L58<Lists!H58,Lists!H58,Lists!L58)","v":{"$error":"#DIV/0!"}},{"$f":"+Lists!R76*D14","v":{"$error":"#DIV/0!"}},{"$f":"IF(+Lists!J58<Lists!H58,Lists!H58,Lists!J58)","v":{"$error":"#DIV/0!"}},{"$f":"Lists!$E$43*F14","v":{"$error":"#DIV/0!"}},{"$f":"IF(Lists!I58<Lists!H58,Lists!H58,Lists!I58)","v":{"$error":"#DIV/0!"}},{"$f":"+Underwriting!H113*H14","v":{"$error":"#DIV/0!"}},{"$f":"+Lists!H58","v":{"$error":"#DIV/0!"}},{"$f":"+Underwriting!H128","v":{"$error":"#DIV/0!"}},{"$error":"#N/A"},{"$f":"IF($D$8=\"YES\",MAX(D14,H14,J14), \"\")","v":{"$error":"#N/A"}},{"$f":"MAX(L14:M14)","v":{"$error":"#N/A"}},{"$error":"#N/A"},{"$f":"IF($D$8=\"YES\",MIN($E$14,$G$14,$I$14),MIN($E$14,$I$14))","v":{"$error":"#N/A"}},null,null,1]
[null,null,2,{"$f":"IF(+Lists!L59<Lists!H59,Lists!H59,Lists!L59)","v":{"$error":"#DIV/0!"}},{"$f":"Lists!S76*D15","v":{"$error":"#DIV/0!"}},{"$f":"IF(+Lists!J59<Lists!H59,Lists!H59,Lists!J59)","v":{"$error":"#DIV/0!"}},{"$f":"Lists!$E$43*F15","v":{"$error":"#DIV/0!"}},{"$f":"IF(Lists!I59<Lists!H59,Lists!H59,Lists!I59)","v":{"$error":"#DIV/0!"}},{"$f":"+Underwriting!H114*H15","v":{"$error":"#DIV/0!"}},{"$f":"+Lists!H59","v":{"$error":"#DIV/0!"}},{"$f":"+Underwriting!H129","v":{"$error":"#DIV/0!"}},{"$error":"#N/A"},{"$error":"#N/A"},{"$error":"#N/A"},{"$error":"#N/A"},{"$f":"IF($D$8=\"YES\",MIN($E$15,$G$15,$I$15),MIN($E$15,$I$15))","v":{"$error":"#N/A"}},null,null,2]
[null,null,3,{"$f":"IF(+Lists!L60<Lists!H60,Lists!H60,Lists!L60)","v":{"$error":"#DIV/0!"}},{"$f":"+Lists!T76*D16","v":{"$error":"#DIV/0!"}},{"$f":"IF(+Lists!J60<Lists!H60,Lists!H60,Lists!J60)","v":{"$error":"#DIV/0!"}},{"$f":"Lists!$E$43*F16","v":{"$error":"#DIV/0!"}},{"$f":"IF(Lists!I60<Lists!H60,Lists!H60,Lists!I60)","v":{"$error":"#DIV/0!"}},{"$f":"+Underwriting!H115*H16","v":{"$error":"#DIV/0!"}},{"$f":"+Lists!H60","v":{"$error":"#DIV/0!"}},{"$f":"+Underwriting!H130","v":{"$error":"#DIV/0!"}},{"$error":"#N/A"},{"$error":"#N/A"},{"$error":"#N/A"},{"$error":"#N/A"},{"$f":"IF($D$8=\"YES\",MIN($G$16,$I$16),MIN($E$16,$I$16))","v":{"$error":"#N/A"}},null,null,3]
[null,null,4,{"$f":"IF(+Lists!L61<Lists!H61,Lists!H61,Lists!L61)","v":{"$error":"#DIV/0!"}},{"$f":"Lists!U76*D17","v":{"$error":"#DIV/0!"}},{"$f":"IF(+Lists!J61<Lists!H61,Lists!H61,Lists!J61)","v":{"$error":"#DIV/0!"}},{"$f":"Lists!$E$43*F17","v":{"$error":"#DIV/0!"}},{"$f":"IF(Lists!I61<Lists!H61,Lists!H61,Lists!I61)","v":{"$error":"#DIV/0!"}},{"$f":"+Underwriting!H116*H17","v":{"$error":"#DIV/0!"}},{"$f":"+Lists!H61","v":{"$error":"#DIV/0!"}},{"$f":"+Underwriting!H131","v":{"$error":"#DIV/0!"}},{"$error":"#N/A"},{"$error":"#N/A"},{"$error":"#N/A"},{"$error":"#N/A"},{"$f":"IF($D$8=\"YES\",MIN($E$17,$G$17,$I$17),MIN($E$17,$I$17))","v":{"$error":"#N/A"}},null,null,4]
[null,null,5,{"$f":"IF(+Lists!L62<Lists!H62,Lists!H62,Lists!L62)","v":{"$error":"#DIV/0!"}},{"$f":"Lists!U76*D18","v":{"$error":"#DIV/0!"}},{"$f":"IF(+Lists!J62<Lists!H62,Lists!H62,Lists!J62)","v":{"$error":"#DIV/0!"}},{"$f":"Lists!$E$43*F18","v":{"$error":"#DIV/0!"}},{"$f":"IF(Lists!I62<Lists!H62,Lists!H62,Lists!I62)","v":{"$error":"#DIV/0!"}},{"$f":"+Underwriting!H117*H18","v":{"$error":"#DIV/0!"}},{"$f":"+Lists!H62","v":{"$error":"#DIV/0!"}},{"$f":"+Underwriting!H132","v":{"$error":"#DIV/0!"}},{"$f":"IF($D$8=\"NO\",MAX(F18,H18,J18),\"\")","v":{"$error":"#N/A"}},{"$error":"#N/A"},{"$error":"#N/A"},{"$error":"#N/A"},{"$f":"IF($D$8=\"YES\",MIN($E$18,$G$18,$I$18),MIN($E$18,$I$18))","v":{"$error":"#N/A"}},null,null,5]
[null,null,"Actual Total",null,{"$f":"SUM(E13:E18)","v":{"$error":"#DIV/0!"}},null,{"$f":"SUM(G13:G18)","v":{"$error":"#DIV/0!"}},null,{"$f":"SUM(I13:I18)","v":{"$error":"#DIV/0!"}},null,{"$f":"SUM(K13:K18)","v":{"$error":"#DIV/0!"}}]
[null,null,"Allowed Total",{"$f":"SUM(D13:D18)","v":{"$error":"#DIV/0!"}},{"$f":"IF(SUM(E13:E18)<D5, SUM(E13:E18),D5)","v":{"$error":"#DIV/0!"}},{"$error":"#DIV/0!"},{"$f":"IF(SUM(G13:G18)<D5, SUM(G13:G18),D5)","v":{"$error":"#DIV/0!"}},{"$error":"#DIV/0!"},{"$f":"IF(SUM(I13:I18)<D5, SUM(I13:I18),D5)","v":{"$error":"#DIV/0!"}},{"$error":"#DIV/0!"},{"$f":"IF(SUM(K13:K18)<D5, SUM(K13:K18),D5)","v":{"$error":"#DIV/0!"}},{"$f":"SUM(L13:L18)","v":{"$error":"#N/A"}},{"$f":"SUM(M13:M18)","v":{"$error":"#N/A"}},{"$f":"SUM(N13:N18)","v":{"$error":"#N/A"}},null,{"$f":"IF(SUM(P14:P19)<D5, SUM(P14:P19),D5)","v":{"$error":"#N/A"}},null,null,"Total",{"$f":"SUM(T13:T18)","v":0},{"$f":"SUM(U13:U18)","v":0}]
[null,null,"HOUSING TRUST FUND"]
[null,null,"Number of Bedrooms","Per Unit 234 Limits","234                    Funding Subsidy Limit","Flat Rate NOFA  HTF Limits    ","Flat Rate Funding","Per Unit Cost to Produce","Cost To Produce Funding","By Percentage","Percentage Funding","Required Units Not in Area of Demonstrated Need","Required Units In an Area of Demonstrated Need","Final Number of Minimum Required HTF  Units","Final Per Unit Funding"]
[null,null,0,{"$f":"IF(Underwriting!H265<Underwriting!H210,Underwriting!H210,Underwriting!H265)","v":{"$error":"#DIV/0!"}},{"$f":"+Lists!Q76*D23","v":{"$error":"#DIV/0!"}},{"$f":"IF(Underwriting!H235<Underwriting!H210,Underwriting!H210,Underwriting!H235)","v":{"$error":"#DIV/0!"}},{"$f":"+Lists!$H$43*F23","v":{"$error":"#DIV/0!"}},{"$f":"IF(Underwriting!H227<Underwriting!H210,Underwriting!H210,Underwriting!H227)","v":{"$error":"#DIV/0!"}},{"$f":"+Underwriting!H112*'Funding and Units Worksheet'!H23","v":{"$error":"#DIV/0!"}},{"$f":"+Underwriting!H210","v":{"$error":"#DIV/0!"}},{"$f":"+Underwriting!H218","v":{"$error":"#DIV/0!"}},{"$f":"IF($D$8=\"NO\",MAX(F23,H23,J23),\"\")","v":{"$error":"#N/A"}},{"$f":"IF($D$8=\"YES\",MAX(D23,J23,L23), \"\")","v":{"$error":"#N/A"}},{"$f":"+IF(Eligibility!$E$6=\"Yes\",'Funding and Units Worksheet'!M23,'Funding and Units Worksheet'!L23)","v":{"$error":"#N/A"}},{"$f":"IF(P23,P23/N23,0)","v":{"$error":"#N/A"}},{"$f":"IF($D$8=\"Yes\",MIN(E23,I23),MIN(E23,I23))","v":{"$error":"#N/A"}}]
[null,null,1,{"$f":"IF(Underwriting!H266<Underwriting!H211,Underwriting!H211,Underwriting!H266)","v":{"$error":"#DIV/0!"}},{"$f":"+Lists!R76*D24","v":{"$error":"#DIV/0!"}},{"$f":"IF(Underwriting!H236<Underwriting!H211,Underwriting!H211,Underwriting!H236)","v":{"$error":"#DIV/0!"}},{"$f":"+Lists!$H$43*F24","v":{"$error":"#DIV/0!"}},{"$f":"IF(Underwriting!H228<Underwriting!H211,Underwriting!H211,Underwriting!H228)","v":{"$error":"#DIV/0!"}},{"$f":"+Underwriting!H113*'Funding and Units Worksheet'!H24","v":{"$error":"#DIV/0!"}},{"$f":"+Underwriting!H211","v":{"$error":"#DIV/0!"}},{"$f":"+Underwriting!H219","v":{"$error":"#DIV/0!"}},{"$f":"IF($D$8=\"NO\",MAX(F24,H24,J24),\"\")","v":{"$error":"#N/A"}},{"$f":"IF($D$8=\"YES\",MAX(D24,J24,L24), \"\")","v":{"$error":"#N/A"}},{"$f":"+IF(Eligibility!$E$6=\"Yes\",'Funding and Units Worksheet'!M24,'Funding and Units Worksheet'!L24)","v":{"$error":"#N/A"}},{"$f":"IF(P24,P24/N24,0)","v":{"$error":"#N/A"}},{"$error":"#N/A"}]
[null,null,2,{"$f":"IF(Underwriting!H267<Underwriting!H212,Underwriting!H212,Underwriting!H267)","v":{"$error":"#DIV/0!"}},{"$f":"+Lists!S76*D25","v":{"$error":"#DIV/0!"}},{"$f":"IF(Underwriting!H237<Underwriting!H212,Underwriting!H212,Underwriting!H237)","v":{"$error":"#DIV/0!"}},{"$f":"+Lists!$H$43*F25","v":{"$error":"#DIV/0!"}},{"$f":"IF(Underwriting!H229<Underwriting!H212,Underwriting!H212,Underwriting!H229)","v":{"$error":"#DIV/0!"}},{"$f":"+Underwriting!H114*'Funding and Units Worksheet'!H25","v":{"$error":"#DIV/0!"}},{"$f":"+Underwriting!H212","v":{"$error":"#DIV/0!"}},{"$f":"+Underwriting!H220","v":{"$error":"#DIV/0!"}},{"$error":"#N/A"},{"$error":"#N/A"},{"$f":"+IF(Eligibility!$E$6=\"Yes\",'Funding and Units Worksheet'!M25,'Funding and Units Worksheet'!L25)","v":{"$error":"#N/A"}},{"$error":"#N/A"},{"$error":"#N/A"}]
[null,null,3,{"$f":"IF(Underwriting!H268<Underwriting!H213,Underwriting!H213,Underwriting!H268)","v":{"$error":"#DIV/0!"}},{"$f":"+Lists!T76*D26","v":{"$error":"#DIV/0!"}},{"$f":"IF(Underwriting!H238<Underwriting!H213,Underwriting!H213,Underwriting!H238)","v":{"$error":"#DIV/0!"}},{"$f":"+Lists!$H$43*F26","v":{"$error":"#DIV/0!"}},{"$f":"IF(Underwriting!H230<Underwriting!H213,Underwriting!H213,Underwriting!H230)","v":{"$error":"#DIV/0!"}},{"$f":"+Underwriting!H115*'Funding and Units Worksheet'!H26","v":{"$error":"#DIV/0!"}},{"$f":"+Underwriting!H213","v":{"$error":"#DIV/0!"}},{"$f":"+Underwriting!H221","v":{"$error":"#DIV/0!"}},{"$error":"#N/A"},{"$error":"#N/A"},{"$f":"+IF(Eligibility!$E$6=\"Yes\",'Funding and Units Worksheet'!M26,'Funding and Units Worksheet'!L26)","v":{"$error":"#N/A"}},{"$error":"#N/A"},{"$error":"#N/A"}]
[null,null,4,{"$f":"IF(Underwriting!H269<Underwriting!H214,Underwriting!H214,Underwriting!H269)","v":{"$error":"#DIV/0!"}},{"$f":"+Lists!U78*D27","v":{"$error":"#DIV/0!"}},{"$f":"IF(Underwriting!H239<Underwriting!H214,Underwriting!H214,Underwriting!H239)","v":{"$error":"#DIV/0!"}},{"$f":"+Lists!$H$43*F27","v":{"$error":"#DIV/0!"}},{"$f":"IF(Underwriting!H231<Underwriting!H214,Underwriting!H214,Underwriting!H231)","v":{"$error":"#DIV/0!"}},{"$f":"+Underwriting!H116*'Funding and Units Worksheet'!H27","v":{"$error":"#DIV/0!"}},{"$f":"+Underwriting!H214","v":{"$error":"#DIV/0!"}},{"$f":"+Underwriting!H222","v":{"$error":"#DIV/0!"}},{"$error":"#N/A"},{"$error":"#N/A"},{"$f":"+IF(Eligibility!$E$6=\"Yes\",'Funding and Units Worksheet'!M27,'Funding and Units Worksheet'!L27)","v":{"$error":"#N/A"}},{"$error":"#N/A"},{"$error":"#N/A"}]
[null,null,5,{"$f":"IF(Underwriting!H270<Underwriting!H215,Underwriting!H215,Underwriting!H270)","v":{"$error":"#DIV/0!"}},{"$f":"+E18","v":{"$error":"#DIV/0!"}},{"$f":"IF(Underwriting!H240<Underwriting!H215,Underwriting!H215,Underwriting!H240)","v":{"$error":"#DIV/0!"}},{"$f":"+Lists!$H$43*F28","v":{"$error":"#DIV/0!"}},{"$f":"IF(Underwriting!H232<Underwriting!H215,Underwriting!H215,Underwriting!H232)","v":{"$error":"#DIV/0!"}},{"$f":"+Underwriting!H117*'Funding and Units Worksheet'!H28","v":{"$error":"#DIV/0!"}},{"$f":"+Underwriting!H215","v":{"$error":"#DIV/0!"}},{"$f":"+Underwriting!H223","v":{"$error":"#DIV/0!"}},{"$error":"#N/A"},{"$error":"#N/A"},{"$f":"+IF(Eligibility!$E$6=\"Yes\",'Funding and Units Worksheet'!M28,'Funding and Units Worksheet'!L28)","v":{"$error":"#N/A"}},{"$error":"#N/A"},{"$error":"#N/A"}]
[null,null,"Actual Total",null,{"$f":"SUM(E23:E28)","v":{"$error":"#DIV/0!"}},null,{"$f":"SUM(G23:G28)","v":{"$error":"#DIV/0!"}},null,{"$f":"SUM(I23:I28)","v":{"$error":"#DIV/0!"}},null,{"$f":"SUM(K23:K28)","v":{"$error":"#DIV/0!"}}]
[null,null,"Allowed Total",{"$f":"SUM(D23:D28)","v":{"$error":"#DIV/0!"}},{"$f":"IF(SUM(E23:E28)<D6, SUM(E23:E28),D6)","v":{"$error":"#DIV/0!"}},{"$error":"#DIV/0!"},{"$f":"IF(SUM(G23:G28)<D6, SUM(G23:G28),D6)","v":{"$error":"#DIV/0!"}},{"$error":"#DIV/0!"},{"$f":"IF(SUM(I23:I28)<D6, SUM(I23:I28),D6)","v":{"$error":"#DIV/0!"}},{"$error":"#DIV/0!"},{"$f":"IF(SUM(K23:K28)<D6, SUM(K23:K28),D6)","v":{"$error":"#DIV/0!"}},{"$error":"#N/A"},{"$error":"#N/A"},{"$f":"SUM(N23:N28)","v":{"$error":"#N/A"}},null,{"$f":"IF(SUM(P23:P28)<D6, SUM(P23:P28),D6)","v":{"$error":"#N/A"}}]
[]
[null,null,"NON LHC Funding"]
[null,null,"Number of Bedrooms","Number on Non HOME/HTF Units Allowed"]
[null,null,0,{"$f":"+'Primary Input'!E56-('Funding and Units Worksheet'!N23+'Funding and Units Worksheet'!N13)","v":{"$error":"#N/A"}}]
[null,null,1,{"$f":"+'Primary Input'!E57-('Funding and Units Worksheet'!N24+'Funding and Units Worksheet'!N14)","v":{"$error":"#N/A"}}]
[null,null,2,{"$f":"+'Primary Input'!E58-('Funding and Units Worksheet'!N25+'Funding and Units Worksheet'!N15)","v":{"$error":"#N/A"}}]
[null,null,3,{"$f":"+'Primary Input'!E59-('Funding and Units Worksheet'!N26+'Funding and Units Worksheet'!N16)","v":{"$error":"#N/A"}}]
[null,null,4,{"$f":"+'Primary Input'!E60-('Funding and Units Worksheet'!N27+'Funding and Units Worksheet'!N17)","v":{"$error":"#N/A"}}]
[null,null,5,{"$f":"+'Primary Input'!E61-('Funding and Units Worksheet'!N28+'Funding and Units Worksheet'!N18)","v":{"$error":"#N/A"}}]
[null,null,"Total",{"$f":"SUM(D34:D39)","v":{"$error":"#N/A"}}]

{"sheet":"Checklist & Application Order","index":26,"n_rows":57,"n_cols":14,"rows_kept":57,"cut":false,"hidden":false,"merged":[[2,1,2,13]]}
["Checklist & Required Application Order"]
[null,null,null,null,null,null,null,null,"CHECKLIST & REQUIRED APPLICATION ORDER",null,"Required","Included","Signature"]
[null,"Submit the following in order and tabulated:"]
[null,1,null,null,null,null,null,"--","Cover",null,"X","X"]
[null,3,null,null,null,null,null,"--","Primary Input",null,"X","X"]
[null,4,null,null,null,null,null,"--","Eligibility",null,"X","X"]
[null,5,null,null,null,null,null,"--","Types of Housing",null,"X","X"]
[null,6,null,null,null,null,null,"--","Development Team ( with Resumes and Relevant Experience)",null,"X","X"]
[null,7,null,null,null,null,null,"--","Financial Considerations",null,"X","X"]
[null,8,null,null,null,null,null,"--","Rental Income (Including Average Per Sq. Ft. of individual Units by Bedroom Size)",null,"X","X"]
[null,null,null,null,"Attach evidence of any unit subsidy"]
[null,9,null,null,null,null,null,"--","Match Leverage",null,"X","X"]
[null,null,null,null,"Attach evidence of prior years income"]
[null,10,null,null,null,null,null,"--","Rehab or New Construction",null,"X","X"]
[null,11,null,null,null,null,null,"--","Loan Information",null,"X","X"]
[null,12,null,null,null,null,null,"--","Sources & Uses",null,"X","X"]
[null,13,null,null,null,null,null,"--","Pro Forma Calculation",null,"X","X"]
[null,14,null,null,null,null,null,"--","Project Schedule",null,"X","X"]
[null,15,null,null,null,null,null,"--","Completed Projects"]
[null,16,null,null,null,null,null,"--","Competitive Review Criteria",null,"X","X"]
[null,17,null,null,null,null,null,"--","Checklist",null,"X","X"]
[null,18,null,null,null,null,null,"--","Certifications",null,"X","X","X"]
[]
[null,null,"Documents in Support of Applicant Information"]
[null,null,null,"a)","Appendix 1",null,null,"--","Applicant and Development Team Information",null,"X","X"]
[null,null,"Documents in Support of Property Information"]
[null,null,null,"a)","Appendix 2",null,null,"--","Site Control Documentation",null,"X","X"]
[null,null,null,null,null,"i)","Legal descriptions"]
[null,null,null,null,null,"ii)","Map"]
[null,null,null,null,null,"ii)","Color Photographs"]
[null,null,null,"b)","Appendix 3",null,null,"--","Ownership History",null,"","X"]
[null,null,null,null,null,"i)","List of prior projects using LHC programs (this requirment is met by submission of the Completed Project Tab)",null,null,null,null,"X"]
[null,null,null,null,null,"ii)","Other projects under construction by members of the Development Team and",null,null,null,null,"X"]
[null,null,null,null,null,"iii)","Prior two (2) years audited (or certified if non-CHDO) financials of applicant",null,null,null,null,"X"]
[null,null,null,"c)","Appendix 4",null,null,"--","Zoning Evidence",null,"X","X"]
[null,null,null,null,null,"i)","Zoning Certification Letter or Zoning Map",null,null,null,"X","X"]
[null,null,null,null,null,"ii)","Other documents related to zoning"]
[null,null,null,"d)","Appendix 5",null,null,"--","Appraisal (an Appraisal is only required if acquisition is part of the application, if the value of the property is being used as leverage or the value of the property is included in the application for any reason).",null,"X","X"]
[null,null,null,"e)","Appendix 6 ",null,null,"--","Capital Needs Assessment (for rehab projects only)",null,"X"]
[null,null,null,"f)","Appendix 7 ",null,null,"--","Architectural and Minimum Project Design Requirement",null,"","X"]
[null,null,null,"g)","Appendix 8",null,null,"--","Estoppel Letter (for rehab project only)",null,"X","X","X"]
[null,null,null,"h)","Appendix 9",null,null,"--","CHDO Certificate of No Change",null,"X","X"]
[null,null,"Documents in Support of Sources and Uses"]
[null,null,null,"a)","Appendix 10",null,null,"--","Financing Commitments (obtain from bank, etc.)",null,"X","X"]
[null,null,null,"c)","Appendix 11",null,null,"--","Developer Services Agreement",null,"X","X"]
[null,null,null,"d)","Appendix 12",null,null,"--","Description of Amenities. ",null,"","X"]
[null,null,null,"e)","Appendix 13",null,null,"--","Description of Community Facilities.",null,null,"X"]
[null,null,null,"g)","Appendix 14",null,null,"--","Affirmative Marketing Plan Form (AFHM-98)",null,"X","X"]
[null,null,null,"k)","Appendix 15",null,null,"--","Lead Based Paint Strategy (Pre-1978 Projects Only)",null,"X","X"]
[]
[null,null,null,"m)","Appendix 17",null,null,"--","Market Study Fee.  If a Market Study is required (more than 12 total units) it must be turned in the \"Submitted Application\".",null,"X","X",null,{"$f":"IF('Primary Input'!E63>11, \"A formal Market Study is required. Submit required fee to LHC.\", \" \")","v":" "}]
[null,null,null,"n)","Appendix 17",null,null,"--","Alternative Market Analysis. If the project is less than 12 total units you may opt to provide an Alternative Market Analysis in lieu of a formal Market Study. The Alternative Market Analysis is due at application.",null,"X","X",null,{"$f":"IF('Primary Input'!J26<12, \"You may utilize the Alternative Market Analysis. If you choose to you must submit the analysis with the application\", \" \")","v":"You may utilize the Alternative Market Analysis. If you choose to you must submit the analysis with the application"}]
[null,null,null,"r)","Appendix 18",null,null,"--","Certificate of SDB, MBE, WBE",null,null,"X"]
[null,null,null,"s)","Appendix 19",null,null,"--","Utility Allowance; Rate Sheets from All Providers; Sample bills if avaliable for all providers. ",null,"X","X"]
[null,null,null,null,null,null,null,"--"]
[]
[null,null,null,null,null,null,null,null,"Items with an X are required for a submission to be considered. Items included without the X do not have to be submitted for consideration but may be required to receive points ( if applicable) or to complete underwriting prior to award."]

{"sheet":"Submit","index":27,"n_rows":1,"n_cols":1,"rows_kept":1,"cut":false,"hidden":false,"merged":[[0,0,2,12]]}
["Below is the button to submit your application to LHC. Please do not click the button until you have completed all the tabs. Remember that you will have to attach PDF documents that are required by the program (NOAH, CHAAP, CSAR, Small Project Continuation etc.). You should have the PDF documents ready prior to clicking the submit button."]

{"sheet":"SLR","index":28,"n_rows":74,"n_cols":32,"rows_kept":74,"cut":false,"hidden":true,"merged":[[35,0,35,6],[33,2,33,6],[0,5,0,6],[1,5,1,6],[3,0,3,6],[4,0,4,6],[5,0,5,6],[21,0,21,6],[22,0,22,6],[2,0,2,6],[10,5,10,6]]}
[]
[]
["Louisiana Housing Corporation",null,null,null,null,null,null,null,null,null,null,null,null,null,null,null,null,null,null,null,null,null,null,null,null,null,"Parish","0 BR","1 BR","2 BR ","3 BR","4 OR MORE BR"]
["Subsidy Layering Review",null,null,null,null,null,null,null,null,null,null,null,null,null,null,null,null,null,null,null,null,null,null,null,null,null,"Acadia Parish"]
["For",null,null,null,null,null,null,null,null,null,null,null,null,null,null,null,null,null,null,null,null,null,null,null,null,null,"Allen Parish"]
[{"$f":"+'Primary Input'!E7","v":0},null,null,null,null,null,null,null,null,null,null,null,null,null,null,null,null,null,null,null,null,null,null,null,null,null,"Ascension Parish",117751,134986,164141,212345,233089]
[null,null,null,null,null,null,null,null,null,null,null,null,null,null,null,null,null,null,null,null,null,null,null,null,null,null,"Assumption Parish"]
[null,null,null,null,null,null,null,null,null,null,null,null,null,null,null,null,null,null,null,null,null,null,null,null,null,null,"Avoyelles Parish"]
["Total Number of Units",null,null,null,{"$f":"+'Primary Input'!E35:G35","v":0},null,null,null,null,null,null,null,null,null,null,null,null,null,null,null,null,null,null,null,null,null,"Beauregard Parish"]
["Total Development Cost",null,null,null,{"$f":"+'Sources and Uses'!F42","v":0},null,null,null,null,null,null,null,null,null,null,null,null,null,null,null,null,null,null,null,null,null,"Bienville Parish"]
["Total HOME Assistance Requested",null,null,null,{"$f":"+'Primary Input'!E40:G40","v":0},{"$f":"IF(E11>F33, \"Applicant is Requesting Too much HOME Assistance\",\"\")","v":{"$error":"#DIV/0!"}},null,null,null,null,null,null,null,null,null,null,null,null,null,null,null,null,null,null,null,null,"Bossier Parish"]
["Percentage of HOME Assistance",null,null,null,{"$f":"+E11/E10","v":{"$error":"#DIV/0!"}},null,null,null,null,null,null,null,null,null,null,null,null,null,null,null,null,null,null,null,null,null,"Caddo Parish"]
["Required Minimum Number of HOME Units",null,null,null,{"$f":"+E9*E12","v":{"$error":"#DIV/0!"}}]
["Parish",null,null,null,{"$f":"+'Primary Input'!E12:G12","v":0}]
["Maximum Per Unit Subsidy (PUS 0 bedroom)",null,null,null,{"$f":"+Lists!Q76","v":0}]
["Maximum Per Unit Subsidy (PUS 1 bedroom)",null,null,null,{"$f":"+Lists!R76","v":0}]
["Maximum Per Unit Subsidy (PUS 2 bedroom)",null,null,null,{"$f":"+Lists!S76","v":0}]
["Maximum Per Unit Subsidy (PUS 3 bedroom)",null,null,null,{"$f":"+Lists!T76","v":0},null,null,null,null,null,null,null,null,null,null,null,null,null,null,null,null,null,null,null,null,null,"Calcasieu Parish"]
["Maximum Per Unit Subsidy (PUS 4 bedroom)",null,null,null,{"$f":"+Lists!U76","v":0},null,null,null,null,null,null,null,null,null,null,null,null,null,null,null,null,null,null,null,null,null,"Caldwell Parish"]
["Per Unit Subsidy Allowed based on minimum # of units)",null,null,null,{"$f":"+F33","v":{"$error":"#DIV/0!"}},null,null,null,null,null,null,null,null,null,null,null,null,null,null,null,null,null,null,null,null,null,"Cameron Parish"]
["Does Project Meet Per Unit Subsidy Rule",null,null,null,{"$f":"+IF(E11<=E20, \"Yes\", \"Project Fails Test\")","v":{"$error":"#DIV/0!"}},null,null,null,null,null,null,null,null,null,null,null,null,null,null,null,null,null,null,null,null,null,"Catahoula Parish"]
["HOME Assisted Units are determined by a percentage of the units equal to the principal amount of HOME funds divided by the total amount of long term funds.  Therefore the number of HOME Assisted Units pursuant to this calculation would be:",null,null,null,null,null,null,null,null,null,null,null,null,null,null,null,null,null,null,null,null,null,null,null,null,null,"Claiborne Parish"]
[null,null,null,null,null,null,null,null,null,null,null,null,null,null,null,null,null,null,null,null,null,null,null,null,null,null,"Concordia Parish"]
[null,null,null,null,null,null,null,null,null,null,null,null,null,null,null,null,null,null,null,null,null,null,null,null,null,null,"De Soto Parish"]
["HOME Assisted Units By Bedroom Size:",null,null,null,null,null,null,null,null,null,null,null,null,null,null,null,null,null,null,null,null,null,null,null,null,null,"East Baton Rouge Parish",117751,134986,164141,212345,233089]
["Bedroom Size","Total Units","HOME Percentage","HOME Assisted Units","Maximum HOME Funds Per Unit Subsidy","Maximum Allowable Subsidy",null,null,null,null,null,null,null,null,null,null,null,null,null,null,null,null,null,null,null,null,"East Carroll Parish"]
["0 BR",{"$f":"+'Primary Input'!E65","v":0},{"$f":"+E12","v":{"$error":"#DIV/0!"}},{"$f":"ROUNDUP(+C27*B27,0)","v":{"$error":"#DIV/0!"}},{"$f":"+E15","v":0},{"$f":"+D27*E27","v":{"$error":"#DIV/0!"}},null,null,null,null,null,null,null,null,null,null,null,null,null,null,null,null,null,null,null,null,"East Feliciana Parish",117751,134986,164141,212345,233089]
["1 BR",{"$f":"+'Primary Input'!E66","v":0},{"$f":"+E12","v":{"$error":"#DIV/0!"}},{"$error":"#DIV/0!"},{"$f":"+E16","v":0},{"$f":"+E28*D28","v":{"$error":"#DIV/0!"}},null,null,null,null,null,null,null,null,null,null,null,null,null,null,null,null,null,null,null,null,"Evangeline Parish"]
["2 BR",{"$f":"+'Primary Input'!E67","v":0},{"$f":"+E12","v":{"$error":"#DIV/0!"}},{"$error":"#DIV/0!"},{"$f":"+E17","v":0},{"$f":"+E29*D29","v":{"$error":"#DIV/0!"}}]
["3BR",{"$f":"+'Primary Input'!E68","v":0},{"$f":"+E12","v":{"$error":"#DIV/0!"}},{"$error":"#DIV/0!"},{"$f":"+E18","v":0},{"$f":"+E30*D30","v":{"$error":"#DIV/0!"}}]
["4BR",{"$f":"+'Primary Input'!E69","v":0},{"$f":"+E12","v":{"$error":"#DIV/0!"}},{"$error":"#DIV/0!"},{"$f":"+E19","v":0},{"$f":"+E31*D31","v":{"$error":"#DIV/0!"}}]
["Other",{"$f":"+'Primary Input'!E70+'Primary Input'!E71","v":0},{"$f":"+E12","v":{"$error":"#DIV/0!"}},{"$error":"#DIV/0!"},{"$f":"+E19","v":0},{"$f":"+E32*D32","v":{"$error":"#DIV/0!"}},null,null,null,null,null,null,null,null,null,null,null,null,null,null,null,null,null,null,null,null,"Grant Parish"]
["Total",{"$f":"SUM(B27:B32)","v":0},null,{"$f":"SUM(D27:D32)","v":{"$error":"#DIV/0!"}},null,{"$f":"SUM(F27:F32)","v":{"$error":"#DIV/0!"}},null,null,null,null,null,null,null,null,null,null,null,null,null,null,null,null,null,null,null,null,"Iberia Parish"]
[null,null,{"$f":"IF('Primary Input'!E36<SLR!D33, \"Invalid Input on Primary Input Tab. Please Correct (HOME Assisted units must equal number shown here)\", \"OK\")","v":{"$error":"#DIV/0!"}},null,null,null,null,null,null,null,null,null,null,null,null,null,null,null,null,null,null,null,null,null,null,null,"Iberville Parish",117751,134986,164141,212345,233089]
[null,null,null,null,null,null,null,null,null,null,null,null,null,null,null,null,null,null,null,null,null,null,null,null,null,null,"Jackson Parish"]
["The number of HOME assisted units is determined by rounding to the next whole number across all bedroom sizes. This may result in a larger number of required units than oveall proportionality would indicate.",null,null,null,null,null,null,null,null,null,null,null,null,null,null,null,null,null,null,null,null,null,null,null,null,null,"Jefferson Parish"]
[null,null,null,null,null,null,null,null,null,null,null,null,null,null,null,null,null,null,null,null,null,null,null,null,null,null,"Jefferson Davis Parish"]
["Bed Room Size","Fair Market Rents","Actual High Rents","High HOME Rent","Actual Hgh Rents Below Level Allowed?","Actual Low Rents","Low HOME Rent","Actual Low Rents Below Level Allowed?",null,null,null,null,null,null,null,null,null,null,null,null,null,null,null,null,null,null,"Lafayette Parish"]
[0,{"$f":"+'2020 Rents'!F76","v":{"$error":"#N/A"}},{"$f":"+'Rental Income'!Y3","v":0},{"$f":"+'2020 Rents'!F73","v":{"$error":"#N/A"}},{"$f":"+'Rental Income'!AC3","v":{"$error":"#N/A"}},{"$f":"+'Rental Income'!Z3","v":0},{"$f":"IF('Primary Input'!E12=\"\",0,VLOOKUP('Primary Input'!E12,'Primary Input'!BE4:BT115,2))","v":0},{"$f":"+'Rental Income'!AB3","v":{"$error":"#N/A"}},null,null,null,null,null,null,null,null,null,null,null,null,null,null,null,null,null,null,"Lafourche Parish"]
[1,{"$f":"+'2020 Rents'!G76","v":{"$error":"#N/A"}},{"$f":"+'Rental Income'!Y4","v":0},{"$f":"+'2020 Rents'!G73","v":{"$error":"#N/A"}},{"$f":"+'Rental Income'!AC4","v":{"$error":"#N/A"}},{"$f":"+'Rental Income'!Z4","v":0},{"$f":"IF('Primary Input'!E12=\"\",0,VLOOKUP('Primary Input'!E12,'Primary Input'!BE4:BT115,4))","v":0},{"$f":"+'Rental Income'!AB4","v":{"$error":"#N/A"}},null,null,null,null,null,null,null,null,null,null,null,null,null,null,null,null,null,null,"La Salle Parish"]
[2,{"$f":"+'2020 Rents'!H76","v":{"$error":"#N/A"}},{"$f":"+'Rental Income'!Y5","v":0},{"$f":"+'2020 Rents'!H73","v":{"$error":"#N/A"}},{"$f":"+'Rental Income'!AC5","v":{"$error":"#N/A"}},{"$f":"+'Rental Income'!Z5","v":0},{"$f":"IF('Primary Input'!E12=\"\",0,VLOOKUP('Primary Input'!E12,'Primary Input'!BE4:BT115,6))","v":0},{"$f":"+'Rental Income'!AB5","v":{"$error":"#N/A"}},null,null,null,null,null,null,null,null,null,null,null,null,null,null,null,null,null,null,"Lincoln Parish"]
[3,{"$f":"+'2020 Rents'!I76","v":{"$error":"#N/A"}},{"$f":"+'Rental Income'!Y6","v":0},{"$f":"+'2020 Rents'!I73","v":{"$error":"#N/A"}},{"$f":"+'Rental Income'!AC6","v":{"$error":"#N/A"}},{"$f":"+'Rental Income'!Z6","v":0},{"$f":"IF('Primary Input'!E12=\"\",0,VLOOKUP('Primary Input'!E12,'Primary Input'!BE4:BT115,8))","v":0},{"$f":"+'Rental Income'!AB6","v":{"$error":"#N/A"}},null,null,null,null,null,null,null,null,null,null,null,null,null,null,null,null,null,null,"Livingston Parish",117751,134986,164141,212345,233089]
[4,{"$f":"+'2020 Rents'!J76","v":{"$error":"#N/A"}},{"$f":"+'Rental Income'!Y7","v":0},{"$f":"+'2020 Rents'!J73","v":{"$error":"#N/A"}},{"$f":"+'Rental Income'!AC7","v":{"$error":"#N/A"}},{"$f":"+'Rental Income'!Z7","v":0},{"$f":"IF('Primary Input'!E12=\"\",0,VLOOKUP('Primary Input'!E12,'Primary Input'!BE4:BT115,10))","v":0},{"$f":"+'Rental Income'!AB7","v":{"$error":"#N/A"}},null,null,null,null,null,null,null,null,null,null,null,null,null,null,null,null,null,null,"Madison Parish"]
[null,null,null,null,null,null,null,null,null,null,null,null,null,null,null,null,null,null,null,null,null,null,null,null,null,null,"Morehouse Parish"]
[null,null,null,null,null,null,null,null,null,null,null,null,null,null,null,null,null,null,null,null,null,null,null,null,null,null,"Natchitoches Parish"]
[null,null,null,null,null,null,null,null,null,null,null,null,null,null,null,null,null,null,null,null,null,null,null,null,null,null,"Orleans Parish"]
[null,null,null,null,null,null,null,null,null,null,null,null,null,null,null,null,null,null,null,null,null,null,null,null,null,null,"Ouachita Parish"]
[null,null,null,null,null,null,null,null,null,null,null,null,null,null,null,null,null,null,null,null,null,null,null,null,null,null,"Plaquemines Parish"]
[null,null,null,null,null,null,null,null,null,null,null,null,null,null,null,null,null,null,null,null,null,null,null,null,null,null,"Pointe Coupee Parish",117751,134986,164141,212345,233089]
[null,null,null,null,null,null,null,null,null,null,null,null,null,null,null,null,null,null,null,null,null,null,null,null,null,null,"Rapides Parish"]
[null,null,null,null,null,null,null,null,null,null,null,null,null,null,null,null,null,null,null,null,null,null,null,null,null,null,"Red River Parish"]
[null,null,null,null,null,null,null,null,null,null,null,null,null,null,null,null,null,null,null,null,null,null,null,null,null,null,"Richland Parish"]
[null,null,null,null,null,null,null,null,null,null,null,null,null,null,null,null,null,null,null,null,null,null,null,null,null,null,"Sabine Parish"]
[null,null,null,null,null,null,null,null,null,null,null,null,null,null,null,null,null,null,null,null,null,null,null,null,null,null,"St. Bernard Parish"]
[null,null,null,null,null,null,null,null,null,null,null,null,null,null,null,null,null,null,null,null,null,null,null,null,null,null,"St. Charles Parish"]
[null,null,null,null,null,null,null,null,null,null,null,null,null,null,null,null,null,null,null,null,null,null,null,null,null,null,"St. Helena Parish",117751,134986,164141,212345,233089]
[null,null,null,null,null,null,null,null,null,null,null,null,null,null,null,null,null,null,null,null,null,null,null,null,null,null,"St. James Parish"]
[null,null,null,null,null,null,null,null,null,null,null,null,null,null,null,null,null,null,null,null,null,null,null,null,null,null,"St. John the Baptist Parish"]
[null,null,null,null,null,null,null,null,null,null,null,null,null,null,null,null,null,null,null,null,null,null,null,null,null,null,"St. Landry Parish"]
[null,null,null,null,null,null,null,null,null,null,null,null,null,null,null,null,null,null,null,null,null,null,null,null,null,null,"St. Martin Parish"]
[null,null,null,null,null,null,null,null,null,null,null,null,null,null,null,null,null,null,null,null,null,null,null,null,null,null,"St. Mary Parish"]
[null,null,null,null,null,null,null,null,null,null,null,null,null,null,null,null,null,null,null,null,null,null,null,null,null,null,"St. Tammany Parish"]
[null,null,null,null,null,null,null,null,null,null,null,null,null,null,null,null,null,null,null,null,null,null,null,null,null,null,"Tangipahoa Parish"]
[null,null,null,null,null,null,null,null,null,null,null,null,null,null,null,null,null,null,null,null,null,null,null,null,null,null,"Tensas Parish"]
[null,null,null,null,null,null,null,null,null,null,null,null,null,null,null,null,null,null,null,null,null,null,null,null,null,null,"Terrebonne Parish"]
[null,null,null,null,null,null,null,null,null,null,null,null,null,null,null,null,null,null,null,null,null,null,null,null,null,null,"Union Parish"]
[null,null,null,null,null,null,null,null,null,null,null,null,null,null,null,null,null,null,null,null,null,null,null,null,null,null,"Vermilion Parish"]
[null,null,null,null,null,null,null,null,null,null,null,null,null,null,null,null,null,null,null,null,null,null,null,null,null,null,"Vernon Parish"]
[null,null,null,null,null,null,null,null,null,null,null,null,null,null,null,null,null,null,null,null,null,null,null,null,null,null,"Washington Parish"]
[null,null,null,null,null,null,null,null,null,null,null,null,null,null,null,null,null,null,null,null,null,null,null,null,null,null,"Webster Parish"]
[null,null,null,null,null,null,null,null,null,null,null,null,null,null,null,null,null,null,null,null,null,null,null,null,null,null,"West Baton Rouge Parish",117751,134986,164141,212345,233089]
[null,null,null,null,null,null,null,null,null,null,null,null,null,null,null,null,null,null,null,null,null,null,null,null,null,null,"West Carroll Parish"]
[null,null,null,null,null,null,null,null,null,null,null,null,null,null,null,null,null,null,null,null,null,null,null,null,null,null,"West Feliciana Parish",117751,134986,164141,212345,233089]
[null,null,null,null,null,null,null,null,null,null,null,null,null,null,null,null,null,null,null,null,null,null,null,null,null,null,"Winn Parish"]

{"sheet":"2020 Rents","index":29,"n_rows":151,"n_cols":41,"rows_kept":151,"cut":false,"hidden":true,"merged":[]}
[null,null,null,null,null,null,"2020 Rents",{"$f":"+G1","v":"2020 Rents"},{"$f":"+H1","v":"2020 Rents"},"2020 Rents","2020 Rents","2020 Rents","2020 Rents","2020 Rents","2020 Rents","2020 Rents","2020 Rents","2020 Rents","2020 Rents","2020 Rents","2020 Rents","2020 Rents","2020 Rents","2020 Rents","2020 Rents","2020 Rents","2020 Rents","2020 Rents","2020 Rents","2020 Rents","2020 Rents","2020 Rents","2020 Rents","2020 Rents","2020 Rents","2020 Rents","2020 Rents","2020 Rents","2020 Rents","2020 Rents","2020 Rents"]
["State","statename","CBSASub","Areaname","Parish","fips2010","lowrent_0","lowrent_1","lowrent_2","lowrent_3","lowrent_4","lowrent_5","lowrent_6","fmr_0","fmr_1","fmr_2","fmr_3","fmr_4","fmr_5","fmr_6","highrent_0","highrent_1","highrent_2","highrent_3","highrent_4","highrent_5","highrent_6","HomeRent50_0","HomeRent50_1","HomeRent50_2","HomeRent50_3","HomeRent50_4","HomeRent50_5","HomeRent50_6","HomeRent65_0","HomeRent65_1","HomeRent65_2","HomeRent65_3","HomeRent65_4","HomeRent65_5","HomeRent65_6"]
[22,"LOUISIANA","NCNTY22001N22001","Acadia Parish, LA","Acadia","2200199999",482,516,620,716,800,882,964,536,539,710,993,1134,1304,1474,536,539,710,897,981,1064,1147,482,516,620,716,800,882,964,608,652,784,897,981,1064,1147]
[22,"LOUISIANA","NCNTY22003N22003","Allen Parish, LA","Allen","2200399999",510,546,655,756,845,931,1018,542,546,710,988,1064,1224,1383,542,546,710,950,1041,1130,1219,510,546,655,756,845,931,1018,643,690,831,950,1041,1130,1219]
[22,"LOUISIANA","METRO12940M12940","Baton Rouge, LA HUD Metro FMR Area","Ascension","2200599999",678,736,883,1020,1138,1256,1373,678,765,894,1145,1429,1643,1858,678,765,894,1145,1424,1552,1681,687,736,883,1020,1138,1256,1373,874,938,1127,1294,1424,1552,1681]
[22,"LOUISIANA","NCNTY22007N22007","Assumption Parish, LA","Assumption","2200799999",566,606,728,841,938,1036,1132,598,648,738,1065,1080,1242,1404,598,648,738,1060,1080,1242,1366,566,606,728,841,938,1036,1132,716,769,924,1060,1163,1264,1366]
[22,"LOUISIANA","NCNTY22009N22009","Avoyelles Parish, LA","Avoyelles","2200999999",460,492,591,682,761,840,918,466,551,715,954,1063,1222,1382,466,551,715,854,934,1011,1089,460,492,591,682,761,840,918,579,621,747,854,934,1011,1089]
[22,"LOUISIANA","NCNTY22011N22011","Beauregard Parish, LA","Beauregard","2201199999",575,616,710,854,953,1051,1149,606,618,710,1001,1247,1434,1621,606,618,710,1001,1181,1285,1389,575,616,740,854,953,1051,1149,728,781,939,1077,1181,1285,1389]
[22,"LOUISIANA","NCNTY22013N22013","Bienville Parish, LA","Bienville","2201399999",446,478,573,661,738,815,890,576,624,710,989,992,1141,1290,560,601,710,827,903,977,1053,446,478,573,661,738,815,890,560,601,723,827,903,977,1053]
[22,"LOUISIANA","METRO43340M43340","Shreveport-Bossier City, LA MSA","Bossier","2201599999",548,588,706,815,910,1003,1097,612,739,861,1077,1248,1435,1622,612,739,861,1061,1164,1266,1368,548,588,706,815,910,1003,1097,718,770,926,1061,1164,1266,1368]
[22,"LOUISIANA","METRO43340M43340","Shreveport-Bossier City, LA MSA","Caddo","2201799999",548,588,706,815,910,1003,1097,612,739,861,1077,1248,1435,1622,612,739,861,1061,1164,1266,1368,548,588,706,815,910,1003,1097,718,770,926,1061,1164,1266,1368]
[22,"LOUISIANA","METRO29340M29340","Lake Charles, LA MSA","Calcasieu","2201999999",540,578,695,802,895,988,1079,617,663,837,1063,1245,1432,1619,617,663,837,1017,1115,1211,1308,540,578,695,802,895,988,1079,688,738,888,1017,1115,1211,1308]
[22,"LOUISIANA","NCNTY22021N22021","Caldwell Parish, LA","Caldwell","2202199999",450,482,578,668,746,823,899,562,566,710,1004,1027,1181,1335,562,566,710,885,969,1050,1131,450,482,578,668,746,823,899,599,643,774,885,969,1050,1131]
[22,"LOUISIANA","METRO29340M29340","Lake Charles, LA MSA","Cameron","2202399999",540,578,695,802,895,988,1079,617,663,837,1063,1245,1432,1619,617,663,837,1017,1115,1211,1308,540,578,695,802,895,988,1079,688,738,888,1017,1115,1211,1308]
[22,"LOUISIANA","NCNTY22025N22025","Catahoula Parish, LA","Catahoula","2202599999",508,545,653,755,842,930,1016,547,569,710,897,1039,1195,1351,547,569,710,897,1038,1127,1215,508,545,653,755,842,930,1016,641,688,828,948,1038,1127,1215]
[22,"LOUISIANA","NCNTY22027N22027","Claiborne Parish, LA","Claiborne","2202799999",446,478,573,661,738,815,890,565,569,749,933,1015,1167,1320,560,569,723,827,903,977,1053,446,478,573,661,738,815,890,560,601,723,827,903,977,1053]
[22,"LOUISIANA","NCNTY22029N22029","Concordia Parish, LA","Concordia","2202999999",446,478,573,661,738,815,890,576,624,710,914,1039,1195,1351,560,601,710,827,903,977,1053,446,478,573,661,738,815,890,560,601,723,827,903,977,1053]
[22,"LOUISIANA","METRO43340M43340","Shreveport-Bossier City, LA MSA","DeSoto","2203199999",548,588,706,815,910,1003,1097,612,739,861,1077,1248,1435,1622,612,739,861,1061,1164,1266,1368,548,588,706,815,910,1003,1097,718,770,926,1061,1164,1266,1368]
[22,"LOUISIANA","METRO12940M12940","Baton Rouge, LA HUD Metro FMR Area","East Baton Rouge","2203399999",678,736,883,1020,1138,1256,1373,678,765,894,1145,1429,1643,1858,678,765,894,1145,1424,1552,1681,687,736,883,1020,1138,1256,1373,874,938,1127,1294,1424,1552,1681]
[22,"LOUISIANA","NCNTY22035N22035","East Carroll Parish, LA","East Carroll","2203599999",446,478,573,661,738,815,890,547,551,710,946,1039,1195,1351,547,551,710,827,903,977,1053,446,478,573,661,738,815,890,560,601,723,827,903,977,1053]
[22,"LOUISIANA","METRO12940M12940","Baton Rouge, LA HUD Metro FMR Area","East Feliciana","2203799999",678,736,883,1020,1138,1256,1373,678,765,894,1145,1429,1643,1858,678,765,894,1145,1424,1552,1681,687,736,883,1020,1138,1256,1373,874,938,1127,1294,1424,1552,1681]
[22,"LOUISIANA","NCNTY22039N22039","Evangeline Parish, LA","Evangeline","2203999999",446,478,573,661,738,815,890,576,593,710,898,1054,1212,1370,560,593,710,827,903,977,1053,446,478,573,661,738,815,890,560,601,723,827,903,977,1053]
[22,"LOUISIANA","NCNTY22041N22041","Franklin Parish, LA","Franklin","2204199999",446,478,573,661,738,815,890,536,539,710,885,1039,1195,1351,536,539,710,827,903,977,1053,446,478,573,661,738,815,890,560,601,723,827,903,977,1053]
[22,"LOUISIANA","METRO10780M10780","Alexandria, LA MSA","Grant","2204399999",511,548,657,759,847,935,1022,517,640,794,1044,1184,1362,1539,517,640,794,969,1061,1152,1243,511,548,657,759,847,935,1022,655,703,846,969,1061,1152,1243]
[22,"LOUISIANA","NCNTY22045N22045","Iberia Parish, LA","Iberia","2204599999",505,540,648,749,836,922,1008,606,610,803,1001,1332,1532,1732,606,610,803,940,1029,1117,1205,505,540,648,749,836,922,1008,636,683,822,940,1029,1117,1205]
[22,"LOUISIANA","METRO12940N22047","Iberville Parish, LA HUD Metro FMR Area","Iberville","2204799999",525,562,675,778,868,958,1048,542,624,710,911,1072,1233,1394,542,624,710,911,1072,1196,1291,525,562,675,778,868,958,1048,679,729,877,1004,1100,1196,1291]
[22,"LOUISIANA","NCNTY22049N22049","Jackson Parish, LA","Jackson","2204999999",466,499,598,691,772,851,931,576,594,710,945,972,1118,1264,576,594,710,890,972,1056,1138,466,499,598,691,772,851,931,603,647,778,890,974,1056,1138]
[22,"LOUISIANA","METRO35380M35380","New Orleans-Metairie-Kenner, LA MSA","Jefferson","2205199999",616,660,792,915,1021,1126,1232,779,908,1078,1396,1597,1837,2076,779,838,1008,1156,1270,1382,1495,616,660,792,915,1021,1126,1232,781,838,1008,1156,1270,1382,1495]
[22,"LOUISIANA","NCNTY22053N22053","Jefferson Davis Parish, LA","Jefferson Davis","2205399999",506,542,651,751,838,925,1011,606,624,710,996,1000,1150,1300,606,624,710,952,1000,1131,1221,506,542,651,751,838,925,1011,644,691,832,952,1043,1131,1221]
[22,"LOUISIANA","METRO29180M29180","Lafayette, LA MSA","Lafayette","2205599999",616,660,792,915,1021,1126,1232,660,795,912,1205,1326,1525,1724,660,795,912,1173,1289,1403,1518,616,660,792,915,1021,1126,1232,793,851,1023,1173,1289,1403,1518]
[22,"LOUISIANA","METRO26380M26380","Houma-Bayou Cane-Thibodaux, LA MSA","Lafourche","2205799999",575,615,738,853,951,1050,1148,686,690,873,1206,1449,1666,1884,686,690,873,1074,1179,1282,1385,575,615,738,853,951,1050,1148,726,779,937,1074,1179,1282,1385]
[22,"LOUISIANA","NCNTY22059N22059","La Salle Parish, LA","La Salle","2205999999",500,535,642,742,828,914,999,562,566,710,926,1039,1195,1351,562,566,710,926,1039,1195,1305,500,535,642,742,828,914,999,686,736,886,1014,1111,1208,1305]
[22,"LOUISIANA","NCNTY22061N22061","Lincoln Parish, LA","Lincoln","2206199999",507,543,652,754,841,928,1015,652,656,764,1085,1089,1252,1416,640,656,764,947,1036,1125,1214,507,543,652,754,841,928,1015,640,688,827,947,1036,1125,1214]
[22,"LOUISIANA","METRO12940M12940","Baton Rouge, LA HUD Metro FMR Area","Livingston","2206399999",678,736,883,1020,1138,1256,1373,678,765,894,1145,1429,1643,1858,678,765,894,1145,1424,1552,1681,687,736,883,1020,1138,1256,1373,874,938,1127,1294,1424,1552,1681]
[22,"LOUISIANA","NCNTY22065N22065","Madison Parish, LA","Madison","2206599999",446,478,573,661,738,815,890,536,539,710,920,962,1106,1251,536,539,710,827,903,977,1053,446,478,573,661,738,815,890,560,601,723,827,903,977,1053]
[22,"LOUISIANA","NCNTY22067N22067","Morehouse Parish, LA","Morehouse","2206799999",446,478,573,661,738,815,890,606,624,710,980,1039,1195,1351,560,601,710,827,903,977,1053,446,478,573,661,738,815,890,560,601,723,827,903,977,1053]
[22,"LOUISIANA","NCNTY22069N22069","Natchitoches Parish, LA","Natchitoches","2206999999",446,478,573,661,738,815,890,590,638,840,1100,1138,1309,1479,575,618,743,849,928,1005,1082,446,478,573,661,738,815,890,575,618,743,849,928,1005,1082]
[22,"LOUISIANA","METRO35380M35380","New Orleans-Metairie-Kenner, LA MSA","Orleans","2207199999",616,660,792,915,1021,1126,1232,779,908,1078,1396,1597,1837,2076,779,838,1008,1156,1270,1382,1495,616,660,792,915,1021,1126,1232,781,838,1008,1156,1270,1382,1495]
[22,"LOUISIANA","METRO33740M33740","Monroe, LA MSA","Ouachita","2207399999",483,518,621,718,801,883,966,596,600,774,991,1078,1240,1401,596,600,774,948,1038,1127,1215,483,518,621,718,801,883,966,641,688,828,948,1038,1127,1215]
[22,"LOUISIANA","METRO35380M35380","New Orleans-Metairie-Kenner, LA MSA","Plaquemines","2207599999",616,660,792,915,1021,1126,1232,779,908,1078,1396,1597,1837,2076,779,838,1008,1156,1270,1382,1495,616,660,792,915,1021,1126,1232,781,838,1008,1156,1270,1382,1495]
[22,"LOUISIANA","METRO12940M12940","Baton Rouge, LA HUD Metro FMR Area","Pointe Coupee","2207799999",678,736,883,1020,1138,1256,1373,678,765,894,1145,1429,1643,1858,678,765,894,1145,1424,1552,1681,687,736,883,1020,1138,1256,1373,874,938,1127,1294,1424,1552,1681]
[22,"LOUISIANA","METRO10780M10780","Alexandria, LA MSA","Rapides","2207999999",511,548,657,759,847,935,1022,517,640,794,1044,1184,1362,1539,517,640,794,969,1061,1152,1243,511,548,657,759,847,935,1022,655,703,846,969,1061,1152,1243]
[22,"LOUISIANA","NCNTY22081N22081","Red River Parish, LA","Red River","2208199999",467,501,601,694,775,855,934,604,608,763,951,1034,1189,1344,588,608,759,869,950,1029,1109,467,501,601,694,775,855,934,588,631,759,869,950,1029,1109]
[22,"LOUISIANA","NCNTY22083N22083","Richland Parish, LA","Richland","2208399999",446,478,573,661,738,815,890,536,539,710,885,1247,1434,1621,536,539,710,827,903,977,1053,446,478,573,661,738,815,890,560,601,723,827,903,977,1053]
[22,"LOUISIANA","NCNTY22085N22085","Sabine Parish, LA","Sabine","2208599999",463,538,645,745,831,917,1002,463,539,710,987,1170,1346,1521,463,539,710,935,1024,1111,1198,502,538,645,745,831,917,1002,633,679,817,935,1024,1111,1198]
[22,"LOUISIANA","METRO35380M35380","New Orleans-Metairie-Kenner, LA MSA","St. Bernard","2208799999",616,660,792,915,1021,1126,1232,779,908,1078,1396,1597,1837,2076,779,838,1008,1156,1270,1382,1495,616,660,792,915,1021,1126,1232,781,838,1008,1156,1270,1382,1495]
[22,"LOUISIANA","METRO35380M35380","New Orleans-Metairie-Kenner, LA MSA","St. Charles","2208999999",616,660,792,915,1021,1126,1232,779,908,1078,1396,1597,1837,2076,779,838,1008,1156,1270,1382,1495,616,660,792,915,1021,1126,1232,781,838,1008,1156,1270,1382,1495]
[22,"LOUISIANA","METRO12940M12940","Baton Rouge, LA HUD Metro FMR Area","St. Helena","2209199999",678,736,883,1020,1138,1256,1373,678,765,894,1145,1429,1643,1858,678,765,894,1145,1424,1552,1681,687,736,883,1020,1138,1256,1373,874,938,1127,1294,1424,1552,1681]
[22,"LOUISIANA","NCNTY22093N22093","St. James Parish, LA","St. James","2209399999",585,614,757,875,976,1077,1177,585,614,809,1008,1197,1377,1556,585,614,809,1008,1197,1377,1508,590,631,757,875,976,1077,1177,788,845,1016,1165,1280,1394,1508]
[22,"LOUISIANA","METRO35380M35380","New Orleans-Metairie-Kenner, LA MSA","St. John the Baptist","2209599999",616,660,792,915,1021,1126,1232,779,908,1078,1396,1597,1837,2076,779,838,1008,1156,1270,1382,1495,616,660,792,915,1021,1126,1232,781,838,1008,1156,1270,1382,1495]
[22,"LOUISIANA","NCNTY22097N22097","St. Landry Parish, LA","St. Landry","2209799999",446,478,573,661,738,815,890,555,559,736,963,997,1147,1296,555,559,723,827,903,977,1053,446,478,573,661,738,815,890,560,601,723,827,903,977,1053]
[22,"LOUISIANA","METRO29180M29180","Lafayette, LA MSA","St. Martin","2209999999",616,660,792,915,1021,1126,1232,660,795,912,1205,1326,1525,1724,660,795,912,1173,1289,1403,1518,616,660,792,915,1021,1126,1232,793,851,1023,1173,1289,1403,1518]
[22,"LOUISIANA","NCNTY22101N22101","St. Mary Parish, LA","St. Mary","2210199999",475,508,610,705,786,868,948,712,724,883,1145,1422,1635,1849,605,650,782,895,979,1061,1144,475,508,610,705,786,868,948,605,650,782,895,979,1061,1144]
[22,"LOUISIANA","METRO35380M35380","New Orleans-Metairie-Kenner, LA MSA","St. Tammany","2210399999",616,660,792,915,1021,1126,1232,779,908,1078,1396,1597,1837,2076,779,838,1008,1156,1270,1382,1495,616,660,792,915,1021,1126,1232,781,838,1008,1156,1270,1382,1495]
[22,"LOUISIANA","NCNTY22105N22105","Tangipahoa Parish, LA","Tangipahoa","2210599999",581,622,746,862,962,1061,1160,667,671,871,1085,1180,1357,1534,667,671,871,1085,1180,1297,1403,581,622,746,862,962,1061,1160,735,789,948,1087,1193,1297,1403]
[22,"LOUISIANA","NCNTY22107N22107","Tensas Parish, LA","Tensas","2210799999",446,478,573,661,738,815,890,562,566,710,1024,1039,1195,1351,560,566,710,827,903,977,1053,446,478,573,661,738,815,890,560,601,723,827,903,977,1053]
[22,"LOUISIANA","METRO26380M26380","Houma-Bayou Cane-Thibodaux, LA MSA","Terrebonne","2210999999",575,615,738,853,951,1050,1148,686,690,873,1206,1449,1666,1884,686,690,873,1074,1179,1282,1385,575,615,738,853,951,1050,1148,726,779,937,1074,1179,1282,1385]
[22,"LOUISIANA","METRO33740M33740","Monroe, LA MSA","Union","2211199999",483,518,621,718,801,883,966,596,600,774,991,1078,1240,1401,596,600,774,948,1038,1127,1215,483,518,621,718,801,883,966,641,688,828,948,1038,1127,1215]
[22,"LOUISIANA","NCNTY22113N22113","Vermilion Parish, LA","Vermilion","2211399999",550,589,707,816,911,1005,1099,563,615,710,959,963,1107,1252,563,615,710,959,963,1107,1252,550,589,707,816,911,1005,1099,695,746,897,1027,1126,1224,1322]
[22,"LOUISIANA","NCNTY22115N22115","Vernon Parish, LA","Vernon","2211599999",546,585,701,810,903,997,1090,729,818,1078,1343,1611,1853,2094,689,739,889,1019,1118,1215,1312,546,585,701,810,903,997,1090,689,739,889,1019,1118,1215,1312]
[22,"LOUISIANA","NCNTY22117N22117","Washington Parish, LA","Washington","2211799999",446,478,573,661,738,815,890,576,624,710,975,1149,1321,1494,560,601,710,827,903,977,1053,446,478,573,661,738,815,890,560,601,723,827,903,977,1053]
[22,"LOUISIANA","NCNTY22119N22119","Webster Parish, LA","Webster","2211999999",446,478,573,661,738,815,890,510,597,710,1024,1051,1209,1366,510,597,710,827,903,977,1053,446,478,573,661,738,815,890,560,601,723,827,903,977,1053]
[22,"LOUISIANA","METRO12940M12940","Baton Rouge, LA HUD Metro FMR Area","West Baton Rouge","2212199999",678,736,883,1020,1138,1256,1373,678,765,894,1145,1429,1643,1858,678,765,894,1145,1424,1552,1681,687,736,883,1020,1138,1256,1373,874,938,1127,1294,1424,1552,1681]
[22,"LOUISIANA","NCNTY22123N22123","West Carroll Parish, LA","West Carroll","2212399999",461,493,592,684,763,842,920,536,539,710,937,1039,1195,1351,536,539,710,855,935,1013,1091,461,493,592,684,763,842,920,579,622,748,855,935,1013,1091]
[22,"LOUISIANA","METRO12940M12940","Baton Rouge, LA HUD Metro FMR Area","West Felliciana","2212599999",678,736,883,1020,1138,1256,1373,678,765,894,1145,1429,1643,1858,678,765,894,1145,1424,1552,1681,687,736,883,1020,1138,1256,1373,874,938,1127,1294,1424,1552,1681]
[22,"LOUISIANA","NCNTY22127N22127","Winn Parish, LA","Winn","2212799999",446,478,573,661,738,815,890,536,539,710,885,1083,1245,1408,536,539,710,827,903,977,1053,446,478,573,661,738,815,890,560,601,723,827,903,977,1053]
[]
[]
[]
[null,null,null,null,null,"Rents for Underwriting and Subsidy Layering Analysis"]
[null,null,null,null,{"$f":"IF(Cover!$E$11=\"\",0, VLOOKUP('Primary Input'!E12:G12,$E$2:$AL$66,1))","v":{"$error":"#N/A"}},"0BR","1BR","2BR","3BR","4BR","5BR","6BR"]
[null,null,null,null,"Low HOME Rent",{"$f":"IF(Cover!$E$11=\"\",0, VLOOKUP(Cover!$E$11,$E$2:$AO$66,3))","v":{"$error":"#N/A"}},{"$f":"IF(Cover!$E$11=\"\",0, VLOOKUP(Cover!$E$11,$E$2:$AO$66,4))","v":{"$error":"#N/A"}},{"$f":"IF(Cover!$E$11=\"\",0, VLOOKUP(Cover!$E$11,$E$2:$AO$66,5))","v":{"$error":"#N/A"}},{"$f":"IF(Cover!$E$11=\"\",0, VLOOKUP(Cover!$E$11,$E$2:$AO$66,6))","v":{"$error":"#N/A"}},{"$f":"IF(Cover!$E$11=\"\",0, VLOOKUP(Cover!$E$11,$E$2:$AO$66,7))","v":{"$error":"#N/A"}},{"$f":"IF(Cover!$E$11=\"\",0, VLOOKUP(Cover!$E$11,$E$2:$AO$66,8))","v":{"$error":"#N/A"}},{"$f":"IF(Cover!$E$11=\"\",0, VLOOKUP(Cover!$E$11,$E$2:$AO$66,9))","v":{"$error":"#N/A"}}]
[null,null,null,null,"High HOME Rent",{"$f":"IF(Cover!$E$11=\"\",0, VLOOKUP(Cover!$E$11,$E$2:$AO$66,17))","v":{"$error":"#N/A"}},{"$f":"IF(Cover!$E$11=\"\",0, VLOOKUP(Cover!$E$11,$E$2:$AO$66,18))","v":{"$error":"#N/A"}},{"$f":"IF(Cover!$E$11=\"\",0, VLOOKUP(Cover!$E$11,$E$2:$AO$66,19))","v":{"$error":"#N/A"}},{"$f":"IF(Cover!$E$11=\"\",0, VLOOKUP(Cover!$E$11,$E$2:$AO$66,20))","v":{"$error":"#N/A"}},{"$f":"IF(Cover!$E$11=\"\",0, VLOOKUP(Cover!$E$11,$E$2:$AO$66,21))","v":{"$error":"#N/A"}},{"$f":"IF(Cover!$E$11=\"\",0, VLOOKUP(Cover!$E$11,$E$2:$AO$66,22))","v":{"$error":"#N/A"}},{"$f":"IF(Cover!$E$11=\"\",0, VLOOKUP(Cover!$E$11,$E$2:$AO$66,23))","v":{"$error":"#N/A"}}]
[null,null,null,null,"50% Rents",{"$f":"IF(Cover!$E$11=\"\",0, VLOOKUP(Cover!$E$11,$E$2:$AO$66,24))","v":{"$error":"#N/A"}},{"$f":"IF(Cover!$E$11=\"\",0, VLOOKUP(Cover!$E$11,$E$2:$AO$66,25))","v":{"$error":"#N/A"}},{"$f":"IF(Cover!$E$11=\"\",0, VLOOKUP(Cover!$E$11,$E$2:$AO$66,26))","v":{"$error":"#N/A"}},{"$f":"IF(Cover!$E$11=\"\",0, VLOOKUP(Cover!$E$11,$E$2:$AO$66,27))","v":{"$error":"#N/A"}},{"$f":"IF(Cover!$E$11=\"\",0, VLOOKUP(Cover!$E$11,$E$2:$AO$66,28))","v":{"$error":"#N/A"}},{"$f":"IF(Cover!$E$11=\"\",0, VLOOKUP(Cover!$E$11,$E$2:$AO$66,29))","v":{"$error":"#N/A"}},{"$f":"IF(Cover!$E$11=\"\",0, VLOOKUP(Cover!$E$11,$E$2:$AO$66,30))","v":{"$error":"#N/A"}}]
[null,null,null,null,"65% Rents",{"$f":"IF(Cover!$E$11=\"\",0, VLOOKUP(Cover!$E$11,$E$2:$AO$66,31))","v":{"$error":"#N/A"}},{"$f":"IF(Cover!$E$11=\"\",0, VLOOKUP(Cover!$E$11,$E$2:$AO$66,32))","v":{"$error":"#N/A"}},{"$f":"IF(Cover!$E$11=\"\",0, VLOOKUP(Cover!$E$11,$E$2:$AO$66,33))","v":{"$error":"#N/A"}},{"$f":"IF(Cover!$E$11=\"\",0, VLOOKUP(Cover!$E$11,$E$2:$AO$66,34))","v":{"$error":"#N/A"}},{"$f":"IF(Cover!$E$11=\"\",0, VLOOKUP(Cover!$E$11,$E$2:$AO$66,35))","v":{"$error":"#N/A"}},{"$f":"IF(Cover!$E$11=\"\",0, VLOOKUP(Cover!$E$11,$E$2:$AO$66,36))","v":{"$error":"#N/A"}},{"$f":"IF(Cover!$E$11=\"\",0, VLOOKUP(Cover!$E$11,$E$2:$AO$66,37))","v":{"$error":"#N/A"}}]
[null,null,null,null,"FMR",{"$f":"IF(Cover!$E$11=\"\",0, VLOOKUP(Cover!$E$11,$E$2:$AO$66,10))","v":{"$error":"#N/A"}},{"$f":"IF(Cover!$E$11=\"\",0, VLOOKUP(Cover!$E$11,$E$2:$AO$66,11))","v":{"$error":"#N/A"}},{"$f":"IF(Cover!$E$11=\"\",0,VLOOKUP(Cover!$E$11,$E$2:$AO$66,12))","v":{"$error":"#N/A"}},{"$f":"IF(Cover!$E$11=\"\",0, VLOOKUP(Cover!$E$11,$E$2:$AO$66,13))","v":{"$error":"#N/A"}},{"$f":"IF(Cover!$E$11=\"\",0, VLOOKUP(Cover!$E$11,$E$2:$AO$66,14))","v":{"$error":"#N/A"}},{"$f":"IF(Cover!$E$11=\"\",0, VLOOKUP(Cover!$E$11,$E$2:$AO$66,15))","v":{"$error":"#N/A"}},{"$f":"IF(Cover!$E$11=\"\",0, VLOOKUP(Cover!$E$11,$E$2:$AO$66,16))","v":{"$error":"#N/A"}}]
[null,null,null,null,"HTF Rent",{"$f":"IF(Cover!$E$11=\"\",0, VLOOKUP(Cover!$E$11,$F$88:$AB$151,3))","v":{"$error":"#N/A"}},{"$f":"IF(Cover!$E$11=\"\",0, VLOOKUP(Cover!$E$11,$F$88:$AB$151,4))","v":{"$error":"#N/A"}},{"$f":"IF(Cover!$E$11=\"\",0, VLOOKUP(Cover!$E$11,$F$88:$AB$151,5))","v":{"$error":"#N/A"}},{"$f":"IF(Cover!$E$11=\"\",0, VLOOKUP(Cover!$E$11,$F$88:$AB$151,6))","v":{"$error":"#N/A"}},{"$f":"IF(Cover!$E$11=\"\",0, VLOOKUP(Cover!$E$11,$F$88:$AB$151,7))","v":{"$error":"#N/A"}},{"$f":"IF(Cover!$E$11=\"\",0, VLOOKUP(Cover!$E$11,$F$88:$AB$151,8))","v":{"$error":"#N/A"}},{"$f":"IF(Cover!$E$11=\"\",0, VLOOKUP(Cover!$E$11,$F$88:$AB$151,9))","v":{"$error":"#N/A"}}]
[]
[]
[]
[]
[]
[null,null,{"$f":"+F75","v":{"$error":"#N/A"}}]
[]
[]
["2018 NATIONAL HOUSING TRUST FUND RENTS",null,null,null,"2018 NATIONAL HOUSING TRUST FUND RENTS",null,null,null,"2018 NATIONAL HOUSING TRUST FUND RENTS"]
["State","statename","County","cbsasub","areaname","Parish","fips2010","HTFRent_0","HTFRent_1","HTFRent_2","HTFRent_3","HTFRent_4","HTFRent_5","HTFRent_6","Rent30_0","Rent30_1","Rent30_2","Rent30_3","Rent30_4","Rent30_5","Rent30_6","Rent_PG_0","Rent_PG_1","Rent_PG_2","Rent_PG_3","Rent_PG_4","Rent_PG_5","Rent_PG_6"]
[22,"LOUISIANA",1,"METRO29180N22001","Acadia Parish, LA HUD Metro FMR Area","Acadia","2200199999",303,357,519,681,843,1005,1167,260,278,335,386,431,476,519,303,357,519,681,843,1005,1167]
[22,"LOUISIANA",3,"NCNTY22003N22003","Allen Parish, LA","Allen","2200399999",303,357,519,681,843,1005,1167,286,306,368,425,475,523,572,303,357,519,681,843,1005,1167]
[22,"LOUISIANA",5,"METRO12940M12940","Baton Rouge, LA HUD Metro FMR Area","Ascension","2200599999",393,421,519,681,843,1005,1167,393,421,506,583,651,718,785,303,357,519,681,843,1005,1167]
[22,"LOUISIANA",7,"NCNTY22007N22007","Assumption Parish, LA","Assumption","2200799999",330,357,519,681,843,1005,1167,330,353,425,490,547,603,659,303,357,519,681,843,1005,1167]
[22,"LOUISIANA",9,"NCNTY22009N22009","Avoyelles Parish, LA","Avoyelles","2200999999",303,357,519,681,843,1005,1167,260,278,335,386,431,476,519,303,357,519,681,843,1005,1167]
[22,"LOUISIANA",11,"NCNTY22011N22011","Beauregard Parish, LA","Beauregard","2201199999",328,357,519,681,843,1005,1167,328,351,422,487,543,600,656,303,357,519,681,843,1005,1167]
[22,"LOUISIANA",13,"NCNTY22013N22013","Bienville Parish, LA","Bienville","2201399999",303,357,519,681,843,1005,1167,260,278,335,386,431,476,519,303,357,519,681,843,1005,1167]
[22,"LOUISIANA",15,"METRO43340M43340","Shreveport-Bossier City, LA HUD Metro FMR Area","Bossier","2201599999",330,357,519,681,843,1005,1167,330,353,423,489,546,602,658,303,357,519,681,843,1005,1167]
[22,"LOUISIANA",17,"METRO43340M43340","Shreveport-Bossier City, LA HUD Metro FMR Area","Caddo","2201799999",330,357,519,681,843,1005,1167,330,353,423,489,546,602,658,303,357,519,681,843,1005,1167]
[22,"LOUISIANA",19,"METRO29340M29340","Lake Charles, LA MSA","Calcasieu","2201999999",315,357,519,681,843,1005,1167,315,337,405,468,522,576,630,303,357,519,681,843,1005,1167]
[22,"LOUISIANA",21,"NCNTY22021N22021","Caldwell Parish, LA","Caldwell","2202199999",303,357,519,681,843,1005,1167,262,281,337,388,433,478,523,303,357,519,681,843,1005,1167]
[22,"LOUISIANA",23,"METRO29340M29340","Lake Charles, LA MSA","Cameron","2202399999",315,357,519,681,843,1005,1167,315,337,405,468,522,576,630,303,357,519,681,843,1005,1167]
[22,"LOUISIANA",25,"NCNTY22025N22025","Catahoula Parish, LA","Catahoula","2202599999",303,357,519,681,843,1005,1167,280,300,360,416,465,512,560,303,357,519,681,843,1005,1167]
[22,"LOUISIANA",27,"NCNTY22027N22027","Claiborne Parish, LA","Claiborne","2202799999",303,357,519,681,843,1005,1167,260,278,335,386,431,476,519,303,357,519,681,843,1005,1167]
[22,"LOUISIANA",29,"NCNTY22029N22029","Concordia Parish, LA","Concordia","2202999999",303,357,519,681,843,1005,1167,260,278,335,386,431,476,519,303,357,519,681,843,1005,1167]
[22,"LOUISIANA",31,"METRO43340M43340","Shreveport-Bossier City, LA HUD Metro FMR Area","DeSoto","2203199999",330,357,519,681,843,1005,1167,330,353,423,489,546,602,658,303,357,519,681,843,1005,1167]
[22,"LOUISIANA",33,"METRO12940M12940","Baton Rouge, LA HUD Metro FMR Area","East Baton Rouge","2203399999",393,421,519,681,843,1005,1167,393,421,506,583,651,718,785,303,357,519,681,843,1005,1167]
[22,"LOUISIANA",35,"NCNTY22035N22035","East Carroll Parish, LA","East Carroll","2203599999",303,357,519,681,843,1005,1167,260,278,335,386,431,476,519,303,357,519,681,843,1005,1167]
[22,"LOUISIANA",37,"METRO12940M12940","Baton Rouge, LA HUD Metro FMR Area","East Feliciana","2203799999",393,421,519,681,843,1005,1167,393,421,506,583,651,718,785,303,357,519,681,843,1005,1167]
[22,"LOUISIANA",39,"NCNTY22039N22039","Evangeline Parish, LA","Evangeline","2203999999",303,357,519,681,843,1005,1167,260,278,335,386,431,476,519,303,357,519,681,843,1005,1167]
[22,"LOUISIANA",41,"NCNTY22041N22041","Franklin Parish, LA","Franklin","2204199999",303,357,519,681,843,1005,1167,260,278,335,386,431,476,519,303,357,519,681,843,1005,1167]
[22,"LOUISIANA",43,"METRO10780M10780","Alexandria, LA MSA","Grant","2204399999",303,357,519,681,843,1005,1167,291,311,373,431,482,531,581,303,357,519,681,843,1005,1167]
[22,"LOUISIANA",45,"METRO29180N22045","Iberia Parish, LA HUD Metro FMR Area","Iberia","2204599999",303,357,519,681,843,1005,1167,303,325,390,450,502,554,605,303,357,519,681,843,1005,1167]
[22,"LOUISIANA",47,"METRO12940N22047","Iberville Parish, LA HUD Metro FMR Area","Iberville","2204799999",315,357,519,681,843,1005,1167,315,337,405,466,521,575,628,303,357,519,681,843,1005,1167]
[22,"LOUISIANA",49,"NCNTY22049N22049","Jackson Parish, LA","Jackson","2204999999",303,357,519,681,843,1005,1167,260,278,335,386,431,476,519,303,357,519,681,843,1005,1167]
[22,"LOUISIANA",51,"METRO35380M35380","New Orleans-Metairie, LA HUD Metro FMR Area","Jefferson","2205199999",345,370,519,681,843,1005,1167,345,370,443,512,572,631,689,303,357,519,681,843,1005,1167]
[22,"LOUISIANA",53,"NCNTY22053N22053","Jefferson Davis Parish, LA","Jefferson Davis","2205399999",303,357,519,681,843,1005,1167,283,304,365,421,470,518,567,303,357,519,681,843,1005,1167]
[22,"LOUISIANA",55,"METRO29180M29180","Lafayette, LA HUD Metro FMR Area","Lafayette","2205599999",370,396,519,681,843,1005,1167,370,396,475,548,612,676,738,303,357,519,681,843,1005,1167]
[22,"LOUISIANA",57,"METRO26380M26380","Houma-Thibodaux, LA MSA","Lafourche","2205799999",323,357,519,681,843,1005,1167,323,346,416,481,537,592,647,303,357,519,681,843,1005,1167]
[22,"LOUISIANA",59,"NCNTY22059N22059","La Salle Parish, LA","La Salle","2205999999",303,357,519,681,843,1005,1167,285,305,366,422,471,520,568,303,357,519,681,843,1005,1167]
[22,"LOUISIANA",61,"NCNTY22061N22061","Lincoln Parish, LA","Lincoln","2206199999",303,357,519,681,843,1005,1167,293,314,377,435,486,536,586,303,357,519,681,843,1005,1167]
[22,"LOUISIANA",63,"METRO12940M12940","Baton Rouge, LA HUD Metro FMR Area","Livingston","2206399999",393,421,519,681,843,1005,1167,393,421,506,583,651,718,785,303,357,519,681,843,1005,1167]
[22,"LOUISIANA",65,"NCNTY22065N22065","Madison Parish, LA","Madison","2206599999",303,357,519,681,843,1005,1167,260,278,335,386,431,476,519,303,357,519,681,843,1005,1167]
[22,"LOUISIANA",67,"NCNTY22067N22067","Morehouse Parish, LA","Morehouse","2206799999",303,357,519,681,843,1005,1167,260,278,335,386,431,476,519,303,357,519,681,843,1005,1167]
[22,"LOUISIANA",69,"NCNTY22069N22069","Natchitoches Parish, LA","Natchitoches","2206999999",303,357,519,681,843,1005,1167,260,278,335,386,431,476,519,303,357,519,681,843,1005,1167]
[22,"LOUISIANA",71,"METRO35380M35380","New Orleans-Metairie, LA HUD Metro FMR Area","Orleans","2207199999",345,370,519,681,843,1005,1167,345,370,443,512,572,631,689,303,357,519,681,843,1005,1167]
[22,"LOUISIANA",73,"METRO33740M33740","Monroe, LA MSA","Ouachita","2207399999",303,357,519,681,843,1005,1167,275,294,352,407,455,501,547,303,357,519,681,843,1005,1167]
[22,"LOUISIANA",75,"METRO35380M35380","New Orleans-Metairie, LA HUD Metro FMR Area","Plaquemines","2207599999",345,370,519,681,843,1005,1167,345,370,443,512,572,631,689,303,357,519,681,843,1005,1167]
[22,"LOUISIANA",77,"METRO12940M12940","Baton Rouge, LA HUD Metro FMR Area","Pointe Coupee","2207799999",393,421,519,681,843,1005,1167,393,421,506,583,651,718,785,303,357,519,681,843,1005,1167]
[22,"LOUISIANA",79,"METRO10780M10780","Alexandria, LA MSA","Rapides","2207999999",303,357,519,681,843,1005,1167,291,311,373,431,482,531,581,303,357,519,681,843,1005,1167]
[22,"LOUISIANA",81,"NCNTY22081N22081","Red River Parish, LA","Red River","2208199999",303,357,519,681,843,1005,1167,262,281,337,388,433,478,523,303,357,519,681,843,1005,1167]
[22,"LOUISIANA",83,"NCNTY22083N22083","Richland Parish, LA","Richland","2208399999",303,357,519,681,843,1005,1167,260,278,335,386,431,476,519,303,357,519,681,843,1005,1167]
[22,"LOUISIANA",85,"NCNTY22085N22085","Sabine Parish, LA","Sabine","2208599999",303,357,519,681,843,1005,1167,282,302,362,418,467,516,563,303,357,519,681,843,1005,1167]
[22,"LOUISIANA",87,"METRO35380M35380","New Orleans-Metairie, LA HUD Metro FMR Area","St. Bernard","2208799999",345,370,519,681,843,1005,1167,345,370,443,512,572,631,689,303,357,519,681,843,1005,1167]
[22,"LOUISIANA",89,"METRO35380M35380","New Orleans-Metairie, LA HUD Metro FMR Area","St. Charles","2208999999",345,370,519,681,843,1005,1167,345,370,443,512,572,631,689,303,357,519,681,843,1005,1167]
[22,"LOUISIANA",91,"METRO12940M12940","Baton Rouge, LA HUD Metro FMR Area","St. Helena","2209199999",393,421,519,681,843,1005,1167,393,421,506,583,651,718,785,303,357,519,681,843,1005,1167]
[22,"LOUISIANA",93,"METRO35380N22093","St. James Parish, LA HUD Metro FMR Area","St. James","2209399999",338,363,519,681,843,1005,1167,338,363,436,503,561,619,677,303,357,519,681,843,1005,1167]
[22,"LOUISIANA",95,"METRO35380M35380","New Orleans-Metairie, LA HUD Metro FMR Area","St. John the Baptist","2209599999",345,370,519,681,843,1005,1167,345,370,443,512,572,631,689,303,357,519,681,843,1005,1167]
[22,"LOUISIANA",97,"NCNTY22097N22097","St. Landry Parish, LA","St. Landry","2209799999",303,357,519,681,843,1005,1167,260,278,335,386,431,476,519,303,357,519,681,843,1005,1167]
[22,"LOUISIANA",99,"METRO29180M29180","Lafayette, LA HUD Metro FMR Area","St. Martin","2209999999",370,396,519,681,843,1005,1167,370,396,475,548,612,676,738,303,357,519,681,843,1005,1167]
[22,"LOUISIANA",101,"NCNTY22101N22101","St. Mary Parish, LA","St. Mary","2210199999",303,357,519,681,843,1005,1167,271,290,348,403,450,496,542,303,357,519,681,843,1005,1167]
[22,"LOUISIANA",103,"METRO35380M35380","New Orleans-Metairie, LA HUD Metro FMR Area","St. Tammany","2210399999",345,370,519,681,843,1005,1167,345,370,443,512,572,631,689,303,357,519,681,843,1005,1167]
[22,"LOUISIANA",105,"METRO25220M25220","Hammond, LA MSA","Tangipahoa","2210599999",322,357,519,681,843,1005,1167,322,345,415,478,533,589,644,303,357,519,681,843,1005,1167]
[22,"LOUISIANA",107,"NCNTY22107N22107","Tensas Parish, LA","Tensas","2210799999",303,357,519,681,843,1005,1167,260,278,335,386,431,476,519,303,357,519,681,843,1005,1167]
[22,"LOUISIANA",109,"METRO26380M26380","Houma-Thibodaux, LA MSA","Terrebonne","2210999999",323,357,519,681,843,1005,1167,323,346,416,481,537,592,647,303,357,519,681,843,1005,1167]
[22,"LOUISIANA",111,"METRO33740M33740","Monroe, LA MSA","Union","2211199999",303,357,519,681,843,1005,1167,275,294,352,407,455,501,547,303,357,519,681,843,1005,1167]
[22,"LOUISIANA",113,"METRO29180N22113","Vermilion Parish, LA HUD Metro FMR Area","Vermilion","2211399999",317,357,519,681,843,1005,1167,317,340,407,470,525,579,633,303,357,519,681,843,1005,1167]
[22,"LOUISIANA",115,"NCNTY22115N22115","Vernon Parish, LA","Vernon","2211599999",313,357,519,681,843,1005,1167,313,336,403,465,520,573,626,303,357,519,681,843,1005,1167]
[22,"LOUISIANA",117,"NCNTY22117N22117","Washington Parish, LA","Washington","2211799999",303,357,519,681,843,1005,1167,260,278,335,386,431,476,519,303,357,519,681,843,1005,1167]
[22,"LOUISIANA",119,"METRO43340N22119","Webster Parish, LA HUD Metro FMR Area","Webster","2211999999",303,357,519,681,843,1005,1167,260,278,335,386,431,476,519,303,357,519,681,843,1005,1167]
[22,"LOUISIANA",121,"METRO12940M12940","Baton Rouge, LA HUD Metro FMR Area","West Baton Rouge","2212199999",393,421,519,681,843,1005,1167,393,421,506,583,651,718,785,303,357,519,681,843,1005,1167]
[22,"LOUISIANA",123,"NCNTY22123N22123","West Carroll Parish, LA","West Carroll","2212399999",303,357,519,681,843,1005,1167,260,278,335,386,431,476,519,303,357,519,681,843,1005,1167]
[22,"LOUISIANA",125,"METRO12940M12940","Baton Rouge, LA HUD Metro FMR Area","West Felliciana","2212599999",393,421,519,681,843,1005,1167,393,421,506,583,651,718,785,303,357,519,681,843,1005,1167]
[22,"LOUISIANA",127,"NCNTY22127N22127","Winn Parish, LA","Winn","2212799999",303,357,519,681,843,1005,1167,260,278,335,386,431,476,519,303,357,519,681,843,1005,1167]